{"text_format":"1","workbook":"xlsx","n_sheets":27,"sheets":["COVER","TOC","Aud Quest 2","FP Info 3","Fin Profile 4","Assets-Liab 5-6","Acct Summary 7-9","Revenues 10-15","Expenditures 16-24","Tax Sched 25","Short-Term Long-Term Debt 26","Rest Tax Levies-Tort Im 27","CARES CRRSA ARP 28-35","Cap Outlay Deprec 36","PCTC-OEPP 37-39","Contracts Paid in CY 40","ICR Computation 41","Shared Outsourced Services 42","AC 43","Itemization 44","REF 45","Opinion-Notes 46","DeficitAFRSum Calc 47","AUDITCHECK","AFR22","Single Audit & GATA Information","SDJA Listing for cover page"],"not_rendered":{"charts":0,"images":2,"macros":0,"external_links":0,"defined_names":40,"comments":4,"pivot_tables":0},"unopened":[],"bounds":{"document_bytes":16777216,"sheet_cells":100000,"rows_first":2000,"rows_last":500,"rows_between":2000,"halvings":0,"cell_chars":16384,"cell_head_chars":4096},"cells_cut":0,"cells_raw":0,"read":"whole","date_system":"1900"}

{"sheet":"COVER","index":0,"n_rows":48,"n_cols":26,"rows_kept":48,"cut":false,"hidden":false,"merged":[[34,15,34,17],[25,8,27,18],[28,8,32,18],[22,0,22,7],[22,9,24,17],[24,0,24,7],[43,19,43,26],[41,0,41,2],[37,8,37,18],[43,0,43,7],[37,0,37,7],[41,15,41,18],[39,8,39,18],[43,8,43,18],[39,0,39,7],[41,3,41,7],[41,8,41,14],[38,8,38,12],[38,0,38,1],[0,8,0,18],[1,8,1,18],[6,8,6,18],[8,8,8,18],[5,8,5,18],[2,8,2,18],[3,8,3,18],[4,8,4,18],[20,8,20,18],[21,8,21,18],[17,8,17,18],[16,0,16,7],[18,8,19,18],[12,0,12,7],[14,0,14,7],[18,19,18,22],[12,19,12,26],[14,19,14,26],[18,25,18,26],[18,23,18,24],[16,19,16,26],[15,12,15,15],[15,16,15,18],[0,1,0,3],[1,1,1,3],[24,19,24,26],[22,19,22,22],[41,23,41,26],[20,19,20,22],[41,19,41,22],[37,19,37,26],[39,19,39,26],[22,23,22,26],[20,23,20,26],[8,19,10,26],[9,0,9,7],[10,0,10,7],[20,0,20,7],[18,0,18,7]]}
[{"$f":"\"Due to ROE on \"","v":"Due to ROE on "},{"$f":"+'AFR22'!E4","v":"2022-10-14"},null,null,null,null,null,null,"ILLINOIS STATE BOARD OF EDUCATION"]
[{"$f":"\"Due to ISBE on \"","v":"Due to ISBE on "},{"$f":"+'AFR22'!F4","v":"2022-11-15"},null,null,null,null,null,null,"School Business Services Department"]
[{"$f":"\"SD/JA\"&MID('AFR22'!E2,3,2)","v":"SD/JA22"},null,null,null,null,null,null,null,"100 North First Street, Springfield, Illinois  62777-0001"]
[null,null,null,null,null,null,null,null,"217/785-8779"]
[null,null,"   School District",null,null,null,null,null,"Illinois School District/Joint Agreement"]
[null,null,"   Joint Agreement",null,null,null,null,null,"Annual Financial Report *"]
[null,{"$f":"IF(AND(B5=\"\",B6=\"\"),\"Check School District or Joint Agreement\",\"\")","v":"Check School District or Joint Agreement"},null,null,null,null,null,null,{"$f":"\"June 30, \"&'AFR22'!E2","v":"June 30, 2022"}]
[]
[null,null,null,null,null,null,null,null,"Accounting Basis:",null,null,null,null,null,null,null,null,null,null,"Certified Public Accountant Information"]
["School District/Joint Agreement Information"]
["(See instructions on inside of this page.)",null,null,null,null,null,null,null,null,null,null,null,null,null,null,"CASH"]
["School District/Joint Agreement Number:",null,null,null,null,null,null,null,null,null,null,null,null,null,null,"ACCRUAL",null,null,null,"Name of Auditing Firm:"]
[{"$f":"IFERROR(VLOOKUP(A17,'SDJA Listing for cover page'!$B$2:$C$993,2,\"false\"),\"Please select district from drop-down list on line 17.\")","v":"Please select district from drop-down list on line 17."}]
["County Name:",null,null,null,null,null,null,null,null,null,null,null,null,null,null,null,null,null,null,"Name of Audit Manager:"]
[]
["Name of School District/Joint Agreement (use drop-down arrow to locate district, RCDT will populate):",null,null,null,null,null,null,null,null,null,null,null,"School District Lookup Tool ",null,null,null,"School District Directory",null,null,"Address:"]
[]
["Address:",null,null,null,null,null,null,null,"Filing Status:",null,null,null,null,null,null,null,null,null,null,"City:",null,null,null,"State:",null,"Zip Code:"]
[null,null,null,null,null,null,null,null,"Submit electronic AFR directly to ISBE via IWAS -School District Financial Reports system (for auditor use only)"]
["City:",null,null,null,null,null,null,null,null,null,null,null,null,null,null,null,null,null,null,"Phone Number:",null,null,null,"Fax Number:"]
[null,null,null,null,null,null,null,null,"Annual Financial Report (AFR) Instructions"]
["Email Address:",null,null,null,null,null,null,null,null,null,null,null,null,null,null,null,null,null,null,"IL License Number (9 digit):",null,null,null,"Expiration Date:"]
[null,null,null,null,null,null,null,null,null,{"$f":"IF(B5=\"x\",IF(AUDITCHECK!D32=\"AFR form Incomplete.\",\"\",IF(AUDITCHECK!D32=\"Deficit reduction plan is required.\",\"School District must complete a deficit reduction plan in the 2022-2023 Budget\",)),\"\")","v":""}]
["Zip Code:",null,null,null,null,null,null,null,null,null,null,null,null,null,null,null,null,null,null,"Email Address:"]
[]
[null,null,null,null,null,null,null,null,"Annual Financial Report Questions 217-785-8779 or finance1@isbe.net"]
[null,null,"Annual Financial Report"]
[null,null,"Type of Auditor's Report Issued:",null,null,null,null,null,null,null,null,null,null,null,null,null,null,null,null,null,null,null,"ISBE Use Only"]
[null,null,"Qualified",null,null,"Unqualified",null,null,"Single Audit Questions 217-782-5630 or GATA@isbe.net"]
[null,null,"Adverse"]
[null,null,"Disclaimer"]
[]
[]
[null,null,"  Reviewed by District Superintendent/Administrator",null,null,null,null,null,null,null,null,null,"Reviewed by Township Treasurer (Cook County only)",null,null,null,null,null,null,null,null,"  Reviewed by Regional Superintendent/Cook ISC"]
[null,null,null,null,null,null,null,null,null,null,null,"Name of Township:"]
[]
["District Superintendent/Administrator Name (Type or Print):",null,null,null,null,null,null,null,"Township Treasurer Name (type or print)",null,null,null,null,null,null,null,null,null,null,"RegionalSuperintendent/Cook ISC Name (Type or Print):"]
[]
["Email Address:",null,null,null,null,null,null,null,"Email Address:",null,null,null,null,null,null,null,null,null,null,"Email Address:"]
[]
["Telephone:",null,null,"Fax Number:",null,null,null,null,"Telephone:",null,null,null,null,null,null,"Fax Number:",null,null,null,"Telephone:",null,null,null,"Fax Number:"]
[]
["Signature & Date:",null,null,null,null,null,null,null,"Signature & Date:",null,null,null,null,null,null,null,null,null,null,"Signature & Date:"]
[]
["* This form is based on 23 Illinois Administrative Code 100, Subtitle A, Chapter I, Subchapter C (Part 100).",null,null,null,null,null,null,null,null,null,null,null,null,null,null,null,"This form is based on 23 Illinois Administrative Code, Subtitle A, Chapter I, Subchapter C, Part 100.  "]
[{"$f":"\"ISBE Form SD50-35/JA50-60 (05/\"&MID('AFR22'!E2,3,2)&\"-version\"&'AFR22'!F2&\")\"","v":"ISBE Form SD50-35/JA50-60 (05/22-version1)"},null,null,null,null,null,null,null,null,null,null,null,null,null,null,null,"In some instances, use of open account codes (cells) may not be authorized by statute or administrative rule.  "]
[null,null,null,null,null,null,null,null,null,null,null,null,null,null,null,null,"Each school district or joint agreement is responsible for obtaining the concurring legal opinion and/or other  "]
[{"$f":"VLOOKUP(A17,'SDJA Listing for cover page'!$B$2:$D$993,3,FALSE)","v":{"$error":"#N/A"}},null,null,null,null,null,null,null,null,null,null,null,null,null,null,null,"supporting authorization/documentation, as necessary, to use the applicable account code (cell)."]

{"sheet":"TOC","index":1,"n_rows":79,"n_cols":5,"rows_kept":79,"cut":false,"hidden":false,"merged":[[38,0,38,4],[39,0,39,4],[40,0,40,4],[33,0,33,4]]}
["TABLE OF CONTENTS",null," "]
[null,null," ","TAB Name","AFR Page No."]
[null,null," "]
["Auditor's Questionnaire……………………………...………....…………………………..……….......................................................................................................",null," ","Aud Quest","2"]
["Comments Applicable to the Auditor's Questionnaire……..……..……………………………………………………………………………………………………………………..",null," ","Aud Quest","2"]
["Financial Profile Information …………………………………………….……………………………………………...........................................................................",null," ","FP Info","3"]
["Estimated Financial Profile Summary…………………………………………………………………………………………………………...................................................",null," ","Financial Profile","4"]
["Basic Financial Statements",null," "]
[null,"Statement of Assets and Liabilities Arising from Cash Transactions/Statement of Position ………………..............................................."," ","Assets-Liab","5 - 6 "]
[null,"Statement of Revenues Received/Revenues, Expenditures Disbursed/Expenditures, Other "," "]
[null," Sources (Uses) and Changes in Fund Balances (All Funds)…...……………..……………………................................................................................."," ","Acct Summary","7-9"]
[null,"Statements of Revenues Received/Revenues (All Funds)……………………………………………………………….............................................................."," ","Revenues","10-15"]
[null,"Statements of Expenditures Disbursed/Expenditures Budget to Actual (All Funds)………………………...................................................."," ","Expenditures","16-24"]
["Supplementary Schedules"]
[null,"Schedule of Ad Valorem Tax Receipts…………………………………………………………………………………………………………………………………………………………….."," ","Tax Sched",25]
[null,"Schedule of Short-Term Debt/Long-Term Debt …………………………………………………………............................................................................."," ","Short-Term Long-Term Debt",26]
[null,"Schedule of Restricted Local Tax Levies and Selected Revenue Sources/"," "]
[null,"Schedule of Tort Immunity Expenditures…………………………………..….……………….……………………..….............................................................",null,"Rest Tax Levies-Tort Im",27]
[null,"CARES CRRSA ARP Schedule……………………………………………………………………….…………….............................................................................................",null,"CARES CRRSA ARP","28-35"]
["Statistical Section",null," "]
[null,"Schedule of Capital Outlay and Depreciation……………………………………………………………………................................................................."," ","Cap Outlay Deprec",36]
[null,"Estimated Operating Expenditures Per Pupil and Per Capita Tuition Charge Computation………………………………………………………."," ","PCTC-OEPP","37-39"]
[null,"Indirect Cost Rate - Contracts paid in Current Year……………………………………………………………………………………………………………………."," ","Contracts Paid in CY",40]
[null,"Indirect Cost Rate - Computation…………………………………………………………………………………………………………………………………………………",null,"ICR Computation",41]
["Report on Shared Services or Outsourcing ………………………………………………................................................................................................................",null," ","Shared Outsourced Serv.",42]
["Administrative Cost Worksheet……………………………………………………………………….……………............................................................................",null," ","AC",43]
["Itemization Schedule………………………………………………………………………………………………….................................................................................",null," ","ITEMIZATION",44]
["Reference Page……………………………………………………………………………………………………….....................................................................................",null," ","REF",45]
["Notes, Opinion Letters, etc………………………………………………………………………………………………………………………………………………………………..",null,null,"Opinion-Notes",46]
["Deficit Reduction Calculation………………………………………………………………………………………………………………………………………………………………",null,null,"Deficit AFR Sum Calc",47]
["Audit Checklist/Balancing Schedule………………………………………………………………………………..............................................................................",null," ","AUDITCHECK","Auditcheck"]
["Single Audit and GATA Information………………………………………………………………………………..............................................................................",null," ","Single Audit and GATA Information","---"]
[]
["INSTRUCTIONS/REQUIREMENTS:  For School Districts/Joint Agreements"]
[]
[]
[]
[]
["All School Districts/Joint Agreements must complete this form (Note:  joint agreement supplementary/statistical schedules may not be applicable)"]
["This form complies with Part 100 (Requirements for Accounting, Budgeting, Financial Reporting, and Auditing).  "]
["23, Illinois Administrative Code 100, Subtitle A, Chapter I, Subchapter C (Part 100)"]
[]
["1.","  Round all amounts to the nearest dollar.  Do not enter cents. (Exception:  9 Month ADA on PCTC OEPP Tab)"]
[]
["2.","  Any errors left unresolved by the Audit Checklist/Balancing Schedule must be explained in the itemization page."]
[]
["3. ","  Be sure to break all links in AFR before submitting to ISBE. If links are not broken, amounts entered have changed when opening the AFR."]
[]
["4. ","  Submit AFR Electronically"]
[null,"  •   The Annual Financial Reports (AFR) must be submitted directly through the School District Financial Reports system in IWAS by the Auditor (not from the school district) "]
[null,"on before November 15 with the exception of Extension Approvals. (Please see AFR Instructions for complete submission procedures).  Note: CD/Disk no longer accepted.  "]
[]
[null,"IWAS"]
[]
[null,"  •  AFR supporting documentation must be embedded as Microsoft Word (.doc), Word Perfect (*.wpd) or Adobe (*.pdf) and inserted within tab \"Opinions & Notes\".  "]
[null,"  These documents include: The Audit, Management letter, Opinion letters, Compliance letters, Financial notes etc….  For embedding instructions see "]
[null,"  \"Opinions & Notes\" tab of this form."]
[null,"      Note:  In Windows 7 and above, files can be saved in Adobe Acrobat (*.pdf) and embedded even if you do not have the software. "]
[]
[]
["5. ","  Submit Paper Copy of AFR with Signatures"]
[null,"  a)  The auditor must send three paper copies of the AFR form (cover through page 9 at minimum) to the School District with the auditor signature.  "]
[null,"   Note:  School Districts and Regional Superintendents may prefer a complete paper copy in lieu of an electronic file. Please comply with their requests as necessary.  "]
[null,"  b)  Upon receipt, the School District retains one copy for their records, signs, and forwards the remaining two copies to the Regional Superintendent's "]
[null,"   office no later than October 15, annually."]
[null,"  c)  Upon receipt, the Regional Superintendent's office retains one copy for their records, signs, and forwards the remaining paper copy to ISBE no later "]
[null,"    than November 15, annually. "]
[null,"•  If the 15th falls on a Saturday, the due date is the Friday before.  If the 15th falls on a Sunday, the due date is the Monday after."]
[null,"•  Yellow Book, CPE, and Peer Review requirements must be met if the Auditor issues an opinion stating \"Governmental Auditing Standards\" were utilized."]
[null," Federal Single Audit 2 CFR 200.500"]
[]
["6.  ","  Requesting an Extension of Time must be submitted in writing via email or letter to the Regional Office of Education (at the discretion of the ROE).  "]
[null,"  Approval may be provided up to and no later than December 15 annually.  After December 15, audits are considered late and out of compliance per Illinois School Code."]
[]
["7.","  Qualifications of Auditing Firm"]
[null,"  •  School district/joint Agreement entities must verify the qualifications of the auditing firm by requesting the most current peer review report and the"]
[null,"  corresponding acceptance letter from the approved peer review program, for the current peer review period."]
[null,"  •  A school district/joint agreement who engages with an auditing firm who is not licensed and qualified will be required to complete a new audit by a qualified  "]
[null,"  auditing firm at the school district's/joint agreement's expense."]

{"sheet":"Aud Quest 2","index":2,"n_rows":119,"n_cols":10,"rows_kept":119,"cut":false,"hidden":false,"merged":[[1,0,1,9],[99,1,109,8],[111,2,111,3],[114,2,114,7],[34,0,34,8],[46,0,46,8],[67,0,67,8],[80,0,80,3],[54,1,64,9],[82,0,82,3],[85,0,85,3]]}
[]
["AUDITOR'S QUESTIONNAIRE"]
[]
["INSTRUCTIONS:  If your review and testing of state, local, and federal Programs revealed any of the following statements to be true, then check the box on the left and "]
["attach the appropriate findings/comments."]
[]
["PART A - FINDINGS"]
[]
[null,null,1,"One or more school board members, administrators, certified school business officials, or other qualifying district employees failed to file economic interested"]
[null,null,null,"statements pursuant to the Illinois Government Ethics Act. [5 ILCS 420/4A-101]"]
[null,null,2,"One or more custodians of funds failed to comply with the bonding requirements pursuant to Illinois School Code [105 ILCS 5/8-2;10-20.19;19-6]."]
[]
[null,null,3,"One or more contracts were executed or purchases made contrary to the provisions of the Illinois School Code [105 ILCS 5/10-20.21]."]
[null,null,4,"One or more violations of the Public Funds Deposit Act or the Public Funds Investment Act were noted [30 ILCS 225/1 et. seq. and 30 ILCS 235/1 et. seq.]. "]
[null,null,5,"Restricted funds were commingled in the accounting records or used for other than the purpose for which they were restricted."]
[null,null,6,"One or more short-term loans or short-term debt instruments were executed in non-conformity with the applicable authorizing statute or without statutory Authority."]
[]
[null,null,7,"One or more long-term loans or long-term debt instruments were executed in non-conformity with the applicable authorizing statute or without statutory Authority."]
[]
[null,null,8,"Corporate Personal Property Replacement Tax monies were deposited and/or used without first satisfying the lien imposed pursuant to the Illinois State Revenue "]
[null,null,null,"Sharing Act [30 ILCS 115/12]."]
[null,null,9,"One or more interfund loans were made in non-conformity with the applicable authorizing statute or without statutory authorization per Illinois School Code [105 ILCS "]
[null,null,null,"5/10-22.33, 20-4 and 20-5]."]
[null,null,10,"One or more interfund loans were outstanding beyond the term provided by statute Illinois School Code [105 ILCS 5/10-22.33, 20-4, 20-5]."]
[null,null,11,"One or more permanent transfers were made in non-conformity with the applicable authorizing statute/regulation or without statutory/regulatory authorization per Illinois "]
[null,null,null,"School Code [105 ILCS 5/17-2A]."]
[null,null,12,"Substantial, or systematic misclassification of budgetary items such as, but not limited to, revenues, receipts, expenditures, disbursements or expenses were observed."]
[]
[null,null,13,"The Chart of Accounts used to define and control budget and accounting records does not conform to the minimum requirements imposed by "]
[null,null,null,"ISBE rules pursuant to Illinois School Code [105 ILCS 5/2-3.27; 2-3.28]."]
[null,null,14,{"$f":"\"At least one of the following forms was filed with ISBE late: The FY\"&MID('AFR22'!E2,3,2)-1&\" AFR (ISBE FORM 50-35), FY\"&MID('AFR22'!E2,3,2)-1&\" Annual Statement of Affairs (ISBE Form 50-37) and FY\"&MID('AFR22'!E2,3,2)","v":"At least one of the following forms was filed with ISBE late: The FY21 AFR (ISBE FORM 50-35), FY21 Annual Statement of Affairs (ISBE Form 50-37) and FY22"}]
[null,null,null,"    Budget (ISBE FORM 50-36).  Explain in the comments box below in pursuant to Illinois School Code [105 ILCS 5/3-15.1; 5/10-17; 5/17-1]."]
[null,null,null," "]
[]
["PART B - FINANCIAL DIFFICULTIES/CERTIFICATION Criteria pursuant to the Illinois School Code [105 ILCS 5/1A-8]."]
[]
[null,null,15,"The district has issued tax anticipation warrants or tax anticipation notes in anticipation of a second year's taxes when warrants or notes in"]
[null,null,null,"anticipation of current year taxes are still outstanding, as authorized by Illinois School Code [105 ILCS 5/17-16 or 34-23 through 34-27].  "]
[]
[null,null,16,"The district has issued short-term debt against two future revenue sources, such as, but not limited to, tax anticipation warrants and General State Aid"]
[null,null,null,"certificates or tax anticipation warrants and revenue anticipation notes.  "]
[null,null,17,"The district has issued school or teacher orders for wages as permitted in Illinois School Code [105 ILCS 5/8-16, 32-7.2 and 34-76] or issued funding"]
[null,null,null,"bonds for this purpose pursuant to Illinois School Code [105 ILCS 5/8-6; 32-7.2; 34-76; and 19-8]."]
[null,null,18,"The district has for two consecutive years shown an excess of expenditures/other uses over revenues/other sources and beginning fund balances"]
[null,null,null,"on its annual financial report for the aggregate totals of the Educational, Operations & Maintenance, Transportation, and Working Cash Funds."]
[]
["PART C - OTHER ISSUES"]
[]
[null,null,19,"Student Activity Funds, Imprest Funds, or other funds maintained by the district were excluded from the audit."]
[null,null,20,"Findings, other than those listed in Part A (above), were reported (e.g. student activity findings). These findings may be described extensively in the financial notes. "]
[null,null,21,"Check this box if the district is subject to the Property Tax Extension Limitation Law.  ",null,null,"Effective Date:",null,"(Ex: 00/00/0000)"]
[null,null,22,"If the type of Auditor Report designated on the cover page is other than an unqualified opinion and is due to reason(s) other than solely Cash Basis Accounting,"]
[null,null,null,"    please check and explain the reason(s) in the box below. "]
[]
[]
[]
[]
[]
[]
[]
[]
[]
[]
[]
[]
[]
[]
["PART D - EXPLANATION OF ACCOUNTING PRACTICES FOR LATE MANDATED CATEGORICAL PAYMENTS"]
[null,null,null,"(For School Districts who report on an Accrual/Modified Accrual Accounting Basis only)"]
[]
["School districts that report on the accrual/modified accrual basis of accounting must identify where late mandated categorical payments (Acct Codes 3100, 3120, 3500, 3510, 3950)"]
["are recorded.  Depending on the accounting procedure these amounts will be used to adjust the Direct Receipts/Revenues in calculation 1 and 2 of the Financial Profile Score."]
[{"$f":"\"In FY \"&'AFR22'!E2&\", identify those late payments recorded as Intergovermental Receivables, Other Recievables, or Deferred Revenue & Other Current Liabilities or Direct Receipts/Revenue. \"","v":"In FY 2022, identify those late payments recorded as Intergovermental Receivables, Other Recievables, or Deferred Revenue & Other Current Liabilities or Direct Receipts/Revenue. "}]
["Payments should only be listed once."]
[null,null,24," Enter the date that the district used to accrue mandated categorical payments",null,null,"                                                                                                                                            Date:"]
[]
[null,null,25," For the listed mandated categorical (Revenue Code (3100, 3120, 3500, 3510, 3950) that were vouchered prior to June 30, but not released until after year end"]
[null,null,null," as reported in ISBE Financial Reimbursement Information System (FRIS), enter the amounts that were accrued in the chart below."]
[]
[]
["Account Name",null,null,null,3100,3120,3500,3510,3950,"Total"]
["Deferred Revenues (490)"]
["Mandated Categoricals Payments (3100, 3120, 3500, 3510, 3950)",null,null,null,null,null,null,null,null,{"$f":"SUM(E83:I83)","v":0}]
[]
["Direct Receipts/Revenue"]
["Mandated Categoricals Payments (3100, 3120, 3500, 3510, 3950)",null,null,null,null,null,null,null,null,{"$f":"SUM(E86:I86)","v":0}]
[]
["Total",null,null,null,null,null,null,null,null,{"$f":"SUM(J83:J87)","v":0}]
[]
[null," •  Revenue Code (3100-Sp Ed Private Facilities, 3120-Sp Ed Regular Orphanage Individual, 3500-Regular/Vocational Transportation,"]
[null,null,"3510-Sp Ed Transportation, 3950-Regular Orphans & Foster Children)"]
["PART E - QUALIFICATIONS OF AUDITING FIRM"]
[null,"•  School district/joint Agreement entities must verify the qualifications of the auditing firm by requesting the most current peer review report and the corresponding acceptance"]
[" ","letter from the approved peer review program for the current peer review."]
[null,"•  A school district/joint agreement who engages with an auditing firm who is not licensed and qualified will be required to complete a new audit by a qualified auditing firm "]
[null,"    at the school district's/joint agreement's expense."]
[]
[]
[null,"Comments Applicable to the Auditor's Questionnaire:"]
[]
[]
[]
[]
[]
[]
[]
[]
[]
[]
[]
[]
[]
[null,null,null,"Name of Audit Firm (print)"]
[]
[null,null,"The undersigned affirms that this audit was conducted by a qualified auditing firm and in accordance with the applicable standards [23 Illinois Administrative Code Part 100] and the scope of the audit conformed to the requirements of subsection (a) or (b) of 23 Illinois Administrative Code Part 100 Section 110, as applicable."]
[]
[null,null,null,"Signature",null,"                                                                 mm/dd/yyyy"]
[]
[null,"Note: A PDF (of the Audit Questionnaire) with signature is acceptable for this page. Enter the location on signature line e.g. PDF in Opinion Page with signature "]

{"sheet":"FP Info 3","index":3,"n_rows":54,"n_cols":13,"rows_kept":54,"cut":false,"hidden":false,"merged":[[0,0,0,12],[54,1,58,11],[10,3,10,9],[61,2,61,3],[12,3,12,11]]}
["FINANCIAL PROFILE INFORMATION"]
[]
["Required to be completed for school districts only."]
[]
["A.  ","Tax Rates (Enter the tax rate - ex: .0150 for $1.50)"]
[]
[null,null,null,{"$f":"\"Tax Year \"&'AFR22'!E2-1","v":"Tax Year 2021"},null,"        Equalized Assessed Valuation (EAV):"]
[]
[null,null,null,"Educational",null,"Operations & Maintenance",null,"Transportation",null,"Combined Total",null,"Working Cash"]
["      Rate(s):",null,null,null,"+",null,"+",null,"=",{"$f":"ROUND(D10+F10+H10,5)","v":0}]
[null,null,null,{"$f":"IF(SUM(J10)<=0.0999999,\"\",\"Enter the Tax Rates by moving the decimal two places to the left.\")","v":""}]
[]
[null,null,null,"A tax rate must be entered in the Educational, Operations and Maintenance, Transportation, and Working Cash boxes above.  If the tax rate is zero, enter \"0\".  "]
["B. ","Results of Operations  *"]
[]
[null,null,null,"Receipts/Revenues",null,"Disbursements/ Expenditures",null,"Excess/ (Deficiency)",null,"Fund Balance"]
[null,null,null,{"$f":"SUM('Acct Summary 7-9'!C8,'Acct Summary 7-9'!D8,'Acct Summary 7-9'!F8,'Acct Summary 7-9'!I8)","v":0},null,{"$f":"SUM('Acct Summary 7-9'!C17,'Acct Summary 7-9'!D17,'Acct Summary 7-9'!F17)","v":0},null,{"$f":"SUM(D17-F17)","v":0},null,{"$f":"SUM('Acct Summary 7-9'!C81,'Acct Summary 7-9'!D81,'Acct Summary 7-9'!F81,'Acct Summary 7-9'!I81)","v":0}]
[null,"*  ","The numbers shown are the sum of entries on Pages 7 & 8, lines 8, 17, 20, and 81 for the Educational, Operations & Maintenance, "]
[null,null,"Transportation and Working Cash Funds."]
[]
["C.","Short-Term Debt **"]
[null,null,null,"CPPRT Notes",null,"TAWs",null,"TANs",null,"TO/EMP. Orders",null,"EBF/GSA Certificates"]
[null,null,null,{"$f":"'Short-Term Long-Term Debt 26'!F4","v":0},"+",{"$f":"'Short-Term Long-Term Debt 26'!F15","v":0},"+",{"$f":"'Short-Term Long-Term Debt 26'!F21","v":0},"+",{"$f":"'Short-Term Long-Term Debt 26'!F23","v":0},"+",{"$f":"'Short-Term Long-Term Debt 26'!F25","v":0},"+"]
[null,null,null,"Other",null,"Total"]
[null,null,null,{"$f":"'Short-Term Long-Term Debt 26'!F27","v":0},"=",{"$f":"SUM(D23,F23,H23,J23,L23, D25)","v":0}]
[null,"**  ","The numbers shown are the sum of entries on page 26."]
[]
[]
["D.  ","Long-Term Debt "]
[null,"Check the applicable box for long-term debt allowance by type of district."]
[]
[null,null,"a.","  6.9% for elementary and high school districts, ",null,null,null,{"$f":"IF(B32=\"X\",(J7*0.069),IF(B33=\"X\",(J7*0.138),\"Enter x in a.or b.\"))","v":"Enter x in a.or b."}]
[null,null,"b.","  13.8% for unit districts."]
[]
[null,"Long-Term Debt Outstanding:"]
[]
[null,null,"c.","  Long-Term Debt (Principal only)",null,null,"Acct"]
[null,null,null,"  Outstanding:……….....……………....",null,null,511,{"$f":"'Assets-Liab 5-6'!N36","v":0}]
[]
[]
["E.","Material Impact on Financial Position"]
[null,"If applicable, check any of the following items that may have a material impact on the entity's financial position during future reporting periods."]
[null,"Attach sheets as needed explaining each item checked."]
[]
[null,null,"  Pending Litigation"]
[null,null,"  Material Decrease in EAV"]
[null,null,"  Material Increase/Decrease in Enrollment"]
[null,null,"  Adverse Arbitration Ruling"]
[null,null,"  Passage of Referendum"]
[null,null,"  Taxes Filed Under Protest"]
[null,null,"  Decisions By Local Board of Review or Illinois Property Tax Appeal Board (PTAB)"]
[null,null,"  Other Ongoing Concerns (Describe & Itemize)"]
[]
[null,"Comments:"]

{"sheet":"Fin Profile 4","index":4,"n_rows":42,"n_cols":16,"rows_kept":42,"cut":false,"hidden":false,"merged":[[23,2,23,3],[0,0,0,2],[0,14,0,16],[17,2,17,3],[12,2,12,3],[1,0,1,17],[2,0,2,17],[3,0,3,17]]}
[]
["ESTIMATED FINANCIAL PROFILE SUMMARY"]
["Financial Profile Website"]
[]
[]
[]
[null,null,"District Name:",{"$f":"COVER!A17","v":0}]
[null,null,"District Code:",{"$f":"COVER!A13","v":"Please select district from drop-down list on line 17."}]
[null,null,"County Name:",{"$f":"COVER!A15","v":0}]
[]
[null,"1.","Fund Balance to Revenue Ratio:",null,null,null,null,"Total",null,null,"Ratio",null,"Score",null,{"$f":"IF(K12>0.24999,\"4\",IF(K12>0.09999,\"3\",IF(K12>=0,\"2\",1)))","v":{"$error":"#DIV/0!"}}]
[null,null,"Total Sum of Fund Balance (P8, Cells C81, D81, F81 & I81)",null,null,"Funds 10, 20, 40, 70 + (50 & 80 if negative)",null,{"$f":"SUM('Acct Summary 7-9'!C81+'Acct Summary 7-9'!D81+'Acct Summary 7-9'!F81+'Acct Summary 7-9'!I81+IF('Acct Summary 7-9'!G81<0,'Acct Summary 7-9'!G81,\"0\")+IF('Acct Summary 7-9'!J81<0,'Acct Summary 7-9'!J81,\"0\"))","v":0},null,null,{"$f":"TRUNC((H12/H13*100000),5)/100000","v":{"$error":"#DIV/0!"}},null,"Weight",null,0.35]
[null,null,"Total Sum of Direct Revenues (P7, Cell C8, D8, F8 & I8)",null,null,"Funds 10, 20, 40, & 70,                                               ",null,{"$f":"SUM('Acct Summary 7-9'!C8+'Acct Summary 7-9'!D8+'Acct Summary 7-9'!F8+'Acct Summary 7-9'!I8)+H14","v":0},null,null,null,null,"Value",null,{"$f":"(O11*O12)","v":{"$error":"#DIV/0!"}}]
[null,null," Less: Operating Debt Pledged to Other Funds (P8, Cell C54 thru D74)",null,null,"Minus Funds 10 & 20",null,{"$f":"-SUM('Acct Summary 7-9'!C54:D56,'Acct Summary 7-9'!C58:D60,'Acct Summary 7-9'!C62:D64,'Acct Summary 7-9'!C66:D68,'Acct Summary 7-9'!C70:D72,'Acct Summary 7-9'!C74:D74)","v":0}]
[null,null,"    (Excluding C:D57, C:D61, C:D65, C:D69 and C:D73)"]
[null,"2.","Expenditures to Revenue Ratio:",null,null,null,null,"Total",null,null,"Ratio",null,"Score",null,{"$f":"IF(K17>1.2,\"1\",IF(K17>1.1,\"2\",IF(K17>1,\"3\",4)))","v":{"$error":"#DIV/0!"}}]
[null,null,"Total Sum of Direct Expenditures (P7, Cell C17, D17, F17, I17)",null,null,"Funds 10, 20 & 40",null,{"$f":"SUM('Acct Summary 7-9'!C17+'Acct Summary 7-9'!D17+'Acct Summary 7-9'!F17)","v":0},null,null,{"$f":"TRUNC((H17/H18*100000),5)/100000","v":{"$error":"#DIV/0!"}},null,"Adjustment",null,{"$f":"IF(AND(O16=\"2\", J20 > 2),\"1\",IF(AND(O16 = \"1\", J20 > 2),\"2\",IF(AND(O16=\"1\", J20 >1),\"1\",\"0\")))","v":{"$error":"#DIV/0!"}}]
[null,null,"Total Sum of Direct Revenues (P7, Cell C8, D8, F8, & I8)                                   ",null,null,"Funds 10, 20, 40 & 70,                                               ",null,{"$f":"SUM('Acct Summary 7-9'!C8+'Acct Summary 7-9'!D8+'Acct Summary 7-9'!F8+'Acct Summary 7-9'!I8)+H19","v":0},null,null,null,null,"Weight",null,0.35]
[null,null," Less: Operating Debt Pledged to Other Funds (P8, Cell C54 thru D74)",null,null,"Minus Funds 10 & 20",null,{"$f":"-SUM('Acct Summary 7-9'!C54:D56,'Acct Summary 7-9'!C58:D60,'Acct Summary 7-9'!C62:D64,'Acct Summary 7-9'!C66:D68,'Acct Summary 7-9'!C70:D72,'Acct Summary 7-9'!C74:D74)","v":0}]
[null,null,"    (Excluding C:D57, C:D61, C:D65, C:D69 and C:D73)",null,null,null,null,null,null,{"$f":"IF(K17<=1,\"0\",TRUNC(((K12-0.1)/(K17-1)*100),5)/100)","v":{"$error":"#DIV/0!"}},{"$f":"IF(K17<=1,\"0\",IF(AND(O16=\"2\", J20 > 2),TRUNC(((K12-0.1)/(K17-1)*100),5)/100,IF(AND(O16 = \"1\", J20 > 2),TRUNC(((K12-0.1)/(K17-1)*100),5)/100,IF(AND(O16=\"1\", J20 >1),TRUNC(((K12-0.1)/(K17-1)*100),5)/100,\"\"))))","v":{"$error":"#DIV/0!"}},null,"Value",null,{"$f":"(O16+O17)*O18","v":{"$error":"#DIV/0!"}}]
[null,null,"Possible Adjustment:"]
[]
[null,"3.","Days Cash on Hand:",null,null,null,null,"Total",null,null,"Days",null,"Score",null,{"$f":"IF(K24>=180,\"4\",IF(K24>=90,\"3\",IF(K24>=30,\"2\",1)))","v":{"$error":"#DIV/0!"}}]
[null,null,"Total Sum of Cash & Investments (P5, Cell C4, D4, F4, I4 & C5, D5, F5 & I5)",null,null,"Funds 10, 20 40 & 70",null,{"$f":"SUM('Assets-Liab 5-6'!C4+'Assets-Liab 5-6'!D4+'Assets-Liab 5-6'!F4+'Assets-Liab 5-6'!I4+'Assets-Liab 5-6'!C5+'Assets-Liab 5-6'!D5+'Assets-Liab 5-6'!F5+'Assets-Liab 5-6'!I5)","v":0},null,null,{"$f":"TRUNC(((H24/H25*100000)/100000),2)","v":{"$error":"#DIV/0!"}},null,"Weight",null,0.1]
[null,null,"Total Sum of Direct Expenditures (P7, Cell C17, D17, F17 & I17)",null,null,"Funds 10, 20, 40 divided by 360",null,{"$f":"ROUND((H17/360),5)","v":0},null,null,null,null,"Value",null,{"$f":"O23*O24","v":{"$error":"#DIV/0!"}}]
[]
[null,"4.  Percent of Short-Term Borrowing Maximum Remaining:",null,null,null,null,null,"Total",null,null,"Percent",null,"Score",null,{"$f":"IF(K28>=75,\"4\",IF(K28>=50,\"3\",IF(K28>=25,\"2\",1)))","v":{"$error":"#DIV/0!"}}]
[null,null,"Tax Anticipation Warrants Borrowed (P26, Cell F6-7 & F11)",null,null,"Funds 10, 20 & 40",null,{"$f":"SUM('Short-Term Long-Term Debt 26'!F6,'Short-Term Long-Term Debt 26'!F7,'Short-Term Long-Term Debt 26'!F11)","v":0},null,null,{"$f":"TRUNC(100-((((H28/H29*100))*100)/100),2)","v":{"$error":"#DIV/0!"}},null,"Weight",null,0.1]
[null,null,"EAV x 85% x  Combined Tax Rates (P3, Cell J7 and J10)",null,null,"(.85 x EAV)  x Sum of Combined Tax Rates",null,{"$f":"ROUND((0.85*'FP Info 3'!J7*'FP Info 3'!J10),5)","v":0},null,null,null,null,"Value",null,{"$f":"O27*O28","v":{"$error":"#DIV/0!"}}]
[]
[null,"5.  Percent of Long-Term Debt Margin Remaining:",null,null,null,null,null,"Total",null,null,"Percent",null,"Score",null,{"$f":"IF(K32>=75,\"4\",IF(K32>=50,\"3\",IF(K32>=25,\"2\",1)))","v":{"$error":"#VALUE!"}}]
[null,null,"Long-Term Debt Outstanding (P3, Cell H38)",null,null,null,null,{"$f":"'FP Info 3'!H38","v":0},null,null,{"$f":"TRUNC(100-((((H32/H33*100))*100)/100),2)","v":{"$error":"#VALUE!"}},null,"Weight",null,0.1]
[null,null,"Total Long-Term Debt Allowed (P3, Cell H32) ",null,null,null,null,{"$f":"IF('FP Info 3'!H32=\"Enter X in a or b\",\" \",'FP Info 3'!H32)","v":"Enter x in a.or b."},null,null,null,null,"Value",null,{"$f":"(O31*O32)","v":{"$error":"#VALUE!"}}]
[]
[null,null,null,null,null,null,null,null,null,null,null,null,"Total Profile Score: ",null,{"$f":"(O13+O20+O25+O29+O33)","v":{"$error":"#DIV/0!"}},"*"]
[]
[null,null,null,null,null,null,null,null,null,null,null,null,{"$f":"\"Estimated \"&'AFR22'!E2+1&\" Financial Profile Designation:\"","v":"Estimated 2023 Financial Profile Designation:"},null,{"$f":"IF(O35>3.53,\"RECOGNITION\",IF(O35>3.07,\"REVIEW \",IF(O35>2.61,\"WARNING\",\"WATCH\")))","v":{"$error":"#DIV/0!"}}]
[]
[null,null,null,null,null,"*",null,"Total Profile Score may change based on data provided on the Financial Profile"]
[null,null,null,null,null,null,null,"Information page 3 and by the timing of mandated categorical payments.  Final score "]
[null,null,null,null,null,null,null,"will be calculated by ISBE. "]
["         "]

{"sheet":"Assets-Liab 5-6","index":5,"n_rows":62,"n_cols":14,"rows_kept":62,"cut":false,"hidden":false,"merged":[[43,0,43,1],[54,0,54,1],[56,0,56,1],[0,0,1,0],[2,0,2,1],[13,0,13,1],[23,0,23,1],[34,0,34,1],[46,0,46,1],[51,0,51,1]]}
["ASSETS                                                                                                                    (Enter Whole Dollars)",null,"(10)","(20)","(30)","(40)","(50)","(60)","(70)","(80)","(90)",null,"Account Groups"]
[null,"Acct. #","Educational","Operations & Maintenance","Debt Services","Transportation","Municipal Retirement/Social Security","Capital Projects","Working Cash","Tort","Fire Prevention & Safety","Agency Fund","General Fixed Assets","General Long-Term Debt"]
["CURRENT ASSETS (100)"]
["Cash (Accounts 111 through 115)  1  "]
["Investments",120]
["Taxes Receivable",130]
["Interfund Receivables",140]
["Intergovernmental Accounts Receivable",150]
["Other Receivables",160]
["Inventory",170]
["Prepaid Items",180]
["Other Current Assets (Describe & Itemize)",190]
["Total Current Assets",null,{"$f":"SUM(C4:C12)","v":0},{"$f":"SUM(D4:D12)","v":0},0,0,0,0,0,0,0,0]
["CAPITAL ASSETS (200)"]
["    Works of Art & Historical Treasures",210]
["    Land",220]
["    Building & Building Improvements",230]
["    Site Improvements & Infrastructure",240]
["    Capitalized Equipment",250]
["    Construction in Progress",260]
["    Amount Available in Debt Service Funds",340]
["    Amount to be Provided for Payment on Long-Term Debt",350,null,null,null,null,null,null,null,null,null,null,null,{"$f":"'Short-Term Long-Term Debt 26'!J49","v":0}]
["Total Capital Assets",null,null,null,null,null,null,null,null,null,null,null,{"$f":"SUM(M15:M22)","v":0},{"$f":"SUM(N21:N22)","v":0}]
["CURRENT LIABILITIES (400)"]
["Interfund Payables",410]
["Intergovernmental Accounts Payable",420]
["Other Payables",430]
["Contracts Payable",440]
["Loans Payable",460]
["Salaries & Benefits Payable",470]
["Payroll Deductions & Withholdings",480]
["Deferred Revenues & Other Current Liabilities",490]
["Due to Activity Fund Organizations",493]
["Total Current Liabilities",null,{"$f":"SUM(C25:C33)","v":0},{"$f":"SUM(D25:D33)","v":0},0,0,0,0,0,0,0,{"$f":"SUM(L33)","v":0}]
["LONG-TERM LIABILITIES (500)"]
["Long-Term Debt Payable (General Obligation, Revenue, Other)",511,null,null,null,null,null,null,null,null,null,null,null,{"$f":"'Short-Term Long-Term Debt 26'!I49","v":0}]
["Total Long-Term Liabilities",null,null,null,null,null,null,null,null,null,null,null,null,{"$f":"SUM(N36:N36)","v":0}]
["Reserved Fund Balance",714]
["Unreserved Fund Balance",730]
["Investment in General Fixed Assets"]
["Total Liabilities and Fund Balance",null,{"$f":"(SUM(C34,C37,C38,C39))","v":0},{"$f":"SUM(D34,D37,D38:D39)","v":0},0,0,0,0,0,0,0,0,{"$f":"SUM(M40)","v":0},{"$f":"SUM(N37)","v":0}]
[]
["ASSETS /LIABILITIES for Student Activity Funds "]
["CURRENT ASSETS (100)  for Student Activity Funds"]
["Student Activity Fund Cash and Investments",126]
["Total Student Activity Current Assets For Student Activity Funds",null,{"$f":"C45","v":0}]
["CURRENT LIABILITIES (400) For Student Activity Funds"]
["Total Current Liabilities For Student Activity Funds"]
["Reserved Student Activity Fund Balance For Student Activity Funds",715]
["Total Student Activity  Liabilities and Fund Balance For Student Activity Funds",null,{"$f":"C48+C49","v":0}]
[]
["Total ASSETS /LIABILITIES District with Student Activity Funds"]
["Total Current Assets District with Student Activity Funds",null,{"$f":"C13+C46","v":0},{"$f":"D13","v":0},{"$f":"E13","v":0},0,0,0,0,0,0,0]
["Total Capital Assets District with Student Activity Funds",null,null,null,null,null,null,null,null,null,null,null,{"$f":"M23","v":0},{"$f":"N23","v":0}]
["CURRENT LIABILITIES (400) District with Student Activity Funds"]
["Total Current Liabilities District with Student Activity Funds",null,{"$f":"C34+C48","v":0},{"$f":"D34","v":0},{"$f":"E34","v":0},0,0,0,0,0,0,0]
["LONG-TERM LIABILITIES (500) District with Student Activity Funds"]
["Total Long-Term Liabilities District with Student Activity Funds",null,null,null,null,null,null,null,null,null,null,null,null,{"$f":"N37","v":0}]
["Reserved Fund Balance District with Student Activity Funds",714,{"$f":"C38+C49","v":0},{"$f":"D38","v":0},{"$f":"E38","v":0},0,0,0,0,0,0,0]
["Unreserved Fund Balance District with Student Activity Funds",730,{"$f":"C39","v":0},{"$f":"D39","v":0},0,0,0,0,0,0,0,0]
["Investment in General Fixed Assets District with Student Activity Funds",null,null,null,null,null,null,null,null,null,null,null,{"$f":"M40","v":0}]
["Total Liabilities and Fund Balance District with Student Activity Funds",null,{"$f":"C41+C50","v":0},{"$f":"D41","v":0},{"$f":"E41","v":0},0,0,0,0,0,0,0,{"$f":"M41","v":0},{"$f":"N41","v":0}]

{"sheet":"Acct Summary 7-9","index":6,"n_rows":117,"n_cols":11,"rows_kept":117,"cut":false,"hidden":false,"merged":[[114,0,114,1],[115,0,115,1],[116,0,116,1],[92,0,92,1],[100,0,100,1],[109,0,109,1],[110,0,110,1],[113,0,113,1],[112,0,112,1],[85,0,85,1],[87,0,87,1],[89,0,89,1],[90,0,90,1],[75,0,75,1],[76,0,76,1],[80,0,80,1],[77,0,77,1],[0,0,1,0],[19,0,19,1],[79,0,79,1],[22,0,22,1],[31,0,31,1],[2,0,2,1],[10,0,10,1],[20,0,20,1],[43,0,43,1],[44,0,44,1],[45,0,45,1]]}
["Description (Enter Whole Dollars)",null,"(10)","(20)","(30)","(40)","(50)","(60)","(70)","(80)","(90)"]
[null,"Acct #","Educational","Operations & Maintenance","Debt Services","Transportation","Municipal Retirement/ Social Security","Capital Projects","Working Cash","Tort","Fire Prevention & Safety"]
["RECEIPTS/REVENUES"]
["LOCAL SOURCES",1000,{"$f":"'Revenues 10-15'!C111","v":0},{"$f":"'Revenues 10-15'!D111","v":0},{"$f":"'Revenues 10-15'!E111","v":0},{"$f":"'Revenues 10-15'!F111","v":0},{"$f":"'Revenues 10-15'!G111","v":0},{"$f":"'Revenues 10-15'!H111","v":0},{"$f":"'Revenues 10-15'!I111","v":0},{"$f":"'Revenues 10-15'!J111","v":0},{"$f":"'Revenues 10-15'!K111","v":0}]
["FLOW-THROUGH RECEIPTS/REVENUES FROM ONE DISTRICT TO ANOTHER DISTRICT",2000,{"$f":"'Revenues 10-15'!C117","v":0},{"$f":"'Revenues 10-15'!D117","v":0},null,{"$f":"'Revenues 10-15'!F117","v":0},{"$f":"'Revenues 10-15'!G117","v":0}," "," "," "," "]
["STATE SOURCES",3000,{"$f":"'Revenues 10-15'!C172","v":0},{"$f":"'Revenues 10-15'!D172","v":0},{"$f":"'Revenues 10-15'!E172","v":0},{"$f":"'Revenues 10-15'!F172","v":0},{"$f":"'Revenues 10-15'!G172","v":0},{"$f":"'Revenues 10-15'!H172","v":0},{"$f":"'Revenues 10-15'!I172","v":0},{"$f":"'Revenues 10-15'!J172","v":0},{"$f":"'Revenues 10-15'!K172","v":0}]
["FEDERAL SOURCES",4000,{"$f":"'Revenues 10-15'!C269","v":0},{"$f":"'Revenues 10-15'!D269","v":0},{"$f":"'Revenues 10-15'!E269","v":0},{"$f":"'Revenues 10-15'!F269","v":0},{"$f":"'Revenues 10-15'!G269","v":0},{"$f":"'Revenues 10-15'!H269","v":0},{"$f":"'Revenues 10-15'!I269","v":0},{"$f":"'Revenues 10-15'!J269","v":0},{"$f":"'Revenues 10-15'!K269","v":0}]
["Total Direct Receipts/Revenues",null,{"$f":"SUM(C4:C7)","v":0},0,0,0,0,0,0,0,0]
["Receipts/Revenues for \"On Behalf\" Payments  2",3998,null,null,null,null,null,null," "]
["Total Receipts/Revenues",null,{"$f":"SUM(C8:C9)","v":0},{"$f":"SUM(D8:D9)","v":0},0,0,0,0,0,0,0]
["DISBURSEMENTS/EXPENDITURES"]
["Instruction",1000,{"$f":"'Expenditures 16-24'!K34","v":0}," "," "," ",{"$f":"'Expenditures 16-24'!K233","v":0},null," ",{"$f":"'Expenditures 16-24'!K344","v":0}," "]
["Support Services",2000,{"$f":"'Expenditures 16-24'!K76","v":0},{"$f":"'Expenditures 16-24'!K133","v":0}," ",{"$f":"'Expenditures 16-24'!K188","v":0},{"$f":"'Expenditures 16-24'!K276","v":0},{"$f":"'Expenditures 16-24'!K300","v":0}," ",{"$f":"'Expenditures 16-24'!K387","v":0},{"$f":"'Expenditures 16-24'!K439","v":0}]
["Community Services",3000,{"$f":"'Expenditures 16-24'!K77","v":0},{"$f":"'Expenditures 16-24'!K134","v":0}," ",{"$f":"'Expenditures 16-24'!K189","v":0},{"$f":"'Expenditures 16-24'!K277","v":0},null," ",{"$f":"'Expenditures 16-24'!K388","v":0}," "]
["Payments to Other Districts & Governmental Units",4000,{"$f":"'Expenditures 16-24'!K104","v":0},{"$f":"'Expenditures 16-24'!K143","v":0},{"$f":"'Expenditures 16-24'!K164","v":0},{"$f":"'Expenditures 16-24'!K200","v":0},{"$f":"'Expenditures 16-24'!K282","v":0},{"$f":"'Expenditures 16-24'!K307","v":0}," ",{"$f":"'Expenditures 16-24'!K415","v":0},{"$f":"'Expenditures 16-24'!K444","v":0}]
["Debt Service",5000,{"$f":"'Expenditures 16-24'!K114","v":0},{"$f":"'Expenditures 16-24'!K153","v":0},{"$f":"'Expenditures 16-24'!K176","v":0},{"$f":"'Expenditures 16-24'!K212","v":0},{"$f":"'Expenditures 16-24'!K290","v":0},null," ",{"$f":"'Expenditures 16-24'!K427","v":0},{"$f":"'Expenditures 16-24'!K452","v":0}]
["Total Direct Disbursements/Expenditures",null,{"$f":"SUM(C12:C16)","v":0},0,0,0,0,{"$f":"SUM(H12:H16)","v":0},null,{"$f":"SUM(J12:J16)","v":0},{"$f":"SUM(K12:K16)","v":0}]
["Disbursements/Expenditures for \"On Behalf\" Payments 2",4180,{"$f":"C9","v":0},0,0,0,0,0,null,{"$f":"J9","v":0},{"$f":"K9","v":0}]
["Total Disbursements/Expenditures",null,{"$f":"SUM(C17:C18)","v":0},0,0,0,0,0,null,{"$f":"SUM(J17:J18)","v":0},{"$f":"SUM(K17:K18)","v":0}]
["Excess of Direct Receipts/Revenues Over (Under) Direct Disbursements/Expenditures  3",null,{"$f":"C8-C17","v":0},0,0,0,0,0,0,0,0]
["OTHER SOURCES/USES OF FUNDS"]
["OTHER SOURCES OF FUNDS  (7000)"]
["PERMANENT TRANSFER FROM VARIOUS FUNDS"]
["Abolishment of the Working Cash Fund 12",7110]
["Abatement of the Working Cash Fund 12",7110]
["Transfer of Working Cash Fund Interest",7120]
["Transfer Among Funds",7130]
["Transfer of Interest",7140]
["Transfer from Capital Project Fund to O&M Fund",7150]
["Transfer of Excess Fire Prevention & Safety Tax and Interest Proceeds to O&M Fund 4",7160]
["Transfer to Excess Fire Prevention & Safety Bond and Interest Proceeds to Debt Service Fund 5 ",7170]
["SALE OF BONDS (7200)"]
["Principal on Bonds Sold",7210]
["Premium on Bonds Sold",7220]
["Accrued Interest on Bonds Sold",7230]
["Sale or Compensation for Fixed Assets 6",7300]
["Transfer to Debt Service to Pay Principal on GASB 87 Leases13 ",7400,null,null,{"$f":"SUM(C54:D57,H54:H57)","v":0}]
["Transfer to Debt Service to Pay Interest on GASB 87 Leases13",7500,null,null,{"$f":"SUM(C58:D61,H58:H61)","v":0}]
["Transfer to Debt Service to Pay Principal on Revenue Bonds",7600,null,null,{"$f":"SUM(C62:D65)","v":0}]
["Transfer to Debt Service Fund to Pay Interest on Revenue Bonds",7700,null,null,{"$f":"SUM(C66:D69)","v":0}]
["Transfer to Capital Projects Fund",7800,null,null,null,null,null,{"$f":"SUM(C70:D73)","v":0}]
["ISBE Loan Proceeds",7900]
["Other Sources Not Classified Elsewhere",7990]
["Total Other Sources of Funds",null,{"$f":"SUM(C24:C43)","v":0},{"$f":"SUM(D24:D43)","v":0},0,0,0,0,0,0,0]
["OTHER USES OF FUNDS (8000)"]
["PERMANENT TRANSFER TO VARIOUS OTHER FUNDS (8100)"]
["Abolishment or Abatement of the Working Cash Fund 12",8110,null,null,null,null,null,null,{"$f":"SUM(C24,C25:H25,J25:K25)","v":0}]
["Transfer of Working Cash Fund Interest 12",8120,null,null,null,null,null,null,{"$f":"SUM(C26:H26,J26,K26)","v":0}]
["Transfer Among Funds",8130]
["Transfer of Interest",8140]
["Transfer from Capital Project Fund to O&M Fund",8150,null,null,null,null,null,{"$f":"SUM(D29)","v":0}]
["Transfer of Excess Fire Prevention & Safety Tax & Interest Proceeds to O&M Fund 4",8160,null,null,null,null,null,null,null,null,{"$f":"D30","v":0}]
["Transfer of Excess Fire Prevention & Safety Bond and Interest Proceeds to Debt Service Fund 5",8170,null,null,null,null,null,null,null,null,{"$f":"E31","v":0}]
["Taxes Pledged to Pay Principal on GASB 87 Leases13",8410]
["Grants/Reimbursements Pledged to Pay Principal on GASB 87 Leases13",8420]
["Other Revenues Pledged to Pay Principal on GASB 87 Leases13",8430]
["Fund Balance Transfers Pledged to Pay Principal on GASB 87 Leases13",8440]
["Taxes Pledged to Pay Interest on GASB 87 Leases13",8510]
["Grants/Reimbursements Pledged to Pay Interest on GASB 87 Leases13",8520]
["Other Revenues Pledged to Pay Interest on GASB 87 Leases13",8530]
["Fund Balance Transfers Pledged to Pay Interest on GASB 87 Leases13",8540]
["Taxes Pledged to Pay Principal on Revenue Bonds",8610]
["Grants/Reimbursements Pledged to Pay Principal on Revenue Bonds",8620]
["Other Revenues Pledged  to Pay Principal on Revenue Bonds",8630]
["Fund Balance Transfers Pledged to Pay Principal on Revenue Bonds",8640]
["Taxes Pledged to Pay Interest on Revenue Bonds",8710]
["Grants/Reimbursements Pledged to Pay Interest on Revenue Bonds",8720]
["Other Revenues Pledged to Pay Interest on Revenue Bonds",8730]
["Fund Balance Transfers Pledged to Pay Interest on Revenue Bonds",8740]
["Taxes Transferred to Pay for Capital Projects",8810]
["Grants/Reimbursements Pledged to Pay for Capital Projects",8820]
["Other Revenues Pledged to Pay for Capital Projects",8830]
["Fund Balance Transfers Pledged to Pay for Capital Projects",8840]
["Transfer to Debt Service Fund to Pay Principal on ISBE Loans",8910]
["Other Uses Not Classified Elsewhere",8990]
["Total Other Uses of Funds",null,{"$f":"SUM(C47:C75)","v":0},0,0,0,0,0,0,0,0]
["Total Other Sources/Uses of Funds ",null,{"$f":"C44-C76","v":0},0,0,0,0,0,0,0,0]
["Excess of Receipts/Revenues and Other Sources of Funds (Over/Under) Expenditures/Disbursements and Other Uses of Funds",null,{"$f":"C20+C77","v":0},0,0,0,0,0,0,0,0]
[{"$f":"\"Fund Balances without Student Activity Funds - July 1, \"&'AFR22'!E2-1","v":"Fund Balances without Student Activity Funds - July 1, 2021"}]
["Other Changes in Fund Balances - Increases (Decreases) (Describe & Itemize)"]
[{"$f":"\"Fund Balances without Student Activity Funds - June 30, \"&'AFR22'!E2","v":"Fund Balances without Student Activity Funds - June 30, 2022"},null,{"$f":"(SUM(C78:C80))","v":0},{"$f":"SUM(D78:D80)","v":0},{"$f":"SUM(E78:E80)","v":0},0,0,0,0,0,0]
["Change in Fund Balance FY09 - FY10",null,{"$f":"(C81-C79)","v":0},{"$f":"(D81-D79)","v":0},0,0,0,0,0,0,0]
["% Change in Fund Balance FY09 - FY10",null,{"$f":"C82/C81","v":{"$error":"#DIV/0!"}},{"$f":"D82/D81","v":{"$error":"#DIV/0!"}},{"$error":"#DIV/0!"},{"$error":"#DIV/0!"},{"$error":"#DIV/0!"},{"$error":"#DIV/0!"},{"$error":"#DIV/0!"},{"$error":"#DIV/0!"},{"$error":"#DIV/0!"}]
[]
[{"$f":"\"Student Activity Fund Balance - July 1, \"&'AFR22'!E2-1&\"\"","v":"Student Activity Fund Balance - July 1, 2021"}]
["RECEIPTS/REVENUES -Student Activity Funds"]
["Total Student Activity Direct Receipts/Revenues",1799,{"$f":"'Revenues 10-15'!C82","v":0}]
["DISBURSEMENTS/EXPENDITURES -Students Activity Funds"]
["Total Student Activity Disbursements/Expenditures",1999,{"$f":"'Expenditures 16-24'!H33","v":0}]
["Excess of Direct Receipts/Revenues Over (Under) Direct Disbursements/Expenditures  3",null,{"$f":"C87-C89","v":0}]
[{"$f":"\"Student Activity Fund Balance - June 30, \"&'AFR22'!E2&\"\"","v":"Student Activity Fund Balance - June 30, 2022"},null,{"$f":"C85+C90","v":0}]
[]
["RECEIPTS/REVENUES (with Student Activity Funds)"]
["LOCAL SOURCES",1000,{"$f":"C4+C87","v":0},{"$f":"D4","v":0},0,0,0,0,0,0,0]
["FLOW-THROUGH RECEIPTS/REVENUES FROM ONE DISTRICT TO ANOTHER DISTRICT",2000,{"$f":"C5","v":0},{"$f":"D5","v":0},null,{"$f":"F5","v":0},{"$f":"G5","v":0}]
["STATE SOURCES",3000,0,{"$f":"D6","v":0},0,0,0,0,0,0,0]
["FEDERAL SOURCES",4000,0,{"$f":"D7","v":0},0,0,0,0,0,0,0]
["Total Direct Receipts/Revenues",null,{"$f":"SUM(C94:C97)","v":0},{"$f":"D8","v":0},0,0,0,0,0,0,0]
["Receipts/Revenues for \"On Behalf\" Payments  2",3998,0,{"$f":"D9","v":0},0,0,0,0," ",{"$f":"J9","v":0},{"$f":"K9","v":0}]
["Total Receipts/Revenues",null,{"$f":"SUM(C98:C99)","v":0},{"$f":"D10","v":0},0,0,0,0,0,0,0]
["DISBURSEMENTS/EXPENDITURES (with Student Activity Funds)"]
["Instruction",1000,{"$f":"C12+C89","v":0},null,null,null,{"$f":"G12","v":0}]
["Support Services",2000,{"$f":"C13","v":0},{"$f":"D13","v":0},null,{"$f":"F13","v":0},{"$f":"G13","v":0},{"$f":"H13","v":0},null,{"$f":"J13","v":0},{"$f":"K13","v":0}]
["Community Services",3000,0,{"$f":"D14","v":0},null,{"$f":"F14","v":0},{"$f":"G14","v":0}]
["Payments to Other Districts & Governmental Units",4000,0,{"$f":"D15","v":0},{"$f":"E15","v":0},0,0,0,null,{"$f":"J15","v":0},0]
["Debt Service",5000,0,{"$f":"D16","v":0},0,0,0,null,null,0,0]
["Total Direct Disbursements/Expenditures",null,{"$f":"SUM(C102:C106)","v":0},{"$f":"D17","v":0},0,0,0,0,null,0,0]
["Disbursements/Expenditures for \"On Behalf\" Payments 2",4180,0,{"$f":"D18","v":0},0,0,0,0,null,0,0]
["Total Disbursements/Expenditures",null,{"$f":"SUM(C107:C108)","v":0},{"$f":"D19","v":0},0,0,0,0,null,0,0]
["Excess of Direct Receipts/Revenues Over (Under) Direct Disbursements/Expenditures  3",null,{"$f":"C98-C107","v":0},{"$f":"D20","v":0},0,0,0,0,0,0,0]
["OTHER SOURCES/USES OF FUNDS (with Student Activity Funds)"]
["OTHER SOURCES OF FUNDS  (7000)"]
["Total Other Sources of Funds",null,{"$f":"C44","v":0},{"$f":"D44","v":0},0,0,0,0,0,0,0]
["OTHER USES OF FUNDS (8000)"]
["Total Other Uses of Funds",null,{"$f":"C76","v":0},{"$f":"D76","v":0},0,0,0,0,0,0,0]
["Total Other Sources/Uses of Funds ",null,{"$f":"C77","v":0},{"$f":"D77","v":0},0,0,0,0,0,0,0]
[{"$f":"\"Fund Balances (All sources with Student Activity Funds) - June 30, \"&'AFR22'!E2&\"\"","v":"Fund Balances (All sources with Student Activity Funds) - June 30, 2022"},null,{"$f":"C81+C91","v":0},{"$f":"D81+D91","v":0},0,0,0,0,0,0,0]

{"sheet":"Revenues 10-15","index":7,"n_rows":271,"n_cols":11,"rows_kept":271,"cut":false,"hidden":false,"merged":[[0,0,1,0],[170,0,170,1],[173,0,173,1],[183,0,183,1],[176,0,176,1],[182,0,182,1],[177,0,177,1]]}
["Description (Enter Whole Dollars)",null,"(10)","(20)","(30)","(40)","(50)","(60)","(70)","(80)","(90)"]
[null,"Acct #","Educational","Operations & Maintenance","Debt Services","Transportation","Municipal Retirement/ Social Security","Capital Projects","Working Cash","Tort","Fire Prevention & Safety"]
["RECEIPTS/REVENUES FROM LOCAL SOURCES (1000)"]
["AD VALOREM TAXES LEVIED BY LOCAL EDUCATION AGENCY",1100]
["Designated Purposes Levies (1110-1120) 7 "]
["Leasing Purposes Levy 8    ",1130]
["Special Education Purposes Levy",1140]
["FICA/Medicare Only Purposes Levies",1150]
["Area Vocational Construction Purposes Levy",1160]
["Summer School Purposes Levy ",1170]
["Other Tax Levies (Describe & Itemize)",1190]
["Total Ad Valorem Taxes Levied By District",null,{"$f":"SUM(C5:C11)","v":0},0,0,0,0,0,0,0,0]
["PAYMENTS IN LIEU OF TAXES",1200]
["Mobile Home Privilege Tax",1210]
["Payments from Local Housing Authorities",1220]
["Corporate Personal Property Replacement Taxes 9",1230]
["Other Payments in Lieu of Taxes (Describe & Itemize)",1290]
["Total Payments in Lieu of Taxes ",null,{"$f":"SUM(C14:C17)","v":0},{"$f":"SUM(D14:D17)","v":0},0,0,0,0,0,0,0]
["TUITION ",1300]
["Regular - Tuition from Pupils or Parents (In State)",1311]
["Regular - Tuition from Other Districts (In State)",1312]
["Regular - Tuition from Other Sources (In State)",1313]
["Regular - Tuition from Other Sources (Out of State)",1314]
["Summer Sch - Tuition from Pupils or Parents (In State)",1321]
["Summer Sch - Tuition from Other Districts (In State)",1322]
["Summer Sch - Tuition from Other Sources (In State)",1323]
["Summer Sch - Tuition from Other Sources (Out of State)",1324]
["CTE - Tuition from Pupils or Parents (In State)",1331]
["CTE - Tuition from Other Districts (In State)",1332]
["CTE - Tuition from Other Sources (In State)",1333]
["CTE - Tuition from Other Sources (Out of State)",1334]
["Special Ed - Tuition from Pupils or Parents (In State)",1341]
["Special Ed - Tuition from Other Districts (In State)",1342]
["Special Ed - Tuition from Other Sources (In State)",1343]
["Special Ed - Tuition from Other Sources (Out of State)",1344]
["Adult - Tuition from Pupils or Parents (In State)",1351]
["Adult - Tuition from Other Districts (In State)",1352]
["Adult - Tuition from Other Sources (In State)",1353]
["Adult - Tuition from Other Sources (Out of State)",1354]
["Total Tuition",null,{"$f":"SUM(C20:C39)","v":0}]
["TRANSPORTATION FEES",1400]
["Regular -Transp Fees from Pupils or Parents (In State)",1411]
["Regular - Transp Fees from Other Districts (In State)",1412]
["Regular - Transp Fees from Other Sources (In State)",1413]
["Regular - Transp Fees from Co-curricular Activities (In State)",1415]
["Regular Transp Fees from Other Sources (Out of State)",1416]
["Summer Sch - Transp. Fees from Pupils or Parents (In State)",1421]
["Summer Sch - Transp. Fees from Other Districts (In State)",1422]
["Summer Sch - Transp. Fees from Other Sources (In State)",1423]
["Summer Sch - Transp. Fees from Other Sources (Out of State)",1424]
["CTE - Transp Fees from Pupils or Parents (In State)",1431]
["CTE - Transp Fees from Other Districts (In State)",1432]
["CTE - Transp Fees from Other Sources (In State)",1433]
["CTE - Transp Fees from Other Sources (Out of State)",1434]
["Special Ed - Transp Fees from Pupils or Parents (In State)",1441]
["Special Ed - Transp Fees from Other Districts (In State)",1442]
["Special Ed - Transp Fees from Other Sources (In State)",1443]
["Special Ed - Transp Fees from Other Sources (Out of State)",1444]
["Adult - Transp Fees from Pupils or Parents (In State)",1451]
["Adult - Transp Fees from Other Districts (In State)",1452]
["Adult - Transp Fees from Other Sources (In State)",1453]
["Adult - Transp Fees from Other Sources (Out of State)",1454]
["Total Transportation Fees",null,null,null,null,{"$f":"SUM(F42:F62)","v":0}]
["EARNINGS ON INVESTMENTS",1500]
["Interest on Investments",1510]
["Gain or Loss on Sale of Investments",1520]
["Total Earnings on Investments",null,{"$f":"SUM(C65:C66)","v":0},{"$f":"SUM(D65:D66)","v":0},0,0,0,0,0,0,0]
["FOOD SERVICE",1600]
["Sales to Pupils - Lunch",1611]
["Sales to Pupils - Breakfast",1612]
["Sales to Pupils - A la Carte",1613]
["Sales to Pupils - Other (Describe & Itemize)",1614]
["Sales to Adults",1620]
["Other Food Service (Describe & Itemize)",1690]
["Total Food Service",null,{"$f":"SUM(C69:C74)","v":0}]
["DISTRICT/SCHOOL ACTIVITY INCOME",1700]
["Admissions - Athletic",1711]
["Admissions - Other (Describe & Itemize)",1719]
["Fees",1720]
["Book Store Sales",1730]
["Other District/School Activity Revenue (Describe & Itemize)",1790]
["Student Activity Funds Revenues ",1799]
["Total District/School Activity Income (without Student Activity Funds)",null,{"$f":"SUM(C77:C81)","v":0},{"$f":"SUM(D77:D81)","v":0}]
["Total District/School Activity Income (with Student Activity Funds)",null,{"$f":"SUM(C77:C82)","v":0}]
["TEXTBOOK INCOME",1800]
["Rentals - Regular Textbooks",1811]
["Rentals - Summer School Textbooks",1812]
["Rentals - Adult/Continuing Education Textbooks",1813]
["Rentals - Other (Describe & Itemize)",1819]
["Sales - Regular Textbooks",1821]
["Sales - Summer School Textbooks",1822]
["Sales - Adult/Continuing Education Textbooks",1823]
["Sales - Other (Describe & Itemize)",1829]
["Other (Describe & Itemize)",1890]
["Total Textbook Income",null,{"$f":"SUM(C86:C94)","v":0}]
["OTHER REVENUE FROM LOCAL SOURCES",1900]
["Rentals",1910]
["Contributions and Donations from Private Sources",1920]
["Impact Fees from Municipal or County Governments",1930]
["Services Provided Other Districts",1940]
["Refund of Prior Years' Expenditures",1950]
["Payments of Surplus Moneys from TIF Districts",1960]
["Drivers' Education Fees",1970]
["Proceeds from Vendors' Contracts",1980]
["School Facility Occupation Tax Proceeds",1983]
["Payment from Other Districts",1991]
["Sale of Vocational Projects",1992]
["Other Local Fees (Describe & Itemize)",1993]
["Other Local Revenues (Describe & Itemize)",1999]
["Total Other Revenue from Local Sources",null,{"$f":"SUM(C97:C109)","v":0},{"$f":"SUM(D97:D109)","v":0},0,0,0,0,0,0,0]
["Total Receipts/Revenues from Local Sources (without Student Activity Funds 1799)","1000",{"$f":"SUM(C12,C18,C40,C63,C67,C75,C83,C95,C110,)","v":0},{"$f":"SUM(D12,D18,D40,D63,D67,D75,D83,D95,D110,)","v":0},0,0,0,0,0,0,0]
["Total Receipts/Revenues from Local Sources (with Student Activity Funds 1799)","1000",{"$f":"SUM(C12,C18,C40,C63,C67,C75,C84,C95,C110)","v":0}]
["FLOW-THROUGH RECEIPTS/REVENUES FROM                                                              ONE DISTRICT TO ANOTHER DISTRICT (2000)"]
["Flow-through Revenue from State Sources",2100]
["Flow-through Revenue from Federal Sources",2200]
["Other Flow-Through (Describe & Itemize)",2300]
["Total Flow-Through Receipts/Revenues from One District to Another District","2000",{"$f":"SUM(C114:C116)","v":0},{"$f":"SUM(D114:D116)","v":0}," ",{"$f":"SUM(F114:F116)","v":0},{"$f":"SUM(G114:G116)","v":0}]
["RECEIPTS/REVENUES FROM STATE SOURCES (3000)"]
["UNRESTRICTED GRANTS-IN-AID (3001-3099)"]
["Evidence Based Funding Formula (Section 18-8.15)",3001]
["Reorganization Incentives (Accounts 3005-3021)",3005]
["General State Aid - Fast Growth District Grant",3030]
["Other Unrestricted Grants-In-Aid from State Sources (Describe & Itemize)",3099]
["Total Unrestricted Grants-In-Aid",null,{"$f":"SUM(C120:C123)","v":0},0,0,0,0,0,null,{"$f":"SUM(J120:J123)","v":0},{"$f":"SUM(K120:K123)","v":0}]
["RESTRICTED GRANTS-IN-AID (3100 - 3900)"]
["SPECIAL EDUCATION"]
["Special Education - Private Facility Tuition",3100]
["Special Education - Funding for Children Requiring Sp Ed Services",3105]
["Special Education - Personnel",3110]
["Special Education - Orphanage - Individual",3120]
["Special Education - Orphanage - Summer Individual",3130]
["Special Education - Summer School",3145]
["Special Education - Other (Describe & Itemize)",3199]
["Total Special Education",null,{"$f":"SUM(C127:C133)","v":0},{"$f":"SUM(D127:D133)","v":0}," ",{"$f":"SUM(F127:F133)","v":0}," "," "," "," "," "]
["CAREER AND TECHNICAL EDUCATION (CTE)"]
["CTE - Technical Education - Tech Prep",3200]
["CTE - Secondary Program Improvement (CTEI)",3220]
["CTE - WECEP",3225]
["CTE - Agriculture Education",3235]
["CTE - Instructor Practicum",3240]
["CTE - Student Organizations",3270]
["CTE - Other (Describe & Itemize)",3299]
["Total Career and Technical Education",null,{"$f":"SUM(C136:C142)","v":0},{"$f":"SUM(D136:D142)","v":0}," ",null,{"$f":"SUM(G136:G142)","v":0}," "," "," "," "]
["BILINGUAL EDUCATION"]
["Bilingual Ed - Downstate - TPI and TBE",3305]
["Bilingual Education Downstate - Transitional Bilingual Education",3310]
["Total Bilingual Ed",null,{"$f":"SUM(C145:C146)","v":0},null,null,null,{"$f":"SUM(G145:G146)","v":0}]
["State Free Lunch & Breakfast",3360]
["School Breakfast Initiative",3365]
["Driver Education",3370]
["Adult Ed (from ICCB)",3410]
["Adult Ed - Other (Describe & Itemize)",3499]
["TRANSPORTATION"]
["Transportation - Regular and Vocational",3500]
["Transportation - Special Education",3510]
["Transportation - Other (Describe & Itemize)",3599]
["Total Transportation",null,{"$f":"SUM(C154:C156)","v":0},{"$f":"SUM(D154:D156)","v":0},null,{"$f":"SUM(F154:F156)","v":0},{"$f":"SUM(G154:G156)","v":0}]
["Learning Improvement - Change Grants",3610]
["Scientific Literacy",3660]
["Truant Alternative/Optional Education",3695]
["Early Childhood - Block Grant",3705]
["Chicago General Education Block Grant",3766]
["Chicago Educational Services Block Grant",3767]
["School Safety & Educational Improvement Block Grant",3775]
["Technology - Technology for Success",3780]
["State Charter Schools",3815]
["Extended Learning Opportunities - Summer Bridges",3825]
["Infrastructure Improvements - Planning/Construction",3920]
["School Infrastructure - Maintenance Projects",3925]
["Other Restricted Revenue from State Sources (Describe & Itemize)",3999]
["Total Restricted Grants-In-Aid",null,{"$f":"SUM(C134,C143,C147,C148:C152,C157,C158:C169,C170)","v":0},0,0,0,0,0,0,0,0]
["Total Receipts from State Sources","3000",{"$f":"SUM(C124,C171)","v":0},0,0,0,0,0,0,0,0]
["RECEIPTS/REVENUES FROM FEDERAL SOURCES (4000)"]
["UNRESTRICTED GRANTS-IN-AID RECEIVED DIRECTLY FROM FEDERAL GOVT (4001-4009)"]
["Federal Impact Aid",4001]
["Other Unrestricted Grants-In-Aid Received Directly from the Fed Govt (Describe & Itemize)",4009]
["Total Unrestricted  Grants-In-Aid Received Directly from the Federal Govt",null,{"$f":"SUM(C175:C176)","v":0},{"$f":"SUM(D175:D176)","v":0},0,0,0,0,0,0,0]
["RESTRICTED GRANTS-IN-AID RECEIVED DIRECTLY FROM FEDERAL GOVT  (4045-4090)"]
["Head Start",4045]
["Construction (Impact Aid)",4050]
["MAGNET",4060]
["Other Restricted Grants-In-Aid Received Directly from the Federal Govt (Describe & Itemize)",4090]
["Total Restricted Grants-In-Aid Received Directly from Federal Govt",null,{"$f":"SUM(C179:C182)","v":0},{"$f":"SUM(D179:D182)","v":0},null,{"$f":"SUM(F179:F182)","v":0},{"$f":"SUM(G179:G182)","v":0},{"$f":"SUM(H179:H182)","v":0},null,null,{"$f":"SUM(K179:K182)","v":0}]
["RESTRICTED GRANTS-IN-AID RECEIVED FROM FEDERAL GOVT THRU THE STATE (4100-4999)"]
["TITLE V"]
["Title V - Innovation and Flexibility Formula",4100]
["Title V - District Projects",4105]
["Title V - Rural Education Initiative (REI)",4107]
["Title V - Other (Describe & Itemize)",4199]
["Total Title V",null,{"$f":"SUM(C186:C189)","v":0},{"$f":"SUM(D186:D189)","v":0},null,{"$f":"SUM(F186:F189)","v":0},{"$f":"SUM(G186:G189)","v":0}]
["FOOD SERVICE"]
["Breakfast Start-Up Expansion",4200]
["National School Lunch Program",4210]
["Special Milk Program",4215]
["School Breakfast Program",4220]
["Summer Food Service Program",4225]
["Child and Adult Care Food Program",4226]
["Fresh Fruits & Vegetables",4240]
["Food Service - Other (Describe & Itemize)",4299]
["Total Food Service",null,{"$f":"SUM(C192:C199)","v":0},null,null,null,{"$f":"SUM(G192:G199)","v":0}]
["TITLE I"]
["Title I - Low Income",4300]
["Title I - Low Income - Neglected,  Private",4305]
["Title I - Migrant Education",4340]
["Title I - Other (Describe & Itemize)",4399]
["Total Title I",null,{"$f":"SUM(C202:C205)","v":0},{"$f":"SUM(D202:D205)","v":0},null,{"$f":"SUM(F202:F205)","v":0},{"$f":"SUM(G202:G205)","v":0}]
["TITLE IV"]
["Title IV - Student Support & Academic Enrichment Grant",4400]
["Title IV - 21st Century Comm Learning Centers",4421]
["Title IV - Other (Describe & Itemize)",4499]
["Total Title IV",null,{"$f":"SUM(C208:C210)","v":0},{"$f":"SUM(D208:D210)","v":0}," ",{"$f":"SUM(F208:F210)","v":0},{"$f":"SUM(G208:G210)","v":0}]
["FEDERAL - SPECIAL EDUCATION"]
["Fed - Spec Education - Preschool Flow-Through",4600]
["Fed - Spec Education - Preschool Discretionary",4605]
["Fed - Spec Education - IDEA - Flow Through",4620]
["Fed - Spec Education - IDEA - Room & Board",4625]
["Fed - Spec Education - IDEA - Discretionary",4630]
["Fed - Spec Education - IDEA - Other (Describe & Itemize)",4699]
["Total Federal - Special Education",null,{"$f":"SUM(C213:C218)","v":0},{"$f":"SUM(D213:D218)","v":0},null,{"$f":"SUM(F213:F218)","v":0},{"$f":"SUM(G213:G218)","v":0}]
["CTE - PERKINS"]
["CTE - Perkins - Title IIIE - Tech Prep",4770]
["CTE - Other (Describe & Itemize)",4799]
["Total CTE - Perkins",null,{"$f":"SUM(C221:C222)","v":0},{"$f":"SUM(D221:D222)","v":0},null,null,{"$f":"SUM(G221:G222)","v":0}]
["Federal - Adult Education",4810]
["ARRA - General State Aid - Education Stabilization",4850]
["ARRA - Title I - Low Income",4851]
["ARRA - Title I - Neglected, Private",4852]
["ARRA - Title I - Delinquent, Private",4853]
["ARRA - Title I - School Improvement (Part A)",4854]
["ARRA - Title I - School Improvement (Section 1003g)",4855]
["ARRA - IDEA - Part B - Preschool",4856]
["ARRA - IDEA - Part B - Flow-Through",4857]
["ARRA - Title IID - Technology-Formula",4860]
["ARRA - Title IID - Technology-Competitive",4861]
["ARRA - McKinney - Vento Homeless Education",4862]
["ARRA - Child Nutrition Equipment Assistance",4863]
["Impact Aid Formula Grants",4864]
["Impact Aid Competitive Grants",4865]
["Qualified Zone Academy Bond Tax Credits",4866]
["Qualified School Construction Bond Credits",4867]
["Build America Bond Tax Credits",4868]
["Build America Bond Interest Reimbursement",4869]
["ARRA - General State Aid - Other Govt Services Stabilization",4870]
["Other ARRA Funds - II",4871]
["Other ARRA Funds - III",4872]
["Other ARRA Funds - IV",4873]
["Other ARRA Funds - V",4874]
["ARRA - Early Childhood",4875]
["Other ARRA Funds VII",4876]
["Other ARRA Funds VIII",4877]
["Other ARRA Funds IX",4878]
["Other ARRA Funds X",4879]
["Other ARRA Funds Ed Job Fund Program",4880]
["Total Stimulus Programs",null,{"$f":"SUM(C225:C253)","v":0},0,0,0,0,0,null,{"$f":"SUM(J225:J253)","v":0},{"$f":"SUM(K225:K253)","v":0}]
["Race to the Top Program",4901]
["Race to the Top - Preschool Expansion Grant",4902]
["Title III - Immigrant Education Program (IEP)",4905]
["Title III - Language Inst Program - Limited Eng (LIPLEP)",4909]
["McKinney Education for Homeless Children",4920]
["Title II - Eisenhower Professional Development Formula",4930]
["Title II - Teacher Quality",4932]
["Federal Charter Schools",4960]
["State Assessment Grants",4981]
["Grant for State Assessments and Related Activities",4982]
["Medicaid Matching Funds - Administrative Outreach",4991]
["Medicaid Matching Funds - Fee-for-Service Program",4992]
["Other Restricted Revenue from Federal Sources (Describe & Itemize)",4998]
["Total Restricted Grants-In-Aid Received from the Federal Govt Thru the State ",null,{"$f":"SUM(C190,C200,C206,C211,C219,C223,C224,C254:C267)","v":0},0,0,0,0,0,null,{"$f":"SUM(J190,J200,J206,J211,J219,J223,J224,J254:J267)","v":0},{"$f":"SUM(K190,K200,K206,K211,K219,K223,K224,K254:K267)","v":0}]
["Total Receipts/Revenues from Federal Sources","4000",{"$f":"SUM(C177,C183,C268)","v":0},{"$f":"SUM(D177,D183,D268)","v":0},{"$f":"SUM(E177,E268)","v":0},{"$f":"SUM(F177,F183,F268)","v":0},0,0,0,0,0]
["Total Direct Receipts/Revenues (without Student Activity Funds 1799)",null,{"$f":"SUM(C111,C117,C172,C269)","v":0},0,0,0,0,0,0,0,0]
["Total Direct Receipts/Revenues (with Student Activity Funds 1799)",null,{"$f":"SUM(C112,C117,C172,C269)","v":0},{"$f":"D270","v":0},{"$f":"E270","v":0},0,0,0,0,0,0]

{"sheet":"Expenditures 16-24","index":8,"n_rows":455,"n_cols":12,"rows_kept":455,"cut":false,"hidden":false,"merged":[[454,0,454,1],[178,0,178,1],[214,0,214,1],[292,0,292,1],[117,0,117,1],[118,0,118,1],[0,0,1,0],[431,0,431,1],[120,0,120,1],[157,0,157,1],[2,0,2,1],[294,0,294,1],[309,0,309,1],[429,0,429,1],[308,0,308,1],[154,0,154,1],[291,0,291,1],[155,0,155,1],[216,0,216,1],[311,0,311,1],[313,0,313,1]]}
["Description (Enter Whole Dollars)",null,"(100)","(200)","(300)","(400)","(500)","(600)","(700)","(800)","(900)"]
[null,"Funct #","Salaries","Employee Benefits","Purchased Services","Supplies & Materials","Capital Outlay","Other Objects","Non-Capitalized Equipment","Termination Benefits","Total","Budget"]
["10 - EDUCATIONAL FUND (ED)"]
["INSTRUCTION (ED)","1000"]
["Regular Programs",1100,null,null,null,null,null,null,null,null,{"$f":"SUM(C5:J5)","v":0}]
["Tuition Payment to Charter Schools","1115",null,null,null,null,null,null,null,null,{"$f":"SUM(C6,E6)","v":0}]
["Pre-K Programs","1125",null,null,null,null,null,null,null,null,{"$f":"SUM(C7:J7)","v":0}]
["Special Education Programs (Functions 1200-1220)",1200,null,null,null,null,null,null,null,null,0]
["Special Education Programs Pre-K","1225",null,null,null,null,null,null,null,null,0]
["Remedial and Supplemental Programs K-12",1250,null,null,null,null,null,null,null,null,0]
["Remedial and Supplemental Programs Pre-K","1275",null,null,null,null,null,null,null,null,0]
["Adult/Continuing Education Programs",1300,null,null,null,null,null,null,null,null,0]
["CTE Programs",1400,null,null,null,null,null,null,null,null,0]
["Interscholastic Programs",1500,null,null,null,null,null,null,null,null,0]
["Summer School Programs",1600,null,null,null,null,null,null,null,null,0]
["Gifted Programs","1650",null,null,null,null,null,null,null,null,0]
["Driver's Education Programs","1700",null,null,null,null,null,null,null,null,0]
["Bilingual Programs",1800,null,null,null,null,null,null,null,null,0]
["Truant Alternative & Optional Programs",1900,null,null,null,null,null,null,null,null,0]
["Pre-K Programs - Private Tuition","1910",null,null,null,null,null,null,null,null,0]
["Regular K-12 Programs - Private Tuition","1911",null,null,null,null,null,null,null,null,0]
["Special Education Programs K-12 - Private Tuition","1912",null,null,null,null,null,null,null,null,0]
["Special Education Programs Pre-K - Tuition","1913",null,null,null,null,null,null,null,null,0]
["Remedial/Supplemental Programs K-12 - Private Tuition","1914",null,null,null,null,null,null,null,null,0]
["Remedial/Supplemental Programs Pre-K - Private Tuition","1915",null,null,null,null,null,null,null,null,0]
["Adult/Continuing Education Programs - Private Tuition","1916",null,null,null,null,null,null,null,null,0]
["CTE Programs - Private Tuition","1917",null,null,null,null,null,null,null,null,0]
["Interscholastic Programs - Private Tuition","1918",null,null,null,null,null,null,null,null,0]
["Summer School Programs - Private Tuition","1919",null,null,null,null,null,null,null,null,0]
["Gifted Programs - Private Tuition","1920",null,null,null,null,null,null,null,null,0]
["Bilingual Programs - Private Tuition","1921",null,null,null,null,null,null,null,null,0]
["Truants Alternative/Optional Ed Progms - Private Tuition","1922",null,null,null,null,null,null,null,null,0]
["Student Activity Fund Expenditures ","1999",null,null,null,null,null,null,null,null,0]
["Total Instruction 10 (without Student Activity Funds)","1000",{"$f":"SUM(C5:C32)","v":0},{"$f":"SUM(D5:D32)","v":0},0,0,0,0,0,0,0,0]
["Total Instruction 10 (with Student Activity Funds)","1000",{"$f":"SUM(C5:C33)","v":0},{"$f":"SUM(D5:D33)","v":0},0,0,0,0,0,0,0,{"$f":"SUM(L5:L33)","v":0}]
["SUPPORT SERVICES (ED)","2000"]
["SUPPORT SERVICES - PUPILS"]
["Attendance & Social Work Services",2110,null,null,null,null,null,null,null,null,{"$f":"SUM(C38:J38)","v":0}]
["Guidance Services",2120,null,null,null,null,null,null,null,null,0]
["Health Services",2130,null,null,null,null,null,null,null,null,0]
["Psychological Services",2140,null,null,null,null,null,null,null,null,0]
["Speech Pathology & Audiology Services",2150,null,null,null,null,null,null,null,null,0]
["Other Support Services - Pupils (Describe & Itemize)",2190,null,null,null,null,null,null,null,null,0]
["Total Support Services - Pupils","2100",{"$f":"SUM(C38:C43)","v":0},{"$f":"SUM(D38:D43)","v":0},0,0,0,0,0,0,0,0]
["SUPPORT SERVICES - INSTRUCTIONAL STAFF"]
["Improvement of Instruction Services",2210,null,null,null,null,null,null,null,null,{"$f":"SUM(C46:J46)","v":0}]
["Educational Media Services",2220,null,null,null,null,null,null,null,null,{"$f":"SUM(C47:J47)","v":0}]
["Assessment & Testing",2230,null,null,null,null,null,null,null,null,{"$f":"SUM(C48:J48)","v":0}]
["Total Support Services - Instructional Staff","2200",{"$f":"SUM(C46:C48)","v":0},{"$f":"SUM(D46:D48)","v":0},0,0,0,0,0,0,0,{"$f":"SUM(L46:L48)","v":0}]
["SUPPORT SERVICES - GENERAL ADMINISTRATION"]
["Board of Education Services",2310,null,null,null,null,null,null,null,null,{"$f":"SUM(C51:J51)","v":0}]
["Executive Administration Services",2320,null,null,null,null,null,null,null,null,{"$f":"SUM(C52:J52)","v":0}]
["Special Area Administration Services",2330,null,null,null,null,null,null,null,null,{"$f":"SUM(C53:J53)","v":0}]
["Tort Immunity Services","2361, 2365",null,null,null,null,null,null,null,null,{"$f":"SUM(C54:J54)","v":0}]
["Total Support Services - General Administration","2300",{"$f":"SUM(C51:C54)","v":0},{"$f":"SUM(D51:D54)","v":0},0,0,0,0,0,0,0,0]
["SUPPORT SERVICES - SCHOOL ADMINISTRATION"]
["Office of the Principal Services",2410,null,null,null,null,null,null,null,null,{"$f":"SUM(C57:J57)","v":0}]
["Other Support Services - School Admin (Describe & Itemize)",2490,null,null,null,null,null,null,null,null,{"$f":"SUM(C58:J58)","v":0}]
["Total Support Services - School Administration","2400",{"$f":"SUM(C57:C58)","v":0},{"$f":"SUM(D57:D58)","v":0},0,0,0,0,0,0,0,{"$f":"SUM(L57:L58)","v":0}]
["SUPPORT SERVICES - BUSINESS"]
["Direction of Business Support Services",2510,null,null,null,null,null,null,null,null,{"$f":"SUM(C61:J61)","v":0}]
["Fiscal Services",2520,null,null,null,null,null,null,null,null,0]
["Operation & Maintenance of Plant Services",2540,null,null,null,null,null,null,null,null,0]
["Pupil Transportation Services",2550,null,null,null,null,null,null,null,null,0]
["Food Services",2560,null,null,null,null,null,null,null,null,0]
["Internal Services",2570,null,null,null,null,null,null,null,null,0]
["Total Support Services - Business","2500",{"$f":"SUM(C61:C66)","v":0},{"$f":"SUM(D61:D66)","v":0},0,0,0,0,0,0,0,0]
["SUPPORT SERVICES - CENTRAL"]
["Direction of Central Support Services",2610,null,null,null,null,null,null,null,null,{"$f":"SUM(C69:J69)","v":0}]
["Planning, Research, Development, & Evaluation Services",2620,null,null,null,null,null,null,null,null,{"$f":"SUM(C70:J70)","v":0}]
["Information Services",2630,null,null,null,null,null,null,null,null,{"$f":"SUM(C71:J71)","v":0}]
["Staff Services",2640,null,null,null,null,null,null,null,null,{"$f":"SUM(C72:J72)","v":0}]
["Data Processing Services",2660,null,null,null,null,null,null,null,null,{"$f":"SUM(C73:J73)","v":0}]
["Total Support Services - Central","2600",{"$f":"SUM(C69:C73)","v":0},{"$f":"SUM(D69:D73)","v":0},0,0,0,0,0,0,0,{"$f":"SUM(L69:L73)","v":0}]
["Other Support Services (Describe & Itemize)","2900",null,null,null,null,null,null,null,null,{"$f":"SUM(C75:J75)","v":0}]
["Total Support Services",2000,{"$f":"SUM(C44,C49,C55,C59,C67,C74,C75)","v":0},{"$f":"SUM(D44,D49,D55,D59,D67,D74,D75)","v":0},0,0,0,0,0,0,0,{"$f":"SUM(L44,L49,L55,L59,L67,L74,L75)","v":0}]
["COMMUNITY SERVICES (ED)","3000",null,null,null,null,null,null,null,null,{"$f":"SUM(C77:J77)","v":0}]
["PAYMENTS TO OTHER DISTRICTS & GOVT UNITS (ED)","4000"]
["PAYMENTS TO OTHER GOVT UNITS (IN-STATE)"]
["Payments for Regular Programs",4110,null,null,null,null,null,null,null,null,{"$f":"SUM(C80:J80)","v":0}]
["Payments for Special Education Programs",4120,null,null,null,null,null,null,null,null,0]
["Payments for Adult/Continuing Education Programs",4130,null,null,null,null,null,null,null,null,0]
["Payments for CTE Programs",4140,null,null,null,null,null,null,null,null,0]
["Payments for Community College Programs",4170,null,null,null,null,null,null,null,null,0]
["Other Payments to In-State Govt. Units (Describe & Itemize)",4190,null,null,null,null,null,null,null,null,0]
["Total Payments to Other Govt Units (In-State)",4100,null,null,{"$f":"SUM(E80:E85)","v":0},null,null,{"$f":"SUM(H80:H85)","v":0},null,null,{"$f":"SUM(K80:K85)","v":0},{"$f":"SUM(L80:L85)","v":0}]
["Payments for Regular Programs - Tuition",4210,null,null,null,null,null,null,null,null,{"$f":"H87","v":0}]
["Payments for Special Education Programs - Tuition",4220,null,null,null,null,null,null,null,null,{"$f":"H88","v":0}]
["Payments for Adult/Continuing Education Programs - Tuition",4230,null,null,null,null,null,null,null,null,0]
["Payments for CTE Programs - Tuition",4240,null,null,null,null,null,null,null,null,0]
["Payments for Community College Programs - Tuition",4270,null,null,null,null,null,null,null,null,0]
["Payments for Other Programs - Tuition",4280,null,null,null,null,null,null,null,null,0]
["Other Payments to In-State Govt Units",4290,null,null,null,null,null,null,null,null,0]
["Total Payments to Other Govt Units -Tuition (In State)",4200,null,null,null,null,null,{"$f":"SUM(H87:H93)","v":0},null,null,0,{"$f":"SUM(L87:L93)","v":0}]
["Payments for Regular Programs - Transfers",4310,null,null,null,null,null,null,null,null,0]
["Payments for Special Education Programs - Transfers",4320,null,null,null,null,null,null,null,null,0]
["Payments for Adult/Continuing Ed Programs-Transfers",4330,null,null,null,null,null,null,null,null,0]
["Payments for CTE Programs - Transfers",4340,null,null,null,null,null,null,null,null,0]
["Payments for Community College Program - Transfers",4370,null,null,null,null,null,null,null,null,0]
["Payments for Other Programs - Transfers",4380,null,null,null,null,null,null,null,null,0]
["Other Payments to In-State Govt Units - Transfers",4390,null,null,null,null,null,null,null,null,{"$f":"SUM(E101,H101)","v":0}]
["Total Payments to Other Govt Units -Transfers (In-State)",4300,null,null,{"$f":"SUM(E95:E101)","v":0},null,null,{"$f":"SUM(H95:H101)","v":0},null,null,{"$f":"SUM(K95:K101)","v":0},{"$f":"SUM(L95:L101)","v":0}]
["Payments to Other Govt Units (Out-of-State)","4400",null,null,null,null,null,null,null,null,{"$f":"SUM(C103:J103)","v":0}]
["Total Payments to Other Govt Units",4000,null,null,{"$f":"SUM(E86,E94,E102,E103)","v":0},null,null,{"$f":"SUM(H86,H94,H102,H103)","v":0},null,null,{"$f":"SUM(K86,K94,K102,K103)","v":0},{"$f":"SUM(L86,L94,L102,L103)","v":0}]
["DEBT SERVICES (ED)","5000"]
["DEBT SERVICES - INTEREST ON SHORT-TERM DEBT"]
["Tax Anticipation Warrants",5110,null,null,null,null,null,null,null,null,{"$f":"H107","v":0}]
["Tax Anticipation Notes",5120,null,null,null,null,null,null,null,null,{"$f":"H108","v":0}]
["Corporate Personal Prop. Repl. Tax Anticipation Notes",5130,null,null,null,null,null,null,null,null,{"$f":"H109","v":0}]
["State Aid Anticipation Certificates","5140",null,null,null,null,null,null,null,null,{"$f":"H110","v":0}]
["Other Interest on Short-Term Debt",5150,null,null,null,null,null,null,null,null,{"$f":"H111","v":0}]
["Total Interest on Short-Term Debt","5100",null,null,null,null,null,{"$f":"SUM(H107:H111)","v":0},null,null,{"$f":"SUM(K107:K111)","v":0},{"$f":"SUM(L107:L111)","v":0}]
["Debt Services - Interest on Long-Term Debt","5200",null,null,null,null,null,null,null,null,{"$f":"H113","v":0}]
["Total Debt Services","5000",null,null,null,null,null,{"$f":"SUM(H112:H113)","v":0},null,null,{"$f":"SUM(K112:K113)","v":0},{"$f":"SUM(L112,L113)","v":0}]
["PROVISIONS FOR CONTINGENCIES (ED)","6000"]
["Total Direct Disbursements/Expenditures (without Student Activity Funds 1999)",null,{"$f":"SUM(C34,C76,C77,C104,C114,C115)","v":0},{"$f":"SUM(D34,D76,D77,D104,D114,D115)","v":0},0,0,0,{"$f":"SUM(H34,H76,H77,H104,H114,H115)","v":0},0,0,0,{"$f":"SUM(L34,L76,L77,L104,L114,L115)","v":0}]
["Total Direct Disbursements/Expenditures (with Student Activity Funds 1999)",null,{"$f":"SUM(C35,C76,C77,C104,C114,C115)","v":0},{"$f":"SUM(D35,D76,D77,D104,D114,D115)","v":0},0,0,0,0,0,0,0,0]
["Excess (Deficiency) of Receipts/Revenues Over Disbursements/Expenditures (without Student Activity Funds 1999)",null,null,null,null,null,null,null,null,null,{"$f":"'Revenues 10-15'!C270-'Expenditures 16-24'!K116","v":0}]
["Excess (Deficiency) of Receipts/Revenues Over Disbursements/Expenditures (with Student Activity Funds 1999)",null,null,null,null,null,null,null,null,null,{"$f":"'Revenues 10-15'!C271-'Expenditures 16-24'!K117","v":0}]
[]
["20 - OPERATIONS & MAINTENANCE FUND (O&M)"]
["SUPPORT SERVICES (O&M)","2000"]
["SUPPORT SERVICES - PUPILS"]
["Other Support Services - Pupils (Func. 2190 Describe & Itemize)","2100",null,null,null,null,null,null,null,null,{"$f":"SUM(C124:J124)","v":0}]
["SUPPORT SERVICES - BUSINESS"]
["Direction of Business Support Services",2510,null,null,null,null,null,null,null,null,{"$f":"SUM(C126:J126)","v":0}]
["Facilities Acquisition & Construction Services",2530,null,null,null,null,null,null,null,null,{"$f":"SUM(C127:J127)","v":0}]
["Operation & Maintenance of Plant Services",2540,null,null,null,null,null,null,null,null,{"$f":"SUM(C128:J128)","v":0}]
["Pupil Transportation Services",2550,null,null,null,null,null,null,null,null,{"$f":"SUM(C129:J129)","v":0}]
["Food Services",2560,null,null,null,null,null,null,null,null,{"$f":"SUM(C130:J130)","v":0}]
["Total Support Services - Business","2500",{"$f":"SUM(C126:C130)","v":0},{"$f":"SUM(D126:D130)","v":0},0,0,0,0,0,0,0,0]
["Other Support Services (Describe & Itemize)","2900",null,null,null,null,null,null,null,null,{"$f":"SUM(C132:J132)","v":0}]
["Total Support Services","2000",{"$f":"SUM(C124,C131,C132)","v":0},{"$f":"SUM(D124,D131,D132)","v":0},0,0,0,0,0,0,0,0]
["COMMUNITY SERVICES (O&M)","3000",null,null,null,null,null,null,null,null,{"$f":"SUM(C134:J134)","v":0}]
["PAYMENTS TO OTHER DIST & GOVT UNITS (O&M)","4000"]
["PAYMENTS TO OTHER GOVT UNITS (IN-STATE)"]
["Payments for Regular Programs","4110",null,null,null,null,null,null,null,null,{"$f":"SUM(E137,H137)","v":0}]
["Payments for Special Education Programs",4120,null,null,null,null,null,null,null,null,{"$f":"SUM(E138,H138)","v":0}]
["Payments for CTE Programs",4140,null,null,null,null,null,null,null,null,{"$f":"SUM(E139,H139)","v":0}]
["Other Payments to In-State Govt. Units (Describe & Itemize)",4190,null,null,null,null,null,null,null,null,{"$f":"SUM(E140,H140)","v":0}]
["Total Payments to Other Govt. Units (In-State)",4100,null,null,{"$f":"SUM(E137:E140)","v":0},null,null,{"$f":"SUM(H137:H140)","v":0},null,null,{"$f":"SUM(K137:K140)","v":0},{"$f":"SUM(L137:L140)","v":0}]
["Payments to Other Govt. Units (Out of State)","4400",null,null,null,null,null,null,null,null,{"$f":"SUM(E142,H142)","v":0}]
["Total Payments to Other Govt Units",4000,null,null,{"$f":"SUM(E141,E142)","v":0},null,null,{"$f":"SUM(H141:H142)","v":0},null,null,{"$f":"SUM(K141,K142)","v":0},{"$f":"SUM(L141,L142)","v":0}]
["DEBT SERVICES (O&M)","5000"]
["DEBT SERVICES - INTEREST ON SHORT-TERM DEBT"]
["Tax Anticipation Warrants",5110,null,null,null,null,null,null,null,null,{"$f":"SUM(H146)","v":0}]
["Tax Anticipation Notes",5120,null,null,null,null,null,null,null,null,{"$f":"SUM(H147)","v":0}]
["Corporate Personal Prop. Repl. Tax Anticipation Notes","5130",null,null,null,null,null,null,null,null,{"$f":"SUM(H148)","v":0}]
["State Aid Anticipation Certificates","5140",null,null,null,null,null,null,null,null,{"$f":"SUM(H149)","v":0}]
["Other Interest on Short-Term Debt (Describe & Itemize)","5150",null,null,null,null,null,null,null,null,{"$f":"SUM(H150)","v":0}]
["Total Debt Service - Interest on Short-Term Debt","5100",null,null,null,null,null,{"$f":"SUM(H146:H150)","v":0},null,null,{"$f":"SUM(K146:K150)","v":0},{"$f":"SUM(L146:L150)","v":0}]
["DEBT SERVICE - INTEREST ON LONG-TERM DEBT","5200",null,null,null,null,null,null,null,null,{"$f":"SUM(H152)","v":0}]
["Total Debt Services","5000",null,null,null,null,null,{"$f":"SUM(H151,H152)","v":0},null,null,{"$f":"SUM(K151:K152)","v":0},{"$f":"SUM(L146:L150,L152)","v":0}]
["PROVISIONS FOR CONTINGENCIES (O&M)","6000"]
["Total Direct Disbursements/Expenditures ",null,{"$f":"SUM(C133,C134,C143,C153,C154)","v":0},{"$f":"SUM(D133,D134,D143,D153,D154)","v":0},0,0,0,0,0,0,0,{"$f":"SUM(L133,L134,L143,L153,L154)","v":0}]
["Excess (Deficiency) of Receipts/Revenues/Over Disbursements/ Expenditures",null,null,null,null,null,null,null,null,null,{"$f":"'Revenues 10-15'!D270-'Expenditures 16-24'!K155","v":0}]
[]
["30 - DEBT SERVICES (DS)"]
["PAYMENTS TO OTHER DIST & GOVT UNITS (DS)","4000"]
["PAYMENTS TO OTHER DIST & GOVT UNITS (In-State)"]
["Payments for Regular Programs","4110",null,null,null,null,null,null,null,null,{"$f":"H161","v":0}]
["Payments for Special Education Programs","4120",null,null,null,null,null,null,null,null,{"$f":"H162","v":0}]
["Other Payments to In-State Govt Units (Describe & Itemize)","4190",null,null,null,null,null,null,null,null,{"$f":"H163","v":0}]
["Total Payments to Other Districts & Govt Units (In-State)","4000",null,null,null,null,null,{"$f":"SUM(H161:H163)","v":0},null,null,{"$f":"SUM(K161:K163)","v":0},{"$f":"SUM(L161:L163)","v":0}]
["DEBT SERVICES (DS)","5000"]
["DEBT SERVICES - INTEREST ON SHORT-TERM DEBT"]
["Tax Anticipation Warrants",5110,null,null,null,null,null,null,null,null,{"$f":"SUM(C167:J167)","v":0}]
["Tax Anticipation Notes",5120,null,null,null,null,null,null,null,null,{"$f":"SUM(C168:J168)","v":0}]
["Corporate Personal Prop. Repl. Tax Anticipation Notes","5130",null,null,null,null,null,null,null,null,{"$f":"SUM(C169:J169)","v":0}]
["State Aid Anticipation Certificates","5140",null,null,null,null,null,null,null,null,{"$f":"SUM(C170:J170)","v":0}]
["Other Interest on Short-Term Debt (Describe & Itemize)","5150",null,null,null,null,null,null,null,null,{"$f":"SUM(C171:J171)","v":0}]
["Total Debt Services - Interest On Short-Term Debt","5100",null,null,null,null,null,{"$f":"SUM(H167:H171)","v":0},null,null,{"$f":"SUM(K167:K171)","v":0},{"$f":"SUM(L167:L171)","v":0}]
["DEBT SERVICES - INTEREST ON LONG-TERM DEBT","5200",null,null,null,null,null,null,null,null,{"$f":"SUM(C173:H173)","v":0}]
["DEBT SERVICES - PAYMENTS OF PRINCIPAL ON LONG-TERM DEBT (Lease/Purchase Principal Retired) 11","5300",null,null,null,null,null,null,null,null,{"$f":"SUM(C174:J174)","v":0}]
["DEBT SERVICES - OTHER (Describe & Itemize)","5400",null,null,null,null,null,null,null,null,{"$f":"SUM(C175:J175)","v":0}]
["Total Debt Services","5000",null,null,{"$f":"SUM(E172,E173,E174,E175)","v":0},null,null,{"$f":"SUM(H172,H173,H174,H175)","v":0},null,null,{"$f":"SUM(K172,K173,K174,K175)","v":0},{"$f":"SUM(L172,L173,L174,L175)","v":0}]
["PROVISION FOR CONTINGENCIES (DS)","6000"]
["Total Disbursements/ Expenditures",null,null,null,{"$f":"SUM(E176,E177)","v":0},null,null,{"$f":"SUM(H164,H176,H177)","v":0},null,null,{"$f":"SUM(K164,K176,K177)","v":0},{"$f":"SUM(L164,L176,L177)","v":0}]
["Excess (Deficiency) of Receipts/Revenues Over Disbursements/Expenditures",null,null,null,null,null,null,null,null,null,{"$f":"'Revenues 10-15'!E270-'Expenditures 16-24'!K178","v":0}]
[]
["40 - TRANSPORTATION FUND (TR)"]
["SUPPORT SERVICES (TR)"]
["SUPPORT SERVICES - PUPILS"]
["Other Support Services - Pupils (Func. 2190 Describe & Itemize)","2100",null,null,null,null,null,null,null,null,{"$f":"SUM(C184:J184)","v":0}]
["SUPPORT SERVICES - BUSINESS"]
["Pupil Transportation Services",2550,null,null,null,null,null,null,null,null,{"$f":"SUM(C186:J186)","v":0}]
["Other Support Services (Describe & Itemize)",2900,null,null,null,null,null,null,null,null,{"$f":"SUM(C187:J187)","v":0}]
["Total Support Services","2000",{"$f":"SUM(C184,C186,C187)","v":0},{"$f":"SUM(D184,D186,D187)","v":0},0,0,0,0,0,0,{"$f":"SUM(K184,K186,K187)","v":0},{"$f":"SUM(L184, L186:L187)","v":0}]
["COMMUNITY SERVICES (TR)",3000,null,null,null,null,null,null,null,null,{"$f":"SUM(C189:J189)","v":0}]
["PAYMENTS TO OTHER DIST & GOVT UNITS (TR)","4000"]
["PAYMENTS TO OTHER GOVT UNITS  (IN-STATE)"]
["Payments for Regular Programs",4110,null,null,null,null,null,null,null,null,{"$f":"SUM(E192,H192)","v":0}]
["Payments for Special Education Programs",4120,null,null,null,null,null,null,null,null,0]
["Payments for Adult/Continuing Education Programs",4130,null,null,null,null,null,null,null,null,0]
["Payments for CTE Programs",4140,null,null,null,null,null,null,null,null,0]
["Payments for Community College Programs",4170,null,null,null,null,null,null,null,null,0]
["Other Payments to In-State Govt. Units (Describe & Itemize)",4190,null,null,null,null,null,null,null,null,0]
["Total Payments to Other Govt. Units (In-State) ","4100",null,null,{"$f":"SUM(E192:E197)","v":0},null,null,{"$f":"SUM(H192:H197)","v":0},null,null,{"$f":"SUM(K192:K197)","v":0},{"$f":"SUM(L192:L197)","v":0}]
["PAYMENTS TO OTHER GOVT UNITS (OUT-OF-STATE)","4400",null,null,null,null,null,null,null,null,{"$f":"SUM(E199,H199)","v":0}]
["Total Payments to Other Govt Units","4000",null,null,{"$f":"SUM(E198,E199)","v":0},null,null,{"$f":"SUM(H198,H199)","v":0},null,null,{"$f":"SUM(K198,K199)","v":0},{"$f":"SUM(L198,L199)","v":0}]
["DEBT SERVICES (TR)","5000"]
["DEBT SERVICE - INTEREST ON SHORT-TERM DEBT"]
["Tax Anticipation Warrants",5110,null,null,null,null,null,null,null,null,{"$f":"SUM(H203)","v":0}]
["Tax Anticipation Notes",5120,null,null,null,null,null,null,null,null,{"$f":"SUM(H204)","v":0}]
["Corporate Personal Prop. Repl. Tax Anticipation Notes","5130",null,null,null,null,null,null,null,null,{"$f":"SUM(H205)","v":0}]
["State Aid Anticipation Certificates","5140",null,null,null,null,null,null,null,null,{"$f":"SUM(H206)","v":0}]
["Other Interest on Short-Term Debt (Describe & Itemize)","5150",null,null,null,null,null,null,null,null,{"$f":"SUM(H207)","v":0}]
["Total Debt Services - Interest On Short-Term Debt","5100",null,null,null,null,null,{"$f":"SUM(H203:H207)","v":0},null,null,{"$f":"SUM(K203:K207)","v":0},{"$f":"SUM(L203:L207)","v":0}]
["DEBT SERVICES - INTEREST ON LONG-TERM DEBT","5200",null,null,null,null,null,null,null,null,{"$f":"SUM(H209)","v":0}]
["DEBT SERVICE - PAYMENTS OF PRINCIPAL ON LONG-TERM DEBT (Lease/Purchase Principal Retired) 11","5300",null,null,null,null,null,null,null,null,{"$f":"SUM(H210)","v":0}]
["DEBT SERVICES - OTHER (Describe & Itemize)","5400",null,null,null,null,null,null,null,null,{"$f":"H211","v":0}]
["Total Debt Services","5000",null,null,null,null,null,{"$f":"SUM(H208,H209,H210,H211)","v":0},null,null,{"$f":"SUM(K208,K209,K210,K211)","v":0},{"$f":"SUM(L208,L209,L210,L211)","v":0}]
["PROVISION FOR CONTINGENCIES (TR)","6000"]
["Total Disbursements/ Expenditures ",null,{"$f":"SUM(C188,C189)","v":0},{"$f":"SUM(D188,D189)","v":0},{"$f":"SUM(E188,E189,E200)","v":0},{"$f":"SUM(F188,F189)","v":0},{"$f":"SUM(G188,G189)","v":0},{"$f":"SUM(H188,H189,H200,H212,H213)","v":0},{"$f":"SUM(I188,I189)","v":0},{"$f":"SUM(J188,J189)","v":0},{"$f":"SUM(K188,K189,K200,K212,K213)","v":0},{"$f":"SUM(L188,L189,L200,L212,L213)","v":0}]
["Excess (Deficiency) of Receipts/Revenues Over Disbursements/Expenditures",null,null,null,null,null,null,null,null,null,{"$f":"'Revenues 10-15'!F270-'Expenditures 16-24'!K214","v":0}]
[]
["50 - MUNICIPAL RETIREMENT/SOCIAL SECURITY FUND (MR/SS)"]
["INSTRUCTION (MR/SS)","1000"]
["Regular Programs",1100,null,null,null,null,null,null,null,null,{"$f":"D219","v":0}]
["Pre-K Programs","1125",null,null,null,null,null,null,null,null,{"$f":"D220","v":0}]
["Special Education Programs (Functions 1200-1220)",1200,null,null,null,null,null,null,null,null,0]
["Special Education Programs - Pre-K","1225",null,null,null,null,null,null,null,null,0]
["Remedial and Supplemental Programs - K-12",1250,null,null,null,null,null,null,null,null,0]
["Remedial and Supplemental Programs - Pre-K","1275",null,null,null,null,null,null,null,null,0]
["Adult/Continuing Education Programs",1300,null,null,null,null,null,null,null,null,0]
["CTE Programs",1400,null,null,null,null,null,null,null,null,0]
["Interscholastic Programs",1500,null,null,null,null,null,null,null,null,0]
["Summer School Programs",1600,null,null,null,null,null,null,null,null,0]
["Gifted Programs",1650,null,null,null,null,null,null,null,null,0]
["Driver's Education Programs","1700",null,null,null,null,null,null,null,null,0]
["Bilingual Programs",1800,null,null,null,null,null,null,null,null,0]
["Truants' Alternative & Optional Programs",1900,null,null,null,null,null,null,null,null,0]
["Total Instruction","1000",null,{"$f":"SUM(D219:D232)","v":0},null,null,null,null,null,null,{"$f":"SUM(K219:K232)","v":0},{"$f":"SUM(L219:L232)","v":0}]
["SUPPORT SERVICES (MR/SS)","2000"]
["SUPPORT SERVICES - PUPILS"]
["Attendance & Social Work Services",2110,null,null,null,null,null,null,null,null,{"$f":"D236","v":0}]
["Guidance Services",2120,null,null,null,null,null,null,null,null,0]
["Health Services",2130,null,null,null,null,null,null,null,null,0]
["Psychological Services",2140,null,null,null,null,null,null,null,null,0]
["Speech Pathology & Audiology Services",2150,null,null,null,null,null,null,null,null,0]
["Other Support Services - Pupils (Describe & Itemize)",2190,null,null,null,null,null,null,null,null,0]
["Total Support Services - Pupils","2100",null,{"$f":"SUM(D236:D241)","v":0},null,null,null,null,null,null,{"$f":"SUM(K236:K241)","v":0},{"$f":"SUM(L236:L241)","v":0}]
["SUPPORT SERVICES - INSTRUCTIONAL STAFF"]
["Improvement of Instruction Services",2210,null,null,null,null,null,null,null,null,{"$f":"D244","v":0}]
["Educational Media Services",2220,null,null,null,null,null,null,null,null,{"$f":"D245","v":0}]
["Assessment & Testing",2230,null,null,null,null,null,null,null,null,{"$f":"D246","v":0}]
["Total Support Services - Instructional Staff",2200,null,{"$f":"SUM(D244:D246)","v":0},null,null,null,null,null,null,{"$f":"SUM(K244:K246)","v":0},{"$f":"SUM(L244:L246)","v":0}]
["SUPPORT SERVICES - GENERAL ADMINISTRATION"]
["Board of Education Services",2310,null,null,null,null,null,null,null,null,{"$f":"D249","v":0}]
["Executive Administration Services",2320,null,null,null,null,null,null,null,null,{"$f":"D250","v":0}]
["Special Area Administration Services",2330,null,null,null,null,null,null,null,null,{"$f":"D251","v":0}]
["Claims Paid from Self Insurance Fund","2361",null,null,null,null,null,null,null,null,{"$f":"D252","v":0}]
["Risk Management and Claims Services Payments","2365",null,null,null,null,null,null,null,null,{"$f":"D253","v":0}]
["Total Support Services - General Administration",2300,null,{"$f":"SUM(D249:D253)","v":0},null,null,null,null,null,null,{"$f":"SUM(K249:K253)","v":0},{"$f":"SUM(L249:L253)","v":0}]
["SUPPORT SERVICES - SCHOOL ADMINISTRATION"]
["Office of the Principal Services",2410,null,null,null,null,null,null,null,null,{"$f":"D256","v":0}]
["Other Support Services - School Administration (Describe & Itemize)",2490,null,null,null,null,null,null,null,null,{"$f":"D257","v":0}]
["Total Support Services - School Administration","2400",null,{"$f":"SUM(D256:D257)","v":0},null,null,null,null,null,null,{"$f":"SUM(K256:K257)","v":0},{"$f":"SUM(L256:L257)","v":0}]
["SUPPORT SERVICES - BUSINESS"]
["Direction of Business Support Services",2510,null,null,null,null,null,null,null,null,{"$f":"D260","v":0}]
["Fiscal Services",2520,null,null,null,null,null,null,null,null,{"$f":"D261","v":0}]
["Facilities Acquisition & Construction Services",2530,null,null,null,null,null,null,null,null,0]
["Operation & Maintenance of Plant Services",2540,null,null,null,null,null,null,null,null,0]
["Pupil Transportation Services",2550,null,null,null,null,null,null,null,null,0]
["Food Services",2560,null,null,null,null,null,null,null,null,0]
["Internal Services",2570,null,null,null,null,null,null,null,null,0]
["Total Support Services - Business","2500",null,{"$f":"SUM(D260:D266)","v":0},null,null,null,null,null,null,{"$f":"SUM(K260:K266)","v":0},{"$f":"SUM(L260:L266)","v":0}]
["SUPPORT SERVICES - CENTRAL"]
["Direction of Central Support Services",2610,null,null,null,null,null,null,null,null,{"$f":"D269","v":0}]
["Planning, Research, Development, & Evaluation Services",2620,null,null,null,null,null,null,null,null,{"$f":"D270","v":0}]
["Information Services",2630,null,null,null,null,null,null,null,null,{"$f":"D271","v":0}]
["Staff Services",2640,null,null,null,null,null,null,null,null,{"$f":"D272","v":0}]
["Data Processing Services",2660,null,null,null,null,null,null,null,null,{"$f":"D273","v":0}]
["Total Support Services - Central","2600",null,{"$f":"SUM(D269:D273)","v":0},null,null,null,null,null,null,{"$f":"SUM(K269:K273)","v":0},{"$f":"SUM(L269:L273)","v":0}]
["Other Support Services (Describe & Itemize)","2900",null,null,null,null,null,null,null,null,{"$f":"D275","v":0}]
["Total Support Services",2000,null,{"$f":"SUM(D242,D247,D254,D258,D267,D274,D275)","v":0},null,null,null,null,null,null,{"$f":"SUM(K242,K247,K254,K258,K267,K274,K275)","v":0},{"$f":"SUM(L242,L247,L254,L258,L267,L274,L275)","v":0}]
["COMMUNITY SERVICES (MR/SS)",3000,null,null,null,null,null,null,null,null,{"$f":"D277","v":0}]
["PAYMENTS TO OTHER DIST & GOVT UNITS (MR/SS)","4000"]
["Payments for Regular Programs","4110",null,null,null,null,null,null,null,null,{"$f":"D279","v":0}]
["Payments for Special Education Programs",4120,null,null,null,null,null,null,null,null,{"$f":"D280","v":0}]
["Payments for CTE Programs",4140,null,null,null,null,null,null,null,null,{"$f":"D281","v":0}]
["Total Payments to Other Govt Units","4000",null,{"$f":"SUM(D279:D281)","v":0},null,null,null,null,null,null,{"$f":"SUM(K279:K281)","v":0},{"$f":"SUM(L279:L281)","v":0}]
["DEBT SERVICES (MR/SS)","5000"]
["DEBT SERVICE - INTEREST ON SHORT-TERM DEBT"]
["Tax Anticipation Warrants",5110,null,null,null,null,null,null,null,null,{"$f":"H285","v":0}]
["Tax Anticipation Notes",5120,null,null,null,null,null,null,null,null,{"$f":"H286","v":0}]
["Corporate Personal Prop. Repl. Tax Anticipation Notes","5130",null,null,null,null,null,null,null,null,{"$f":"H287","v":0}]
["State Aid Anticipation Certificates","5140",null,null,null,null,null,null,null,null,{"$f":"H288","v":0}]
["Other (Describe & Itemize)","5150",null,null,null,null,null,null,null,null,{"$f":"H289","v":0}]
["Total Debt Services - Interest","5000",null,null,null,null,null,{"$f":"SUM(H285:H289)","v":0},null,null,{"$f":"SUM(K285:K289)","v":0},{"$f":"SUM(L285:L289)","v":0}]
["PROVISION FOR CONTINGENCIES (MR/SS)","6000"]
["Total Disbursements/Expenditures",null,null,{"$f":"SUM(D233,D276,D277,D282)","v":0},null,null,null,{"$f":"H290","v":0},null,null,{"$f":"SUM(K233,K276,K277,K282,K290,K291)","v":0},{"$f":"SUM(L233,L276,L277,L282,L290,L291)","v":0}]
["Excess (Deficiency) of Receipts/Revenues Over Disbursements/Expenditures",null,null,null,null,null,null,null,null,null,{"$f":"'Revenues 10-15'!G270-'Expenditures 16-24'!K292","v":0}]
[]
["60 - CAPITAL PROJECTS (CP)"]
["   SUPPORT SERVICES (CP)","2000"]
["SUPPORT SERVICES - BUSINESS"]
["Facilities Acquisition and Construction Services",2530,null,null,null,null,null,null,null,null,{"$f":"SUM(C298:J298)","v":0}]
["Other Support Services (Describe & Itemize)","2900",null,null,null,null,null,null,null,null,{"$f":"SUM(C299:J299)","v":0}]
["Total Support Services","2000",{"$f":"SUM(C298:C299)","v":0},{"$f":"SUM(D298:D299)","v":0},0,0,0,0,0,0,0,0]
["PAYMENTS TO OTHER DIST & GOVT UNITS (CP)","4000"]
["PAYMENTS TO OTHER GOVT UNITS (In-State)"]
["Payments to Regular Programs (In-State)","4110",null,null,null,null,null,null,null,null,{"$f":"SUM(E303,H303)","v":0}]
["Payments for Special Education Programs",4120,null,null,null,null,null,null,null,null,{"$f":"SUM(E304,H304)","v":0}]
["Payments for CTE Programs",4140,null,null,null,null,null,null,null,null,{"$f":"SUM(E305,H305)","v":0}]
["Other Payments to In-State Govt. Units (Describe & Itemize)",4190,null,null,null,null,null,null,null,null,{"$f":"SUM(E306,H306)","v":0}]
["Total Payments to Other Govt Units","4000",null,null,{"$f":"SUM(E303:E306)","v":0},null,null,{"$f":"SUM(H303:H306)","v":0},null,null,{"$f":"SUM(K303:K306)","v":0},{"$f":"SUM(L303:L306)","v":0}]
["PROVISION FOR CONTINGENCIES (S&C/CI)","6000"]
["Total Disbursements/ Expenditures ",null,{"$f":"SUM(C300)","v":0},{"$f":"SUM(D300)","v":0},{"$f":"SUM(E300,E307)","v":0},{"$f":"SUM(F300)","v":0},{"$f":"SUM(G300)","v":0},{"$f":"SUM(H300,H307)","v":0},{"$f":"SUM(I300)","v":0},{"$f":"SUM(J300)","v":0},{"$f":"SUM(K300,K307,K308)","v":0},{"$f":"SUM(L300,L307,L308)","v":0}]
["Excess (Deficiency) of Receipts/Revenues Over Disbursements/Expenditures",null,null,null,null,null,null,null,null,null,{"$f":"'Revenues 10-15'!H270-'Expenditures 16-24'!K309","v":0}]
[]
["70 - WORKING CASH (WC)"]
[]
["80 - TORT FUND (TF)"]
["INSTRUCTION (TF)","1000"]
["Regular Programs",1100,null,null,null,null,null,null,null,null,{"$f":"SUM(C316:J316)","v":0}]
["Tuition Payment to Charter Schools",1115,null,null,null,null,null,null,null,null,{"$f":"SUM(C317,E317)","v":0}]
["Pre-K Programs",1125,null,null,null,null,null,null,null,null,{"$f":"SUM(C318:J318)","v":0}]
["Special Education Programs (Functions 1200 - 1220)",1200,null,null,null,null,null,null,null,null,0]
["Special Education Programs Pre-K",1225,null,null,null,null,null,null,null,null,0]
["Remedial and Supplemental Programs K-12",1250,null,null,null,null,null,null,null,null,0]
["Remedial and Supplemental Programs Pre-K",1275,null,null,null,null,null,null,null,null,0]
["Adult/Continuing Education Programs",1300,null,null,null,null,null,null,null,null,0]
["CTE Programs",1400,null,null,null,null,null,null,null,null,0]
["Interscholastic Programs",1500,null,null,null,null,null,null,null,null,0]
["Summer School Programs",1600,null,null,null,null,null,null,null,null,0]
["Gifted Programs",1650,null,null,null,null,null,null,null,null,0]
["Driver's Education Programs",1700,null,null,null,null,null,null,null,null,0]
["Bilingual Programs",1800,null,null,null,null,null,null,null,null,0]
["Truant Alternative & Optional Programs",1900,null,null,null,null,null,null,null,null,0]
["Pre-K Programs - Private Tuition",1910,null,null,null,null,null,null,null,null,0]
["Regular K-12 Programs  Private Tuition",1911,null,null,null,null,null,null,null,null,0]
["Special Education Programs K-12 Private Tuition",1912,null,null,null,null,null,null,null,null,0]
["Special Education Programs Pre-K Tuition",1913,null,null,null,null,null,null,null,null,0]
["Remedial/Supplemental Programs K-12 Private Tuition",1914,null,null,null,null,null,null,null,null,0]
["Remedial/Supplemental Programs Pre-K Private Tuition",1915,null,null,null,null,null,null,null,null,0]
["Adult/Continuing Education Programs Private Tuition",1916,null,null,null,null,null,null,null,null,0]
["CTE Programs Private Tuition",1917,null,null,null,null,null,null,null,null,0]
["Interscholastic Programs Private Tuition",1918,null,null,null,null,null,null,null,null,0]
["Summer School Programs Private Tuition",1919,null,null,null,null,null,null,null,null,0]
["Gifted Programs Private Tuition",1920,null,null,null,null,null,null,null,null,0]
["Bilingual Programs Private Tuition",1921,null,null,null,null,null,null,null,null,0]
["Truants Alternative/Opt Ed Programs Private Tuition",1922,null,null,null,null,null,null,null,null,0]
["Total Instruction14",1000,{"$f":"SUM(C316:C343)","v":0},0,0,0,0,0,0,0,0,{"$f":"SUM(L316:L343)","v":0}]
["SUPPORT SERVICES (TF)",2000]
["Support Services - Pupil",2100]
["Attendance & Social Work Services",2110,null,null,null,null,null,null,null,null,{"$f":"SUM(C347:J347)","v":0}]
["Guidance Services",2120,null,null,null,null,null,null,null,null,0]
["Health Services",2130,null,null,null,null,null,null,null,null,0]
["Psychological Services",2140,null,null,null,null,null,null,null,null,0]
["Speech Pathology & Audiology Services",2150,null,null,null,null,null,null,null,null,0]
["Other Support Services - Pupils (Describe & Itemize)",2190,null,null,null,null,null,null,null,null,0]
["Total Support Services - Pupil",2100,{"$f":"SUM(C347:C352)","v":0},{"$f":"SUM(D347:D352)","v":0},0,0,0,0,0,0,0,{"$f":"SUM(L347:L352)","v":0}]
["Support Services - Instructional Staff",2200]
["Improvement of Instruction Services",2210,null,null,null,null,null,null,null,null,{"$f":"SUM(C355:J355)","v":0}]
["Educational Media Services",2220,null,null,null,null,null,null,null,null,{"$f":"SUM(C356:J356)","v":0}]
["Assessment & Testing",2230,null,null,null,null,null,null,null,null,{"$f":"SUM(C357:J357)","v":0}]
["Total Support Services - Instructional Staff",2200,{"$f":"SUM(C355:C357)","v":0},{"$f":"SUM(D355:D357)","v":0},0,0,0,0,0,0,0,{"$f":"SUM(L355:L357)","v":0}]
["SUPPORT SERVICES - GENERAL ADMINISTRATION","2300"]
["Board of Education Services",2310,null,null,null,null,null,null,null,null,{"$f":"SUM(C360:J360)","v":0}]
["Executive Administration Services",2320,null,null,null,null,null,null,null,null,{"$f":"SUM(C361:J361)","v":0}]
["Special Area Administration Services",2330,null,null,null,null,null,null,null,null,{"$f":"SUM(C362:J362)","v":0}]
["Claims Paid from Self Insurance Fund","2361",null,null,null,null,null,null,null,null,{"$f":"SUM(C363:J363)","v":0}]
["Risk Management and Claims Services Payments","2365",null,null,null,null,null,null,null,null,{"$f":"SUM(C364:J364)","v":0}]
["Total Support Services - General Administration","2300",{"$f":"SUM(C360:C364)","v":0},{"$f":"SUM(D360:D364)","v":0},0,0,0,0,0,0,{"$f":"SUM(K360:K364)","v":0},{"$f":"SUM(L360:L364)","v":0}]
["Support Services - School Administration",2400]
["Office of the Principal Services",2410,null,null,null,null,null,null,null,null,{"$f":"SUM(C367:J367)","v":0}]
["Other Support Services - School Administration (Describe & Itemize)",2490,null,null,null,null,null,null,null,null,{"$f":"SUM(C368:J368)","v":0}]
["Total Support Services - School Administration",2400,{"$f":"SUM(C367:C368)","v":0},{"$f":"SUM(D367:D368)","v":0},0,0,0,0,0,0,{"$f":"SUM(K367:K368)","v":0},{"$f":"SUM(L367:L368)","v":0}]
["Support Services - Business",2500]
["Direction of Business Support Services",2510,null,null,null,null,null,null,null,null,{"$f":"SUM(C371:J371)","v":0}]
["Fiscal Services",2520,null,null,null,null,null,null,null,null,0]
["Facilities Acquisition and Construction Services",2530,null,null,null,null,null,null,null,null,{"$f":"SUM(C373:J373)","v":0}]
["Operation & Maintenance of Plant Services",2540,null,null,null,null,null,null,null,null,0]
["Pupil Transportation Services",2550,null,null,null,null,null,null,null,null,0]
["Food Services",2560,null,null,null,null,null,null,null,null,0]
["Internal Services",2570,null,null,null,null,null,null,null,null,0]
["Total Support Services - Business",2500,{"$f":"SUM(C371:C377)","v":0},{"$f":"SUM(D371:D377)","v":0},0,0,0,0,0,0,0,{"$f":"SUM(L371:L377)","v":0}]
["Support Services - Central","2600"]
["Direction of Central Support Services",2610,null,null,null,null,null,null,null,null,{"$f":"SUM(C380:J380)","v":0}]
["Planning, Research, Development & Evaluation Services",2620,null,null,null,null,null,null,null,null,{"$f":"SUM(C381:J381)","v":0}]
["Information Services",2630,null,null,null,null,null,null,null,null,0]
["Staff Services",2640,null,null,null,null,null,null,null,null,0]
["Data Processing Services",2660,null,null,null,null,null,null,null,null,0]
["Total Support Services - Central",2600,{"$f":"SUM(C380:C384)","v":0},{"$f":"SUM(D380:D384)","v":0},0,0,0,0,0,0,{"$f":"SUM(K380:K384)","v":0},{"$f":"SUM(L380:L384)","v":0}]
["Other Support Services (Describe & Itemize)",2900,null,null,null,null,null,null,null,null,{"$f":"SUM(C386:J386)","v":0}]
["Total Support Services",2000,{"$f":"SUM(C353,C358,C365,C369,C378,C385,C386)","v":0},0,0,0,0,0,0,0,{"$f":"SUM(C387:J387)","v":0},{"$f":"SUM(L353,L358,L365,L369,L378,L385,L386)","v":0}]
["COMMUNITY SERVICES (TF)",3000,null,null,null,null,null,null,null,null,{"$f":"SUM(C388:J388)","v":0}]
["PAYMENTS TO OTHER DIST & GOVT UNITS (TF)","4000"]
["Payments to Other Dist & Govt Units (In-State)"]
["Payments for Regular Programs",4110,null,null,null,null,null,null,null,null,{"$f":"SUM(C391:J391)","v":0}]
["Payments for Special Education Programs",4120,null,null,null,null,null,null,null,null,0]
["Payments for Adult/Continuing Education Programs",4130,null,null,null,null,null,null,null,null,0]
["Payments for CTE Programs",4140,null,null,null,null,null,null,null,null,0]
["Payments for Community College Programs",4170,null,null,null,null,null,null,null,null,0]
["Other Payments to In-State Govt Units (Describe & Itemize)",4190,null,null,null,null,null,null,null,null,0]
["Total Payments to Other Dist & Govt Units (In-State)",4100,null,null,{"$f":"SUM(E391:E396)","v":0},null,null,{"$f":"SUM(H391:H396)","v":0},null,null,{"$f":"SUM(K391:K396)","v":0},{"$f":"SUM(L391:L396)","v":0}]
["Payments for Regular Programs - Tuition",4210,null,null,null,null,null,null,null,null,{"$f":"SUM(C398:J398)","v":0}]
["Payments for Special Education Programs - Tuition",4220,null,null,null,null,null,null,null,null,0]
["Payments for Adult/Continuing Education Programs - Tuition",4230,null,null,null,null,null,null,null,null,0]
["Payments for CTE Programs - Tuition",4240,null,null,null,null,null,null,null,null,0]
["Payments for Community College Programs - Tuition",4270,null,null,null,null,null,null,null,null,0]
["Payments for Other Programs - Tuition",4280,null,null,null,null,null,null,null,null,0]
["Other Payments to In-State Govt Units (Describe & Itemize)",4290,null,null,null,null,null,null,null,null,0]
["Total Payments to Other Dist & Govt Units - Tuition (In State)",4200,null,null,null,null,null,{"$f":"SUM(H398:H404)","v":0},null,null,{"$f":"SUM(K398:K404)","v":0},{"$f":"SUM(L398:L404)","v":0}]
["Payments for Regular Programs - Transfers",4310,null,null,null,null,null,null,null,null,{"$f":"SUM(C406:J406)","v":0}]
["Payments for Special Education Programs - Transfers",4320,null,null,null,null,null,null,null,null,0]
["Payments for Adult/Continuing Ed Programs - Transfers",4330,null,null,null,null,null,null,null,null,0]
["Payments for CTE Programs - Transfers",4340,null,null,null,null,null,null,null,null,0]
["Payments for Community College Program - Transfers",4370,null,null,null,null,null,null,null,null,0]
["Payments for Other Programs - Transfers",4380,null,null,null,null,null,null,null,null,0]
["Other Payments to In-State Govt Units - Transfers (Describe & Itemize)",4390,null,null,null,null,null,null,null,null,0]
["Total Payments to Other Dist & Govt Units-Transfers (In State)",4300,null,null,{"$f":"SUM(E406:E412)","v":0},null,null,{"$f":"SUM(H406:H412)","v":0},null,null,{"$f":"SUM(K406:K412)","v":0},{"$f":"SUM(L406:L412)","v":0}]
["Payments to Other Dist & Govt Units (Out of State)",4400,null,null,null,null,null,null,null,null,{"$f":"SUM(C414:J414)","v":0}]
["Total Payments to Other Dist & Govt Units",4000,null,null,{"$f":"SUM(E397,E405,E413,E414)","v":0},null,null,{"$f":"SUM(H397,H405,H413,H414)","v":0},null,null,{"$f":"SUM(K397,K405,K413,K414)","v":0},{"$f":"SUM(L397,L405,L413,L414)","v":0}]
["DEBT SERVICES (TF)","5000"]
["DEBT SERVICES - INTEREST ON SHORT-TERM DEBT"]
["Tax Anticipation Warrants","5110",null,null,null,null,null,null,null,null,{"$f":"H418","v":0}]
["Tax Anticipation Notes",5120,null,null,null,null,null,null,null,null,{"$f":"H419","v":0}]
["Corporate Personal Prop. Repl. Tax Anticipation Notes","5130",null,null,null,null,null,null,null,null,0]
["State Aid Anticipation Certificates","5140",null,null,null,null,null,null,null,null,0]
["Other Interest or Short-Term Debt",5150,null,null,null,null,null,null,null,null,0]
["Total Debt Services - Interest on Short-Term Debt","5100",null,null,null,null,null,{"$f":"SUM(H418:H422)","v":0},null,null,{"$f":"SUM(K418:K422)","v":0},{"$f":"SUM(L418:L422)","v":0}]
["DEBT SERVICES - INTEREST ON LONG-TERM DEBT","5200",null,null,null,null,null,null,null,null,{"$f":"SUM(H424)","v":0}]
["DEBT SERVICE - PAYMENTS OF PRINCIPAL ON LONG-TERM DEBT (Lease/Purchase Principal Retired) 11","5300",null,null,null,null,null,null,null,null,{"$f":"SUM(H425)","v":0}]
["DEBT SERVICES - OTHER (Describe & Itemize)","5400",null,null,null,null,null,null,null,null,{"$f":"H426","v":0}]
["Total Debt Services","5000",null,null,null,null,null,{"$f":"SUM(H423,H424,H425,H426)","v":0},null,null,{"$f":"SUM(K423,K424,K425,K426)","v":0},{"$f":"SUM(L423,L424,L425,L426)","v":0}]
["PROVISIONS FOR CONTINGENCIES (TF)","6000"]
["Total Disbursements/Expenditures",null,{"$f":"SUM(C344+C387+C388)","v":0},{"$f":"SUM(D344+D387+D388)","v":0},{"$f":"SUM(E344+E387+E388+E415)","v":0},{"$f":"SUM(F344+F387+F388)","v":0},{"$f":"SUM(G344+G387+G388)","v":0},{"$f":"SUM(H344+H387+H388+H415+H427)","v":0},{"$f":"SUM(I344+I387+I388)","v":0},{"$f":"SUM(J344+J387+J388)","v":0},{"$f":"SUM(K344+K387+K388+K415+K427)","v":0},{"$f":"SUM(L344+L387+L388+L415+L423+L428)","v":0}]
["Excess (Deficiency) of Receipts/Revenues Over Disbursements/Expenditures",null,null,null,null,null,null,null,null,null,{"$f":"'Revenues 10-15'!J270-'Expenditures 16-24'!K429","v":0}]
[]
["90 - FIRE PREVENTION & SAFETY FUND (FP&S)"]
["SUPPORT SERVICES (FP&S)","2000"]
["SUPPORT SERVICES - BUSINESS"]
["Facilities Acquisition & Construction Services",2530,null,null,null,null,null,null,null,null,{"$f":"SUM(C435:J435)","v":0}]
["Operation & Maintenance of Plant Services",2540,null,null,null,null,null,null,null,null,{"$f":"SUM(C436:J436)","v":0}]
["Total Support Services - Business","2500",{"$f":"SUM(C435:C436)","v":0},{"$f":"SUM(D435:D436)","v":0},0,0,0,0,0,0,0,0]
["Other Support Services (Describe & Itemize)","2900",null,null,null,null,null,null,null,null,{"$f":"SUM(C438:J438)","v":0}]
["Total Support Services","2000",{"$f":"SUM(C437:C438)","v":0},{"$f":"SUM(D437:D438)","v":0},0,0,0,0,0,0,0,0]
["PAYMENTS TO OTHER DIST & GOVT UNITS (FP&S)","4000"]
["Payments to Regular Programs","4110",null,null,null,null,null,null,null,null,{"$f":"H441","v":0}]
["Payments to Special Education Programs","4120",null,null,null,null,null,null,null,null,{"$f":"H442","v":0}]
["Other Payments to In-State Govt. Units (Describe & Itemize)","4190",null,null,null,null,null,null,null,null,{"$f":"H443","v":0}]
["Total Payments to Other Govt Units","4000",null,null,null,null,null,{"$f":"SUM(H441:H443)","v":0},null,null,{"$f":"SUM(K441:K443)","v":0},{"$f":"SUM(L441:L443)","v":0}]
["DEBT SERVICES (FP&S)","5000"]
["DEBT SERVICES- INTEREST ON SHORT-TERM DEBT"]
["Tax Anticipation Warrants",5110,null,null,null,null,null,null,null,null,{"$f":"SUM(C447:J447)","v":0}]
["Other Interest on Short-Term Debt (Describe & Itemize)","5150",null,null,null,null,null,null,null,null,{"$f":"SUM(C448:J448)","v":0}]
["Total Debt Service - Interest on Short-Term Debt","5100",null,null,null,null,null,{"$f":"SUM(H447:H448)","v":0},null,null,{"$f":"SUM(K447:K448)","v":0},{"$f":"SUM(L447:L448)","v":0}]
["DEBT SERVICES - INTEREST ON LONG-TERM DEBT","5200",null,null,null,null,null,null,null,null,{"$f":"SUM(C450:J450)","v":0}]
["Debt Service - Payments of Principal on Long-Term Debt 15    (Lease/Purchase Principal Retired)  ",5300,null,null,null,null,null,null,null,null,{"$f":"SUM(C451:J451)","v":0}]
["Total Debt Service","5000",null,null,null,null,null,{"$f":"SUM(H449,H450,H451)","v":0},null,null,{"$f":"SUM(K449,K450,K451)","v":0},{"$f":"SUM(L449,L450,L451)","v":0}]
["PROVISION FOR CONTINGENCIES (FP&S)","6000"]
["Total Disbursements/Expenditures",null,{"$f":"SUM(C439,C444,C452,C453)","v":0},0,0,0,0,0,0,0,0,0]
["Excess (Deficiency) of Receipts/Revenues Over Disbursements/Expenditures",null,null,null,null,null,null,null,null,null,{"$f":"'Revenues 10-15'!K270-'Expenditures 16-24'!K454","v":0}]

{"sheet":"Tax Sched 25","index":9,"n_rows":22,"n_cols":6,"rows_kept":22,"cut":false,"hidden":false,"merged":[[1,0,2,0]]}
["SCHEDULE OF AD VALOREM TAX RECEIPTS"]
["Description (Enter Whole Dollars)",{"$f":"\"Taxes Received 7-1-\"&MID('AFR22'!E2,3,2)-1&\" thru 6-30-\"&MID('AFR22'!E2,3,2)&\" (from \"&'AFR22'!E2-2&\" Levy & Prior Levies)  *\"","v":"Taxes Received 7-1-21 thru 6-30-22 (from 2020 Levy & Prior Levies)  *"},{"$f":"\"Taxes Received (from the \"&'AFR22'!E2-1&\" Levy)\"","v":"Taxes Received (from the 2021 Levy)"},{"$f":"\"Taxes Received (from \"&'AFR22'!E2-2&\" & Prior Levies)\"","v":"Taxes Received (from 2020 & Prior Levies)"},{"$f":"\"Total Estimated Taxes (from the \"&'AFR22'!E2-1&\" Levy)   \"","v":"Total Estimated Taxes (from the 2021 Levy)   "},{"$f":"\"Estimated Taxes Due (from the \"&'AFR22'!E2-1&\" Levy)\"","v":"Estimated Taxes Due (from the 2021 Levy)"}]
[null,null,null,"(Column B - C)",null,"(Column E - C)"]
["Educational",{"$f":"'Revenues 10-15'!C5","v":0},null,{"$f":"B4-C4","v":0},null,{"$f":"E4-C4","v":0}]
["Operations & Maintenance",{"$f":"'Revenues 10-15'!D5","v":0},null,{"$f":"B5-C5","v":0},null,{"$f":"E5-C5","v":0}]
["Debt Services  **",{"$f":"'Revenues 10-15'!E5","v":0},null,0,null,{"$f":"E6-C6","v":0}]
["Transportation",{"$f":"'Revenues 10-15'!F5","v":0},null,0,null,0]
["Municipal Retirement",{"$f":"'Revenues 10-15'!G5","v":0},null,0,null,0]
["Capital Improvements",{"$f":"'Revenues 10-15'!H5","v":0},null,0,null,0]
["Working Cash",{"$f":"'Revenues 10-15'!I5","v":0},null,0,null,0]
["Tort Immunity",{"$f":"'Revenues 10-15'!J5","v":0},null,0,null,0]
["Fire Prevention & Safety",{"$f":"'Revenues 10-15'!K5","v":0},null,0,null,0]
["Leasing Levy",{"$f":"SUM('Revenues 10-15'!C6:D6)","v":0},null,0,null,0]
["Special Education",{"$f":"SUM('Revenues 10-15'!C7:D7,'Revenues 10-15'!F7:H7)","v":0},null,0,null,0]
["Area Vocational Construction",{"$f":"SUM('Revenues 10-15'!D9:E9,'Revenues 10-15'!H9)","v":0},null,0,null,0]
["Social Security/Medicare Only",{"$f":"'Revenues 10-15'!G8","v":0},null,0,null,0]
["Summer School",{"$f":"'Revenues 10-15'!C10","v":0},null,0,null,0]
["Other (Describe & Itemize)",{"$f":"SUM('Revenues 10-15'!C11:K11)","v":0},null,0,null,0]
["Totals",{"$f":"SUM(B4:B18)","v":0},{"$f":"SUM(C4:C18)","v":0},{"$f":"SUM(D4:D18)","v":0},{"$f":"SUM(E4:E18)","v":0},{"$f":"SUM(F4:F18)","v":0}]
[]
["   *  The formulas in column B are unprotected to be overridden when reporting on an ACCRUAL basis."]
["**  All tax receipts for debt service payments on bonds must be recorded on line 6 (Debt Services)."]

{"sheet":"Short-Term Long-Term Debt 26","index":10,"n_rows":54,"n_cols":10,"rows_kept":54,"cut":false,"hidden":false,"merged":[[51,8,51,9],[52,8,52,9],[53,8,53,9],[51,1,51,3],[51,5,51,6],[52,5,52,6],[53,5,53,6],[16,0,16,1],[17,0,17,1],[18,0,18,1],[21,2,21,5],[23,2,23,5],[19,0,19,1],[20,0,20,1],[21,0,21,1],[22,0,22,1],[28,0,28,1],[23,0,23,1],[24,0,24,1],[25,0,25,1],[26,0,26,1],[0,0,0,1],[2,2,2,5],[4,2,4,5],[15,2,15,5],[15,0,15,1],[1,0,1,1],[3,0,3,1],[4,0,4,1],[14,0,14,1],[2,0,2,1]]}
["SCHEDULE OF SHORT-TERM DEBT"]
["Description (Enter Whole Dollars)",null,{"$f":"\"Outstanding        Beginning July 1, \"&'AFR22'!$E$2-1","v":"Outstanding        Beginning July 1, 2021"},{"$f":"\"Issued                                        July 1, \"&'AFR22'!$E$2-1&\" thru           June 30, \"&'AFR22'!$E$2","v":"Issued                                        July 1, 2021 thru           June 30, 2022"},{"$f":"\"Retired                                        July 1, \"&'AFR22'!$E$2-1&\" thru           June 30, \"&'AFR22'!$E$2","v":"Retired                                        July 1, 2021 thru           June 30, 2022"},{"$f":"\"Outstanding            Ending June 30, \"&'AFR22'!$E$2","v":"Outstanding            Ending June 30, 2022"}]
["CORPORATE PERSONAL PROPERTY REPLACEMENT TAX ANTICIPATION NOTES (CPPRT)"]
["Total CPPRT Notes",null,null,null,null,{"$f":"SUM(C4+D4)-E4","v":0}]
["TAX ANTICIPATION WARRANTS (TAW)"]
["Educational Fund",null,null,null,null,{"$f":"SUM(C6+D6)-E6","v":0}]
["Operations & Maintenance Fund",null,null,null,null,0]
["Debt Services - Construction",null,null,null,null,0]
["Debt Services - Working Cash",null,null,null,null,0]
["Debt Services - Refunding Bonds",null,null,null,null,0]
["Transportation Fund",null,null,null,null,0]
["Municipal Retirement/Social Security Fund",null,null,null,null,0]
["Fire Prevention & Safety Fund",null,null,null,null,0]
["Other - (Describe & Itemize)",null,null,null,null,0]
["Total TAWs",null,{"$f":"SUM(C6:C14)","v":0},{"$f":"SUM(D6:D14)","v":0},{"$f":"SUM(E6:E14)","v":0},{"$f":"SUM(F6:F14)","v":0}]
["TAX ANTICIPATION NOTES (TAN)"]
["Educational Fund",null,null,null,null,{"$f":"SUM(C17+D17)-E17","v":0}]
["Operations & Maintenance Fund",null,null,null,null,{"$f":"SUM(C18+D18)-E18","v":0}]
["Fire Prevention & Safety Fund",null,null,null,null,{"$f":"SUM(C19+D19)-E19","v":0}]
["Other - (Describe & Itemize)",null,null,null,null,{"$f":"SUM(C20+D20)-E20","v":0}]
["Total TANs",null,{"$f":"SUM(C17:C20)","v":0},{"$f":"SUM(D17:D20)","v":0},{"$f":"SUM(E17:E20)","v":0},{"$f":"SUM(F17:F20)","v":0}]
["TEACHERS'/EMPLOYEES' ORDERS (T/EO)"]
["Total T/EOs (Educational, Operations & Maintenance, & Transportation Funds)",null,null,null,null,{"$f":"SUM(C23+D23)-E23","v":0}]
["General State Aid/Evidence-Based Funding Anticipation Certificates"]
["Total (All Funds)",null,null,null,null,{"$f":"SUM(C25+D25)-E25","v":0}]
["OTHER SHORT-TERM BORROWING"]
["Total Other Short-Term Borrowing (Describe & Itemize)",null,null,null,null,{"$f":"SUM(C27+D27)-E27","v":0}]
[]
["SCHEDULE OF LONG-TERM DEBT"]
["Identification or Name of Issue","Date of Issue (mm/dd/yy)","Amount of Original Issue","Type of Issue *",{"$f":"\"Outstanding        Beginning July 1, \"&'AFR22'!$E$2-1","v":"Outstanding        Beginning July 1, 2021"},{"$f":"\"Issued                                        July 1, \"&'AFR22'!$E$2-1&\" thru           June 30, \"&'AFR22'!$E$2","v":"Issued                                        July 1, 2021 thru           June 30, 2022"},"Any differences (Described and Itemize)",{"$f":"\"Retired                                        July 1, \"&'AFR22'!$E$2-1&\" thru           June 30, \"&'AFR22'!$E$2","v":"Retired                                        July 1, 2021 thru           June 30, 2022"},{"$f":"\"Outstanding Ending                     June 30, \"&'AFR22'!$E$2","v":"Outstanding Ending                     June 30, 2022"},"Amount to be Provided for Payment on Long-Term Debt"]
[null,null,null,null,null,null,null,null,{"$f":"((E31+F31)-H31)+G31","v":0}]
[null,null,null,null,null,null,null,null,{"$f":"((E32+F32)-H32)+G32","v":0}]
[null,null,null,null,null,null,null,null,{"$f":"((E33+F33)-H33)+G33","v":0}]
[null,null,null,null,null,null,null,null,0]
[null,null,null,null,null,null,null,null,0]
[null,null,null,null,null,null,null,null,0]
[null,null,null,null,null,null,null,null,0]
[null,null,null,null,null,null,null,null,0,""]
[null,null,null,null,null,null,null,null,0]
[null,null,null,null,null,null,null,null,0]
[null,null,null,null,null,null,null,null,0]
[null,null,null,null,null,null,null,null,0]
[null,null,null,null,null,null,null,null,0]
[null,null,null,null,null,null,null,null,0]
[null,null,null,null,null,null,null,null,0]
[null,null,null,null,null,null,null,null,0]
[null,null,null,null,null,null,null,null,0]
[null,null,null,null,null,null,null,null,0]
[null,null,{"$f":"SUM(C31:C48)","v":0},null,{"$f":"SUM(E31:E48)","v":0},0,0,0,0,0]
[]
["• Each type of debt issued must be identified separately with the amount:"]
["1.  Working Cash Fund Bonds","4.  Fire Prevent, Safety, Environmental and Energy Bonds",null,null,"7.  GASB 87 Leases ",null,null,"  10.  Other    "]
["2.  Funding Bonds","5.  Tort Judgment Bonds",null,null,"  8.  Other                   ",null,null,"11.  Other    "]
["3.  Refunding Bonds","6.  Building Bonds",null,null,"9.  Other                   ",null,null,"12.  Other    "]

{"sheet":"Rest Tax Levies-Tort Im 27","index":11,"n_rows":50,"n_cols":11,"rows_kept":50,"cut":false,"hidden":false,"merged":[[0,0,0,6],[4,0,4,4],[10,0,10,4],[9,0,9,4],[30,7,32,10],[13,0,13,4],[14,0,14,4],[15,0,15,4],[21,0,21,4],[18,0,18,4],[19,0,19,4],[40,0,40,5],[1,0,1,4],[2,0,2,4],[3,0,3,4],[12,0,12,4],[17,0,17,4],[11,0,11,4],[20,0,20,4],[22,0,22,4],[23,0,23,4],[16,0,16,4]]}
["SCHEDULE OF RESTRICTED LOCAL TAX LEVIES AND SELECTED REVENUE SOURCES"]
["Description  (Enter Whole Dollars)",null,null,null,null,"Account No","Tort Immunity a","Special Education","Area Vocational Construction","School Facility Occupation Taxes b","Driver Education"]
[{"$f":"\"Cash Basis Fund Balance as of July 1, \"&'AFR22'!E2-1","v":"Cash Basis Fund Balance as of July 1, 2021"}]
["RECEIPTS:"]
["Ad Valorem Taxes Received by District",null,null,null,null,"10, 20, 40 or 50-1100, 80",{"$f":"'Revenues 10-15'!J12+'Revenues 10-15'!J18","v":0}]
["Earnings on Investments",null,null,null,null,"10, 20, 40, 50 or 60-1500, 80",{"$f":"'Revenues 10-15'!J67","v":0}]
["Drivers' Education Fees",null,null,null,null,"10-1970"]
["School Facility Occupation Tax Proceeds",null,null,null,null,"30 or 60-1983"]
["Driver Education",null,null,null,null,"10 or 20-3370"]
["Other Receipts (Describe & Itemize)",null,null,null,null,"--",{"$f":"'Revenues 10-15'!J110+'Revenues 10-15'!J172+'Revenues 10-15'!J269","v":0}]
["Sale of Bonds",null,null,null,null,"10, 20, 40 or 60-7200"]
["Total Receipts",null,null,null,null,null,{"$f":"SUM(G5:G11)","v":0},{"$f":"SUM(H5:H11)","v":0},{"$f":"SUM(I5:I11)","v":0},{"$f":"SUM(J5:J11)","v":0},{"$f":"SUM(K5:K11)","v":0}]
["DISBURSEMENTS:"]
["Instruction",null,null,null,null,"10 or 50-1000"]
["Facilities Acquisition & Construction Services",null,null,null,null,"20 or 60-2530"]
["Tort Immunity Services",null,null,null,null,"80",{"$f":"'Expenditures 16-24'!K429","v":0}]
["DEBT SERVICE"]
["Debt Services - Interest on Long-Term Debt",null,null,null,null,"30-5200"]
["Debt Services - Principal Payments on Long-Term Debt (Lease/Purchase Principal Retired)",null,null,null,null,"30-5300"]
["Debt Services Other  (Describe & Itemize)",null,null,null,null,"30-5400"]
["Total Debt Services",null,null,null,null,null,null,null,null,{"$f":"SUM(J18:J20)","v":0}]
["Other Disbursements (Describe & Itemize)",null,null,null,null,"--"]
["Total Disbursements",null,null,null,null,null,{"$f":"SUM(G14:G16,G21,G22)","v":0},{"$f":"SUM(H14:H16,H21,H22)","v":0},{"$f":"SUM(I14:I16,I21,I22)","v":0},{"$f":"SUM(J14:J16,J21,J22)","v":0},{"$f":"SUM(K14:K16,K21,K22)","v":0}]
[{"$f":"\"Ending Cash Basis Fund Balance as of June 30, \"&'AFR22'!E2","v":"Ending Cash Basis Fund Balance as of June 30, 2022"},null,null,null,null,null,{"$f":"SUM(G3,G12)-G23","v":0},{"$f":"SUM(H3,H12)-H23","v":0},{"$f":"SUM(I3,I12)-I23","v":0},{"$f":"SUM(J3,J12)-J23","v":0},{"$f":"SUM(K3,K12)-K23","v":0}]
["Reserved Cash Balance",null,null,null,null,714]
["Unreserved Cash Balance",null,null,null,null,730,{"$f":"G24-G25","v":0},{"$f":"H24-H25","v":0},{"$f":"I24-I25","v":0},{"$f":"J24-J25","v":0},{"$f":"K24-K25","v":0}]
[]
["SCHEDULE OF TORT IMMUNITY EXPENDITURES a"]
[]
["Yes",null,"No",null,"Has the entity established an insurance reserve pursuant to 745 ILCS 10/9-103?"]
[null,null,null,null,"If yes, list in the aggregate the following:","Total Claims Payments:",{"$f":"'Expenditures 16-24'!K429","v":0}]
[null,null,null,null,null,"Total Reserve Remaining:",{"$f":"G26","v":0}]
[" "]
["In the following categories, itemize the Tort Immunity expenditures in line 31 above.  Enter total dollar amount for each category."]
["Expenditures:"]
["Workers' Compensation Act and/or Workers' Occupational Disease Act"]
["Unemployment Insurance Act"]
["Insurance (Regular or Self-Insurance)"]
["Risk Management and Claims Service"]
["Judgments/Settlements"]
["Educational, Inspectional, Supervisory Services Related to Loss Prevention and/or Reduction"]
["Reciprocal Insurance Payments (Insurance Code 72, 76, and 81)"]
["Legal Services"]
["Principal and Interest on Tort Bonds"]
["Other -Explain on Itemization 44 tab "]
["Total ",null,null,null,null,null,{"$f":"G31-SUM(G36:G45)","v":0}]
[null,"G31 (Total Tort Expenditures) minus (G36 through G45) must equal 0",null,null,null,null,{"$f":"IF(OR((G46>5),(G46<-5),(G36=\"\"),(G37=\"\"),(G38=\"\"),(G39=\"\"),(G40=\"\"),(G41=\"\"),(G42=\"\"),(G43=\"\"),(G44=\"\"),(G45=\"\")),\"ERROR.  If N/A, enter 0 in G36-G45\",\"OK\")","v":"ERROR.  If N/A, enter 0 in G36-G45"}]
[]
[null,"Schedules for Tort Immunity are to be completed for the revenues and expenditures reported in the Tort Immunity Fund (80) during the year.  "]
[null,"55 ILCS 5/5-1006.7"]

{"sheet":"CARES CRRSA ARP 28-35","index":12,"n_rows":298,"n_cols":12,"rows_kept":298,"cut":false,"hidden":false,"merged":[[266,0,266,1],[270,0,270,1],[275,0,275,1],[252,0,252,1],[257,0,257,1],[262,0,264,0],[262,3,262,11],[265,0,265,1],[239,0,239,1],[244,0,246,0],[244,3,244,11],[247,0,247,1],[248,0,248,1],[226,0,228,0],[226,3,226,11],[229,0,229,1],[230,0,230,1],[234,0,234,1],[208,3,208,11],[211,0,211,1],[212,0,212,1],[216,0,216,1],[221,0,221,1],[193,0,193,1],[194,0,194,1],[198,0,198,1],[203,0,203,1],[208,0,210,0],[176,0,176,1],[180,0,180,1],[185,0,185,1],[190,0,192,0],[190,3,190,11],[162,0,162,1],[167,0,167,1],[172,0,174,0],[172,3,172,11],[175,0,175,1],[131,0,131,1],[154,0,156,0],[154,3,154,11],[157,0,157,1],[158,0,158,1],[136,0,138,0],[136,3,136,11],[139,0,139,1],[140,0,140,1],[144,0,144,1],[149,0,149,1],[118,0,120,0],[118,3,118,11],[121,0,121,1],[122,0,122,1],[126,0,126,1],[44,0,44,11],[0,0,1,11],[2,0,2,11],[4,0,4,11],[7,1,7,7],[8,0,10,0],[18,1,18,7],[19,0,21,0],[37,0,37,11],[43,0,43,11],[3,0,3,2],[293,3,293,11],[46,0,48,0],[46,3,46,11],[49,0,49,1],[50,0,50,1],[54,0,54,1],[59,0,59,1],[100,3,100,11],[104,0,104,1],[108,0,108,1],[113,0,113,1],[85,0,85,1],[86,0,86,1],[90,0,90,1],[95,0,95,1],[100,0,102,0],[296,0,296,1],[6,0,6,11],[64,0,66,0],[64,3,64,11],[67,0,67,1],[68,0,68,1],[72,0,72,1],[77,0,77,1],[82,0,84,0],[82,3,82,11],[281,0,283,0],[281,3,281,11],[284,0,284,1],[290,0,290,1],[293,0,295,0],[103,0,103,1]]}
["CARES, CRRSA, and ARP SCHEDULE  - FY 2022"]
[]
["Please read schedule instructions before completing."]
["Did the school district/joint agreement receive/expend CARES, CRRSA, or ARP Federal Stimulus Funds in FY 2022?",null,null,null,"Yes",null,null,"No "]
["If the answer to the above question is \"YES\", this schedule must be completed."]
["PLEASE DO NOT REMOVE AND REINSERT THIS SCHEDULE INTO THE AFR.  IF THE LINKS ARE BROKEN, THE AFR WILL BE SENT BACK TO THE AUDITOR FOR CORRECTION.  "]
["Part 1:  CARES, CRRSA, and ARP REVENUE"]
["Revenue Section A ","Section A is for revenue recognized in FY 2022 reported on the FY 2022 AFR for FY 2020 and/or FY 2021 EXPENDITURES claimed on July 1, 2021, through June 30, 2022, FRIS grant expenditure reports for expenditures reported in the prior year FY 2020 and/or FY 2021 AFR."]
[" Description (Enter Whole Dollars) *See instructions for detailed descriptions of revenue ",null,"(10)","(20)","(30)","(40)","(50)","(60)","(70)","(80)","(90)","Total "]
[]
[null,"Acct #","Educational","Operations & Maintenance","Debt Services","Transportation","Municipal Retirement/ Social Security","Capital Projects","Working Cash","Tort","Fire Prevention & Safety"]
["ESSER I (only) (CARES Act) (FRIS SUB PROGRAM CODES: ER, DE, EE, PL)",4998,null,null,null,null,null,null,null,null,null,{"$f":"(C12+D12+F12+G12+H12+K12)","v":0}]
["ESSER II (only) (CRRSA Act) (FRIS SUB PROGRAM CODES: E2, FG, SE, PM, CP, D2)",4998,null,null,null,null,null,null,null,null,null,{"$f":"(C13+D13+F13+G13+H13+K13)","v":0}]
["GEER I (only) (CARES Act) (FRIS SUB PROGRAM CODE: DG, EC)",4998,null,null,null,null,null,null,null,null,null,0]
["Other CARES Act Revenue (not accounted for above) (Describe on Itemization tab)                                                                                                ",4998,null,null,null,null,null,null,null,null,null,0]
["Other CRRSA Revenue (not accounted for above) (Describe on Itemization tab)                                                                                                ",4998,null,null,null,null,null,null,null,null,null,0]
["Other ARP Revenue (not accounted for above) (Describe on Itemization tab)                                                                                                ",4998,null,null,null,null,null,null,null,null,null,0]
["Total Revenue Section A",null,{"$f":"SUM(C12:C17)","v":0},{"$f":"SUM(D12:D17)","v":0},null,{"$f":"SUM(F12:F17)","v":0},{"$f":"SUM(G12:G17)","v":0},{"$f":"SUM(H12:H17)","v":0},null,null,{"$f":"SUM(K12:K17)","v":0},{"$f":"SUM(L12:L17)","v":0}]
["Revenue Section B","Section B is for revenue recognized in FY 2022 reported on the FY 2022 AFR and for FY 2022 EXPENDITURES claimed on July 1, 2021, through June 30, 2022, FRIS grant expenditure reports and reported in the FY 2022 AFR."]
[" Description (Enter Whole Dollars) *See instructions for detailed descriptions of revenue ",null,"(10)","(20)","(30)","(40)","(50)","(60)","(70)","(80)","(90)","Total "]
[]
[null,"Acct #","Educational","Operations & Maintenance","Debt Services","Transportation","Municipal Retirement/ Social Security","Capital Projects","Working Cash","Tort","Fire Prevention & Safety"]
["ESSER I (only) (CARES Act) (FRIS SUB PROGRAM CODES: ER, DE, EE, PL)",4998,null,null,null,null,null,null,null,null,null,{"$f":"(C23+D23+F23+G23+H23+K23)","v":0}]
["ESSER II (only) (CRRSA Act) (FRIS SUB PROGRAM CODES: E2, FG, SE, PM, CP, D2)",4998,null,null,null,null,null,null,null,null,null,{"$f":"(C24+D24+F24+G24+H24+K24)","v":0}]
["GEER I (only) (CARES Act) (FRIS SUB PROGRAM CODE: DG, EC)",4998,null,null,null,null,null,null,null,null,null,{"$f":"(C25+D25+F25+G25+H25+K25)","v":0}]
["GEER II (only) (CRRSA) (FRIS SUBPROGRAM CODE: GO, RC, JK)",4998,null,null,null,null,null,null,null,null,null,0]
["ESSER III (only) (ARP) (FRIS SUBPROGRAM CODE: E3, CO)",4998,null,null,null,null,null,null,null,null,null,0]
["CRRSA Child Nutrition (CRRSA) (FRIS SUBPROGRAM CODE: SN)",4210,null,null,null,null,null,null,null,null,null,{"$f":"(C28+D28+F28+G28+H28+K28)","v":0}]
["ARP Child Nutrition (ARP) (FRIS SUBPROGRAM CODE: BT, SC)",4210,null,null,null,null,null,null,null,null,null,0]
["ARP IDEA (ARP) (FRIS SUBPROGRAM CODE: ID, EI, PS)",4998,null,null,null,null,null,null,null,null,null,0]
["ARP Homeless I (ARP) (FRIS SUBPROGRAM CODE: HM, HL)",4998,null,null,null,null,null,null,null,null,null,0]
["CURES (Coronavirus State and Local Fiscal Recovery Funds) (FRIS PROGRAM CODE: BG, AP, FS)",4998,null,null,null,null,null,null,null,null,null,0]
["Other CARES Act Revenue (not accounted for above) (Describe on Itemization tab)                                                                                                ",4998,null,null,null,null,null,null,null,null,null,0]
["Other CRRSA Revenue (not accounted for above) (Describe on Itemization tab)                                                                                                ",4998,null,null,null,null,null,null,null,null,null,0]
["Other ARP Revenue (not accounted for above) (Describe on Itemization tab)                                                                                                ",4998,null,null,null,null,null,null,null,null,null,0]
["(Remaining) Other Federal Revenues in Revenue Acct 4998 - not accounted for elsewhere in Revenue Section A or Revenue Section B",4998,null,null,null,null,null,null,null,null,null,0]
["Total Revenue Section B",null,{"$f":"SUM(C23:C36)","v":0},{"$f":"SUM(D23:D36)","v":0},null,{"$f":"SUM(F23:F36)","v":0},{"$f":"SUM(G23:G36)","v":0},{"$f":"SUM(H23:H36)","v":0},null,null,{"$f":"SUM(K23:K36)","v":0},{"$f":"SUM(L23:L36)","v":0}]
["Revenue Section C:  Reconciliation for Revenue Account 4998 - Total Revenue "]
["Total Other Federal Revenue (Section A plus Section B)",4998,{"$f":"SUM(C18+C37)-C29-C28","v":0},{"$f":"SUM(D18+D37)-D29-D28","v":0},null,{"$f":"SUM(F18+F37)-F29-F28","v":0},{"$f":"SUM(G18+G37)-G29-G28","v":0},{"$f":"SUM(H18+H37)-H29-H28","v":0},null,null,{"$f":"SUM(K18+K37)-K29-K28","v":0},{"$f":"SUM(L18+L37)-L29-L28","v":0}]
["Total Other Federal Revenue from Revenue Tab",4998,{"$f":"'Revenues 10-15'!C267","v":0},{"$f":"'Revenues 10-15'!D267","v":0},null,{"$f":"'Revenues 10-15'!F267","v":0},{"$f":"'Revenues 10-15'!G267","v":0},{"$f":"'Revenues 10-15'!H267","v":0},null,null,{"$f":"'Revenues 10-15'!K267","v":0},{"$f":"C40+D40+F40+G40+H40+K40","v":0}]
["Difference (must equal 0)",null,{"$f":"C39-C40","v":0},{"$f":"D39-D40","v":0},null,{"$f":"F39-F40","v":0},{"$f":"G39-G40","v":0},0,null,null,{"$f":"K39-K40","v":0},{"$f":"L39-L40","v":0}]
["Error must be corrected before submitting to ISBE",null,{"$f":"IF(OR((C41>1),(C41<-1)),\"ERROR\",\"OK\")","v":"OK"},{"$f":"IF(OR((D41>1),(D41<-1)),\"ERROR\",\"OK\")","v":"OK"},null,{"$f":"IF(OR((F41>1),(F41<-1)),\"ERROR\",\"OK\")","v":"OK"},{"$f":"IF(OR((G41>1),(G41<-1)),\"ERROR\",\"OK\")","v":"OK"},{"$f":"IF(OR((H41>1),(H41<-1)),\"ERROR\",\"OK\")","v":"OK"},null,null,{"$f":"IF(OR((K41>1),(K41<-1)),\"ERROR\",\"OK\")","v":"OK"},{"$f":"IF(OR((L41>10),(L41<-10)),\"ERROR\",\"OK\")","v":"OK"}]
[]
["Part 2:  CARES, CRRSA, and ARP EXPENDITURES"]
["Review of the July 1, 2021 through June 30, 2022 FRIS Expenditures reports may assist in determining the expenditures to use below."]
["Expenditure Section A:    "]
["ESSER I EXPENDITURES (CARES)",null,null,"-------------------------------------------------------------------------------------------DISBURSEMENTS------------------------------------------------------------------------------------"]
[null,null,null,"(100)","(200)","(300)","(400)","(500)","(600)","(700)","(800)","(900)"]
[null,null,null,"Salaries","Employee Benefits","Purchased Services","Supplies & Materials","Capital Outlay","Other","Non-Capitalized Equipment","Termination Benefits","Total Expenditures"]
["FUNCTION "]
["1.  List the total expenditures for the Functions 1000 and 2000 below"]
["INSTRUCTION Total Expenditures","1000",null,null,null,null,null,null,null,null,null,{"$f":"SUM(D52:J52)","v":0}]
["SUPPORT SERVICES Total Expenditures ",2000,null,null,null,null,null,null,null,null,null,{"$f":"SUM(D53:J53)","v":0}]
[]
["2.  List the specific expenditures in Functions: 2530, 2540, & 2560 below (these expenditures are also included in Function 2000 above)"]
["Facilities Acquisition and Construction Services (Total)","2530",null,null,null,null,null,null,null,null,null,{"$f":"D56+E56+F56+G56+H56+I56+J56","v":0}]
["OPERATION & MAINTENANCE OF PLANT SERVICES (Total)","2540",null,null,null,null,null,null,null,null,null,{"$f":"SUM(D57:J57)","v":0}]
["FOOD SERVICES (Total)","2560",null,null,null,null,null,null,null,null,null,{"$f":"SUM(D58:J58)","v":0}]
[]
["3.  List the technology expenses in Functions: 1000 & 2000 below (these expenditures are also included in Functions 1000 & 2000 above)."]
["TECHNOLOGY-RELATED SUPPLIES, PURCHASE SERVICES, EQUIPMENT (Included in Function 1000)","1000",null,null,null,null,null,null,null,null,null,{"$f":"F61+G61+H61+J61","v":0}]
["TECHNOLOGY-RELATED SUPPLIES, PURCHASE SERVICES, EQUIPMENT (Included in Function 2000)",2000,null,null,null,null,null,null,null,null,null,{"$f":"F62+G62+H62+J62","v":0}]
["TOTAL TECHNOLOGY-RELATED SUPPLIES, PURCHASE SERVICES, EQUIPMENT (Total TECHNOLOGY included in all Expenditure Functions)","Total Technology",null,null,null,{"$f":"SUM(F61:F62)","v":0},{"$f":"SUM(G61:G62)","v":0},0,null,{"$f":"SUM(J61:J62)","v":0},null,{"$f":"F63+G63+H63+J63","v":0}]
["Expenditure Section B:    "]
["ESSER II EXPENDITURES (CRRSA)",null,null,"-------------------------------------------------------------------------------------------DISBURSEMENTS------------------------------------------------------------------------------------"]
[null,null,null,"(100)","(200)","(300)","(400)","(500)","(600)","(700)","(800)","(900)"]
[null,null,null,"Salaries","Employee Benefits","Purchased Services","Supplies & Materials","Capital Outlay","Other","Non-Capitalized Equipment","Termination Benefits","Total Expenditures"]
["FUNCTION "]
["1.  List the total expenditures for the Functions 1000 and 2000 below"]
["INSTRUCTION Total Expenditures","1000",null,null,null,null,null,null,null,null,null,{"$f":"SUM(D70:J70)","v":0}]
["SUPPORT SERVICES Total Expenditures ",2000,null,null,null,null,null,null,null,null,null,{"$f":"SUM(D71:J71)","v":0}]
[]
["2.  List the specific expenditures in Functions: 2530, 2540, & 2560 below (these expenditures are also included in Function 2000 above)"]
["Facilities Acquisition and Construction Services (Total)","2530",null,null,null,null,null,null,null,null,null,{"$f":"D74+E74+F74+G74+H74+I74+J74","v":0}]
["OPERATION & MAINTENANCE OF PLANT SERVICES (Total)","2540",null,null,null,null,null,null,null,null,null,{"$f":"SUM(D75:J75)","v":0}]
["FOOD SERVICES (Total)","2560",null,null,null,null,null,null,null,null,null,{"$f":"SUM(D76:J76)","v":0}]
[]
["3.  List the technology expenses in Functions: 1000 & 2000 below (these expenditures are also included in Functions 1000 & 2000 above)."]
["TECHNOLOGY-RELATED SUPPLIES, PURCHASE SERVICES, EQUIPMENT (Included in Function 1000)","1000",null,null,null,null,null,null,null,null,null,{"$f":"F79+G79+H79+J79","v":0}]
["TECHNOLOGY-RELATED SUPPLIES, PURCHASE SERVICES, EQUIPMENT (Included in Function 2000)",2000,null,null,null,null,null,null,null,null,null,{"$f":"F80+G80+H80+J80","v":0}]
["TOTAL TECHNOLOGY-RELATED SUPPLIES, PURCHASE SERVICES, EQUIPMENT (Total TECHNOLOGY included in all Expenditure Functions)","Total Technology",null,null,null,{"$f":"SUM(F79:F80)","v":0},{"$f":"SUM(G79:G80)","v":0},0,null,{"$f":"SUM(J79:J80)","v":0},null,{"$f":"F81+G81+H81+J81","v":0}]
["Expenditure Section C:    "]
["GEER I EXPENDITURES (CARES)",null,null,"-------------------------------------------------------------------------------------------DISBURSEMENTS------------------------------------------------------------------------------------"]
[null,null,null,"(100)","(200)","(300)","(400)","(500)","(600)","(700)","(800)","(900)"]
[null,null,null,"Salaries","Employee Benefits","Purchased Services","Supplies & Materials","Capital Outlay","Other","Non-Capitalized Equipment","Termination Benefits","Total Expenditures"]
["FUNCTION "]
["1.  List the total expenditures for the Functions 1000 and 2000 below"]
["INSTRUCTION Total Expenditures","1000",null,null,null,null,null,null,null,null,null,{"$f":"SUM(D88:J88)","v":0}]
["SUPPORT SERVICES Total Expenditures ",2000,null,null,null,null,null,null,null,null,null,{"$f":"SUM(D89:J89)","v":0}]
[]
["2.  List the specific expenditures in Functions: 2530, 2540, & 2560 below (these expenditures are also included in Function 2000 above)"]
["Facilities Acquisition and Construction Services (Total)","2530",null,null,null,null,null,null,null,null,null,{"$f":"D92+E92+F92+G92+H92+I92+J92","v":0}]
["OPERATION & MAINTENANCE OF PLANT SERVICES (Total)","2540",null,null,null,null,null,null,null,null,null,{"$f":"SUM(D93:J93)","v":0}]
["FOOD SERVICES (Total)","2560",null,null,null,null,null,null,null,null,null,{"$f":"SUM(D94:J94)","v":0}]
[]
["3.  List the technology expenses in Functions: 1000 & 2000 below (these expenditures are also included in Functions 1000 & 2000 above)."]
["TECHNOLOGY-RELATED SUPPLIES, PURCHASE SERVICES, EQUIPMENT (Included in Function 1000)","1000",null,null,null,null,null,null,null,null,null,{"$f":"F97+G97+H97+J97","v":0}]
["TECHNOLOGY-RELATED SUPPLIES, PURCHASE SERVICES, EQUIPMENT (Included in Function 2000)",2000,null,null,null,null,null,null,null,null,null,{"$f":"F98+G98+H98+J98","v":0}]
["TOTAL TECHNOLOGY-RELATED SUPPLIES, PURCHASE SERVICES, EQUIPMENT (Total TECHNOLOGY included in all Expenditure Functions)","Total Technology",null,null,null,{"$f":"SUM(F97:F98)","v":0},{"$f":"SUM(G97:G98)","v":0},0,null,{"$f":"SUM(J97:J98)","v":0},null,{"$f":"F99+G99+H99+J99","v":0}]
["Expenditure Section D:    "]
["GEER II EXPENDITURES (CRRSA)",null,null,"-------------------------------------------------------------------------------------------DISBURSEMENTS------------------------------------------------------------------------------------"]
[null,null,null,"(100)","(200)","(300)","(400)","(500)","(600)","(700)","(800)","(900)"]
[null,null,null,"Salaries","Employee Benefits","Purchased Services","Supplies & Materials","Capital Outlay","Other","Non-Capitalized Equipment","Termination Benefits","Total Expenditures"]
["FUNCTION "]
["1.  List the total expenditures for the Functions 1000 and 2000 below"]
["INSTRUCTION Total Expenditures","1000",null,null,null,null,null,null,null,null,null,{"$f":"SUM(D106:J106)","v":0}]
["SUPPORT SERVICES Total Expenditures ",2000,null,null,null,null,null,null,null,null,null,{"$f":"SUM(D107:J107)","v":0}]
[]
["2.  List the specific expenditures in Functions: 2530, 2540, & 2560 below (these expenditures are also included in Function 2000 above)"]
["Facilities Acquisition and Construction Services (Total)","2530",null,null,null,null,null,null,null,null,null,{"$f":"D110+E110+F110+G110+H110+I110+J110","v":0}]
["OPERATION & MAINTENANCE OF PLANT SERVICES (Total)","2540",null,null,null,null,null,null,null,null,null,{"$f":"SUM(D111:J111)","v":0}]
["FOOD SERVICES (Total)","2560",null,null,null,null,null,null,null,null,null,{"$f":"SUM(D112:J112)","v":0}]
[]
["3.  List the technology expenses in Functions: 1000 & 2000 below (these expenditures are also included in Functions 1000 & 2000 above)."]
["TECHNOLOGY-RELATED SUPPLIES, PURCHASE SERVICES, EQUIPMENT (Included in Function 1000)","1000",null,null,null,null,null,null,null,null,null,{"$f":"F115+G115+H115+J115","v":0}]
["TECHNOLOGY-RELATED SUPPLIES, PURCHASE SERVICES, EQUIPMENT (Included in Function 2000)",2000,null,null,null,null,null,null,null,null,null,{"$f":"F116+G116+H116+J116","v":0}]
["TOTAL TECHNOLOGY-RELATED SUPPLIES, PURCHASE SERVICES, EQUIPMENT (Total TECHNOLOGY included in all Expenditure Functions)","Total Technology",null,null,null,{"$f":"SUM(F115:F116)","v":0},{"$f":"SUM(G115:G116)","v":0},0,null,{"$f":"SUM(J115:J116)","v":0},null,{"$f":"F117+G117+H117+J117","v":0}]
["Expenditure Section E:    "]
["ESSER III EXPENDITURES (ARP)",null,null,"-------------------------------------------------------------------------------------------DISBURSEMENTS------------------------------------------------------------------------------------"]
[null,null,null,"(100)","(200)","(300)","(400)","(500)","(600)","(700)","(800)","(900)"]
[null,null,null,"Salaries","Employee Benefits","Purchased Services","Supplies & Materials","Capital Outlay","Other","Non-Capitalized Equipment","Termination Benefits","Total Expenditures"]
["FUNCTION "]
["1.  List the total expenditures for the Functions 1000 and 2000 below"]
["INSTRUCTION Total Expenditures","1000",null,null,null,null,null,null,null,null,null,{"$f":"SUM(D124:J124)","v":0}]
["SUPPORT SERVICES Total Expenditures ",2000,null,null,null,null,null,null,null,null,null,{"$f":"SUM(D125:J125)","v":0}]
[]
["2.  List the specific expenditures in Functions: 2530, 2540, & 2560 below (these expenditures are also included in Function 2000 above)"]
["Facilities Acquisition and Construction Services (Total)","2530",null,null,null,null,null,null,null,null,null,{"$f":"D128+E128+F128+G128+H128+I128+J128","v":0}]
["OPERATION & MAINTENANCE OF PLANT SERVICES (Total)","2540",null,null,null,null,null,null,null,null,null,{"$f":"SUM(D129:J129)","v":0}]
["FOOD SERVICES (Total)","2560",null,null,null,null,null,null,null,null,null,{"$f":"SUM(D130:J130)","v":0}]
[]
["3.  List the technology expenses in Functions: 1000 & 2000 below (these expenditures are also included in Functions 1000 & 2000 above)."]
["TECHNOLOGY-RELATED SUPPLIES, PURCHASE SERVICES, EQUIPMENT (Included in Function 1000)","1000",null,null,null,null,null,null,null,null,null,{"$f":"F133+G133+H133+J133","v":0}]
["TECHNOLOGY-RELATED SUPPLIES, PURCHASE SERVICES, EQUIPMENT (Included in Function 2000)",2000,null,null,null,null,null,null,null,null,null,{"$f":"F134+G134+H134+J134","v":0}]
["TOTAL TECHNOLOGY-RELATED SUPPLIES, PURCHASE SERVICES, EQUIPMENT (Total TECHNOLOGY included in all Expenditure Functions)","Total Technology",null,null,null,{"$f":"SUM(F133:F134)","v":0},{"$f":"SUM(G133:G134)","v":0},0,null,{"$f":"SUM(J133:J134)","v":0},null,{"$f":"F135+G135+H135+J135","v":0}]
["Expenditure Section F:    "]
["CRRSA Child Nutrition (CRRSA)",null,null,"-------------------------------------------------------------------------------------------DISBURSEMENTS------------------------------------------------------------------------------------"]
[null,null,null,"(100)","(200)","(300)","(400)","(500)","(600)","(700)","(800)","(900)"]
[null,null,null,"Salaries","Employee Benefits","Purchased Services","Supplies & Materials","Capital Outlay","Other","Non-Capitalized Equipment","Termination Benefits","Total Expenditures"]
["FUNCTION "]
["1.  List the total expenditures for the Functions 1000 and 2000 below"]
["INSTRUCTION Total Expenditures","1000",null,null,null,null,null,null,null,null,null,{"$f":"SUM(D142:J142)","v":0}]
["SUPPORT SERVICES Total Expenditures ",2000,null,null,null,null,null,null,null,null,null,{"$f":"SUM(D143:J143)","v":0}]
[]
["2.  List the specific expenditures in Functions: 2530, 2540, & 2560 below (these expenditures are also included in Function 2000 above)"]
["Facilities Acquisition and Construction Services (Total)","2530",null,null,null,null,null,null,null,null,null,{"$f":"D146+E146+F146+G146+H146+I146+J146","v":0}]
["OPERATION & MAINTENANCE OF PLANT SERVICES (Total)","2540",null,null,null,null,null,null,null,null,null,{"$f":"SUM(D147:J147)","v":0}]
["FOOD SERVICES (Total)","2560",null,null,null,null,null,null,null,null,null,{"$f":"SUM(D148:J148)","v":0}]
[]
["3.  List the technology expenses in Functions: 1000 & 2000 below (these expenditures are also included in Functions 1000 & 2000 above)."]
["TECHNOLOGY-RELATED SUPPLIES, PURCHASE SERVICES, EQUIPMENT (Included in Function 1000)","1000",null,null,null,null,null,null,null,null,null,{"$f":"F151+G151+H151+J151","v":0}]
["TECHNOLOGY-RELATED SUPPLIES, PURCHASE SERVICES, EQUIPMENT (Included in Function 2000)",2000,null,null,null,null,null,null,null,null,null,{"$f":"F152+G152+H152+J152","v":0}]
["TOTAL TECHNOLOGY-RELATED SUPPLIES, PURCHASE SERVICES, EQUIPMENT (Total TECHNOLOGY included in all Expenditure Functions)","Total Technology",null,null,null,{"$f":"SUM(F151:F152)","v":0},{"$f":"SUM(G151:G152)","v":0},0,null,{"$f":"SUM(J151:J152)","v":0},null,{"$f":"F153+G153+H153+J153","v":0}]
["Expenditure Section G:    "]
["ARP Child Nutrition (ARP)",null,null,"-------------------------------------------------------------------------------------------DISBURSEMENTS------------------------------------------------------------------------------------"]
[null,null,null,"(100)","(200)","(300)","(400)","(500)","(600)","(700)","(800)","(900)"]
[null,null,null,"Salaries","Employee Benefits","Purchased Services","Supplies & Materials","Capital Outlay","Other","Non-Capitalized Equipment","Termination Benefits","Total Expenditures"]
["FUNCTION "]
["1.  List the total expenditures for the Functions 1000 and 2000 below"]
["INSTRUCTION Total Expenditures","1000",null,null,null,null,null,null,null,null,null,{"$f":"SUM(D160:J160)","v":0}]
["SUPPORT SERVICES Total Expenditures ",2000,null,null,null,null,null,null,null,null,null,{"$f":"SUM(D161:J161)","v":0}]
[]
["2.  List the specific expenditures in Functions: 2530, 2540, & 2560 below (these expenditures are also included in Function 2000 above)"]
["Facilities Acquisition and Construction Services (Total)","2530",null,null,null,null,null,null,null,null,null,{"$f":"D164+E164+F164+G164+H164+I164+J164","v":0}]
["OPERATION & MAINTENANCE OF PLANT SERVICES (Total)","2540",null,null,null,null,null,null,null,null,null,{"$f":"SUM(D165:J165)","v":0}]
["FOOD SERVICES (Total)","2560",null,null,null,null,null,null,null,null,null,{"$f":"SUM(D166:J166)","v":0}]
[]
["3.  List the technology expenses in Functions: 1000 & 2000 below (these expenditures are also included in Functions 1000 & 2000 above)."]
["TECHNOLOGY-RELATED SUPPLIES, PURCHASE SERVICES, EQUIPMENT (Included in Function 1000)","1000",null,null,null,null,null,null,null,null,null,{"$f":"F169+G169+H169+J169","v":0}]
["TECHNOLOGY-RELATED SUPPLIES, PURCHASE SERVICES, EQUIPMENT (Included in Function 2000)",2000,null,null,null,null,null,null,null,null,null,{"$f":"F170+G170+H170+J170","v":0}]
["TOTAL TECHNOLOGY-RELATED SUPPLIES, PURCHASE SERVICES, EQUIPMENT (Total TECHNOLOGY included in all Expenditure Functions)","Total Technology",null,null,null,{"$f":"SUM(F169:F170)","v":0},{"$f":"SUM(G169:G170)","v":0},0,null,{"$f":"SUM(J169:J170)","v":0},null,{"$f":"F171+G171+H171+J171","v":0}]
["Expenditure Section H:    "]
["ARP IDEA (ARP)",null,null,"-------------------------------------------------------------------------------------------DISBURSEMENTS------------------------------------------------------------------------------------"]
[null,null,null,"(100)","(200)","(300)","(400)","(500)","(600)","(700)","(800)","(900)"]
[null,null,null,"Salaries","Employee Benefits","Purchased Services","Supplies & Materials","Capital Outlay","Other","Non-Capitalized Equipment","Termination Benefits","Total Expenditures"]
["FUNCTION "]
["1.  List the total expenditures for the Functions 1000 and 2000 below"]
["INSTRUCTION Total Expenditures","1000",null,null,null,null,null,null,null,null,null,{"$f":"SUM(D178:J178)","v":0}]
["SUPPORT SERVICES Total Expenditures ",2000,null,null,null,null,null,null,null,null,null,{"$f":"SUM(D179:J179)","v":0}]
[]
["2.  List the specific expenditures in Functions: 2530, 2540, & 2560 below (these expenditures are also included in Function 2000 above)"]
["Facilities Acquisition and Construction Services (Total)","2530",null,null,null,null,null,null,null,null,null,{"$f":"D182+E182+F182+G182+H182+I182+J182","v":0}]
["OPERATION & MAINTENANCE OF PLANT SERVICES (Total)","2540",null,null,null,null,null,null,null,null,null,{"$f":"SUM(D183:J183)","v":0}]
["FOOD SERVICES (Total)","2560",null,null,null,null,null,null,null,null,null,{"$f":"SUM(D184:J184)","v":0}]
[]
["3.  List the technology expenses in Functions: 1000 & 2000 below (these expenditures are also included in Functions 1000 & 2000 above)."]
["TECHNOLOGY-RELATED SUPPLIES, PURCHASE SERVICES, EQUIPMENT (Included in Function 1000)","1000",null,null,null,null,null,null,null,null,null,{"$f":"F187+G187+H187+J187","v":0}]
["TECHNOLOGY-RELATED SUPPLIES, PURCHASE SERVICES, EQUIPMENT (Included in Function 2000)",2000,null,null,null,null,null,null,null,null,null,{"$f":"F188+G188+H188+J188","v":0}]
["TOTAL TECHNOLOGY-RELATED SUPPLIES, PURCHASE SERVICES, EQUIPMENT (Total TECHNOLOGY included in all Expenditure Functions)","Total Technology",null,null,null,{"$f":"SUM(F187:F188)","v":0},{"$f":"SUM(G187:G188)","v":0},0,null,{"$f":"SUM(J187:J188)","v":0},null,{"$f":"F189+G189+H189+J189","v":0}]
["Expenditure Section I:    "]
["ARP Homeless I (ARP)",null,null,"-------------------------------------------------------------------------------------------DISBURSEMENTS------------------------------------------------------------------------------------"]
[null,null,null,"(100)","(200)","(300)","(400)","(500)","(600)","(700)","(800)","(900)"]
[null,null,null,"Salaries","Employee Benefits","Purchased Services","Supplies & Materials","Capital Outlay","Other","Non-Capitalized Equipment","Termination Benefits","Total Expenditures"]
["FUNCTION "]
["1.  List the total expenditures for the Functions 1000 and 2000 below"]
["INSTRUCTION Total Expenditures","1000",null,null,null,null,null,null,null,null,null,{"$f":"SUM(D196:J196)","v":0}]
["SUPPORT SERVICES Total Expenditures ",2000,null,null,null,null,null,null,null,null,null,{"$f":"SUM(D197:J197)","v":0}]
[]
["2.  List the specific expenditures in Functions: 2530, 2540, & 2560 below (these expenditures are also included in Function 2000 above)"]
["Facilities Acquisition and Construction Services (Total)","2530",null,null,null,null,null,null,null,null,null,{"$f":"D200+E200+F200+G200+H200+I200+J200","v":0}]
["OPERATION & MAINTENANCE OF PLANT SERVICES (Total)","2540",null,null,null,null,null,null,null,null,null,{"$f":"SUM(D201:J201)","v":0}]
["FOOD SERVICES (Total)","2560",null,null,null,null,null,null,null,null,null,{"$f":"SUM(D202:J202)","v":0}]
[]
["3.  List the technology expenses in Functions: 1000 & 2000 below (these expenditures are also included in Functions 1000 & 2000 above)."]
["TECHNOLOGY-RELATED SUPPLIES, PURCHASE SERVICES, EQUIPMENT (Included in Function 1000)","1000",null,null,null,null,null,null,null,null,null,{"$f":"F205+G205+H205+J205","v":0}]
["TECHNOLOGY-RELATED SUPPLIES, PURCHASE SERVICES, EQUIPMENT (Included in Function 2000)",2000,null,null,null,null,null,null,null,null,null,{"$f":"F206+G206+H206+J206","v":0}]
["TOTAL TECHNOLOGY-RELATED SUPPLIES, PURCHASE SERVICES, EQUIPMENT (Total TECHNOLOGY included in all Expenditure Functions)","Total Technology",null,null,null,{"$f":"SUM(F205:F206)","v":0},{"$f":"SUM(G205:G206)","v":0},0,null,{"$f":"SUM(J205:J206)","v":0},null,{"$f":"F207+G207+H207+J207","v":0}]
["Expenditure Section J:    "]
["CURES (Coronavirus State and Local Fiscal Recovery Funds)",null,null,"-------------------------------------------------------------------------------------------DISBURSEMENTS------------------------------------------------------------------------------------"]
[null,null,null,"(100)","(200)","(300)","(400)","(500)","(600)","(700)","(800)","(900)"]
[null,null,null,"Salaries","Employee Benefits","Purchased Services","Supplies & Materials","Capital Outlay","Other","Non-Capitalized Equipment","Termination Benefits","Total Expenditures"]
["FUNCTION "]
["1.  List the total expenditures for the Functions 1000 and 2000 below"]
["INSTRUCTION Total Expenditures","1000",null,null,null,null,null,null,null,null,null,{"$f":"SUM(D214:J214)","v":0}]
["SUPPORT SERVICES Total Expenditures ",2000,null,null,null,null,null,null,null,null,null,{"$f":"SUM(D215:J215)","v":0}]
[]
["2.  List the specific expenditures in Functions: 2530, 2540, & 2560 below (these expenditures are also included in Function 2000 above)"]
["Facilities Acquisition and Construction Services (Total)","2530",null,null,null,null,null,null,null,null,null,{"$f":"D218+E218+F218+G218+H218+I218+J218","v":0}]
["OPERATION & MAINTENANCE OF PLANT SERVICES (Total)","2540",null,null,null,null,null,null,null,null,null,{"$f":"SUM(D219:J219)","v":0}]
["FOOD SERVICES (Total)","2560",null,null,null,null,null,null,null,null,null,{"$f":"SUM(D220:J220)","v":0}]
[]
["3.  List the technology expenses in Functions: 1000 & 2000 below (these expenditures are also included in Functions 1000 & 2000 above)."]
["TECHNOLOGY-RELATED SUPPLIES, PURCHASE SERVICES, EQUIPMENT (Included in Function 1000)","1000",null,null,null,null,null,null,null,null,null,{"$f":"F223+G223+H223+J223","v":0}]
["TECHNOLOGY-RELATED SUPPLIES, PURCHASE SERVICES, EQUIPMENT (Included in Function 2000)",2000,null,null,null,null,null,null,null,null,null,{"$f":"F224+G224+H224+J224","v":0}]
["TOTAL TECHNOLOGY-RELATED SUPPLIES, PURCHASE SERVICES, EQUIPMENT (Total TECHNOLOGY included in all Expenditure Functions)","Total Technology",null,null,null,{"$f":"SUM(F223:F224)","v":0},{"$f":"SUM(G223:G224)","v":0},0,null,{"$f":"SUM(J223:J224)","v":0},null,{"$f":"F225+G225+H225+J225","v":0}]
["Expenditure Section K:    "]
["Other CARES Act Expenditures (not accounted for above)",null,null,"-------------------------------------------------------------------------------------------DISBURSEMENTS------------------------------------------------------------------------------------"]
[null,null,null,"(100)","(200)","(300)","(400)","(500)","(600)","(700)","(800)","(900)"]
[null,null,null,"Salaries","Employee Benefits","Purchased Services","Supplies & Materials","Capital Outlay","Other","Non-Capitalized Equipment","Termination Benefits","Total Expenditures"]
["FUNCTION "]
["1.  List the total expenditures for the Functions 1000 and 2000 below"]
["INSTRUCTION Total Expenditures","1000",null,null,null,null,null,null,null,null,null,{"$f":"SUM(D232:J232)","v":0}]
["SUPPORT SERVICES Total Expenditures ",2000,null,null,null,null,null,null,null,null,null,{"$f":"SUM(D233:J233)","v":0}]
[]
["2.  List the specific expenditures in Functions: 2530, 2540, & 2560 below (these expenditures are also included in Function 2000 above)"]
["Facilities Acquisition and Construction Services (Total)","2530",null,null,null,null,null,null,null,null,null,{"$f":"D236+E236+F236+G236+H236+I236+J236","v":0}]
["OPERATION & MAINTENANCE OF PLANT SERVICES (Total)","2540",null,null,null,null,null,null,null,null,null,{"$f":"SUM(D237:J237)","v":0}]
["FOOD SERVICES (Total)","2560",null,null,null,null,null,null,null,null,null,{"$f":"SUM(D238:J238)","v":0}]
[]
["3.  List the technology expenses in Functions: 1000 & 2000 below (these expenditures are also included in Functions 1000 & 2000 above)."]
["TECHNOLOGY-RELATED SUPPLIES, PURCHASE SERVICES, EQUIPMENT (Included in Function 1000)","1000",null,null,null,null,null,null,null,null,null,{"$f":"F241+G241+H241+J241","v":0}]
["TECHNOLOGY-RELATED SUPPLIES, PURCHASE SERVICES, EQUIPMENT (Included in Function 2000)",2000,null,null,null,null,null,null,null,null,null,{"$f":"F242+G242+H242+J242","v":0}]
["TOTAL TECHNOLOGY-RELATED SUPPLIES, PURCHASE SERVICES, EQUIPMENT (Total TECHNOLOGY included in all Expenditure Functions)","Total Technology",null,null,null,{"$f":"SUM(F241:F242)","v":0},{"$f":"SUM(G241:G242)","v":0},0,null,{"$f":"SUM(J241:J242)","v":0},null,{"$f":"F243+G243+H243+J243","v":0}]
["Expenditure Section L:    "]
["Other CRRSA Expenditures (not accounted for above)",null,null,"-------------------------------------------------------------------------------------------DISBURSEMENTS------------------------------------------------------------------------------------"]
[null,null,null,"(100)","(200)","(300)","(400)","(500)","(600)","(700)","(800)","(900)"]
[null,null,null,"Salaries","Employee Benefits","Purchased Services","Supplies & Materials","Capital Outlay","Other","Non-Capitalized Equipment","Termination Benefits","Total Expenditures"]
["FUNCTION "]
["1.  List the total expenditures for the Functions 1000 and 2000 below"]
["INSTRUCTION Total Expenditures","1000",null,null,null,null,null,null,null,null,null,{"$f":"SUM(D250:J250)","v":0}]
["SUPPORT SERVICES Total Expenditures ",2000,null,null,null,null,null,null,null,null,null,{"$f":"SUM(D251:J251)","v":0}]
[]
["2.  List the specific expenditures in Functions: 2530, 2540, & 2560 below (these expenditures are also included in Function 2000 above)"]
["Facilities Acquisition and Construction Services (Total)","2530",null,null,null,null,null,null,null,null,null,{"$f":"D254+E254+F254+G254+H254+I254+J254","v":0}]
["OPERATION & MAINTENANCE OF PLANT SERVICES (Total)","2540",null,null,null,null,null,null,null,null,null,{"$f":"SUM(D255:J255)","v":0}]
["FOOD SERVICES (Total)","2560",null,null,null,null,null,null,null,null,null,{"$f":"SUM(D256:J256)","v":0}]
[]
["3.  List the technology expenses in Functions: 1000 & 2000 below (these expenditures are also included in Functions 1000 & 2000 above)."]
["TECHNOLOGY-RELATED SUPPLIES, PURCHASE SERVICES, EQUIPMENT (Included in Function 1000)","1000",null,null,null,null,null,null,null,null,null,{"$f":"F259+G259+H259+J259","v":0}]
["TECHNOLOGY-RELATED SUPPLIES, PURCHASE SERVICES, EQUIPMENT (Included in Function 2000)",2000,null,null,null,null,null,null,null,null,null,{"$f":"F260+G260+H260+J260","v":0}]
["TOTAL TECHNOLOGY-RELATED SUPPLIES, PURCHASE SERVICES, EQUIPMENT (Total TECHNOLOGY included in all Expenditure Functions)","Total Technology",null,null,null,{"$f":"SUM(F259:F260)","v":0},{"$f":"SUM(G259:G260)","v":0},0,null,{"$f":"SUM(J259:J260)","v":0},null,{"$f":"F261+G261+H261+J261","v":0}]
["Expenditure Section M:    "]
["Other ARP Expenditures (not accounted for above)",null,null,"-------------------------------------------------------------------------------------------DISBURSEMENTS------------------------------------------------------------------------------------"]
[null,null,null,"(100)","(200)","(300)","(400)","(500)","(600)","(700)","(800)","(900)"]
[null,null,null,"Salaries","Employee Benefits","Purchased Services","Supplies & Materials","Capital Outlay","Other","Non-Capitalized Equipment","Termination Benefits","Total Expenditures"]
["FUNCTION "]
["1.  List the total expenditures for the Functions 1000 and 2000 below"]
["INSTRUCTION Total Expenditures","1000",null,null,null,null,null,null,null,null,null,{"$f":"SUM(D268:J268)","v":0}]
["SUPPORT SERVICES Total Expenditures ",2000,null,null,null,null,null,null,null,null,null,{"$f":"SUM(D269:J269)","v":0}]
[]
["2.  List the specific expenditures in Functions: 2530, 2540, & 2560 below (these expenditures are also included in Function 2000 above)"]
["Facilities Acquisition and Construction Services (Total)","2530",null,null,null,null,null,null,null,null,null,{"$f":"D272+E272+F272+G272+H272+I272+J272","v":0}]
["OPERATION & MAINTENANCE OF PLANT SERVICES (Total)","2540",null,null,null,null,null,null,null,null,null,{"$f":"SUM(D273:J273)","v":0}]
["FOOD SERVICES (Total)","2560",null,null,null,null,null,null,null,null,null,{"$f":"SUM(D274:J274)","v":0}]
[]
["3.  List the technology expenses in Functions: 1000 & 2000 below (these expenditures are also included in Functions 1000 & 2000 above)."]
["TECHNOLOGY-RELATED SUPPLIES, PURCHASE SERVICES, EQUIPMENT (Included in Function 1000)","1000",null,null,null,null,null,null,null,null,null,{"$f":"F277+G277+H277+J277","v":0}]
["TECHNOLOGY-RELATED SUPPLIES, PURCHASE SERVICES, EQUIPMENT (Included in Function 2000)",2000,null,null,null,null,null,null,null,null,null,{"$f":"F278+G278+H278+J278","v":0}]
["TOTAL TECHNOLOGY-RELATED SUPPLIES, PURCHASE SERVICES, EQUIPMENT (Total TECHNOLOGY included in all Expenditure Functions)","Total Technology",null,null,null,{"$f":"SUM(F277:F278)","v":0},{"$f":"SUM(G277:G278)","v":0},0,null,{"$f":"SUM(J277:J278)","v":0},null,{"$f":"F279+G279+H279+J279","v":0}]
[]
["Expenditure Section N:    "]
["TOTAL EXPENDITURES (from all CARES, CRRSA, & ARP funds)",null,null,"-------------------------------------------------------------------------------------------DISBURSEMENTS------------------------------------------------------------------------------------"]
[null,null,null,"(100)","(200)","(300)","(400)","(500)","(600)","(700)","(800)","(900)"]
[null,null,null,"Salaries","Employee Benefits","Purchased Services","Supplies & Materials","Capital Outlay","Other","Non-Capitalized Equipment","Termination Benefits","Total Expenditures"]
["FUNCTION "]
["INSTRUCTION","1000",null,{"$f":"SUM(D52+D70+D88+D106+D124+D142+D160+D178+D196+D214+D232+D250+D268)","v":0},{"$f":"SUM(E52+E70+E88+E106+E124+E142+E160+E178+E196+E214+E232+E250+E268)","v":0},0,0,0,0,0,null,{"$f":"SUM(D286:J286)","v":0}]
["SUPPORT SERVICES",2000,null,{"$f":"SUM(D53+D71+D89+D107+D125+D143+D161+D179+D197+D215+D233+D251+D269)","v":0},{"$f":"SUM(E53+E71+E89+E107+E125+E143+E161+E179+E197+E215+E233+E251+E269)","v":0},0,0,0,0,0,null,{"$f":"SUM(D287:J287)","v":0}]
["Facilities Acquisition and Construction Services (Total)",2530,null,{"$f":"SUM(D56+D74+D92+D110+D128+D146+D164+D182+D200+D218+D236+D254+D272)","v":0},{"$f":"SUM(E56+E74+E92+E110+E128+E146+E164+E182+E200+E218+E236+E254+E272)","v":0},0,0,0,0,0,null,{"$f":"SUM(D288:J288)","v":0}]
["OPERATION & MAINTENANCE OF PLANT SERVICES (Total)",2540,null,{"$f":"SUM(D57+D75+D93+D111+D129+D147+D165+D183+D201+D219+D237+D255+D273)","v":0},{"$f":"SUM(E57+E75+E93+E111+E129+E147+E165+E183+E201+E219+E237+E255+E273)","v":0},0,0,0,0,0,null,0]
["FOOD SERVICES (Total)",2560,null,{"$f":"SUM(D58+D76+D94+D112+D130+D148+D166+D184+D202+D220+D238+D256+D274)","v":0},{"$f":"SUM(E58+E76+E94+E112+E130+E148+E166+E184+E202+E220+E238+E256+E274)","v":0},0,0,0,0,0,null,0]
["TOTAL EXPENDITURES",null,null,null,null,null,null,null,null,null,"Functions 1000 & 2000 total",{"$f":"SUM(L286:L287)","v":0}]
[]
["Expenditure Section O:    "]
["TOTAL TECHNOLOGY EXPENDITURES (from all CARES, CRRSA, & ARP funds)",null,null,"-------------------------------------------------------------------------------------------DISBURSEMENTS------------------------------------------------------------------------------------"]
[null,null,null,"(100)","(200)","(300)","(400)","(500)","(600)","(700)","(800)","(900)"]
[null,null,null,"Salaries","Employee Benefits","Purchased Services","Supplies & Materials","Capital Outlay","Other","Non-Capitalized Equipment","Termination Benefits","Total Expenditures"]
["FUNCTION "]
["TOTAL TECHNOLOGY-RELATED SUPPLIES, PURCHASE SERVICES, EQUIPMENT (Total TECHNOLOGY Expenditures)","Total Technology",null,null,null,{"$f":"SUM(F63+F81+F99+F117+F135+F153+F171+F189+F207+F225+F243+F261+F279)","v":0},{"$f":"SUM(G63+G81+G99+G117+G135+G153+G171+G189+G207+G225+G243+G261+G279)","v":0},0,null,{"$f":"SUM(J63+J81+J99+J117+J135+J153+J171+J189+J207+J225+J243+J261+J279)","v":0},null,{"$f":"SUM(F298+G298+H298+J298)","v":0}]

{"sheet":"Cap Outlay Deprec 36","index":13,"n_rows":18,"n_cols":12,"rows_kept":18,"cut":false,"hidden":false,"merged":[[0,9,0,11],[0,0,0,2]]}
[" SCHEDULE OF CAPITAL OUTLAY AND DEPRECIATION"]
["Description of Assets                                                   (Enter Whole Dollars)","Acct #",{"$f":"\"Cost                     Beginning                July 1, \"&'AFR22'!$E$2-1","v":"Cost                     Beginning                July 1, 2021"},{"$f":"\"Add:                     Additions           July 1, \"&'AFR22'!E2-1&\" thru June 30, \"&'AFR22'!E2","v":"Add:                     Additions           July 1, 2021 thru June 30, 2022"},{"$f":"\"Less:  Deletions   July 1, \"&'AFR22'!E2-1&\" thru June 30, \"&'AFR22'!E2","v":"Less:  Deletions   July 1, 2021 thru June 30, 2022"},{"$f":"\"Cost Ending                      June 30, \"&'AFR22'!E2","v":"Cost Ending                      June 30, 2022"},"Life In Years",{"$f":"\"Accumlated Depreciation Beginning                July 1, \"&'AFR22'!$E$2-1","v":"Accumlated Depreciation Beginning                July 1, 2021"},{"$f":"\"Add:  Depreciation Allowable                 July 1, \"&'AFR22'!E2-1&\" thru June 30, \"&'AFR22'!E2","v":"Add:  Depreciation Allowable                 July 1, 2021 thru June 30, 2022"},{"$f":"\"Less:  Depreciation Deletions                                   July 1, \"&'AFR22'!E2-1&\" thru               June 30, \"&'AFR22'!E2","v":"Less:  Depreciation Deletions                                   July 1, 2021 thru               June 30, 2022"},{"$f":"\"Accumulated Depreciation Ending              June 30, \"&'AFR22'!E2","v":"Accumulated Depreciation Ending              June 30, 2022"},{"$f":"\"Ending Balance Undepreciated           June 30, \"&'AFR22'!E2","v":"Ending Balance Undepreciated           June 30, 2022"}]
["Works of Art & Historical Treasures",210,null,null,null,{"$f":"(C3+D3)-E3","v":0},null,null,null,null,{"$f":"(H3+I3)-J3","v":0},{"$f":"F3-K3","v":0}]
["Land",220]
["Non-Depreciable Land",221,null,null,null,{"$f":"(C5+D5)-E5","v":0},null,null,null,null,null,{"$f":"F5-K5","v":0}]
["Depreciable Land",222,null,null,null,{"$f":"(C6+D6)-E6","v":0},50,null,null,null,{"$f":"(H6+I6)-J6","v":0},{"$f":"F6-K6","v":0}]
["Buildings",230]
["Permanent Buildings",231,null,null,null,{"$f":"(C8+D8)-E8","v":0},50,null,null,null,{"$f":"(H8+I8)-J8","v":0},{"$f":"F8-K8","v":0}]
["Temporary Buildings",232,null,null,null,{"$f":"(C9+D9)-E9","v":0},20,null,null,null,{"$f":"(H9+I9)-J9","v":0},{"$f":"F9-K9","v":0}]
["Improvements Other than Buildings (Infrastructure)",240,null,null,null,{"$f":"(C10+D10)-E10","v":0},20,null,null,null,{"$f":"(H10+I10)-J10","v":0},{"$f":"F10-K10","v":0}]
["Capitalized Equipment",250]
["10 Yr Schedule",251,null,null,null,{"$f":"(C12+D12)-E12","v":0},10,null,null,null,{"$f":"(H12+I12)-J12","v":0},{"$f":"F12-K12","v":0}]
["5 Yr Schedule",252,null,null,null,{"$f":"(C13+D13)-E13","v":0},5,null,null,null,{"$f":"(H13+I13)-J13","v":0},{"$f":"F13-K13","v":0}]
["3 Yr Schedule",253,null,null,null,{"$f":"(C14+D14)-E14","v":0},3,null,null,null,{"$f":"(H14+I14)-J14","v":0},{"$f":"F14-K14","v":0}]
["Construction in Progress",260,null,null,null,{"$f":"(C15+D15)-E15","v":0},"--",null,null,null,null,{"$f":"F15-K15","v":0}]
["Total Capital Assets",200,{"$f":"SUM(C3,C5:C6,C8:C10,C12:C15)","v":0},{"$f":"SUM(D3,D5:D6,D8:D10,D12:D15)","v":0},{"$f":"SUM(E3,E5:E6,E8:E10,E12:E15)","v":0},{"$f":"SUM(F3,F5:F6,F8:F10,F12:F15)","v":0},null,{"$f":"SUM(H3,H6,H8:H10,H12:H14,)","v":0},{"$f":"SUM(I3,I6,I8:I10,I12:I14,)","v":0},{"$f":"SUM(J3,J6,J8:J10,J12:J14,)","v":0},{"$f":"(H16+I16)-J16","v":0},{"$f":"F16-K16","v":0}]
["Non-Capitalized Equipment",700,null,null,null,{"$f":"SUM('Expenditures 16-24'!I116,'Expenditures 16-24'!I155,'Expenditures 16-24'!I214,'Expenditures 16-24'!I309,'Expenditures 16-24'!I429,'Expenditures 16-24'!I454)","v":0},10,null,{"$f":"F17/G17","v":0}]
["Allowable Depreciation",null,null,null,null,null,null,null,{"$f":"SUM(I16,I17)","v":0}]

{"sheet":"PCTC-OEPP 37-39","index":14,"n_rows":204,"n_cols":7,"rows_kept":204,"cut":false,"hidden":false,"merged":[[203,0,203,5],[5,0,5,5],[0,0,0,5],[100,0,100,5],[1,0,1,5],[4,0,4,5]]}
[{"$f":"\"ESTIMATED OPERATING EXPENSE PER PUPIL (OEPP)/PER CAPITA TUITION CHARGE (PCTC) COMPUTATIONS (\"&'AFR22'!E2-1&\" - \"&'AFR22'!E2&\")\"","v":"ESTIMATED OPERATING EXPENSE PER PUPIL (OEPP)/PER CAPITA TUITION CHARGE (PCTC) COMPUTATIONS (2021 - 2022)"}]
["This schedule is completed for school districts only."]
[]
["Fund","Sheet, Row",null,"ACCOUNT NO - TITLE",null,"Amount"]
[]
["OPERATING EXPENSE PER PUPIL"]
["EXPENDITURES:"]
["ED","Expenditures 16-24, L116",null,"Total Expenditures","$",{"$f":"'Expenditures 16-24'!K116","v":0}]
["O&M","Expenditures 16-24, L155",null,"Total Expenditures",null,{"$f":"'Expenditures 16-24'!K155","v":0}]
["DS","Expenditures 16-24, L178",null,"Total Expenditures",null,{"$f":"'Expenditures 16-24'!K178","v":0}]
["TR","Expenditures 16-24, L214",null,"Total Expenditures",null,{"$f":"'Expenditures 16-24'!K214","v":0}]
["MR/SS","Expenditures 16-24, L292",null,"Total Expenditures",null,{"$f":"'Expenditures 16-24'!K292","v":0}]
["TORT","Expenditures 16-24, L422",null,"Total Expenditures",null,{"$f":"'Expenditures 16-24'!K429","v":0}]
[null,null,null,"Total Expenditures","$",{"$f":"SUM(F8:F13)","v":0}]
[]
["LESS RECEIPTS/REVENUES OR DISBURSEMENTS/EXPENDITURES NOT APPLICABLE TO THE REGULAR K-12 PROGRAM:"]
[]
["TR","Revenues 10-15, L43, Col F",{"$f":"'Revenues 10-15'!B43","v":1412},{"$f":"'Revenues 10-15'!A43","v":"Regular - Transp Fees from Other Districts (In State)"},"$",{"$f":"'Revenues 10-15'!F43","v":0}]
["TR","Revenues 10-15, L47, Col F",{"$f":"'Revenues 10-15'!B47","v":1421},{"$f":"'Revenues 10-15'!A47","v":"Summer Sch - Transp. Fees from Pupils or Parents (In State)"},null,{"$f":"'Revenues 10-15'!F47","v":0}]
["TR","Revenues 10-15, L48, Col F",{"$f":"'Revenues 10-15'!B48","v":1422},{"$f":"'Revenues 10-15'!A48","v":"Summer Sch - Transp. Fees from Other Districts (In State)"},null,{"$f":"'Revenues 10-15'!F48","v":0}]
["TR","Revenues 10-15, L49, Col F",{"$f":"'Revenues 10-15'!B49","v":1423},{"$f":"'Revenues 10-15'!A49","v":"Summer Sch - Transp. Fees from Other Sources (In State)"},null,{"$f":"'Revenues 10-15'!F49","v":0}]
["TR","Revenues 10-15, L50 Col F",{"$f":"'Revenues 10-15'!B50","v":1424},{"$f":"'Revenues 10-15'!A50","v":"Summer Sch - Transp. Fees from Other Sources (Out of State)"},null,{"$f":"'Revenues 10-15'!F50","v":0}]
["TR","Revenues 10-15, L52, Col F",{"$f":"'Revenues 10-15'!B52","v":1432},{"$f":"'Revenues 10-15'!A52","v":"CTE - Transp Fees from Other Districts (In State)"},null,{"$f":"'Revenues 10-15'!F52","v":0}]
["TR","Revenues 10-15, L56, Col F",{"$f":"'Revenues 10-15'!B56","v":1442},{"$f":"'Revenues 10-15'!A56","v":"Special Ed - Transp Fees from Other Districts (In State)"},null,{"$f":"'Revenues 10-15'!F56","v":0}]
["TR","Revenues 10-15, L59, Col F",{"$f":"'Revenues 10-15'!B59","v":1451},{"$f":"'Revenues 10-15'!A59","v":"Adult - Transp Fees from Pupils or Parents (In State)"},null,{"$f":"'Revenues 10-15'!F59","v":0}]
["TR","Revenues 10-15, L60, Col F ",{"$f":"'Revenues 10-15'!B60","v":1452},{"$f":"'Revenues 10-15'!A60","v":"Adult - Transp Fees from Other Districts (In State)"},null,{"$f":"'Revenues 10-15'!F60","v":0}]
["TR","Revenues 10-15, L61, Col F",{"$f":"'Revenues 10-15'!B61","v":1453},{"$f":"'Revenues 10-15'!A61","v":"Adult - Transp Fees from Other Sources (In State)"},null,{"$f":"'Revenues 10-15'!F61","v":0}]
["TR","Revenues 10-15, L62, Col F",{"$f":"'Revenues 10-15'!B62","v":1454},{"$f":"'Revenues 10-15'!A62","v":"Adult - Transp Fees from Other Sources (Out of State)"},null,{"$f":"'Revenues 10-15'!F62","v":0}]
["O&M-TR","Revenues 10-15, L151, Col D & F",{"$f":"'Revenues 10-15'!B151","v":3410},{"$f":"'Revenues 10-15'!A151","v":"Adult Ed (from ICCB)"},null,{"$f":"SUM('Revenues 10-15'!D151,'Revenues 10-15'!F151)","v":0}]
["O&M-TR","Revenues 10-15, L152, Col D & F",{"$f":"'Revenues 10-15'!B152","v":3499},{"$f":"'Revenues 10-15'!A152","v":"Adult Ed - Other (Describe & Itemize)"},null,{"$f":"('Revenues 10-15'!D152+'Revenues 10-15'!F152)","v":0}]
["O&M-TR","Revenues 10-15, L213, Col D,F",{"$f":"'Revenues 10-15'!B213","v":4600},{"$f":"'Revenues 10-15'!A213","v":"Fed - Spec Education - Preschool Flow-Through"},null,{"$f":"SUM('Revenues 10-15'!D213,'Revenues 10-15'!F213)","v":0}]
["O&M-TR","Revenues 10-15, L214, Col D,F",{"$f":"'Revenues 10-15'!B214","v":4605},{"$f":"'Revenues 10-15'!A214","v":"Fed - Spec Education - Preschool Discretionary"},null,{"$f":"SUM('Revenues 10-15'!D214,'Revenues 10-15'!F214)","v":0}]
["O&M","Revenues 10-15, L224, Col D",{"$f":"'Revenues 10-15'!B224","v":4810},{"$f":"'Revenues 10-15'!A224","v":"Federal - Adult Education"},null,{"$f":"'Revenues 10-15'!D224","v":0}]
["ED","Expenditures 16-24, L7, Col K - (G+I)",{"$f":"'Expenditures 16-24'!B7","v":"1125"},{"$f":"'Expenditures 16-24'!A7","v":"Pre-K Programs"},null,{"$f":"'Expenditures 16-24'!K7-SUM('Expenditures 16-24'!G7,'Expenditures 16-24'!I7)","v":0}]
["ED","Expenditures 16-24, L9, Col K - (G+I)",{"$f":"'Expenditures 16-24'!B9","v":"1225"},{"$f":"'Expenditures 16-24'!A9","v":"Special Education Programs Pre-K"},null,{"$f":"'Expenditures 16-24'!K9-SUM('Expenditures 16-24'!G9+'Expenditures 16-24'!I9)","v":0}]
["ED","Expenditures 16-24, L11, Col K - (G+I)",{"$f":"'Expenditures 16-24'!B11","v":"1275"},{"$f":"'Expenditures 16-24'!A11","v":"Remedial and Supplemental Programs Pre-K"},null,{"$f":"'Expenditures 16-24'!K11-SUM('Expenditures 16-24'!G11,'Expenditures 16-24'!I11)","v":0}]
["ED","Expenditures 16-24, L12, Col K - (G+I)",{"$f":"'Expenditures 16-24'!B12","v":1300},{"$f":"'Expenditures 16-24'!A12","v":"Adult/Continuing Education Programs"},null,{"$f":"'Expenditures 16-24'!K12-SUM('Expenditures 16-24'!G12+'Expenditures 16-24'!I12)","v":0}]
["ED","Expenditures 16-24, L15, Col K - (G+I)",{"$f":"'Expenditures 16-24'!B15","v":1600},{"$f":"'Expenditures 16-24'!A15","v":"Summer School Programs"},null,{"$f":"'Expenditures 16-24'!K15-SUM('Expenditures 16-24'!G15,'Expenditures 16-24'!I15)","v":0}]
["ED","Expenditures 16-24, L20, Col K",{"$f":"'Expenditures 16-24'!B20","v":"1910"},{"$f":"'Expenditures 16-24'!A20","v":"Pre-K Programs - Private Tuition"},null,{"$f":"'Expenditures 16-24'!K20","v":0}]
["ED","Expenditures 16-24, L21, Col K",{"$f":"'Expenditures 16-24'!B21","v":"1911"},{"$f":"'Expenditures 16-24'!A21","v":"Regular K-12 Programs - Private Tuition"},null,{"$f":"'Expenditures 16-24'!K21","v":0}]
["ED","Expenditures 16-24, L22, Col K",{"$f":"'Expenditures 16-24'!B22","v":"1912"},{"$f":"'Expenditures 16-24'!A22","v":"Special Education Programs K-12 - Private Tuition"},null,{"$f":"'Expenditures 16-24'!K22","v":0}]
["ED","Expenditures 16-24, L23, Col K",{"$f":"'Expenditures 16-24'!B23","v":"1913"},{"$f":"'Expenditures 16-24'!A23","v":"Special Education Programs Pre-K - Tuition"},null,{"$f":"'Expenditures 16-24'!K23","v":0}]
["ED","Expenditures 16-24, L24, Col K",{"$f":"'Expenditures 16-24'!B24","v":"1914"},{"$f":"'Expenditures 16-24'!A24","v":"Remedial/Supplemental Programs K-12 - Private Tuition"},null,{"$f":"'Expenditures 16-24'!K24","v":0}]
["ED","Expenditures 16-24, L25, Col K",{"$f":"'Expenditures 16-24'!B25","v":"1915"},{"$f":"'Expenditures 16-24'!A25","v":"Remedial/Supplemental Programs Pre-K - Private Tuition"},null,{"$f":"'Expenditures 16-24'!K25","v":0}]
["ED","Expenditures 16-24, L26, Col K",{"$f":"'Expenditures 16-24'!B26","v":"1916"},{"$f":"'Expenditures 16-24'!A26","v":"Adult/Continuing Education Programs - Private Tuition"},null,{"$f":"'Expenditures 16-24'!K26","v":0}]
["ED","Expenditures 16-24, L27, Col K",{"$f":"'Expenditures 16-24'!B27","v":"1917"},{"$f":"'Expenditures 16-24'!A27","v":"CTE Programs - Private Tuition"},null,{"$f":"'Expenditures 16-24'!K27","v":0}]
["ED","Expenditures 16-24, L28, Col K",{"$f":"'Expenditures 16-24'!B28","v":"1918"},{"$f":"'Expenditures 16-24'!A28","v":"Interscholastic Programs - Private Tuition"},null,{"$f":"'Expenditures 16-24'!K28","v":0}]
["ED","Expenditures 16-24, L29, Col K",{"$f":"'Expenditures 16-24'!B29","v":"1919"},{"$f":"'Expenditures 16-24'!A29","v":"Summer School Programs - Private Tuition"},null,{"$f":"'Expenditures 16-24'!K29","v":0}]
["ED","Expenditures 16-24, L30, Col K",{"$f":"'Expenditures 16-24'!B30","v":"1920"},{"$f":"'Expenditures 16-24'!A30","v":"Gifted Programs - Private Tuition"},null,{"$f":"'Expenditures 16-24'!K30","v":0}]
["ED","Expenditures 16-24, L31, Col K",{"$f":"'Expenditures 16-24'!B31","v":"1921"},{"$f":"'Expenditures 16-24'!A31","v":"Bilingual Programs - Private Tuition"},null,{"$f":"'Expenditures 16-24'!K31","v":0}]
["ED","Expenditures 16-24, L32, Col K",{"$f":"'Expenditures 16-24'!B32","v":"1922"},{"$f":"'Expenditures 16-24'!A32","v":"Truants Alternative/Optional Ed Progms - Private Tuition"},null,{"$f":"'Expenditures 16-24'!K32","v":0}]
["ED","Expenditures 16-24, L77, Col K - (G+I)",{"$f":"'Expenditures 16-24'!B77","v":"3000"},"Community Services",null,{"$f":"'Expenditures 16-24'!K77-SUM('Expenditures 16-24'!G77,'Expenditures 16-24'!I77)","v":0}]
["ED","Expenditures 16-24, L104, Col K",{"$f":"'Expenditures 16-24'!B104","v":4000},{"$f":"'Expenditures 16-24'!A104","v":"Total Payments to Other Govt Units"},null,{"$f":"'Expenditures 16-24'!K104","v":0}]
["ED","Expenditures 16-24, L116, Col G","-","Capital Outlay",null,{"$f":"'Expenditures 16-24'!G116","v":0}]
["ED","Expenditures 16-24, L116, Col I","-","Non-Capitalized Equipment",null,{"$f":"'Expenditures 16-24'!I116","v":0}]
["O&M","Expenditures 16-24, L134, Col K - (G+I)",{"$f":"'Expenditures 16-24'!B134","v":"3000"},"Community Services",null,{"$f":"'Expenditures 16-24'!K134-SUM('Expenditures 16-24'!G134+'Expenditures 16-24'!I134)","v":0}]
["O&M","Expenditures 16-24, L143, Col K",{"$f":"'Expenditures 16-24'!B143","v":4000},{"$f":"'Expenditures 16-24'!A143","v":"Total Payments to Other Govt Units"},null,{"$f":"'Expenditures 16-24'!K143","v":0}]
["O&M","Expenditures 16-24, L155, Col G","-","Capital Outlay",null,{"$f":"'Expenditures 16-24'!G155","v":0}]
["O&M","Expenditures 16-24, L155, Col I","-","Non-Capitalized Equipment",null,{"$f":"'Expenditures 16-24'!I155","v":0}]
["DS","Expenditures 16-24, L164, Col K",4000,"Payments to Other Dist & Govt Units",null,{"$f":"'Expenditures 16-24'!K164","v":0}]
["DS","Expenditures 16-24, L174, Col K",{"$f":"'Expenditures 16-24'!B174","v":"5300"},"Debt Service - Payments of Principal on Long-Term Debt",null,{"$f":"'Expenditures 16-24'!K174","v":0}]
["TR","Expenditures 16-24, L189, Col K - (G+I)",{"$f":"'Expenditures 16-24'!B189","v":3000},"Community Services",null,{"$f":"'Expenditures 16-24'!K189-SUM('Expenditures 16-24'!G189,'Expenditures 16-24'!I189)","v":0}]
["TR","Expenditures 16-24, L200, Col K",{"$f":"'Expenditures 16-24'!B200","v":"4000"},{"$f":"'Expenditures 16-24'!A200","v":"Total Payments to Other Govt Units"},null,{"$f":"'Expenditures 16-24'!K200","v":0}]
["TR","Expenditures 16-24, L210, Col K",{"$f":"'Expenditures 16-24'!B210","v":"5300"},"Debt Service - Payments of Principal on Long-Term Debt",null,{"$f":"'Expenditures 16-24'!K210","v":0}]
["TR","Expenditures 16-24, L214, Col G","-","Capital Outlay",null,{"$f":"'Expenditures 16-24'!G214","v":0}]
["TR","Expenditures 16-24, L214, Col I","-","Non-Capitalized Equipment",null,{"$f":"'Expenditures 16-24'!I214","v":0}]
["MR/SS","Expenditures 16-24, L220, Col K",{"$f":"'Expenditures 16-24'!B220","v":"1125"},{"$f":"'Expenditures 16-24'!A220","v":"Pre-K Programs"},null,{"$f":"'Expenditures 16-24'!K220","v":0}]
["MR/SS","Expenditures 16-24, L222, Col K",{"$f":"'Expenditures 16-24'!B222","v":"1225"},{"$f":"'Expenditures 16-24'!A222","v":"Special Education Programs - Pre-K"},null,{"$f":"'Expenditures 16-24'!K222","v":0}]
["MR/SS","Expenditures 16-24, L224, Col K",{"$f":"'Expenditures 16-24'!B224","v":"1275"},{"$f":"'Expenditures 16-24'!A224","v":"Remedial and Supplemental Programs - Pre-K"},null,{"$f":"'Expenditures 16-24'!K224","v":0}]
["MR/SS","Expenditures 16-24, L225, Col K",{"$f":"'Expenditures 16-24'!B225","v":1300},{"$f":"'Expenditures 16-24'!A225","v":"Adult/Continuing Education Programs"},null,{"$f":"'Expenditures 16-24'!K225","v":0}]
["MR/SS","Expenditures 16-24, L228, Col K",{"$f":"'Expenditures 16-24'!B228","v":1600},{"$f":"'Expenditures 16-24'!A228","v":"Summer School Programs"},null,{"$f":"'Expenditures 16-24'!K228","v":0}]
["MR/SS","Expenditures 16-24, L277, Col K",{"$f":"'Expenditures 16-24'!B277","v":3000},"Community Services",null,{"$f":"'Expenditures 16-24'!K277","v":0}]
["MR/SS","Expenditures 16-24, L282, Col K",{"$f":"'Expenditures 16-24'!B282","v":"4000"},{"$f":"'Expenditures 16-24'!A282","v":"Total Payments to Other Govt Units"},null,{"$f":"'Expenditures 16-24'!K282","v":0}]
["Tort","Expenditures 16-24, L318, Col K - (G+I)","1125","Pre-K Programs",null,{"$f":"'Expenditures 16-24'!K318-SUM('Expenditures 16-24'!G318,'Expenditures 16-24'!I318)","v":0}]
["Tort","Expenditures 16-24, L320, Col K - (G+I)","1225","Special Education Programs Pre-K",null,{"$f":"'Expenditures 16-24'!K320-SUM('Expenditures 16-24'!G320,'Expenditures 16-24'!I320)","v":0}]
["Tort","Expenditures 16-24, L322, Col K - (G+I)","1275","Remedial and Supplemental Programs Pre-K",null,{"$f":"'Expenditures 16-24'!K322-SUM('Expenditures 16-24'!G322,'Expenditures 16-24'!I322)","v":0}]
["Tort","Expenditures 16-24, L323, Col K - (G+I)",1300,"Adult/Continuing Education Programs",null,{"$f":"'Expenditures 16-24'!K323-SUM('Expenditures 16-24'!G323,'Expenditures 16-24'!I323)","v":0}]
["Tort","Expenditures 16-24, L326, Col K - (G+I)",1600,"Summer School Programs",null,{"$f":"'Expenditures 16-24'!K326-SUM('Expenditures 16-24'!G326,'Expenditures 16-24'!I326)","v":0}]
["Tort","Expenditures 16-24, L331, Col K","1910","Pre-K Programs - Private Tuition",null,{"$f":"'Expenditures 16-24'!K331","v":0}]
["Tort","Expenditures 16-24, L332, Col K","1911","Regular K-12 Programs - Private Tuition",null,{"$f":"'Expenditures 16-24'!K332","v":0}]
["Tort","Expenditures 16-24, L333, Col K","1912","Special Education Programs K-12 - Private Tuition",null,{"$f":"'Expenditures 16-24'!K333","v":0}]
["Tort","Expenditures 16-24, L334, Col K","1913","Special Education Programs Pre-K - Tuition",null,{"$f":"'Expenditures 16-24'!K334","v":0}]
["Tort","Expenditures 16-24, L335, Col K","1914","Remedial/Supplemental Programs K-12 - Private Tuition",null,{"$f":"'Expenditures 16-24'!K335","v":0}]
["Tort","Expenditures 16-24, L336, Col K","1915","Remedial/Supplemental Programs Pre-K - Private Tuition",null,{"$f":"'Expenditures 16-24'!K336","v":0}]
["Tort","Expenditures 16-24, L337, Col K","1916","Adult/Continuing Education Programs - Private Tuition",null,{"$f":"'Expenditures 16-24'!K337","v":0}]
["Tort","Expenditures 16-24, L338, Col K","1917","CTE Programs - Private Tuition",null,{"$f":"'Expenditures 16-24'!K338","v":0}]
["Tort","Expenditures 16-24, L339, Col K","1918","Interscholastic Programs - Private Tuition",null,{"$f":"'Expenditures 16-24'!K339","v":0}]
["Tort","Expenditures 16-24, L340, Col K","1919","Summer School Programs - Private Tuition",null,{"$f":"'Expenditures 16-24'!K340","v":0}]
["Tort","Expenditures 16-24, L341, Col K","1920","Gifted Programs - Private Tuition",null,{"$f":"'Expenditures 16-24'!K341","v":0}]
["Tort","Expenditures 16-24, L342, Col K","1921","Bilingual Programs - Private Tuition",null,{"$f":"'Expenditures 16-24'!K342","v":0}]
["Tort","Expenditures 16-24, L343, Col K","1922","Truants Alternative/Optional Ed Progms - Private Tuition",null,{"$f":"'Expenditures 16-24'!K343","v":0}]
["Tort","Expenditures 16-24, L387, Col K - (G+I)","3000","Community Services",null,{"$f":"'Expenditures 16-24'!K388-SUM('Expenditures 16-24'!G388,'Expenditures 16-24'!I388)","v":0}]
["Tort","Expenditures 16-24, L414, Col K","4000","Total Payments to Other Govt Units",null,{"$f":"'Expenditures 16-24'!K415","v":0}]
["Tort ","Expenditures 16-24, L422, Col G","-","Capital Outlay",null,{"$f":"'Expenditures 16-24'!G429","v":0}]
["Tort","Expenditures 16-24, L422, Col I","-","Non-Capitalized Equipment",null,{"$f":"'Expenditures 16-24'!I429","v":0}]
[null,null,null,"Total Deductions for OEPP Computation (Sum of Lines 18 - 95) ","$",{"$f":"SUM(F18:F95)","v":0}]
[null,null,null,"Total Operating Expenses Regular K-12 (Line 14 minus Line 96)",null,{"$f":"(F14-F96)","v":0}]
[null,null,null,{"$f":"\"9 Month ADA from Average Daily Attendance - Student Information System (SIS) in IWAS-preliminary ADA \"&'AFR22'!$E$2-1&\"-\"&'AFR22'!$E$2","v":"9 Month ADA from Average Daily Attendance - Student Information System (SIS) in IWAS-preliminary ADA 2021-2022"},null,0]
[null,null,null,"Estimated OEPP  (Line 97 divided by Line 98)","$",{"$f":"IF(F98>0,F97/F98,\" Complete Line 98\")","v":" Complete Line 98"}]
[]
["PER CAPITA TUITION CHARGE"]
[]
[" LESS OFFSETTING RECEIPTS/REVENUES:"]
["TR","Revenues 10-15, L42, Col F",{"$f":"'Revenues 10-15'!B42","v":1411},{"$f":"'Revenues 10-15'!A42","v":"Regular -Transp Fees from Pupils or Parents (In State)"},"$",{"$f":"'Revenues 10-15'!F42","v":0}]
["TR","Revenues 10-15, L44, Col F",{"$f":"'Revenues 10-15'!B44","v":1413},{"$f":"'Revenues 10-15'!A44","v":"Regular - Transp Fees from Other Sources (In State)"},null,{"$f":"'Revenues 10-15'!F44","v":0}]
["TR","Revenues 10-15, L45, Col F",{"$f":"'Revenues 10-15'!B45","v":1415},{"$f":"'Revenues 10-15'!A45","v":"Regular - Transp Fees from Co-curricular Activities (In State)"},null,{"$f":"'Revenues 10-15'!F45","v":0}]
["TR","Revenues 10-15, L46, Col F",1416,{"$f":"'Revenues 10-15'!A46","v":"Regular Transp Fees from Other Sources (Out of State)"},null,{"$f":"'Revenues 10-15'!F46","v":0}]
["TR","Revenues 10-15, L51, Col F",{"$f":"'Revenues 10-15'!B51","v":1431},{"$f":"'Revenues 10-15'!A51","v":"CTE - Transp Fees from Pupils or Parents (In State)"},null,{"$f":"'Revenues 10-15'!F51","v":0}]
["TR","Revenues 10-15, L53, Col F",{"$f":"'Revenues 10-15'!B53","v":1433},{"$f":"'Revenues 10-15'!A53","v":"CTE - Transp Fees from Other Sources (In State)"},null,{"$f":"'Revenues 10-15'!F53","v":0}]
["TR","Revenues 10-15, L54, Col F",{"$f":"'Revenues 10-15'!B54","v":1434},{"$f":"'Revenues 10-15'!A54","v":"CTE - Transp Fees from Other Sources (Out of State)"},null,{"$f":"'Revenues 10-15'!F54","v":0}]
["TR","Revenues 10-15, L55, Col F",{"$f":"'Revenues 10-15'!B55","v":1441},{"$f":"'Revenues 10-15'!A55","v":"Special Ed - Transp Fees from Pupils or Parents (In State)"},null,{"$f":"'Revenues 10-15'!F55","v":0}]
["TR","Revenues 10-15, L57, Col F",{"$f":"'Revenues 10-15'!B57","v":1443},{"$f":"'Revenues 10-15'!A57","v":"Special Ed - Transp Fees from Other Sources (In State)"},null,{"$f":"'Revenues 10-15'!F57","v":0}]
["TR","Revenues 10-15, L58, Col F",{"$f":"'Revenues 10-15'!B58","v":1444},{"$f":"'Revenues 10-15'!A58","v":"Special Ed - Transp Fees from Other Sources (Out of State)"},null,{"$f":"'Revenues 10-15'!F58","v":0}]
["ED","Revenues 10-15, L75, Col C",1600,{"$f":"'Revenues 10-15'!A75","v":"Total Food Service"},null,{"$f":"'Revenues 10-15'!C75","v":0}]
["ED-O&M","Revenues 10-15, L83, Col C,D",1700,{"$f":"'Revenues 10-15'!A83","v":"Total District/School Activity Income (without Student Activity Funds)"},null,{"$f":"SUM('Revenues 10-15'!C83,'Revenues 10-15'!D83)","v":0}]
["ED","Revenues 10-15, L86, Col C",{"$f":"'Revenues 10-15'!B86","v":1811},{"$f":"'Revenues 10-15'!A86","v":"Rentals - Regular Textbooks"},null,{"$f":"'Revenues 10-15'!C86","v":0}]
["ED","Revenues 10-15, L89, Col C",{"$f":"'Revenues 10-15'!B89","v":1819},{"$f":"'Revenues 10-15'!A89","v":"Rentals - Other (Describe & Itemize)"},null,{"$f":"'Revenues 10-15'!C89","v":0}]
["ED","Revenues 10-15, L90, Col C",{"$f":"'Revenues 10-15'!B90","v":1821},{"$f":"'Revenues 10-15'!A90","v":"Sales - Regular Textbooks"},null,{"$f":"'Revenues 10-15'!C90","v":0}]
["ED","Revenues 10-15, L93, Col C",{"$f":"'Revenues 10-15'!B93","v":1829},{"$f":"'Revenues 10-15'!A93","v":"Sales - Other (Describe & Itemize)"},null,{"$f":"'Revenues 10-15'!C93","v":0}]
["ED","Revenues 10-15, L94, Col C",{"$f":"'Revenues 10-15'!B94","v":1890},{"$f":"'Revenues 10-15'!A94","v":"Other (Describe & Itemize)"},null,{"$f":"'Revenues 10-15'!C94","v":0}]
["ED-O&M","Revenues 10-15, L97, Col C,D",{"$f":"'Revenues 10-15'!B97","v":1910},{"$f":"'Revenues 10-15'!A97","v":"Rentals"},null,{"$f":"SUM('Revenues 10-15'!C97:D97)","v":0}]
["ED-O&M-TR","Revenues 10-15, L100, Col C,D,F",{"$f":"'Revenues 10-15'!B100","v":1940},{"$f":"'Revenues 10-15'!A100","v":"Services Provided Other Districts"},null,{"$f":"SUM('Revenues 10-15'!C100,'Revenues 10-15'!D100,'Revenues 10-15'!F100)","v":0}]
["ED-O&M-DS-TR-MR/SS","Revenues 10-15, L106, Col C,D,E,F,G",{"$f":"'Revenues 10-15'!B106","v":1991},{"$f":"'Revenues 10-15'!A106","v":"Payment from Other Districts"},null,{"$f":"SUM('Revenues 10-15'!C106,'Revenues 10-15'!D106,'Revenues 10-15'!E106,'Revenues 10-15'!F106,'Revenues 10-15'!G106)","v":0}]
["ED","Revenues 10-15, L108, Col C",{"$f":"'Revenues 10-15'!B108","v":1993},{"$f":"'Revenues 10-15'!A108","v":"Other Local Fees (Describe & Itemize)"},null,{"$f":"('Revenues 10-15'!C108)","v":0}]
["ED-O&M-TR","Revenues 10-15, L134, Col C,D,F",3100,{"$f":"'Revenues 10-15'!A134","v":"Total Special Education"},null,{"$f":"SUM('Revenues 10-15'!C134:D134,'Revenues 10-15'!F134)","v":0}]
["ED-O&M-MR/SS","Revenues 10-15, L143, Col C,D,G",3200,{"$f":"'Revenues 10-15'!A143","v":"Total Career and Technical Education"},null,{"$f":"SUM('Revenues 10-15'!C143,'Revenues 10-15'!D143,'Revenues 10-15'!G143)","v":0}]
["ED-MR/SS","Revenues 10-15, L147, Col C,G",3300,{"$f":"'Revenues 10-15'!A147","v":"Total Bilingual Ed"},null,{"$f":"SUM('Revenues 10-15'!C147,'Revenues 10-15'!G147)","v":0}]
["ED","Revenues 10-15, L148, Col C",{"$f":"'Revenues 10-15'!B148","v":3360},{"$f":"'Revenues 10-15'!A148","v":"State Free Lunch & Breakfast"},null,{"$f":"'Revenues 10-15'!C148","v":0}]
["ED-O&M-MR/SS","Revenues 10-15, L149, Col C,D,G",{"$f":"'Revenues 10-15'!B149","v":3365},{"$f":"'Revenues 10-15'!A149","v":"School Breakfast Initiative"},null,{"$f":"SUM('Revenues 10-15'!C149,'Revenues 10-15'!D149,'Revenues 10-15'!G149)","v":0}]
["ED-O&M","Revenues 10-15, L150,Col C,D",{"$f":"'Revenues 10-15'!B150","v":3370},{"$f":"'Revenues 10-15'!A150","v":"Driver Education"},null,{"$f":"SUM('Revenues 10-15'!C150,'Revenues 10-15'!D150)","v":0}]
["ED-O&M-TR-MR/SS","Revenues 10-15, L157, Col C,D,F,G",3500,{"$f":"'Revenues 10-15'!A157","v":"Total Transportation"},null,{"$f":"SUM('Revenues 10-15'!C157,'Revenues 10-15'!D157,'Revenues 10-15'!F157,'Revenues 10-15'!G157)","v":0}]
["ED","Revenues 10-15, L158, Col C",{"$f":"'Revenues 10-15'!B158","v":3610},{"$f":"'Revenues 10-15'!A158","v":"Learning Improvement - Change Grants"},null,{"$f":"'Revenues 10-15'!C158","v":0}]
["ED-O&M-TR-MR/SS","Revenues 10-15, L159, Col C,D,F,G",{"$f":"'Revenues 10-15'!B159","v":3660},{"$f":"'Revenues 10-15'!A159","v":"Scientific Literacy"},null,{"$f":"SUM('Revenues 10-15'!C159,'Revenues 10-15'!D159,'Revenues 10-15'!F159,'Revenues 10-15'!G159)","v":0}]
["ED-TR-MR/SS","Revenues 10-15, L160, Col C,F,G",{"$f":"'Revenues 10-15'!B160","v":3695},{"$f":"'Revenues 10-15'!A160","v":"Truant Alternative/Optional Education"},null,{"$f":"SUM('Revenues 10-15'!C160,'Revenues 10-15'!F160,'Revenues 10-15'!G160)","v":0}]
["ED-O&M-TR-MR/SS","Revenues 10-15, L162, Col C,D,F,G",{"$f":"'Revenues 10-15'!B162","v":3766},{"$f":"'Revenues 10-15'!A162","v":"Chicago General Education Block Grant"},null,{"$f":"SUM('Revenues 10-15'!C162,'Revenues 10-15'!D162,'Revenues 10-15'!F162,'Revenues 10-15'!G162)","v":0}]
["ED-O&M-TR-MR/SS","Revenues 10-15, L163, Col C,D,F,G",{"$f":"'Revenues 10-15'!B163","v":3767},{"$f":"'Revenues 10-15'!A163","v":"Chicago Educational Services Block Grant"},null,{"$f":"SUM('Revenues 10-15'!C163,'Revenues 10-15'!D163,'Revenues 10-15'!F163,'Revenues 10-15'!G163)","v":0}]
["ED-O&M-DS-TR-MR/SS","Revenues 10-15, L164, Col C,D,E,F,G",{"$f":"'Revenues 10-15'!B164","v":3775},{"$f":"'Revenues 10-15'!A164","v":"School Safety & Educational Improvement Block Grant"},null,{"$f":"SUM('Revenues 10-15'!C164,'Revenues 10-15'!D164,'Revenues 10-15'!E164,'Revenues 10-15'!F164,'Revenues 10-15'!G164)","v":0}]
["ED-O&M-DS-TR-MR/SS","Revenues 10-15, L165, Col C,D,E,F,G",{"$f":"'Revenues 10-15'!B165","v":3780},{"$f":"'Revenues 10-15'!A165","v":"Technology - Technology for Success"},null,{"$f":"SUM('Revenues 10-15'!C165:G165)","v":0}]
["ED-TR","Revenues 10-15, L166, Col C,F",{"$f":"'Revenues 10-15'!B166","v":3815},{"$f":"'Revenues 10-15'!A166","v":"State Charter Schools"},null,{"$f":"SUM('Revenues 10-15'!C166,'Revenues 10-15'!F166)","v":0}]
["O&M","Revenues 10-15, L169, Col D",{"$f":"'Revenues 10-15'!B169","v":3925},{"$f":"'Revenues 10-15'!A169","v":"School Infrastructure - Maintenance Projects"},null,{"$f":"'Revenues 10-15'!D169","v":0}]
["ED-O&M-DS-TR-MR/SS-Tort","Revenues 10-15, L170, Col C-G,J",{"$f":"'Revenues 10-15'!B170","v":3999},"Other Restricted Revenue from State Sources",null,{"$f":"SUM('Revenues 10-15'!C170:G170,'Revenues 10-15'!J170)","v":0}]
["ED","Revenues 10-15, L179, Col C",{"$f":"'Revenues 10-15'!B179","v":4045},{"$f":"'Revenues 10-15'!A179 & \" (Subtract)\"","v":"Head Start (Subtract)"},null,{"$f":"SUM(-'Revenues 10-15'!C179)","v":0}]
["ED-O&M-TR-MR/SS","Revenues 10-15, L183, Col C,D,F,G","-",{"$f":"('Revenues 10-15'!A183)","v":"Total Restricted Grants-In-Aid Received Directly from Federal Govt"},null,{"$f":"SUM('Revenues 10-15'!C183,'Revenues 10-15'!D183,'Revenues 10-15'!F183,'Revenues 10-15'!G183)","v":0}]
["ED-O&M-TR-MR/SS","Revenues 10-15, L190, Col C,D,F,G",4100,{"$f":"'Revenues 10-15'!A190","v":"Total Title V"},null,{"$f":"SUM('Revenues 10-15'!C190,'Revenues 10-15'!D190,'Revenues 10-15'!F190,'Revenues 10-15'!G190)","v":0}]
["ED-MR/SS","Revenues 10-15, L200, Col C,G",4200,{"$f":"'Revenues 10-15'!A200","v":"Total Food Service"},null,{"$f":"SUM('Revenues 10-15'!C200,'Revenues 10-15'!G200)","v":0}]
["ED-O&M-TR-MR/SS","Revenues 10-15, L206, Col C,D,F,G",4300,{"$f":"'Revenues 10-15'!A206","v":"Total Title I"},null,{"$f":"SUM('Revenues 10-15'!C206,'Revenues 10-15'!D206,'Revenues 10-15'!F206,'Revenues 10-15'!G206)","v":0}]
["ED-O&M-TR-MR/SS","Revenues 10-15, L211, Col C,D,F,G",4400,{"$f":"'Revenues 10-15'!A211","v":"Total Title IV"},null,{"$f":"SUM('Revenues 10-15'!C211,'Revenues 10-15'!D211,'Revenues 10-15'!F211,'Revenues 10-15'!G211)","v":0}]
["ED-O&M-TR-MR/SS","Revenues 10-15, L215, Col C,D,F,G",{"$f":"'Revenues 10-15'!B215","v":4620},{"$f":"'Revenues 10-15'!A215","v":"Fed - Spec Education - IDEA - Flow Through"},null,{"$f":"SUM('Revenues 10-15'!C215:D215,'Revenues 10-15'!F215:G215)","v":0}]
["ED-O&M-TR-MR/SS","Revenues 10-15, L216, Col C,D,F,G",{"$f":"'Revenues 10-15'!B216","v":4625},{"$f":"'Revenues 10-15'!A216","v":"Fed - Spec Education - IDEA - Room & Board"},null,{"$f":"SUM('Revenues 10-15'!C216,'Revenues 10-15'!D216,'Revenues 10-15'!F216,'Revenues 10-15'!G216)","v":0}]
["ED-O&M-TR-MR/SS","Revenues 10-15, L217, Col C,D,F,G",{"$f":"'Revenues 10-15'!B217","v":4630},{"$f":"'Revenues 10-15'!A217","v":"Fed - Spec Education - IDEA - Discretionary"},null,{"$f":"SUM('Revenues 10-15'!C217:D217,'Revenues 10-15'!F217:G217)","v":0},6297]
["ED-O&M-TR-MR/SS","Revenues 10-15, L218, Col C,D,F,G",{"$f":"'Revenues 10-15'!B218","v":4699},{"$f":"'Revenues 10-15'!A218","v":"Fed - Spec Education - IDEA - Other (Describe & Itemize)"},null,{"$f":"SUM('Revenues 10-15'!C218:D218,'Revenues 10-15'!F218:G218)","v":0}]
["ED-O&M-MR/SS","Revenues 10-15, L223, Col C,D,G",4700,{"$f":"'Revenues 10-15'!A223","v":"Total CTE - Perkins"},null,{"$f":"SUM('Revenues 10-15'!C223,'Revenues 10-15'!D223,'Revenues 10-15'!G223)","v":0},6303]
["ED-O&M-TR-MR/SS-Tort","Revenue-L224, Col C,D,F,G","4851",{"$f":"'Revenues 10-15'!A226","v":"ARRA - Title I - Low Income"},null,{"$f":"SUM('Revenues 10-15'!$C$226:$D$226,'Revenues 10-15'!$F$226:$G$226)","v":0}]
["ED-O&M-TR-MR/SS-Tort","Revenue-L225, Col C,D,E,F,G,J","4852",{"$f":"'Revenues 10-15'!A227","v":"ARRA - Title I - Neglected, Private"},null,{"$f":"SUM('Revenues 10-15'!C227:G227,'Revenues 10-15'!J227)","v":0}]
["ED-O&M-TR-MR/SS-Tort","Revenue L226, Col C,D,E,F,G,J","4853",{"$f":"'Revenues 10-15'!A228","v":"ARRA - Title I - Delinquent, Private"},null,{"$f":"SUM('Revenues 10-15'!C228:G228,'Revenues 10-15'!J228)","v":0}]
["ED-O&M-TR-MR/SS-Tort","Revenue L227, Col C,D,E,F,G,J","4854",{"$f":"'Revenues 10-15'!A229","v":"ARRA - Title I - School Improvement (Part A)"},null,{"$f":"SUM('Revenues 10-15'!C229:G229,'Revenues 10-15'!J229)","v":0}]
["ED-O&M-TR-MR/SS-Tort","Revenue L228, Col C,D,E,F,G,J","4855",{"$f":"'Revenues 10-15'!A230","v":"ARRA - Title I - School Improvement (Section 1003g)"},null,{"$f":"SUM('Revenues 10-15'!C230:G230,'Revenues 10-15'!J230)","v":0}]
["ED-O&M-TR-MR/SS-Tort","Revenue L229, Col C,D,E,F,G,J","4856",{"$f":"'Revenues 10-15'!A231","v":"ARRA - IDEA - Part B - Preschool"},null,0]
["ED-O&M-TR-MR/SS-Tort","Revenue L230, Col C,D,E,F,G,J","4857",{"$f":"'Revenues 10-15'!A232","v":"ARRA - IDEA - Part B - Flow-Through"},null,{"$f":"SUM('Revenues 10-15'!C232:G232,'Revenues 10-15'!J232)","v":0}]
["ED-O&M-TR-MR/SS-Tort","Revenue L231, Col C,D,E,F,G,J","4860",{"$f":"'Revenues 10-15'!A233","v":"ARRA - Title IID - Technology-Formula"},null,{"$f":"SUM('Revenues 10-15'!C233:G233,'Revenues 10-15'!J233)","v":0}]
["ED-O&M-TR-MR/SS-Tort","Revenue L232, Col C,D,E,F,G,J","4861",{"$f":"'Revenues 10-15'!A234","v":"ARRA - Title IID - Technology-Competitive"},null,{"$f":"SUM('Revenues 10-15'!C234:G234,'Revenues 10-15'!J234)","v":0}]
["ED-O&M-TR-MR/SS","Revenue L233, Col C, D,F,G","4862",{"$f":"'Revenues 10-15'!A235","v":"ARRA - McKinney - Vento Homeless Education"},null,{"$f":"SUM('Revenues 10-15'!C235:G235,'Revenues 10-15'!J235)","v":0}]
["ED-O&M-TR-MR/SS-Tort","Revenue L237, Col C,D,E,F,G,J","4866",{"$f":"'Revenues 10-15'!A239","v":"Qualified Zone Academy Bond Tax Credits"},null,{"$f":"SUM('Revenues 10-15'!C239:G239,'Revenues 10-15'!J239)","v":0}]
["ED-O&M-TR-MR/SS-Tort","Revenue L238, Col C,D,E,F,G,J","4867",{"$f":"'Revenues 10-15'!A240","v":"Qualified School Construction Bond Credits"},null,{"$f":"SUM('Revenues 10-15'!C240:G240,'Revenues 10-15'!J240)","v":0}]
["ED-O&M-TR-MR/SS-Tort","Revenue L239, Col C,D,E,F,G,J","4868",{"$f":"'Revenues 10-15'!A241","v":"Build America Bond Tax Credits"},null,{"$f":"SUM('Revenues 10-15'!C241:G241,'Revenues 10-15'!J241)","v":0}]
["ED-O&M-TR-MR/SS-Tort","Revenue L240, Col C,D,E,F,G,J","4869",{"$f":"'Revenues 10-15'!A242","v":"Build America Bond Interest Reimbursement"},null,{"$f":"SUM('Revenues 10-15'!C242:G242,'Revenues 10-15'!J242)","v":0}]
["ED-O&M-TR-MR/SS-Tort","Revenue L242, Col C,D,E,F,G,J","4871",{"$f":"'Revenues 10-15'!A244","v":"Other ARRA Funds - II"},null,{"$f":"SUM('Revenues 10-15'!C244:G244,'Revenues 10-15'!J244)","v":0}]
["ED-O&M-TR-MR/SS-Tort","Revenue L243, Col C,D,E,F,G,J","4872",{"$f":"'Revenues 10-15'!A245","v":"Other ARRA Funds - III"},null,{"$f":"SUM('Revenues 10-15'!C245:G245,'Revenues 10-15'!J245)","v":0}]
["ED-O&M-TR-MR/SS-Tort","Revenue L244, Col C,D,E,F,G,J","4873",{"$f":"'Revenues 10-15'!A246","v":"Other ARRA Funds - IV"},null,{"$f":"SUM('Revenues 10-15'!C246:G246,'Revenues 10-15'!J246)","v":0}]
["ED-O&M-TR-MR/SS-Tort","Revenue L245, Col C,D,E,F,G,J","4874",{"$f":"'Revenues 10-15'!A247","v":"Other ARRA Funds - V"},null,{"$f":"SUM('Revenues 10-15'!C247:G247,'Revenues 10-15'!J247)","v":0}]
["ED-O&M-TR-MR/SS-Tort","Revenue L246, Col C,D,E,F,G,J","4875",{"$f":"'Revenues 10-15'!A248","v":"ARRA - Early Childhood"},null,0]
["ED-O&M-TR-MR/SS-Tort","Revenue L247, Col C,D,E,F,G,J","4876",{"$f":"'Revenues 10-15'!A249","v":"Other ARRA Funds VII"},null,{"$f":"SUM('Revenues 10-15'!C249:G249,'Revenues 10-15'!J249)","v":0}]
["ED-O&M-TR-MR/SS-Tort","Revenue L248, Col C,D,E,F,G,J","4877",{"$f":"'Revenues 10-15'!A250","v":"Other ARRA Funds VIII"},null,{"$f":"SUM('Revenues 10-15'!C250:G250,'Revenues 10-15'!J250)","v":0}]
["ED-O&M-TR-MR/SS-Tort","Revenue L249, Col C,D,E,F,G,J","4878",{"$f":"'Revenues 10-15'!A251","v":"Other ARRA Funds IX"},null,{"$f":"SUM('Revenues 10-15'!C251:G251,'Revenues 10-15'!J251)","v":0}]
["ED-O&M-TR-MR/SS-Tort","Revenue L250, Col C,D,E,F,G,J","4879",{"$f":"'Revenues 10-15'!A252","v":"Other ARRA Funds X"},null,{"$f":"SUM('Revenues 10-15'!C252:G252,'Revenues 10-15'!J252)","v":0}]
["ED-O&M-TR-MR/SS-Tort","Revenue L251, Col C,D,E,F,G,J","4880",{"$f":"'Revenues 10-15'!A253","v":"Other ARRA Funds Ed Job Fund Program"},null,{"$f":"SUM('Revenues 10-15'!C253:G253,'Revenues 10-15'!J253)","v":0}]
["ED-O&M-DS-TR-MR/SS-Tort","Revenue Adjustments (C226 thru J253)","4800","Total ARRA Program Adjustments",null,{"$f":"SUM(F153:F176)","v":0}]
["ED","Revenues 10-15, L255, Col C","4901","Race to the Top",null,{"$f":"SUM('Revenues 10-15'!C255)","v":0}]
["ED-O&M-TR-MR/SS","Revenues 10-15, L256, Col C,D,F,G","4902","Race to the Top-Preschool Expansion Grant",null,{"$f":"SUM('Revenues 10-15'!C256,'Revenues 10-15'!D256,'Revenues 10-15'!F256,'Revenues 10-15'!G256)","v":0}]
["ED-TR-MR/SS","Revenues 10-15, L257, Col C,F,G",{"$f":"'Revenues 10-15'!B257","v":4905},{"$f":"'Revenues 10-15'!A257","v":"Title III - Immigrant Education Program (IEP)"},null,{"$f":"SUM('Revenues 10-15'!C257,'Revenues 10-15'!F257,'Revenues 10-15'!G257)","v":0},6306]
["ED-TR-MR/SS","Revenues 10-15, L258, Col C,F,G",{"$f":"'Revenues 10-15'!B258","v":4909},{"$f":"'Revenues 10-15'!A258","v":"Title III - Language Inst Program - Limited Eng (LIPLEP)"},null,{"$f":"SUM('Revenues 10-15'!C258,'Revenues 10-15'!F258,'Revenues 10-15'!G258)","v":0}]
["ED-O&M-TR-MR/SS","Revenues 10-15, L259, Col C,D,F,G",{"$f":"'Revenues 10-15'!B259","v":4920},{"$f":"'Revenues 10-15'!A259","v":"McKinney Education for Homeless Children"},null,{"$f":"SUM('Revenues 10-15'!C259,'Revenues 10-15'!D259,'Revenues 10-15'!F259,'Revenues 10-15'!G259)","v":0}]
["ED-O&M-TR-MR/SS","Revenues 10-15, L260, Col C,D,F,G",{"$f":"'Revenues 10-15'!B260","v":4930},{"$f":"'Revenues 10-15'!A260","v":"Title II - Eisenhower Professional Development Formula"},null,{"$f":"SUM('Revenues 10-15'!C260:D260,'Revenues 10-15'!F260,'Revenues 10-15'!G260)","v":0}]
["ED-O&M-TR-MR/SS","Revenues 10-15, L261, Col C,D,F,G",{"$f":"'Revenues 10-15'!B261","v":4932},{"$f":"'Revenues 10-15'!A261","v":"Title II - Teacher Quality"},null,{"$f":"SUM('Revenues 10-15'!C261,'Revenues 10-15'!D261,'Revenues 10-15'!F261,'Revenues 10-15'!G261)","v":0}]
["ED-O&M-TR-MR/SS","Revenues 10-15, L262, Col C,D,F,G",{"$f":"'Revenues 10-15'!B262","v":4960},{"$f":"'Revenues 10-15'!A262","v":"Federal Charter Schools"},null,{"$f":"SUM('Revenues 10-15'!C262:D262,'Revenues 10-15'!F262:G262)","v":0}]
["ED-O&M-TR-MR/SS","Revenues 10-15, L263, Col C,D,F,G",{"$f":"'Revenues 10-15'!B263","v":4981},{"$f":"'Revenues 10-15'!A263","v":"State Assessment Grants"},null,{"$f":"SUM('Revenues 10-15'!C263:D263,'Revenues 10-15'!F263:G263)","v":0}]
["ED-O&M-TR-MR/SS","Revenues 10-15, L264, Col C,D,F,G",{"$f":"'Revenues 10-15'!B264","v":4982},{"$f":"'Revenues 10-15'!A264","v":"Grant for State Assessments and Related Activities"},null,{"$f":"SUM('Revenues 10-15'!C264:D264,'Revenues 10-15'!F264:G264)","v":0}]
["ED-O&M-TR-MR/SS","Revenues 10-15, L265, Col C,D,F,G",{"$f":"'Revenues 10-15'!B265","v":4991},{"$f":"'Revenues 10-15'!A265","v":"Medicaid Matching Funds - Administrative Outreach"},null,{"$f":"SUM('Revenues 10-15'!C265:D265,'Revenues 10-15'!F265:G265)","v":0},6320]
["ED-O&M-TR-MR/SS","Revenues 10-15, L266, Col C,D,F,G",{"$f":"'Revenues 10-15'!B266","v":4992},{"$f":"'Revenues 10-15'!A266","v":"Medicaid Matching Funds - Fee-for-Service Program"},null,{"$f":"SUM('Revenues 10-15'!C266:D266,'Revenues 10-15'!F266:G266)","v":0}]
["ED-O&M-TR-MR/SS","Revenues 10-15, L267, Col C,D,F,G",{"$f":"'Revenues 10-15'!B267","v":4998},{"$f":"'Revenues 10-15'!A267","v":"Other Restricted Revenue from Federal Sources (Describe & Itemize)"},null,{"$f":"SUM('Revenues 10-15'!C267:D267,'Revenues 10-15'!F267:G267)","v":0}]
["Federal Stimulus Revenue ","CARES CRRSA ARP Schedule ",null,{"$f":"\"Adjusting for FY\"&MID('AFR22'!E2,3,2)-2&\" or FY\"&MID('AFR22'!E2,3,2)-1&\" revenue received in FY\"&MID('AFR22'!E2,3,2)&\" for FY\"&MID('AFR22'!E2,3,2)-2&\" or FY\"&MID('AFR22'!E2,3,2)-1&\" Expenses\"","v":"Adjusting for FY20 or FY21 revenue received in FY22 for FY20 or FY21 Expenses"},null,{"$f":"-'CARES CRRSA ARP 28-35'!L18","v":0}]
["ED-TR-MR/SS","Revenues (Part of EBF Payment)",3100,"Special Education Contributions from EBF Funds **"]
["ED-MR/SS","Revenues (Part of EBF Payment)",3300,"English Learning (Bilingual) Contributions from EBF Funds **"]
[]
[null,null,null,"Total Deductions for PCTC Computation  Line 104 through Line 193","$",{"$f":"SUM(F104:F152,F177:F193)","v":0}]
[null,null,null,"Net Operating Expense for Tuition Computation (Line 97 minus Line 195)",null,{"$f":"'PCTC-OEPP 37-39'!F97-F195","v":0}]
[null,null,null,"Total Depreciation Allowance (from page 36, Line 18, Col I) ",null,{"$f":"'Cap Outlay Deprec 36'!I18","v":0}]
[null,null,null,"Total Allowance for PCTC Computation (Line 196 plus Line 197)",null,{"$f":"F196+F197","v":0}]
[null,null,null,{"$f":"D98","v":"9 Month ADA from Average Daily Attendance - Student Information System (SIS) in IWAS-preliminary ADA 2021-2022"},null,{"$f":"'PCTC-OEPP 37-39'!F98","v":0}]
[null,null,null,"Total Estimated PCTC (Line 198 divided by Line 199)","*   $",{"$f":"F198/F199","v":{"$error":"#DIV/0!"}},6323]
[null,null,null,null,null,null,6326]
["*The total OEPP/PCTC may change based on the data provided.  The final amounts will be calculated by ISBE.  The 9-month ADA listed on the this tab is NOT the final 9-month ADA."]
["**Go to the Evidence-Based Funding Distribution Calculation webpage."]
["Under Reports, open the FY 2022 Special Education Funding Allocation Calculation Details and the FY 2022 English Learner Education Funding Allocation Calculation Details.  Use the respective Excel file to locate the amount in column X for the Special Education Contribution and column V for the English Learner Contribution for the selected school district. Please enter “0” if the district does not have allocations for lines 192 and 193."]

{"sheet":"Contracts Paid in CY 40","index":15,"n_rows":145,"n_cols":6,"rows_kept":145,"cut":false,"hidden":false,"merged":[[1,0,1,5],[144,0,144,3],[16,0,16,5],[3,0,4,5],[6,0,6,5],[9,0,9,5],[11,0,11,5],[14,0,14,5],[5,0,5,5],[7,0,7,5]]}
["                                                                                                                                                                Illinois State Board of Education"]
["School Business Services Department"]
[]
["Current Year Payment on Contracts For Indirect Cost Rate Computation"]
[]
["Please do not remove and reinsert this tab from the workbook or paste into this tab.  The AFR will be returned to the auditor if this tab is completed incorrectly. "]
["This schedule is to calculate the amount allowed on contracts obligated by the school district for the Indirect Cost Rate calculation.  The contracts should be only for purchase services and not for salary contracts.  Do not include contracts for Capital Outlay (500) or Non-Capitalized Equipment (700) on this schedule.  They are excluded from the Indirect Cost Rate calculation.  "]
["To determine the applicable contracts for this schedule, they must meet ALL three qualifications below:"]
["1.  The contract must be coded to one of the combinations listed on the icon below."]
["2.  The contract must meet the qualifications below on the \"Subaward & Subcontract Guidance\" and the \"Indirect Cost Rate Plan\" (Sub-agreement for Services).  "]
["3.  Only list contracts that were paid over $25,000 for the fiscal year.  "]
[]
[null,null,"Indirect Cost Rate Plan"]
[]
["Column A, B, C, D below must be completed for each contract.  Enter Column B without hypens.  Ex) 101000600"]
["Column (E) and (F) are calculated automatically based on the information provided in Columns (A through D).  "]
[{"$f":"\"The amount in column (E) is the amount allowed on each contract in the Indirect Cost Rate calculation.  The amount in column (F) is the amount that will be deducted from the base in the indirect cost rate (tab 41) for Program Year \"&'AFR22'!E2+2&\".\"","v":"The amount in column (E) is the amount allowed on each contract in the Indirect Cost Rate calculation.  The amount in column (F) is the amount that will be deducted from the base in the indirect cost rate (tab 41) for Program Year 2024."}]
["Enter Fund-Function-Object Name, Where the Expenditure was Recorded (Column A)","Fund- Function- Object Number            (Column B)","Enter Contracted Company Name                              (Column C)","Enter Current Year Amount Paid on Contract (must be less than or equal to amount reported in the AFR's \"Expenditures 16-24\" tab)   (Column D)"," Contract Amount Applied to the Indirect Cost Rate Base                                   (Column E)","Contract Amount deducted from the Indirect Cost Rate Base                                  (Column F)"]
["Enter as shown here: ED-Instruction-Other","10-1000-600","Company Name",500000,{"$f":"IF(D19<25000,D19,\"25,000\")","v":"25,000"},{"$f":"IF(D19>=25000,(D19-E19),\"0\")","v":475000}]
[null,null,null,null,{"$f":"IF(D20<25000,D20,\"25,000\")","v":0},{"$f":"IF(D20>=25000,(D20-E20),\"0\")","v":"0"}]
[null,null,null,null,0,"0"]
[null,null,null,null,0,"0"]
[null,null,null,null,0,"0"]
[null,null,null,null,0,"0"]
[null,null,null,null,0,"0"]
[null,null,null,null,0,"0"]
[null,null,null,null,0,"0"]
[null,null,null,null,0,"0"]
[null,null,null,null,0,"0"]
[null,null,null,null,0,"0"]
[null,null,null,null,0,"0"]
[null,null,null,null,0,"0"]
[null,null,null,null,0,"0"]
[null,null,null,null,0,"0"]
[null,null,null,null,0,"0"]
[null,null,null,null,0,"0"]
[null,null,null,null,0,"0"]
[null,null,null,null,0,"0"]
[null,null,null,null,0,"0"]
[null,null,null,null,0,"0"]
[null,null,null,null,0,"0"]
[null,null,null,null,0,"0"]
[null,null,null,null,0,"0"]
[null,null,null,null,0,"0"]
[null,null,null,null,0,"0"]
[null,null,null,null,0,"0"]
[null,null,null,null,0,"0"]
[null,null,null,null,0,"0"]
[null,null,null,null,0,"0"]
[null,null,null,null,0,"0"]
[null,null,null,null,0,"0"]
[null,null,null,null,0,"0"]
[null,null,null,null,0,"0"]
[null,null,null,null,0,"0"]
[null,null,null,null,0,"0"]
[null,null,null,null,0,"0"]
[null,null,null,null,0,"0"]
[null,null,null,null,0,"0"]
[null,null,null,null,0,"0"]
[null,null,null,null,0,"0"]
[null,null,null,null,0,"0"]
[null,null,null,null,0,"0"]
[null,null,null,null,0,"0"]
[null,null,null,null,0,"0"]
[null,null,null,null,0,"0"]
[null,null,null,null,0,"0"]
[null,null,null,null,0,"0"]
[null,null,null,null,0,"0"]
[null,null,null,null,0,"0"]
[null,null,null,null,0,"0"]
[null,null,null,null,0,"0"]
[null,null,null,null,0,"0"]
[null,null,null,null,0,"0"]
[null,null,null,null,0,"0"]
[null,null,null,null,0,"0"]
[null,null,null,null,0,"0"]
[null,null,null,null,0,"0"]
[null,null,null,null,0,"0"]
[null,null,null,null,0,"0"]
[null,null,null,null,0,"0"]
[null,null,null,null,0,"0"]
[null,null,null,null,0,"0"]
[null,null,null,null,0,"0"]
[null,null,null,null,{"$f":"IF(D84<25000,D84,\"25,000\")","v":0},{"$f":"IF(D84>=25000,(D84-E84),\"0\")","v":"0"}]
[null,null,null,null,0,"0"]
[null,null,null,null,0,"0"]
[null,null,null,null,0,"0"]
[null,null,null,null,0,"0"]
[null,null,null,null,0,"0"]
[null,null,null,null,0,"0"]
[null,null,null,null,0,"0"]
[null,null,null,null,0,"0"]
[null,null,null,null,0,"0"]
[null,null,null,null,0,"0"]
[null,null,null,null,0,"0"]
[null,null,null,null,0,"0"]
[null,null,null,null,0,"0"]
[null,null,null,null,0,"0"]
[null,null,null,null,0,"0"]
[null,null,null,null,0,"0"]
[null,null,null,null,0,"0"]
[null,null,null,null,0,"0"]
[null,null,null,null,0,"0"]
[null,null,null,null,0,"0"]
[null,null,null,null,0,"0"]
[null,null,null,null,0,"0"]
[null,null,null,null,0,"0"]
[null,null,null,null,0,"0"]
[null,null,null,null,0,"0"]
[null,null,null,null,0,"0"]
[null,null,null,null,0,"0"]
[null,null,null,null,0,"0"]
[null,null,null,null,0,"0"]
[null,null,null,null,0,"0"]
[null,null,null,null,0,"0"]
[null,null,null,null,0,"0"]
[null,null,null,null,0,"0"]
[null,null,null,null,0,"0"]
[null,null,null,null,0,"0"]
[null,null,null,null,0,"0"]
[null,null,null,null,0,"0"]
[null,null,null,null,0,"0"]
[null,null,null,null,0,"0"]
[null,null,null,null,0,"0"]
[null,null,null,null,0,"0"]
[null,null,null,null,0,"0"]
[null,null,null,null,0,"0"]
[null,null,null,null,0,"0"]
[null,null,null,null,0,"0"]
[null,null,null,null,0,"0"]
[null,null,null,null,0,"0"]
[null,null,null,null,0,"0"]
[null,null,null,null,0,"0"]
[null,null,null,null,0,"0"]
[null,null,null,null,0,"0"]
[null,null,null,null,0,"0"]
[null,null,null,null,0,"0"]
[null,null,null,null,0,"0"]
[null,null,null,null,0,"0"]
[null,null,null,null,0,"0"]
[null,null,null,null,0,"0"]
[null,null,null,null,0,"0"]
[null,null,null,null,0,"0"]
["Total",null,null,{"$f":"SUM(D20:D143)","v":0},null,{"$f":"SUM(F20:F143)","v":0}]
[{"$f":"IF(AND(D144=0,A20=\"\"),\"If the school district/joint agreement does not have any contracts, enter N/A on Column A, Line 20.\",\"\")","v":"If the school district/joint agreement does not have any contracts, enter N/A on Column A, Line 20."}]

{"sheet":"ICR Computation 41","index":16,"n_rows":45,"n_cols":7,"rows_kept":45,"cut":false,"hidden":false,"merged":[[4,0,4,6],[41,3,41,4],[10,0,10,3]]}
["ESTIMATED INDIRECT COST RATE DATA"]
["SECTION I  "]
["Financial Data To Assist Indirect Cost Rate Determination "]
["(Source document for the computation of the Indirect Cost Rate is found in the \"Expenditures\" tab.)"]
["ALL OBJECTS EXCLUDE CAPITAL OUTLAY.  With the exception of line 11, enter the disbursements/expenditures included within the following functions charged directly to and reimbursed from federal grant programs.  Also, include all amounts paid to or for other employees within each function that work with specific federal grant programs in the same capacity as those charged to and reimbursed from the same federal grant programs.  For example, if a district received funding for a Title I clerk, all other salaries for Title I clerks performing like duties in that function must be included.  Include any benefits and/or purchased services paid on or to persons whose salaries are classified as direct costs in the function listed."]
["Support Services - Direct Costs (1-2000) and (5-2000)"]
["Direction of Business Support Services (1-2510) and (5-2510) "]
["Fiscal Services (1-2520) and (5-2520)"]
["Operation and Maintenance of Plant Services (1, 2, and 5-2540) "]
["Food Services (1-2560) Must be less than (P16, Col E-F, L65) "]
[{"$f":"\"Value of Commodities Received for Fiscal Year \"&'AFR22'!E2&\" (Include the value of commodities when determining if a Single Audit is required).\"","v":"Value of Commodities Received for Fiscal Year 2022 (Include the value of commodities when determining if a Single Audit is required)."}]
["Internal Services (1-2570) and (5-2570)"]
["Staff Services (1-2640) and (5-2640)"]
["Data Processing Services (1-2660) and (5-2660)"]
["SECTION II"]
["Estimated Indirect Cost Rate for Federal Programs"]
[null,null,null,"Restricted Program",null,"Unrestricted Program"]
[null,null,"Function","Indirect Costs","Direct Costs","Indirect Costs","Direct Costs"]
["Instruction",null,"1000",null,{"$f":"'Expenditures 16-24'!K34-SUM('Expenditures 16-24'!G34,'Expenditures 16-24'!I34)+'Expenditures 16-24'!D233+'Expenditures 16-24'!K344-SUM('Expenditures 16-24'!G344,'Expenditures 16-24'!I344)","v":0},null,{"$f":"'Expenditures 16-24'!K34-SUM('Expenditures 16-24'!G34,'Expenditures 16-24'!I34)+'Expenditures 16-24'!D233+'Expenditures 16-24'!K344-SUM('Expenditures 16-24'!G344,'Expenditures 16-24'!I344)","v":0}]
["Support Services:"]
["Pupil",null,2100,null,{"$f":"'Expenditures 16-24'!K44-SUM('Expenditures 16-24'!G44,'Expenditures 16-24'!I44)+'Expenditures 16-24'!K124-SUM('Expenditures 16-24'!G124,'Expenditures 16-24'!I124)+'Expenditures 16-24'!K184-SUM('Expenditures 16-24'!G184,'Expenditures 16-24'!I184)+'Expenditures 16-24'!D242+'Expenditures 16-24'!K353-SUM('Expenditures 16-24'!G353,'Expenditures 16-24'!I353)","v":0},null,{"$f":"'Expenditures 16-24'!K44-SUM('Expenditures 16-24'!G44,'Expenditures 16-24'!I44)+'Expenditures 16-24'!K124-SUM('Expenditures 16-24'!G124,'Expenditures 16-24'!I124)+'Expenditures 16-24'!K184-SUM('Expenditures 16-24'!G184,'Expenditures 16-24'!I184)+'Expenditures 16-24'!D242+'Expenditures 16-24'!K353-SUM('Expenditures 16-24'!G353,'Expenditures 16-24'!I353)","v":0}]
["Instructional Staff",null,2200,null,{"$f":"'Expenditures 16-24'!K49-SUM('Expenditures 16-24'!G49,'Expenditures 16-24'!I49)+'Expenditures 16-24'!D247+'Expenditures 16-24'!K358-SUM('Expenditures 16-24'!G358,'Expenditures 16-24'!I358)","v":0},null,{"$f":"'Expenditures 16-24'!K49-SUM('Expenditures 16-24'!G49,'Expenditures 16-24'!I49)+'Expenditures 16-24'!D247+'Expenditures 16-24'!K358-SUM('Expenditures 16-24'!G358,'Expenditures 16-24'!I358)","v":0}]
["General Admin.",null,2300,null,{"$f":"'Expenditures 16-24'!K55-SUM('Expenditures 16-24'!G55,'Expenditures 16-24'!I55)+'Expenditures 16-24'!D254+'Expenditures 16-24'!K365-SUM('Expenditures 16-24'!G365,'Expenditures 16-24'!I365)","v":0},null,{"$f":"'Expenditures 16-24'!K55-SUM('Expenditures 16-24'!G55,'Expenditures 16-24'!I55)+'Expenditures 16-24'!D254+'Expenditures 16-24'!K365-SUM('Expenditures 16-24'!G365,'Expenditures 16-24'!I365)","v":0}]
["School Admin",null,2400,null,{"$f":"'Expenditures 16-24'!K59-SUM('Expenditures 16-24'!G59,'Expenditures 16-24'!I59)+'Expenditures 16-24'!D258+'Expenditures 16-24'!K369-SUM('Expenditures 16-24'!G369,'Expenditures 16-24'!I369)","v":0},null,{"$f":"'Expenditures 16-24'!K59-SUM('Expenditures 16-24'!G59,'Expenditures 16-24'!I59)+'Expenditures 16-24'!D258+'Expenditures 16-24'!K369-SUM('Expenditures 16-24'!G369,'Expenditures 16-24'!I369)","v":0}]
["Business:"]
["Direction of Business Spt. Srv.",null,2510,{"$f":"'Expenditures 16-24'!K61-SUM('Expenditures 16-24'!G61,'Expenditures 16-24'!I61)+'Expenditures 16-24'!D260+'Expenditures 16-24'!K371-SUM('Expenditures 16-24'!G371,'Expenditures 16-24'!I371)-E7","v":0},{"$f":"'Expenditures 16-24'!K126-SUM('Expenditures 16-24'!G126,'Expenditures 16-24'!I126)+E7","v":0},{"$f":"'Expenditures 16-24'!K61-SUM('Expenditures 16-24'!G61,'Expenditures 16-24'!I61)+'Expenditures 16-24'!D260+'Expenditures 16-24'!K371-SUM('Expenditures 16-24'!G371,'Expenditures 16-24'!I371)-E7","v":0},{"$f":"'Expenditures 16-24'!K126-SUM('Expenditures 16-24'!G126,'Expenditures 16-24'!I126)+E7","v":0}]
["Fiscal Services",null,2520,{"$f":"'Expenditures 16-24'!K62-SUM('Expenditures 16-24'!G62,'Expenditures 16-24'!I62)+'Expenditures 16-24'!D261+'Expenditures 16-24'!K372-SUM('Expenditures 16-24'!G372,'Expenditures 16-24'!I372)-E8","v":0},{"$f":"E8","v":0},{"$f":"'Expenditures 16-24'!K62-SUM('Expenditures 16-24'!G62,'Expenditures 16-24'!I62)+'Expenditures 16-24'!D261+'Expenditures 16-24'!K372-SUM('Expenditures 16-24'!G372,'Expenditures 16-24'!I372)-E8","v":0},{"$f":"E8","v":0}]
["Oper. & Maint. Plant Services",null,2540,null,{"$f":"'Expenditures 16-24'!K63-SUM('Expenditures 16-24'!G63,'Expenditures 16-24'!I63)+'Expenditures 16-24'!K128-SUM('Expenditures 16-24'!G128,'Expenditures 16-24'!I128)+'Expenditures 16-24'!D263+'Expenditures 16-24'!K374-SUM('Expenditures 16-24'!G374,'Expenditures 16-24'!I374)","v":0},{"$f":"'Expenditures 16-24'!K63-SUM('Expenditures 16-24'!G63,'Expenditures 16-24'!I63)+'Expenditures 16-24'!K128-SUM('Expenditures 16-24'!G128,'Expenditures 16-24'!I128)+'Expenditures 16-24'!D263+'Expenditures 16-24'!K374-SUM('Expenditures 16-24'!G374,'Expenditures 16-24'!I374)-E9","v":0},{"$f":"E9","v":0}]
["Pupil Transportation",null,2550,null,{"$f":"'Expenditures 16-24'!K64-SUM('Expenditures 16-24'!G64,'Expenditures 16-24'!I64)+'Expenditures 16-24'!K129-SUM('Expenditures 16-24'!G129,'Expenditures 16-24'!I129)+'Expenditures 16-24'!K186-SUM('Expenditures 16-24'!G186,'Expenditures 16-24'!I186)+'Expenditures 16-24'!D264+'Expenditures 16-24'!K375-SUM('Expenditures 16-24'!G375,'Expenditures 16-24'!I375)","v":0},null,{"$f":"'Expenditures 16-24'!K64-SUM('Expenditures 16-24'!G64,'Expenditures 16-24'!I64)+'Expenditures 16-24'!K129-SUM('Expenditures 16-24'!G129,'Expenditures 16-24'!I129)+'Expenditures 16-24'!K186-SUM('Expenditures 16-24'!G186,'Expenditures 16-24'!I186)+'Expenditures 16-24'!D264+'Expenditures 16-24'!K375-SUM('Expenditures 16-24'!G375,'Expenditures 16-24'!I375)","v":0}]
["Food Services",null,2560,null,{"$f":"'Expenditures 16-24'!K65-SUM('Expenditures 16-24'!G65,'Expenditures 16-24'!I65)+'Expenditures 16-24'!D265+'Expenditures 16-24'!K376-SUM('Expenditures 16-24'!G376,'Expenditures 16-24'!I376)-E10","v":0},null,{"$f":"'Expenditures 16-24'!K65-SUM('Expenditures 16-24'!G65,'Expenditures 16-24'!I65)+'Expenditures 16-24'!D265+'Expenditures 16-24'!K376-SUM('Expenditures 16-24'!G376,'Expenditures 16-24'!I376)-E10","v":0}]
["Internal Services",null,2570,{"$f":"'Expenditures 16-24'!K66-SUM('Expenditures 16-24'!G66,'Expenditures 16-24'!I66)+'Expenditures 16-24'!D266+'Expenditures 16-24'!K377-SUM('Expenditures 16-24'!G377,'Expenditures 16-24'!I377)-E12","v":0},{"$f":"E12","v":0},{"$f":"'Expenditures 16-24'!K66-SUM('Expenditures 16-24'!G66,'Expenditures 16-24'!I66)+'Expenditures 16-24'!D266+'Expenditures 16-24'!K377-SUM('Expenditures 16-24'!G377,'Expenditures 16-24'!I377)-E12","v":0},{"$f":"E12","v":0}]
["Central:"]
["Direction of Central Spt. Srv.",null,2610,null,{"$f":"'Expenditures 16-24'!K69-SUM('Expenditures 16-24'!G69,'Expenditures 16-24'!I69)+'Expenditures 16-24'!D269+'Expenditures 16-24'!K380-SUM('Expenditures 16-24'!G380,'Expenditures 16-24'!I380)","v":0},null,{"$f":"'Expenditures 16-24'!K69-SUM('Expenditures 16-24'!G69,'Expenditures 16-24'!I69)+'Expenditures 16-24'!D269+'Expenditures 16-24'!K380-SUM('Expenditures 16-24'!G380,'Expenditures 16-24'!I380)","v":0}]
["Plan, Rsrch, Dvlp, Eval. Srv.",null,2620,null,{"$f":"'Expenditures 16-24'!K70-SUM('Expenditures 16-24'!G70,'Expenditures 16-24'!I70)+'Expenditures 16-24'!D270+'Expenditures 16-24'!K381-SUM('Expenditures 16-24'!G381,'Expenditures 16-24'!I381)","v":0},null,{"$f":"'Expenditures 16-24'!K70-SUM('Expenditures 16-24'!G70,'Expenditures 16-24'!I70)+'Expenditures 16-24'!D270+'Expenditures 16-24'!K381-SUM('Expenditures 16-24'!G381,'Expenditures 16-24'!I381)","v":0}]
["Information Services",null,2630,null,{"$f":"'Expenditures 16-24'!K71-SUM('Expenditures 16-24'!G71,'Expenditures 16-24'!I71)+'Expenditures 16-24'!D271+'Expenditures 16-24'!K382-SUM('Expenditures 16-24'!G382,'Expenditures 16-24'!I382)","v":0},null,{"$f":"'Expenditures 16-24'!K71-SUM('Expenditures 16-24'!G71,'Expenditures 16-24'!I71)+'Expenditures 16-24'!D271+'Expenditures 16-24'!K382-SUM('Expenditures 16-24'!G382,'Expenditures 16-24'!I382)","v":0}]
["Staff Services",null,2640,{"$f":"'Expenditures 16-24'!K72-SUM('Expenditures 16-24'!G72,'Expenditures 16-24'!I72)+'Expenditures 16-24'!D272+'Expenditures 16-24'!K383-SUM('Expenditures 16-24'!G383,'Expenditures 16-24'!I383)-E13","v":0},{"$f":"E13","v":0},{"$f":"'Expenditures 16-24'!K72-SUM('Expenditures 16-24'!G72,'Expenditures 16-24'!I72)+'Expenditures 16-24'!D272+'Expenditures 16-24'!K383-SUM('Expenditures 16-24'!G383,'Expenditures 16-24'!I383)-E13","v":0},{"$f":"E13","v":0}]
["Data Processing Services",null,2660,{"$f":"'Expenditures 16-24'!K73-SUM('Expenditures 16-24'!G73,'Expenditures 16-24'!I73)+'Expenditures 16-24'!D273+'Expenditures 16-24'!K384-SUM('Expenditures 16-24'!G384,'Expenditures 16-24'!I384)-E14","v":0},{"$f":"E14","v":0},{"$f":"'Expenditures 16-24'!K73-SUM('Expenditures 16-24'!G73,'Expenditures 16-24'!I73)+'Expenditures 16-24'!D273+'Expenditures 16-24'!K384-SUM('Expenditures 16-24'!G384,'Expenditures 16-24'!I384)-E14","v":0},{"$f":"E14","v":0}]
["Other:",null,2900,null,{"$f":"'Expenditures 16-24'!K75-SUM('Expenditures 16-24'!G75,'Expenditures 16-24'!I75)+'Expenditures 16-24'!K132-SUM('Expenditures 16-24'!G132,'Expenditures 16-24'!I132)+'Expenditures 16-24'!K187-SUM('Expenditures 16-24'!G187,'Expenditures 16-24'!I187)+'Expenditures 16-24'!D275+'Expenditures 16-24'!K386-SUM('Expenditures 16-24'!G386,'Expenditures 16-24'!I386)","v":0},null,{"$f":"'Expenditures 16-24'!K75-SUM('Expenditures 16-24'!G75,'Expenditures 16-24'!I75)+'Expenditures 16-24'!K132-SUM('Expenditures 16-24'!G132,'Expenditures 16-24'!I132)+'Expenditures 16-24'!K187-SUM('Expenditures 16-24'!G187,'Expenditures 16-24'!I187)+'Expenditures 16-24'!D275+'Expenditures 16-24'!K386-SUM('Expenditures 16-24'!G386,'Expenditures 16-24'!I386)","v":0}]
["Community Services",null,3000,null,{"$f":"'Expenditures 16-24'!K77-SUM('Expenditures 16-24'!G77,'Expenditures 16-24'!I77)+'Expenditures 16-24'!K134-SUM('Expenditures 16-24'!G134,'Expenditures 16-24'!I134)+'Expenditures 16-24'!K189-SUM('Expenditures 16-24'!G189,'Expenditures 16-24'!I189)+'Expenditures 16-24'!D277+'Expenditures 16-24'!K388-SUM('Expenditures 16-24'!G388,'Expenditures 16-24'!I388)","v":0},null,{"$f":"'Expenditures 16-24'!K77-SUM('Expenditures 16-24'!G77,'Expenditures 16-24'!I77)+'Expenditures 16-24'!K134-SUM('Expenditures 16-24'!G134,'Expenditures 16-24'!I134)+'Expenditures 16-24'!K189-SUM('Expenditures 16-24'!G189,'Expenditures 16-24'!I189)+'Expenditures 16-24'!D277+'Expenditures 16-24'!K388-SUM('Expenditures 16-24'!G388,'Expenditures 16-24'!I388)","v":0}]
["Contracts Paid in CY over the allowed amount for ICR calculation (from page 40)",null,null,null,{"$f":"-'Contracts Paid in CY 40'!F144","v":0},null,{"$f":"-'Contracts Paid in CY 40'!F144","v":0}]
["Total",null,null,{"$f":"SUM(D19:D39)","v":0},{"$f":"SUM(E19:E40)","v":0},{"$f":"SUM(F19:F39)","v":0},{"$f":"SUM(G19:G40)","v":0}]
[null,null,null,"Restricted Rate",null,"Unrestricted Rate"]
[null,null,null,"Total Indirect Costs:",{"$f":"D41","v":0},"Total Indirect Costs:",{"$f":"F41","v":0}]
[null,null,null,"Total Direct Costs:",{"$f":"E41","v":0},"Total Direct Costs:",{"$f":"G41","v":0}]
[null,null,null,"=",{"$f":"(E43/E44)","v":{"$error":"#DIV/0!"}},"=",{"$f":"(G43/G44)","v":{"$error":"#DIV/0!"}}]

{"sheet":"Shared Outsourced Services 42","index":17,"n_rows":49,"n_cols":11,"rows_kept":49,"cut":false,"hidden":false,"merged":[[43,0,43,5],[36,0,36,5],[37,0,37,5],[39,2,39,5],[40,0,40,5],[41,0,41,5],[42,0,42,5],[35,0,35,5],[0,0,0,5],[4,0,4,5],[5,2,5,4],[6,2,6,4],[34,2,34,5]]}
["REPORT ON SHARED SERVICES OR OUTSOURCING"]
["School Code, Section 17-1.1 (Public Act 97-0357)"]
[{"$f":"\"Fiscal Year Ending June 30, \"&'AFR22'!E2","v":"Fiscal Year Ending June 30, 2022"}]
[]
["Complete the following for attempts to improve fiscal efficiency through shared services or outsourcing in the prior, current and next fiscal years. "]
[null,null,{"$f":"COVER!A17","v":0},null,null,{"$f":"COVER!A48","v":{"$error":"#N/A"}}]
[null,null,{"$f":"COVER!A13","v":"Please select district from drop-down list on line 17."}]
["Check box if this schedule is not applicable…………………",null,"Prior Fiscal Year","Current Fiscal Year","Next Fiscal Year","Name of the Local Education Agency (LEA) Participating in the Joint Agreement,                                                                            Cooperative or Shared Service.",null,false]
["Indicate with an (X) If Deficit Reduction Plan Is Required in the Budget   "]
["Service or Function  (Check all that apply)",null,null,null,"Barriers to          Implementation","(Limit text to 200 characters, for additional space use line 33 and 38)"]
["   Curriculum Planning",null,null,null,null,null,null,{"$f":"IF(C11=\"X\",5,0)","v":0},{"$f":"IF(D11=\"X\",5,0)","v":0},{"$f":"IF(E11=\"X\",5,0)","v":0}]
["   Custodial Services",null,null,null,null,null,null,{"$f":"IF(C12=\"X\",5,0)","v":0},{"$f":"IF(D12=\"X\",5,0)","v":0},{"$f":"IF(E12=\"X\",5,0)","v":0}]
["   Educational Shared Programs",null,null,null,null,null,null,0,0,0]
["   Employee Benefits",null,null,null,null,null,null,0,0,0]
["   Energy Purchasing",null,null,null,null,null,null,0,0,0]
["   Food Services",null,null,null,null,null,null,0,0,0]
["   Grant Writing",null,null,null,null,null,null,0,0,0]
["   Grounds Maintenance Services",null,null,null,null,null,null,0,0,0]
["   Insurance",null,null,null,null,null,null,0,0,0]
["   Investment Pools",null,null,null,null,null,null,0,0,0]
["   Legal Services",null,null,null,null,null,null,0,0,0]
["   Maintenance Services",null,null,null,null,null,null,0,0,0]
["   Personnel Recruitment",null,null,null,null,null,null,0,0,0]
["   Professional Development",null,null,null,null,null,null,0,0,0]
["   Shared Personnel",null,null,null,null,null,null,0,0,0]
["   Special Education Cooperatives",null,null,null,null,null,null,0,0,0]
["   STEM (science, technology, engineering and math) Program Offerings",null,null,null,null,null,null,0,0,0]
["   Supply & Equipment Purchasing",null,null,null,null,null,null,0,0,0]
["   Technology Services",null,null,null,null,null,null,0,0,0]
["   Transportation",null,null,null,null,null,null,0,0,0]
["   Vocational Education Cooperatives",null,null,null,null,null,null,0,0,0]
["   All Other Joint/Cooperative Agreements",null,null,null,null,null,null,0,0,0]
["   Other",null,null,null,null,null,null,0,0,0]
[null,null,null,null,null,null,null,{"$f":"SUM(H11:H32)","v":0},{"$f":"SUM(I11:I32)","v":0},{"$f":"SUM(J11:J32)","v":0},{"$f":"SUM(H34:J34)","v":0}]
["Additional space for Column (D) - Barriers to Implementation:"]
[]
[]
[]
[]
["Additional space for Column (E) - Name of LEA :"]
[]
[]
[]
[]
[]
[]
[]
[]
[false]

{"sheet":"AC 43","index":18,"n_rows":40,"n_cols":12,"rows_kept":40,"cut":false,"hidden":false,"merged":[[33,2,34,9],[36,2,37,9],[39,2,39,9],[29,5,29,7],[5,9,5,11],[6,0,6,4],[6,9,6,11],[10,0,10,2],[17,1,17,3],[19,1,19,3],[26,2,26,3],[26,5,26,7],[27,5,27,7],[28,2,28,3],[28,5,28,7]]}
[null,null,null,null,null,null,"ILLINOIS STATE BOARD OF EDUCATION"]
[null,null,null,null,null,null,"School Business Services Department (N-330)"]
[null,null,null,null,null,null,"100 North First Street"]
[null,null,null,null,null,null,"Springfield, IL   62777-0001"]
[]
["LIMITATION OF ADMINISTRATIVE COSTS WORKSHEET",null,null,null,null,null,null,null,"School District Name:",{"$f":"COVER!A17","v":0}]
["(Section 17-1.5 of the School Code)",null,null,null,null,null,null,null,"RCDT Number:",{"$f":"COVER!A13","v":"Please select district from drop-down list on line 17."}]
[]
[null,null,null,null,{"$f":"\"Actual Expenditures, Fiscal Year \"&'AFR22'!E2&\"\"","v":"Actual Expenditures, Fiscal Year 2022"},null,null,null,{"$f":"\"Budgeted Expenditures, Fiscal Year \"&'AFR22'!E2+1&\"\"","v":"Budgeted Expenditures, Fiscal Year 2023"}]
[null,null,null,null,"(10)","(20)","(80)",null,"(10)","(20)","(80)"]
["Description",null,null,"Funct. No.","Educational Fund","Operations & Maintenance Fund","Tort Fund *","Total","Educational Fund","Operations & Maintenance Fund","Tort Fund","Total"]
[1,"Executive Administration Services",null,2320,{"$f":"'Expenditures 16-24'!K52","v":0},null,{"$f":"'Expenditures 16-24'!K361","v":0},{"$f":"SUM(E12:G12)","v":0},null,null,null,{"$f":"SUM(I12:K12)","v":0}]
[2,"Special Area Administration Services",null,2330,{"$f":"'Expenditures 16-24'!K53","v":0},null,{"$f":"'Expenditures 16-24'!K362","v":0},0,null,null,null,0]
[3,"Other Support Services - School Administration",null,2490,{"$f":"'Expenditures 16-24'!K58","v":0},null,{"$f":"'Expenditures 16-24'!K368","v":0},0,null,null,null,0]
[4,"Direction of Business Support Services",null,2510,{"$f":"'Expenditures 16-24'!K61","v":0},{"$f":"'Expenditures 16-24'!K126","v":0},{"$f":"'Expenditures 16-24'!K371","v":0},0,null,null,null,0]
[5,"Internal Services",null,2570,{"$f":"'Expenditures 16-24'!K66","v":0},null,{"$f":"'Expenditures 16-24'!K377","v":0},0,null,null,null,0]
[6,"Direction of Central Support Services",null,2610,{"$f":"'Expenditures 16-24'!K69","v":0},null,{"$f":"'Expenditures 16-24'!K380","v":0},0,null,null,null,0]
[7,"Deduct - Early Retirement or other pension obligations required by state law and included above.",null,null,null,null,null,0,null,null,null,0]
[8,"Totals",null,null,{"$f":"SUM(E12:E17)-E18","v":0},0,{"$f":"SUM(G12:G17)-G18","v":0},0,0,0,0,0]
[9,{"$f":"\"Percent Increase (Decrease) for FY\"&'AFR22'!E2+1&\" (Budgeted) over FY\"&'AFR22'!E2&\" (Actual)\"","v":"Percent Increase (Decrease) for FY2023 (Budgeted) over FY2022 (Actual)"},null,null,null,null,null,null,null,null,null,{"$f":"IF(AND(H19>0,L19>0),(((L19-H19)/H19)),\"Enter Budget Data\")","v":"Enter Budget Data"}]
[]
[]
["CERTIFICATION"]
[{"$f":"\"I certify that the amounts shown above as Actual Expenditures, Fiscal Year \"&'AFR22'!E2&\", agree with the amounts on the district's Annual Financial Report for Fiscal Year \"&'AFR22'!E2&\".\"","v":"I certify that the amounts shown above as Actual Expenditures, Fiscal Year 2022, agree with the amounts on the district's Annual Financial Report for Fiscal Year 2022."}]
[{"$f":"\"I also certify that the amounts shown above as Budgeted Expenditures, Fiscal Year \"&'AFR22'!E2+1&\", agree with the amounts on the budget adopted by the Board of Education.\"","v":"I also certify that the amounts shown above as Budgeted Expenditures, Fiscal Year 2023, agree with the amounts on the budget adopted by the Board of Education."}]
[]
[]
[null,null,"Signature of Superintendent",null,null,"Date"]
[]
[null,null,"Contact Name (for questions)",null,null,"Contact Telephone Number"]
[]
[null,"If line 9 is greater than 5% please check one box below."]
[]
[null,null,"The district is ranked by ISBE in the lowest 25th percentile of like districts in administrative expenditures per student (4th quartile) and will waive the limitation by board action, subsequent to a public hearing."]
[]
[]
[null,null,{"$f":"\"The district is unable to waive the limitation by board action and will be requesting a waiver from the General Assembly pursuant to the procedures in Chapter 105 ILCS 5/2-3.25g.  Waiver applications must be postmarked by August 15, \"&'AFR22'!E2&\", to ensure inclusion in the fall \"&'AFR22'!E2&\" report or postmarked by January 15, \"&'AFR22'!E2+1&\", to ensure inclusion in the spring \"&'AFR22'!E2+1&\" report.  Information on the waiver process can be found at  the waiver's webpage below.\"","v":"The district is unable to waive the limitation by board action and will be requesting a waiver from the General Assembly pursuant to the procedures in Chapter 105 ILCS 5/2-3.25g.  Waiver applications must be postmarked by August 15, 2022, to ensure inclusion in the fall 2022 report or postmarked by January 15, 2023, to ensure inclusion in the spring 2023 report.  Information on the waiver process can be found at  the waiver's webpage below."}]
[]
[null,null," https://www.isbe.net/Pages/Waivers.aspx"]
[null,null,"The district will amend their budget to become in compliance with the limitation."]

{"sheet":"Itemization 44","index":19,"n_rows":65,"n_cols":2,"rows_kept":65,"cut":false,"hidden":false,"merged":[]}
[]
["This page is provided for detailed itemizations as requested within the body of the report."]
["Type Below."]
[]
[1]
[2]
[3]
[4]
[]
[]
[]
[]
[]
[]
[]
[]
[]
[]
[]
[]
[]
[]
[]
[]
[]
[]
[]
[]
[]
[]
[]
[]
[]
[]
[]
[]
[]
[]
[]
[]
[]
[]
[]
[]
[]
[]
[]
[]
[]
[]
[]
[]
[]
[]
[]
[]
[]
[]
[]
[]
[]
[]
[]
[null,{"$f":"COVER!A17","v":0}]
[null,{"$f":"COVER!A13","v":"Please select district from drop-down list on line 17."}]

{"sheet":"REF 45","index":20,"n_rows":18,"n_cols":3,"rows_kept":18,"cut":false,"hidden":false,"merged":[]}
["Reference Pages."]
[]
[null,1,"Do not enter negative numbers.  Reports with negative numbers will be returned for correction."]
[null,"2","GASB Statement No. 24; Accounting and Financial Reporting for Certain Grants and Other Financial Assistance.  The \"On Behalf of\" Payments should only be reflected on this page."]
[null,"3","Equals Line 8 minus Line 17"]
[null,"4","May require notification to the county clerk to abate an equal amount from taxes next extended. Refer to Section 17-2.11 for the applicable provisions and other \"limited\" transfer "]
[null,null,"authority to O&M through June 30, 2013"]
[null,"5","Requires notification to the county clerk to abate an equal amount from taxes next extended. See Section 10-22.14  "]
[null,"6","Use of proceeds from the sale of school sites buildings, or other real estate is limited.  See Sections 5-22 and 10-22.8 of the School Code."]
[null,"7","Include revenue accounts 1110 through 1115, 1117, 1118 & 1120.  Include taxes for bonds sold that are in addition to those identified separately."]
[null,"8","Educational Fund (10) - Computer Technology only."]
[null,"9","Corporate personal property replacement tax revenue must be first applied to the Municipal Retirement/Social Security Fund to replace tax revenue lost due to the abolition of the corporate personal property tax (30 ILCS 115/12).  This provision does not apply to taxes levied for Medicare-Only purposes."]
[null,"10","Include only tuition payments made to private facilities.  See Function 4200 or 4400 for public facility disbursements/expenditures."]
[null,"11","Payment towards the retirement of lease/purchase agreements or bonded/other indebtedness (principal only) otherwise reported within the fund―e.g. alternate revenue bonds( Describe & Itemize)."]
[null,"12","Only abolishment of Working Cash Fund must transfer its funds directly to the Educational Fund upon adoption of a resolution and at the close of the "]
[null,null,"current school Year (see 105 ILCS 5/20-8 for further explanation)"]
[null,null,"Only abatement of working cash fund can transfer its funds to any fund in most need of money (see 105 ILCS 5/20-10 for further explanation)"]
[null,"13","GASB Statement No. 87; all leases (both operational and capital) should be reflected on this line."]

{"sheet":"Opinion-Notes 46","index":21,"n_rows":18,"n_cols":2,"rows_kept":18,"cut":false,"hidden":false,"merged":[[17,0,17,1],[0,2,0,5],[6,1,6,4]]}
[]
[]
[]
[]
[]
[]
[null,"Embed signed Audit Questionnaire below:"]
[]
[]
[]
[]
[]
["[Please insert files above]"]
[]
["Instructions to insert word doc or pdf files:"]
[null,"Choose: Insert - Select: Object - Select Create from File tab - Select Browse - Select file that you want to embed - Check Display as icon - Select OK."]
[]
["Note:  If you have trouble inserting pdf files, submit as a separate attachments and they will be inserted for you."]

{"sheet":"DeficitAFRSum Calc 47","index":22,"n_rows":19,"n_cols":6,"rows_kept":19,"cut":false,"hidden":false,"merged":[[0,0,0,5],[15,0,15,4],[11,2,14,5],[1,0,1,5],[2,0,2,5],[5,0,5,5],[3,0,3,5],[4,0,4,5]]}
["DEFICIT ANNUAL FINANCIAL REPORT (AFR) SUMMARY INFORMATION                                                                                                                                                                                        Provisions per Illinois School Code, Section 17-1 (105 ILCS 5/17-1)"]
[{"$f":"\"Instructions:  If the Annual Financial Report (AFR) reflects that a Deficit Reduction Plan is required as calculated below,\"&\" then the school district is to complete the Deficit Reduction Plan in the annual budget and submit the plan to Illinois State Board of Education (ISBE) within 30 days after accepting the audit report.\"&\"  This may require the FY\"&'AFR22'!E2+1&\" annual budget to be amended to include a Deficit Reduction Plan and narrative.  \"","v":"Instructions:  If the Annual Financial Report (AFR) reflects that a Deficit Reduction Plan is required as calculated below, then the school district is to complete the Deficit Reduction Plan in the annual budget and submit the plan to Illinois State Board of Education (ISBE) within 30 days after accepting the audit report.  This may require the FY2023 annual budget to be amended to include a Deficit Reduction Plan and narrative.  "}]
["The \"Deficit Reduction Plan\" is developed using ISBE guidelines and is included in the School District Budget Form 50-36, beginning with page 22.  A plan is required when the operating funds listed below result in direct revenues (cell F8) being less than direct expenditures (cell F9) by an amount equal to or greater than one-third (1/3) of the ending fund balance (cell f11).  That is, if the ending fund balance is less than three times the deficit spending, the district must adopt and submit an original budget/amended budget with ISBE that provides a \"deficit reduction plan\" to balance the shortfall within the next three years."]
[{"$f":"\" -  If the FY\"&'AFR22'!E2+1&\" school district budget already requires a Deficit Reduction Plan, and one was submitted, an updated (amended) budget is not required.\"","v":" -  If the FY2023 school district budget already requires a Deficit Reduction Plan, and one was submitted, an updated (amended) budget is not required."}]
[{"$f":"\" -  If the Annual Financial Report requires a deficit reducton plan even though the FY\"&'AFR22'!E2+1&\" budget does not, a completed deficit reduction plan is still required.\"","v":" -  If the Annual Financial Report requires a deficit reducton plan even though the FY2023 budget does not, a completed deficit reduction plan is still required."}]
["DEFICIT AFR SUMMARY INFORMATION - Operating Funds Only                                                                                                                                                                                (All AFR pages must be completed to generate the following calculation)"]
["Description","EDUCATIONAL                   FUND (10)","OPERATIONS & MAINTENANCE                 FUND (20)","TRANSPORTATION FUND (40)","WORKING CASH                FUND (70)","TOTAL"]
["Direct Revenues",{"$f":"'Acct Summary 7-9'!C8","v":0},{"$f":"'Acct Summary 7-9'!D8","v":0},{"$f":"'Acct Summary 7-9'!F8","v":0},{"$f":"'Acct Summary 7-9'!I8","v":0},{"$f":"SUM(B8:E8)","v":0}]
["Direct Expenditures",{"$f":"'Acct Summary 7-9'!C17","v":0},{"$f":"'Acct Summary 7-9'!D17","v":0},{"$f":"'Acct Summary 7-9'!F17","v":0},null,{"$f":"SUM(B9:E9)","v":0}]
["Difference",{"$f":"(B8-B9)","v":0},{"$f":"(C8-C9)","v":0},{"$f":"(D8-D9)","v":0},{"$f":"(E8-E9)","v":0},{"$f":"SUM(F8-F9)","v":0}]
[{"$f":"\"Fund Balance - June 30, \"&'AFR22'!E2&\"\"","v":"Fund Balance - June 30, 2022"},{"$f":"'Acct Summary 7-9'!C81","v":0},{"$f":"'Acct Summary 7-9'!D81","v":0},{"$f":"'Acct Summary 7-9'!F81","v":0},{"$f":"'Acct Summary 7-9'!I81","v":0},{"$f":"SUM(B11:E11)","v":0}]
[null,null,{"$f":"IF(AND(F10<0,F11>=0,ABS(F10*3)>ABS(F11)),A16,IF(AND(F10<0,F11>0,ABS(F10*3)<=ABS(F11)),A17,IF(AND(F10<0,F11<0),A16,IF(F11=0,A19,A18))))","v":"To determine if the AFR is balanced, complete all pages of the AFR first."}]
[]
[]
[]
["Unbalanced - a \"deficit reduction plan\" and narrative must be adopted and submitted to ISBE with the most current fiscal year School District Budget Form 50-36.  This plan must result in a balanced operating budget within three years as adopted by the local board of education.  (See the School District Budget Form 50-36 -Tab: Deficit BudgetSum Calc 22)",null,null,null,null,"Deficit reduction plan is required."]
["Unbalanced -  however, a deficit reduction plan is not required at this time.",null,null,null,null,"Deficit reduction plan is not required."]
["Balanced - no deficit reduction plan is required.",null,null,null,null,"Congratulations! You have a balanced AFR."]
["To determine if the AFR is balanced, complete all pages of the AFR first.",null,null,null,null,"AFR form Incomplete."]

{"sheet":"AUDITCHECK","index":23,"n_rows":93,"n_cols":4,"rows_kept":93,"cut":false,"hidden":false,"merged":[[74,2,74,3],[11,2,11,3],[25,2,25,3],[24,2,24,3],[47,2,47,3],[1,0,6,2],[8,0,8,3],[18,0,18,3],[19,0,19,3],[60,2,60,3]]}
[]
[{"$f":"\"FY \"&'AFR22'!E2&\" Audit Checklist\"","v":"FY 2022 Audit Checklist"},null,null,{"$f":"\"RCDT: \"&COVER!A13&\"\"","v":"RCDT: Please select district from drop-down list on line 17."}]
[null,null,null,{"$f":"\"School District/Joint Agreement Name: \"&COVER!A17&\"\"","v":"School District/Joint Agreement Name: "}]
[null,null,null,{"$f":"\"Auditor Name:  \"&COVER!T15&\"\"","v":"Auditor Name:  "}]
[null,null,null,{"$f":"\"License #: \"&COVER!T23&\" License Expiration Date (below):\"","v":"License #:  License Expiration Date (below):"}]
[null,null,null,{"$f":"COVER!X23","v":"00:00:00"}]
[null,null,null,{"$f":"COVER!A48","v":{"$error":"#N/A"}}]
[]
["All entries must balance within the individual fund statements and schedules as instructed below.    Any error messages left unresolved below, will be returned to the auditor for correction."]
[null,1,"The auditor's Opinion and Notes to the Financial Statements and the Corrective Action Plan(s) on LEA letterhead are embedded in the \"Opinion-Notes\" tab."]
[null,{"$f":"B10+1","v":2},"Student Activity Funds, Convenience Accounts, and other agency funds are included, if applicable. "]
[null,3,"All audit questions on page 2 are answered appropriately by checking all that apply. This page must also be certified with the signature of the CPA firm.  Comments and "]
[null,null,"explanations are included for all checked items at the bottom of page 2."]
[null,{"$f":"B12+1","v":4},"All Other accounts and functions labeled \"(describe & itemize) are properly noted on the \"Itemization\" tab."]
[null,5,"Tuition paid to another school district or to a joint agreement (in state) is coded to Function 4200, and Other Objects (600)."]
[null,6,"Business Manager/Bookkeeper Costs are charged to the proper Function (No. 2510/2520)."]
[null,7,"If district is subject to PTELL on tab \"Aud Quest 2\", line 21 be sure to check the box and enter the effective date."]
[null,8,"All entries were entered to the nearest whole dollar amount."]
["Balancing Schedule"]
["Check this Section for Error Messages"]
["The following assures that various entries are in balance. Any out of balance condition is followed by an error message in RED and must be resolved before submitting to ISBE.  One or more"]
["errors detected may cause this AFR to be returned for corrections and resubmission.  If impossible for entries to balance, please explain on the itemization page."]
[]
[null,"   Description:",null,"Error Message"]
[null,1,"Cover Page:   The Accounting Basis must be Cash or Accrual.  "]
[null,2,"Cover Page:  Choose School District or Joint Agreement.  "]
[null,null,"What Basis of Accounting is used?",{"$f":"IF(COVER!O11=\"X\",\"CASH\",IF(COVER!O12=\"X\",\"ACCRUAL \",\"PLEASE CHECK AN ACCOUNTING BASIS.\"))","v":"PLEASE CHECK AN ACCOUNTING BASIS."}]
[null,null,"Choose School District or Joint Agreement.  ",{"$f":"IF(COVER!B5=\"X\",\"SCHOOL DISTRICT\",IF(COVER!B6=\"X\",\"JOINT AGREEMENT\",\"PLEASE CHECK SCHOOL DISTRICT OR JOINT AGREEMENT.\"))","v":"PLEASE CHECK SCHOOL DISTRICT OR JOINT AGREEMENT."}]
[null,null,"Accounting for late payments (Audit Questionnaire Section D)",{"$f":"IF(COVER!O11=\"X\",\"OK\",IF(AND('Aud Quest 2'!J88=0,'Aud Quest 2'!I75<DATE(2017,12,31)),\"ENTER ACCOUNTING INFO\",IF(AND('Aud Quest 2'!J88>0,'Aud Quest 2'!I75<DATE(2017,12,31)),\"OK\")))","v":"ENTER ACCOUNTING INFO"}]
[null,null,"Were any findings issued?",{"$f":"IF(AND(COVER!J29=\"X\",COVER!J31=\"X\",COVER!L29<>\"X\"),\"OK\",IF(AND(COVER!J29=\"X\",COVER!J31<>\"X\",COVER!L31=\"X\"),\"NO FINDINGS WERE ISSUED\",IF(AND(COVER!L29=\"X\",COVER!J31<>\"X\"),\"OK\",\"PLEASE CHECK YES or NO.\")))","v":"PLEASE CHECK YES or NO."}]
[null,null,"Page 2:  Auditor's Questionnaire, Part C, Question 21:  Check box if a tax district and enter date",{"$f":"IF('Aud Quest 2'!B51=\"X\",IF('Aud Quest 2'!F51>\"00/00/00 \",\"Enter Effective Date\",\"ok\"))","v":false}]
[null,null,"Is Budget Deficit Reduction Plan Required?",{"$f":"IF(AND('DeficitAFRSum Calc 47'!F10<0,'DeficitAFRSum Calc 47'!F11>=0,ABS('DeficitAFRSum Calc 47'!F10*3)>ABS('DeficitAFRSum Calc 47'!F11)),'DeficitAFRSum Calc 47'!F16,IF(AND('DeficitAFRSum Calc 47'!F10<0,'DeficitAFRSum Calc 47'!F11>0,ABS('DeficitAFRSum Calc 47'!F10*3)<=ABS('DeficitAFRSum Calc 47'!F11)),'DeficitAFRSum Calc 47'!F17,IF(AND('DeficitAFRSum Calc 47'!F10<0,'DeficitAFRSum Calc 47'!F11<0),'DeficitAFRSum Calc 47'!F16,IF('DeficitAFRSum Calc 47'!F11=0,'DeficitAFRSum Calc 47'!F19,'DeficitAFRSum Calc 47'!F18))))","v":"AFR form Incomplete."}]
[null,{"$f":"B26+1","v":3},"Page 3: Financial Information must be completed."]
[null,null,"Section A:  Tax rates are not entered in the following format:  [1.50 should be .0150].  Please enter with the correct decimal point.",{"$f":"IF(SUM('FP Info 3'!J10:L10)<=0.0999999,\"OK\",\"CORRECT THE TAX RATES BY MOVING THE DECIMAL TWO PLACES TO THE LEFT.\")","v":"OK"}]
[null,null,"Section A:  Tax Rates are not entered.  Cells D10, F10, H10, L10 on tab 3 must have a tax rate or 0 entered.",{"$f":"IF(OR('FP Info 3'!D10=\"\",'FP Info 3'!F10=\"\",'FP Info 3'!H10=\"\",'FP Info 3'!L10=\"\"),\"ENTRY IS REQUIRED!  IF NO TAX RATE, ENTER 0 IN CELL.\",\"OK\")","v":"ENTRY IS REQUIRED!  IF NO TAX RATE, ENTER 0 IN CELL."}]
[null,null,"Section D:  Check  a or b that agrees with the school district type.",{"$f":"IF(OR(COVER!B6=\"x\",'FP Info 3'!B32=\"X\",'FP Info 3'!B33=\"X\"),\"OK\",\"ENTRY IS REQUIRED!\")","v":"ENTRY IS REQUIRED!"}]
[null,null,"Section E:  Is there a material impact on the entity's financial position?",{"$f":"IF(AND('FP Info 3'!B45=\"\",'FP Info 3'!B46=\"\",'FP Info 3'!B47=\"\",'FP Info 3'!B48=\"\",'FP Info 3'!B49=\"\",'FP Info 3'!B50=\"\",'FP Info 3'!B51=\"\",'FP Info 3'!B52=\"\"),\"NO\",\"YES\")","v":"NO"}]
[null,{"$f":"B33+1","v":4},"Page 5:  Cells C4:L4  Acct 111-115 - Cash Balances cannot be negative."]
[null,null,"Fund (10) ED: Cash balances cannot be negative.",{"$f":"IF('Assets-Liab 5-6'!C4<-0.49, \"ERROR!\",\"OK\")","v":"OK"}]
[null,null,"Fund (20) O&M:  Cash balances cannot be negative.",{"$f":"IF('Assets-Liab 5-6'!D4<-0.49, \"ERROR!\",\"OK\")","v":"OK"}]
[null,null,"Fund (30) DS:  Cash balances cannot be negative.",{"$f":"IF('Assets-Liab 5-6'!E4<-0.49, \"ERROR!\",\"OK\")","v":"OK"}]
[null,null,"Fund (40) TR:  Cash balances cannot be negative.",{"$f":"IF('Assets-Liab 5-6'!F4<-0.49, \"ERROR!\",\"OK\")","v":"OK"}]
[null,null,"Fund (50) MR/SS:  Cash balances cannot be negative.",{"$f":"IF('Assets-Liab 5-6'!G4<-0.49, \"ERROR!\",\"OK\")","v":"OK"}]
[null,null,"Fund (60) CP:  Cash balances cannot be negative.",{"$f":"IF('Assets-Liab 5-6'!H4<-0.49, \"ERROR!\",\"OK\")","v":"OK"}]
[null,null,"Fund (70) WC:  Cash balances cannot be negative.",{"$f":"IF('Assets-Liab 5-6'!I4<-0.49, \"ERROR!\",\"OK\")","v":"OK"}]
[null,null,"Fund (80) Tort:  Cash balances cannot be negative.",{"$f":"IF('Assets-Liab 5-6'!J4<-0.49, \"ERROR!\",\"OK\")","v":"OK"}]
[null,null,"Fund (90) FP&S:  Cash balances cannot be negative.",{"$f":"IF('Assets-Liab 5-6'!K4<-0.49, \"ERROR!\",\"OK\")","v":"OK"}]
[null,{"$f":"B38+1","v":5},"Page 5 & 6:  Total Current & Capital Assets must = Total Liabilities & Fund Balance."]
[null,null,"Fund 10, Cell C13 must = Cell C41.",{"$f":"IF(SUM('Assets-Liab 5-6'!C13)<>SUM('Assets-Liab 5-6'!C41),\"ERROR!\",\"OK\")","v":"OK"}]
[null,null,"Fund 20, Cell D13 must = Cell D41.",{"$f":"IF(SUM('Assets-Liab 5-6'!D13)<>SUM('Assets-Liab 5-6'!D41),\"ERROR!\",\"OK\")","v":"OK"}]
[null,null,"Fund 30, Cell E13 must = Cell E41.",{"$f":"IF(SUM('Assets-Liab 5-6'!E13)<>SUM('Assets-Liab 5-6'!E41),\"ERROR!\",\"OK\")","v":"OK"}]
[null,null,"Fund 40, Cell F13 must = Cell F41.",{"$f":"IF(SUM('Assets-Liab 5-6'!F13)<>SUM('Assets-Liab 5-6'!F41),\"ERROR!\",\"OK\")","v":"OK"}]
[null,null,"Fund 50, Cell G13 must = Cell G41.",{"$f":"IF(SUM('Assets-Liab 5-6'!G13)<>SUM('Assets-Liab 5-6'!G41),\"ERROR!\",\"OK\")","v":"OK"}]
[null,null,"Fund 60, Cell H13 must = Cell H41.",{"$f":"IF(SUM('Assets-Liab 5-6'!H13)<>SUM('Assets-Liab 5-6'!H41),\"ERROR!\",\"OK\")","v":"OK"}]
[null,null,"Fund 70, Cell I13 must = Cell I41.",{"$f":"IF(SUM('Assets-Liab 5-6'!I13)<>SUM('Assets-Liab 5-6'!I41),\"ERROR!\",\"OK\")","v":"OK"}]
[null,null,"Fund 80, Cell J13 must = Cell J41.",{"$f":"IF(SUM('Assets-Liab 5-6'!J13)<>SUM('Assets-Liab 5-6'!J41),\"ERROR!\",\"OK\")","v":"OK"}]
[null,null,"Fund 90, Cell K13 must = Cell K41.",{"$f":"IF(SUM('Assets-Liab 5-6'!K13)<>SUM('Assets-Liab 5-6'!K41),\"ERROR!\",\"OK\")","v":"OK"}]
[null,null,"Agency Fund, Cell L13 must = Cell L41.",{"$f":"IF(SUM('Assets-Liab 5-6'!L13)<>('Assets-Liab 5-6'!L41),\"ERROR!\",\"OK\")","v":"OK"}]
[null,null,"General Fixed Assets, Cell M23 must = Cell M41.",{"$f":"IF(SUM('Assets-Liab 5-6'!M23)<>('Assets-Liab 5-6'!M41),\"ERROR!\",\"OK\")","v":"OK"}]
[null,null,"General Long-Term Debt, Cell N23 must = Cell N41.",{"$f":"IF(SUM('Assets-Liab 5-6'!N23)<>('Assets-Liab 5-6'!N41),\"ERROR!\",\"OK\")","v":"OK"}]
[null,{"$f":"B48+1","v":6},"Page 5:  Sum of Reserved & Unreserved Fund Balance must = Page 8, Ending Fund Balance."]
[null,null,"Fund 10, Cells C38+C39 must = Cell C81.",{"$f":"IF('Assets-Liab 5-6'!C38+'Assets-Liab 5-6'!C39='Acct Summary 7-9'!C81,\"OK\",\"ERROR!\")","v":"OK"}]
[null,null,"Fund 20, Cells D38+D39 must = Cell D81.",{"$f":"IF((('Assets-Liab 5-6'!D38+'Assets-Liab 5-6'!D39) ='Acct Summary 7-9'!D81), \"OK\", \"ERROR!\" )","v":"OK"}]
[null,null,"Fund 30, Cells E38+E39 must = Cell E81",{"$f":"IF((('Assets-Liab 5-6'!E38 + 'Assets-Liab 5-6'!E39) ='Acct Summary 7-9'!E81), \"OK\", \"ERROR!\" )","v":"OK"}]
[null,null,"Fund 40, Cells F38+F39 must = Cell F81.",{"$f":"IF((('Assets-Liab 5-6'!F38 + 'Assets-Liab 5-6'!F39) ='Acct Summary 7-9'!F81), \"OK\", \"ERROR!\" )","v":"OK"}]
[null,null,"Fund 50, Cells G38+G39 must = Cell G81.",{"$f":"IF((('Assets-Liab 5-6'!G38 + 'Assets-Liab 5-6'!G39) ='Acct Summary 7-9'!G81), \"OK\", \"ERROR!\" )","v":"OK"}]
[null,null,"Fund 60, Cells H38+H39 must = Cell H81.",{"$f":"IF((('Assets-Liab 5-6'!H38 + 'Assets-Liab 5-6'!H39) ='Acct Summary 7-9'!H81), \"OK\", \"ERROR!\" )","v":"OK"}]
[null,null,"Fund 70, Cells I38+I39 must = Cell I81.",{"$f":"IF((('Assets-Liab 5-6'!I38 + 'Assets-Liab 5-6'!I39) ='Acct Summary 7-9'!I81), \"OK\", \"ERROR!\" )","v":"OK"}]
[null,null,"Fund 80, Cells J38+J39 must = Cell J81.",{"$f":"IF((('Assets-Liab 5-6'!J38 + 'Assets-Liab 5-6'!J39) ='Acct Summary 7-9'!J81), \"OK\", \"ERROR!\" )","v":"OK"}]
[null,null,"Fund 90, Cells K38+K39 must = Cell K81.",{"$f":"IF((('Assets-Liab 5-6'!K38 + 'Assets-Liab 5-6'!K39) ='Acct Summary 7-9'!K81), \"OK\", \"ERROR!\" )","v":"OK"}]
[null,{"$f":"B61+1+1","v":8},"Page 26:  Schedule of Long-Term Debt"]
[null,null,"Note:  Explain any unreconcilable differences in the Itemization sheet."]
[null,null,"Total Long-Term Debt Issued (P26, Cell F49) must = Principal on Long-Term Debt Sold (P7, Cells C33:K33).",{"$f":"IF('Short-Term Long-Term Debt 26'!F49=SUM(,'Acct Summary 7-9'!C33:K33),\"OK\",\"ERROR!\")","v":"OK"}]
[null,null,"Total Long-Term Debt (Principal) Retired (P19, Cell H174) must = Debt Service - Long-Term Debt (Principal) Retired (P26, Cell H49).",{"$f":"IF('Expenditures 16-24'!H174<>'Short-Term Long-Term Debt 26'!H49,\"ERROR!\",\"OK\")","v":"OK"}]
[null,{"$f":"B71+1","v":9},"Page 7-9:  Other Sources of Funds must = Other Uses of Funds"]
[null,null,"Acct 7130 - Transfer Among Funds, Cells C27:K27 must = Acct 8130 Transfer Among Funds, Cells C49:K49",{"$f":"IF(SUM('Acct Summary 7-9'!C27:K27) =SUM( 'Acct Summary 7-9'!C49:K49),\"OK\", \"ERROR\")","v":"OK"}]
[null,null,"Acct 7140 - Transfer of Interest, Cells C28:K28 must = Acct 8140 Transfer of Interest, Cells C50:K50.",{"$f":"IF(SUM('Acct Summary 7-9'!C28:K28)=SUM('Acct Summary 7-9'!C50:K50),\"OK\",\"ERROR!\")","v":"OK"}]
[null,null,"Acct 7900 - ISBE Loan Proceeds (Cells C42:K42) must = Acct 8910 - Transfers to Debt Service Fund to Pay Principal on ISBE Loans                                             (Cells C74:K74) ",{"$f":"IF(SUM('Acct Summary 7-9'!C42:K42)>=SUM( 'Acct Summary 7-9'!C74:K74),\"OK\", \"ERROR\")","v":"OK"}]
[null,{"$f":"B75+1","v":10},"Restricted Tax Levies Page 27, Line 25 must = Reserved Fund Balance, Pages 5 & 6, Line 38."]
[null,null,"Reserved Fund Balance, Page 5, Cells C38:H38 must be => Reserve Fund Balance Cell G25:K25.",{"$f":"IF(SUM('Assets-Liab 5-6'!C38:H38+'Assets-Liab 5-6'!J38)>=SUM('Rest Tax Levies-Tort Im 27'!G25:K25),\"OK\",\"ERROR\")","v":"OK"}]
[null,null,"Unreserved Fund Balance, Page 5, Cells C39:H39 must be > 0",{"$f":"IF(SUM('Assets-Liab 5-6'!C39:K39)>0,\"OK\",\"ENTRY IS REQUIRED!\")","v":"ENTRY IS REQUIRED!"}]
[null,{"$f":"B79+1","v":11},"Page 7: \"On behalf\" payments to the Educational Fund"]
[null,null,"Fund (10) ED: Account 3998, cell C9 must be entered or Explain why this is zero on Itemization sheet.",{"$f":"IF(ISNUMBER('Acct Summary 7-9'!C9),\"OK\",\"ENTRY IS REQUIRED!\")","v":"ENTRY IS REQUIRED!"}]
[null,{"$f":"B79+1+1","v":12},"Page 37-39:  The 9 Month ADA must be entered on Line 98.",{"$f":"IF(OR(COVER!$B$6=\"X\",'PCTC-OEPP 37-39'!F98>0),\"OK\",\"PLEASE ENTER 9 MO ADA.\")","v":"PLEASE ENTER 9 MO ADA."}]
[null,13,"Page 37-39:  The Special Education Contributions from EBF Funds (line 192) must be entered.",{"$f":"IF(OR(COVER!$B$6=\"X\",ISNUMBER('PCTC-OEPP 37-39'!F192)),\"OK\",\"PLEASE ENTER AMOUNT or 0.\")","v":"PLEASE ENTER AMOUNT or 0."}]
[null,14,"Page 37-39:  The English Learning (Bilingual) Contributions from EBF Funds (line 193) must be entered.",{"$f":"IF(OR(COVER!$B$6=\"X\",ISNUMBER('PCTC-OEPP 37-39'!F193)),\"OK\",\"PLEASE ENTER AMOUNT or 0.\")","v":"PLEASE ENTER AMOUNT or 0."}]
[null,15,"Page 40:  Contracts Paid in Current Year (CY) MUST be completed.  If there are no contracts, state \"no contracts\" in cell A20 on Contacts Paid in CY tab.  ",{"$f":"IF('Contracts Paid in CY 40'!A20=\"\",\"PLEASE ENTER CONTRACTS PAID IN CURRENT YEAR.  IF NONE, STATE NO CONTRACTS.\",\"OK\")","v":"PLEASE ENTER CONTRACTS PAID IN CURRENT YEAR.  IF NONE, STATE NO CONTRACTS."}]
[null,16,"Page 42:  SHARED OUTSOURCED SERVICES, Completed.",{"$f":"IF('Shared Outsourced Services 42'!B8=\"X\",\"OK\",IF('Shared Outsourced Services 42'!K34>0,\"OK\",\"ENTRY REQUIRED!\"))","v":"ENTRY REQUIRED!"}]
[null,17,"Page 43:  LIMITATION OF ADMINISTRATIVE COST, Budget Information must be completed and submitted to ISBE.",{"$f":"IF(COVER!B5=\"X\",IF('AC 43'!L19=0,\"ENTER BUDGET DATA!\",\"OK\"),\"OK\")","v":"OK"}]
[null,18,"Page 27:  Rest Tax Levies-Tort Im 27, G31 (Total Tort Expenditures) minus (G36 through G45) must equal 0 ",{"$f":"'Rest Tax Levies-Tort Im 27'!G47","v":"ERROR.  If N/A, enter 0 in G36-G45"}]
[null,19,"Assets-Liab (C45,C48, C49), Acct Summary (C85), Revenues (C82), Expenditures (H33) -Enter Student Activity Funds",{"$f":"IF(OR('Assets-Liab 5-6'!C45=\"\",'Assets-Liab 5-6'!C48=\"\",'Assets-Liab 5-6'!C49=\"\",'Acct Summary 7-9'!C85=\"\",'Expenditures 16-24'!H33=\"\",'Revenues 10-15'!C82=\"\"),\"ENTRY IS REQUIRED!  IF ZERO, ENTER 0 in cell.\",\"OK\")","v":"ENTRY IS REQUIRED!  IF ZERO, ENTER 0 in cell."}]
[null,20,"Page 28-35:  CARES CRRSA ARP Schedule - Revenue 4998 listed on schedule must equal Revenue 4998 listed on Revenue tab ",{"$f":"IF(AND('CARES CRRSA ARP 28-35'!C42=\"OK\",'CARES CRRSA ARP 28-35'!D42=\"OK\",'CARES CRRSA ARP 28-35'!F42=\"OK\",'CARES CRRSA ARP 28-35'!G42=\"OK\",'CARES CRRSA ARP 28-35'!H42=\"OK\",'CARES CRRSA ARP 28-35'!K42=\"OK\",'CARES CRRSA ARP 28-35'!L42=\"OK\"),\"OK\",\"ERROR\")","v":"OK"}]
[null,21,"Page 28-35:  CARES CRRSA ARP Schedule -check box yes or no if district/joint agreement received/expended funds",{"$f":"IF(AND(('CARES CRRSA ARP 28-35'!D4=\"\"),('CARES CRRSA ARP 28-35'!G4=\"\")),\"ERROR, check yes or no\",\"OK\")","v":"ERROR, check yes or no"}]

{"sheet":"AFR22","index":24,"n_rows":9789,"n_cols":7,"rows_kept":9789,"cut":false,"hidden":true,"merged":[]}
["HEADING     (No Data Entry is required on this sheet)",null,null,null,"Fiscal Year","Version","Contracts tab F-F-O"]
["District/Joint Agreement Code",{"$f":"COVER!A13","v":"Please select district from drop-down list on line 17."},null,null,2022,1,101000300]
["County Name",{"$f":"COVER!A15","v":0},null,null,"Due to ROE","Due to ISBE",101000400]
["District/Joint Agreement Name",{"$f":"COVER!A17","v":0},null,null,"2022-10-14","2022-11-15",101000600]
["District Superintendent/Administrator Name",{"$f":"COVER!A38","v":0},null,null,null,null,101000800]
["Name of Township",{"$f":"COVER!P35","v":0},null,null,null,null,801000300]
["Township Treasurer Name",{"$f":"COVER!I38","v":0},null,null,null,null,801000400]
["Regional Superintendent Name",{"$f":"COVER!T38","v":0},null,null,null,null,801000600]
["Accounting Basis",{"$f":"AUDITCHECK!D27","v":"PLEASE CHECK AN ACCOUNTING BASIS."},null,null,null,null,801000800]
["Deficit Reduction Plan?",{"$f":"COVER!J24","v":0},null,null,null,null,102100300]
["Is this a School District AFR? (YES)",{"$f":"COVER!B5","v":0},null,null,null,null,102100400]
["Is this a Joint Agreement AFR? (YES)",{"$f":"COVER!B6","v":0},null,null,null,null,102100600]
["Illinois Registration Number",{"$f":"COVER!T23","v":0},null,null,null,null,102100800]
["CPA Firm Name",{"$f":"COVER!T13","v":0},null,null,null,null,202100300]
["Name of Audit Supervisor",{"$f":"COVER!T15","v":0},null,null,null,null,202100400]
["Address",{"$f":"COVER!T17","v":0},null,null,null,null,202100600]
["Email Address",{"$f":"COVER!T25","v":0},null,null,null,null,202100800]
["City",{"$f":"COVER!T19","v":0},null,null,null,null,402100300]
["State",{"$f":"COVER!X19","v":0},null,null,null,null,402100400]
["Zip Code",{"$f":"COVER!Z19","v":0},null,null,null,null,402100600]
["Telephone Number",{"$f":"COVER!T21","v":0},null,null,null,null,402100800]
["Fax Number",{"$f":"COVER!Y21","v":0},null,null,null,null,802100300]
["Reviewed by the District Superintendent",{"$f":"COVER!B34","v":0},null,null,null,null,802100400]
["Reviewed by Township Treasurer",{"$f":"COVER!L34","v":0},null,null,null,null,802100600]
["Reviewed by Regional Superintendent",{"$f":"COVER!U34","v":0},null,null,null,null,802100800]
["AQ1 (X=YES)",{"$f":"IF('Aud Quest 2'!B9=\"x\",\"Yes\",IF('Aud Quest 2'!B9<>\"x\",\"0\"))","v":"0"},null,null,null,null,102200300]
["AQ2",{"$f":"IF('Aud Quest 2'!B11=\"x\",\"Yes\",IF('Aud Quest 2'!B11<>\"x\",\"0\"))","v":"0"},null,null,null,null,102200400]
["AQ3",{"$f":"IF('Aud Quest 2'!B13=\"x\",\"Yes\",IF('Aud Quest 2'!B13<>\"x\",\"0\"))","v":"0"},null,null,null,null,102200600]
["AQ4",{"$f":"IF('Aud Quest 2'!B14=\"x\",\"Yes\",IF('Aud Quest 2'!B14<>\"x\",\"0\"))","v":"0"},null,null,null,null,102200800]
["AQ5",{"$f":"IF('Aud Quest 2'!B15=\"x\",\"Yes\",IF('Aud Quest 2'!B15<>\"x\",\"0\"))","v":"0"},null,null,null,null,802200300]
["AQ6",{"$f":"IF('Aud Quest 2'!B16=\"x\",\"Yes\",IF('Aud Quest 2'!B16<>\"x\",\"0\"))","v":"0"},null,null,null,null,802200400]
["AQ7",{"$f":"IF('Aud Quest 2'!B18=\"x\",\"Yes\",IF('Aud Quest 2'!B18<>\"x\",\"0\"))","v":"0"},null,null,null,null,802200600]
["AQ8",{"$f":"IF('Aud Quest 2'!B20=\"x\",\"Yes\",IF('Aud Quest 2'!B20<>\"x\",\"0\"))","v":"0"},null,null,null,null,802200800]
["AQ9",{"$f":"IF('Aud Quest 2'!B22=\"x\",\"Yes\",IF('Aud Quest 2'!B22<>\"x\",\"0\"))","v":"0"},null,null,null,null,102300300]
["AQ10",{"$f":"IF('Aud Quest 2'!B24=\"x\",\"Yes\",IF('Aud Quest 2'!B24<>\"x\",\"0\"))","v":"0"},null,null,null,null,102300400]
["AQ11",{"$f":"IF('Aud Quest 2'!B25=\"x\",\"Yes\",IF('Aud Quest 2'!B25<>\"x\",\"0\"))","v":"0"},null,null,null,null,102300600]
["AQ12",{"$f":"IF('Aud Quest 2'!B27=\"x\",\"Yes\",IF('Aud Quest 2'!B27<>\"x\",\"0\"))","v":"0"},null,null,null,null,102300800]
["AQ13",{"$f":"IF('Aud Quest 2'!B29=\"x\",\"Yes\",IF('Aud Quest 2'!B29<>\"x\",\"0\"))","v":"0"},null,null,null,null,802300300]
["AQ14",{"$f":"IF('Aud Quest 2'!B31=\"x\",\"Yes\",IF('Aud Quest 2'!B31<>\"x\",\"0\"))","v":"0"},null,null,null,null,802300400]
["AQ15",{"$f":"IF('Aud Quest 2'!B37=\"x\",\"Yes\",IF('Aud Quest 2'!B37<>\"x\",\"0\"))","v":"0"},null,null,null,null,802300600]
["AQ16",{"$f":"IF('Aud Quest 2'!B40=\"x\",\"Yes\",IF('Aud Quest 2'!B40<>\"x\",\"0\"))","v":"0"},null,null,null,null,802300800]
["AQ17",{"$f":"IF('Aud Quest 2'!B42=\"x\",\"Yes\",IF('Aud Quest 2'!B42<>\"x\",\"0\"))","v":"0"},null,null,null,null,102400300]
["AQ18",{"$f":"IF('Aud Quest 2'!B44=\"x\",\"Yes\",IF('Aud Quest 2'!B44<>\"x\",\"0\"))","v":"0"},null,null,null,null,102400400]
["AQ19",{"$f":"IF('Aud Quest 2'!B49=\"x\",\"Yes\",IF('Aud Quest 2'!B49<>\"x\",\"0\"))","v":"0"},null,null,null,null,102400600]
["AQ20",{"$f":"IF('Aud Quest 2'!B50=\"x\",\"Yes\",IF('Aud Quest 2'!B50<>\"x\",\"0\"))","v":"0"},null,null,null,null,102400800]
["AQ21",null,null,null,null,null,802400300]
["AQ22",{"$f":"IF('Aud Quest 2'!B51=\"x\",\"Yes\",IF('Aud Quest 2'!B51<>\"x\",\"0\"))","v":"0"},null,null,null,null,802400400]
["AQ22 Date (If AQ22 = X, DATE)",{"$f":"'Aud Quest 2'!H51","v":"00:00:00"},null,null,null,null,802400600]
["AQ23",{"$f":"IF('Aud Quest 2'!B52=\"x\",\"Yes\",IF('Aud Quest 2'!B52<>\"x\",\"0\"))","v":"0"},null,null,null,null,802400800]
["Comment1",{"$f":"('Aud Quest 2'!D54)","v":0},null,null,null,null,102510300]
["QE1(Pending Litigation)",{"$f":"IF('FP Info 3'!B45=\"X\",\"Yes\",0)","v":0},null,null,null,null,102510400]
["QE2 (Material Decrease in EAV)",{"$f":"IF('FP Info 3'!B46=\"X\",\"Yes\",0)","v":0},null,null,null,null,102510600]
["QE3 (Material Increase/Decrease in Enrollment)",{"$f":"IF('FP Info 3'!B47=\"X\",\"Yes\",0)","v":0},null,null,null,null,102510800]
["QE4 (Adverse Arbitration Ruling)",{"$f":"IF('FP Info 3'!B48=\"X\",\"Yes\",0)","v":0},null,null,null,null,202510300]
["QE5 (Passage of Referendum)",{"$f":"IF('FP Info 3'!B49=\"X\",\"Yes\",0)","v":0},null,null,null,null,202510400]
["QE6 (Taxes Filed Under Protest)",{"$f":"IF('FP Info 3'!B50=\"X\",\"Yes\",0)","v":0},null,null,null,null,202510600]
["QE7 (Decisions By Local Board of Review or IL Property Tax Appeal Board)",{"$f":"IF('FP Info 3'!B51=\"X\",\"Yes\",0)","v":0},null,null,null,null,202510800]
["QE8 (Other Ongoing Concerns)",{"$f":"IF('FP Info 3'!B52=\"X\",\"Yes\",0)","v":0},null,null,null,null,802510300]
["QE(Comment)",{"$f":"('FP Info 3'!A54)","v":0},null,null,null,null,802510400]
[1,null,null,{"$f":"IF(ISBLANK(B60),\"OK\",IF(A60-B60=0,\"OK\",\"Error?\"))","v":"OK"},null,null,802510600]
[2,null,null,{"$f":"IF(ISBLANK(B61),\"OK\",IF(A61-B61=0,\"OK\",\"Error?\"))","v":"OK"},null,null,802510800]
[3,null,null,"OK",null,null,102520300]
[4,{"$f":"'Assets-Liab 5-6'!C6","v":0},null,"Error?",null,null,102520400]
[5,null,null,"OK",null,null,102520600]
[6,null,null,"OK",null,null,102520800]
[7,null,null,"OK",null,null,802520300]
[8,null,null,"OK",null,null,802520400]
[9,null,null,"OK",null,null,802520600]
[10,null,null,"OK",null,null,802520800]
[11,{"$f":"'Assets-Liab 5-6'!C10","v":0},null,"Error?",null,null,102540300]
[12,{"$f":"'Assets-Liab 5-6'!C5","v":0},null,"Error?",null,null,102540400]
[13,null,null,"OK",null,null,102540600]
[14,null,null,"OK",null,null,102540800]
[15,{"$f":"'Assets-Liab 5-6'!C12","v":0},null,"Error?",null,null,202540300]
[16,{"$f":"'Assets-Liab 5-6'!C13","v":0},null,"Error?",null,null,202540400]
[17,null,null,"OK",null,null,202540600]
[18,null,"T","OK",null,null,202540800]
[19,null,null,"OK",null,null,802540300]
[20,null,null,"OK",null,null,802540400]
[21,null,null,"OK",null,null,802540600]
[22,null,null,"OK",null,null,802540800]
[23,null,null,"OK",null,null,902540300]
[24,null,null,"OK",null,null,902540400]
[25,{"$f":"'Assets-Liab 5-6'!C31","v":0},null,"Error?",null,null,902540600]
[26,null,null,"OK",null,null,902540800]
[27,{"$f":"'Assets-Liab 5-6'!C32","v":0},null,"Error?",null,null,102550300]
[28,null,null,"OK",null,null,102550400]
[29,null,null,"OK",null,null,102550600]
[30,{"$f":"'Assets-Liab 5-6'!C34","v":0},null,"Error?",null,null,102550800]
[31,{"$f":"'Assets-Liab 5-6'!C39","v":0},null,"Error?",null,null,202550300]
[32,{"$f":"'Assets-Liab 5-6'!C41","v":0},"T","Error?",null,null,202550400]
[33,null,null,"OK",null,null,202550600]
[34,null,"T","OK",null,null,202550800]
[35,null,null,"OK",null,null,402550300]
[36,{"$f":"'Assets-Liab 5-6'!D6","v":0},null,"Error?",null,null,402550400]
[37,null,null,"OK",null,null,402550600]
[38,null,null,"OK",null,null,402550800]
[39,null,null,"OK",null,null,802550300]
[40,null,null,"OK",null,null,802550400]
[41,null,null,"OK",null,null,802550600]
[42,null,null,"OK",null,null,802550800]
[43,{"$f":"'Assets-Liab 5-6'!D10","v":0},null,"Error?",null,null,102560300]
[44,{"$f":"'Assets-Liab 5-6'!D5","v":0},null,"Error?",null,null,102560400]
[45,null,null,"OK",null,null,102560600]
[46,null,null,"OK",null,null,102560800]
[47,{"$f":"'Assets-Liab 5-6'!D12","v":0},null,"Error?",null,null,802560300]
[48,{"$f":"'Assets-Liab 5-6'!D13","v":0},null,"Error?",null,null,802560400]
[49,null,null,"OK",null,null,802560600]
[50,null,"T","OK",null,null,802560800]
[51,null,null,"OK",null,null,102570300]
[52,null,null,"OK",null,null,102570400]
[53,null,null,"OK",null,null,102570600]
[54,null,null,"OK",null,null,102570800]
[55,null,null,"OK",null,null,802570300]
[56,{"$f":"'Assets-Liab 5-6'!D31","v":0},null,"Error?",null,null,802570400]
[57,null,null,"OK",null,null,802570600]
[58,{"$f":"'Assets-Liab 5-6'!D32","v":0},null,"Error?",null,null,802570800]
[59,null,null,"OK",null,null,102610300]
[60,null,null,"OK",null,null,102610400]
[61,{"$f":"'Assets-Liab 5-6'!D34","v":0},null,"Error?",null,null,102610600]
[62,{"$f":"'Assets-Liab 5-6'!D39","v":0},null,"Error?",null,null,102610800]
[63,{"$f":"'Assets-Liab 5-6'!D41","v":0},"T","Error?",null,null,802610300]
[64,null,null,"OK",null,null,802610400]
[65,{"$f":"'Assets-Liab 5-6'!E6","v":0},"T","Error?",null,null,802610600]
[66,null,null,{"$f":"IF(ISBLANK(B125),\"OK\",IF(A125-B125=0,\"OK\",\"Error?\"))","v":"OK"},null,null,802610800]
[67,null,null,"OK",null,null,102620300]
[68,{"$f":"'Assets-Liab 5-6'!E5","v":0},null,"Error?",null,null,102620400]
[69,{"$f":"'Assets-Liab 5-6'!E12","v":0},null,"Error?",null,null,102620600]
[70,{"$f":"'Assets-Liab 5-6'!E13","v":0},null,"Error?",null,null,102620800]
[71,null,null,"OK",null,null,802620300]
[72,null,"T","OK",null,null,802620400]
[73,{"$f":"'Assets-Liab 5-6'!E32","v":0},null,"Error?",null,null,802620600]
[74,null,null,"OK",null,null,802620800]
[75,null,null,"OK",null,null,102630300]
[76,null,null,"OK",null,null,102630400]
[77,null,null,"OK",null,null,102630600]
[78,{"$f":"'Assets-Liab 5-6'!E34","v":0},null,"Error?",null,null,102630800]
[79,{"$f":"'Assets-Liab 5-6'!E39","v":0},null,"Error?",null,null,802630300]
[80,{"$f":"'Assets-Liab 5-6'!E41","v":0},"T","Error?",null,null,802630400]
[81,null,null,"OK",null,null,802630600]
[82,null,"T","OK",null,null,802630800]
[83,null,null,"OK",null,null,102640300]
[84,{"$f":"'Assets-Liab 5-6'!F6","v":0},null,"Error?",null,null,102640400]
[85,null,null,"OK",null,null,102640600]
[86,null,null,"OK",null,null,102640800]
[87,null,null,"OK",null,null,802640300]
[88,null,null,"OK",null,null,802640400]
[89,null,null,"OK",null,null,802640600]
[90,null,null,"OK",null,null,802640800]
[91,{"$f":"'Assets-Liab 5-6'!F10","v":0},null,"Error?",null,null,102660300]
[92,{"$f":"'Assets-Liab 5-6'!F5","v":0},null,"Error?",null,null,102660400]
[93,null,null,"OK",null,null,102660600]
[94,null,null,"OK",null,null,102660800]
[95,{"$f":"'Assets-Liab 5-6'!F12","v":0},null,"Error?",null,null,802660300]
[96,{"$f":"'Assets-Liab 5-6'!F13","v":0},null,"Error?",null,null,802660400]
[97,null,null,"OK",null,null,802660600]
[98,null,"T","OK",null,null,802660800]
[99,null,null,"OK",null,null,102900300]
[100,null,null,"OK",null,null,102900400]
[101,null,null,"OK",null,null,102900600]
[102,null,null,"OK",null,null,102900800]
[103,{"$f":"'Assets-Liab 5-6'!F31","v":0},null,"Error?",null,null,202900300]
[104,null,null,"OK",null,null,202900400]
[105,{"$f":"'Assets-Liab 5-6'!F32","v":0},null,"Error?",null,null,202900600]
[106,null,null,"OK",null,null,202900800]
[107,null,null,"OK",null,null,402900300]
[108,{"$f":"'Assets-Liab 5-6'!F34","v":0},null,"Error?",null,null,402900400]
[109,{"$f":"'Assets-Liab 5-6'!F39","v":0},null,"Error?",null,null,402900600]
[110,{"$f":"'Assets-Liab 5-6'!F41","v":0},"T","Error?",null,null,402900800]
[111,null,null,"OK",null,null,602900300]
[112,{"$f":"'Assets-Liab 5-6'!G6","v":0},"T","Error?",null,null,602900400]
[113,null,null,"OK",null,null,602900600]
[114,null,null,"OK",null,null,602900800]
[115,null,null,"OK",null,null,802900300]
[116,{"$f":"'Assets-Liab 5-6'!G5","v":0},null,"Error?",null,null,802900400]
[117,null,null,"OK",null,null,802900600]
[118,{"$f":"'Assets-Liab 5-6'!G12","v":0},null,"Error?",null,null,802900800]
[119,{"$f":"'Assets-Liab 5-6'!G13","v":0},null,"Error?",null,null,902900300]
[120,null,null,"OK",null,null,902900400]
[121,null,"T","OK",null,null,902900600]
[122,null,null,"OK",null,null,902900800]
[123,{"$f":"'Assets-Liab 5-6'!G31","v":0},null,"Error?",null,null,103000300]
[124,{"$f":"'Assets-Liab 5-6'!G32","v":0},null,"Error?",null,null,103000400]
[125,null,null,"OK",null,null,103000600]
[126,null,null,"OK",null,null,103000800]
[127,{"$f":"'Assets-Liab 5-6'!G34","v":0},null,"Error?",null,null,203000300]
[128,{"$f":"'Assets-Liab 5-6'!G39","v":0},null,"Error?",null,null,203000400]
[129,{"$f":"'Assets-Liab 5-6'!G41","v":0},"T","Error?",null,null,203000600]
[130,null,null,{"$f":"IF(ISBLANK(B189),\"OK\",IF(A189-B189=0,\"OK\",\"Error?\"))","v":"OK"},null,null,203000800]
[131,null,"T","OK",null,null,403000300]
[132,null,null,"OK",null,null,403000400]
[133,null,null,"OK",null,null,403000600]
[134,null,null,"OK",null,null,403000800]
[135,null,null,"OK",null,null,803000300]
[136,null,null,"OK",null,null,803000400]
[137,{"$f":"'Assets-Liab 5-6'!H10","v":0},null,"Error?",null,null,803000600]
[138,{"$f":"'Assets-Liab 5-6'!H5","v":0},null,"Error?",null,null,803000800]
[139,null,null,"OK"]
[140,null,null,"OK"]
[141,{"$f":"'Assets-Liab 5-6'!H12","v":0},null,"Error?"]
[142,{"$f":"'Assets-Liab 5-6'!H13","v":0},null,"Error?"]
[143,null,null,"OK"]
[144,null,"T","OK"]
[145,{"$f":"'Assets-Liab 5-6'!H31","v":0},null,"Error?"]
[146,null,null,"OK"]
[147,{"$f":"'Assets-Liab 5-6'!H32","v":0},null,"Error?"]
[148,null,null,"OK"]
[149,null,null,"OK"]
[150,{"$f":"'Assets-Liab 5-6'!H34","v":0},null,"Error?"]
[151,{"$f":"'Assets-Liab 5-6'!H39","v":0},null,"Error?"]
[152,{"$f":"'Assets-Liab 5-6'!H41","v":0},"T","Error?"]
[153,null,null,"OK"]
[154,null,"T","OK"]
[155,null,null,"OK"]
[156,null,null,"OK"]
[157,null,null,"OK"]
[158,null,null,"OK"]
[159,null,null,"OK"]
[160,null,null,"OK"]
[161,null,null,"OK"]
[162,null,null,"OK"]
[163,null,null,"OK"]
[164,null,null,"OK"]
[165,null,null,"OK"]
[166,null,null,"OK"]
[167,null,null,"OK"]
[168,null,null,"OK"]
[169,null,null,"OK"]
[170,null,null,"OK"]
[171,null,null,"OK"]
[172,null,null,"OK"]
[173,null,null,"OK"]
[174,null,null,"OK"]
[175,null,null,"OK"]
[176,null,null,"OK"]
[177,null,null,"OK"]
[178,null,null,"OK"]
[179,null,null,"OK"]
[180,null,null,"OK"]
[181,null,null,"OK"]
[182,null,"T","OK"]
[183,null,null,"OK"]
[184,null,null,"OK"]
[185,null,null,"OK"]
[186,null,null,"OK"]
[187,null,null,"OK"]
[188,null,"T","OK"]
[189,null,null,"OK"]
[190,null,"T","OK"]
[191,null,null,"OK"]
[192,null,null,"OK"]
[193,null,null,"OK"]
[194,null,null,{"$f":"IF(ISBLANK(B253),\"OK\",IF(A253-B253=0,\"OK\",\"Error?\"))","v":"OK"}]
[195,null,null,"OK"]
[196,null,null,"OK"]
[197,null,null,"OK"]
[198,null,null,"OK"]
[199,null,null,"OK"]
[200,null,null,"OK"]
[201,null,null,"OK"]
[202,null,null,"OK"]
[203,null,null,"OK"]
[204,null,null,"OK"]
[205,null,null,"OK"]
[206,null,null,"OK"]
[207,null,null,"OK"]
[208,null,null,"OK"]
[209,null,null,"OK"]
[210,null,null,"OK"]
[211,null,null,"OK"]
[212,{"$f":"'Assets-Liab 5-6'!M16","v":0},null,"Error?"]
[213,{"$f":"'Assets-Liab 5-6'!M17","v":0},null,"Error?"]
[214,{"$f":"'Assets-Liab 5-6'!M18","v":0},null,"Error?"]
[215,{"$f":"'Assets-Liab 5-6'!M19","v":0},null,"Error?"]
[216,null,null,"OK"]
[217,null,null,"OK"]
[218,{"$f":"'Assets-Liab 5-6'!M23","v":0},null,"Error?"]
[219,{"$f":"'Assets-Liab 5-6'!M40","v":0},null,"Error?"]
[220,{"$f":"'Assets-Liab 5-6'!M41","v":0},"T","Error?"]
[221,{"$f":"'Assets-Liab 5-6'!N21","v":0},null,"Error?"]
[222,{"$f":"'Assets-Liab 5-6'!N22","v":0},"T","Error?"]
[223,{"$f":"'Assets-Liab 5-6'!N23","v":0},null,"Error?"]
[224,{"$f":"'Assets-Liab 5-6'!N36","v":0},null,"Error?"]
[225,null,"T","OK"]
[226,{"$f":"'Assets-Liab 5-6'!N37","v":0},null,"Error?"]
[227,{"$f":"'Assets-Liab 5-6'!N41","v":0},null,"Error?"]
[228,null,"T","OK"]
[229,null,"T","OK"]
[230,null,null,"OK"]
[231,null,null,"OK"]
[232,null,null,"OK"]
[233,null,null,"OK"]
[234,null,null,"OK"]
[235,null,null,"OK"]
[236,null,null,"OK"]
[237,null,null,"OK"]
[238,null,null,"OK"]
[239,null,null,"OK"]
[240,null,null,"OK"]
[241,null,null,"OK"]
[242,null,null,"OK"]
[243,null,null,"OK"]
[244,null,null,"OK"]
[245,null,null,"OK"]
[246,null,null,"OK"]
[247,null,null,"OK"]
[248,null,null,"OK"]
[249,null,null,"OK"]
[250,null,null,"OK"]
[251,null,null,"OK"]
[252,null,null,"OK"]
[253,null,null,"OK"]
[254,null,null,"OK"]
[255,null,null,"OK"]
[256,null,null,"OK"]
[257,null,null,"OK"]
[258,null,null,{"$f":"IF(ISBLANK(B317),\"OK\",IF(A317-B317=0,\"OK\",\"Error?\"))","v":"OK"}]
[259,{"$f":"'Acct Summary 7-9'!C24","v":0},null,"Error?"]
[260,{"$f":"'Acct Summary 7-9'!C26","v":0},null,"Error?"]
[261,null,null,"OK"]
[262,{"$f":"'Acct Summary 7-9'!C33","v":0},null,"Error?"]
[263,{"$f":"'Acct Summary 7-9'!C34","v":0},null,"Error?"]
[264,{"$f":"'Acct Summary 7-9'!C35","v":0},null,"Error?"]
[265,null,null,"OK"]
[266,null,null,"OK"]
[267,null,null,"OK"]
[268,null,null,"OK"]
[269,null,null,"OK"]
[270,null,null,"OK"]
[271,null,null,"OK"]
[272,null,null,"OK"]
[273,null,null,"OK"]
[274,null,null,"OK"]
[275,null,null,"OK"]
[276,null,null,"OK"]
[277,null,null,"OK"]
[278,null,null,"OK"]
[279,null,null,"OK"]
[280,null,null,"OK"]
[281,null,null,"OK"]
[282,null,null,"OK"]
[283,null,null,"OK"]
[284,null,null,"OK"]
[285,null,null,"OK"]
[286,null,null,"OK"]
[287,null,null,"OK"]
[288,null,null,"OK"]
[289,null,null,"OK"]
[290,null,null,"OK"]
[291,null,null,"OK"]
[292,null,null,"OK"]
[293,null,null,"OK"]
[294,null,null,"OK"]
[295,null,null,"OK"]
[296,null,null,"OK"]
[297,null,null,"OK"]
[298,null,null,"OK"]
[299,null,null,"OK"]
[300,null,null,"OK"]
[301,null,null,"OK"]
[302,null,null,"OK"]
[303,null,null,"OK"]
[304,null,null,"OK"]
[305,null,null,"OK"]
[306,null,null,"OK"]
[307,null,null,"OK"]
[308,null,null,"OK"]
[309,null,null,"OK"]
[310,null,null,"OK"]
[311,null,null,"OK"]
[312,null,null,"OK"]
[313,null,null,"OK"]
[314,null,null,"OK"]
[315,null,null,"OK"]
[316,null,null,"OK"]
[317,null,null,"OK"]
[318,null,null,"OK"]
[319,null,null,"OK"]
[320,null,null,"OK"]
[321,null,null,"OK"]
[322,null,null,{"$f":"IF(ISBLANK(B381),\"OK\",IF(A381-B381=0,\"OK\",\"Error?\"))","v":"OK"}]
[323,null,null,"OK"]
[324,null,null,"OK"]
[325,null,null,"OK"]
[326,null,null,"OK"]
[327,null,null,"OK"]
[328,null,null,"OK"]
[329,null,null,"OK"]
[330,null,null,"OK"]
[331,null,null,"OK"]
[332,null,null,"OK"]
[333,null,null,"OK"]
[334,null,null,"OK"]
[335,null,null,"OK"]
[336,null,null,"OK"]
[337,null,null,"OK"]
[338,null,null,"OK"]
[339,null,null,"OK"]
[340,null,null,"OK"]
[341,null,null,"OK"]
[342,null,null,"OK"]
[343,null,null,"OK"]
[344,null,null,"OK"]
[345,null,null,"OK"]
[346,null,null,"OK"]
[347,null,null,"OK"]
[348,null,null,"OK"]
[349,null,null,"OK"]
[350,null,null,"OK"]
[351,null,null,"OK"]
[352,null,null,"OK"]
[353,null,null,"OK"]
[354,null,null,"OK"]
[355,null,null,"OK"]
[356,null,null,"OK"]
[357,null,null,"OK"]
[358,null,null,"OK"]
[359,null,null,"OK"]
[360,null,null,"OK"]
[361,null,null,"OK"]
[362,null,null,"OK"]
[363,null,null,"OK"]
[364,null,null,"OK"]
[365,null,null,"OK"]
[366,null,null,"OK"]
[367,null,null,"OK"]
[368,null,null,"OK"]
[369,null,null,"OK"]
[370,null,null,"OK"]
[371,{"$f":"'Acct Summary 7-9'!D26","v":0},null,"Error?"]
[372,null,null,"OK"]
[373,null,null,"OK"]
[374,null,null,"OK"]
[375,null,null,"OK"]
[376,null,null,"OK"]
[377,null,null,"OK"]
[378,null,null,"OK"]
[379,null,null,"OK"]
[380,null,null,"OK"]
[381,null,null,"OK"]
[382,null,null,"OK"]
[383,null,null,"OK"]
[384,null,null,"OK"]
[385,null,null,"OK"]
[386,null,null,{"$f":"IF(ISBLANK(B445),\"OK\",IF(A445-B445=0,\"OK\",\"Error?\"))","v":"OK"}]
[387,null,null,"OK"]
[388,null,null,"OK"]
[389,null,null,"OK"]
[390,null,null,"OK"]
[391,null,null,"OK"]
[392,null,null,"OK"]
[393,null,null,"OK"]
[394,null,null,"OK"]
[395,null,null,"OK"]
[396,null,null,"OK"]
[397,null,null,"OK"]
[398,null,null,"OK"]
[399,null,null,"OK"]
[400,null,null,"OK"]
[401,null,null,"OK"]
[402,null,null,"OK"]
[403,null,null,"OK"]
[404,null,null,"OK"]
[405,null,null,"OK"]
[406,null,null,"OK"]
[407,null,null,"OK"]
[408,null,null,"OK"]
[409,null,null,"OK"]
[410,null,null,"OK"]
[411,null,null,"OK"]
[412,null,null,"OK"]
[413,null,null,"OK"]
[414,null,null,"OK"]
[415,null,null,"OK"]
[416,null,null,"OK"]
[417,null,null,"OK"]
[418,null,null,"OK"]
[419,null,null,"OK"]
[420,null,null,"OK"]
[421,null,null,"OK"]
[422,null,null,"OK"]
[423,null,null,"OK"]
[424,null,null,"OK"]
[425,null,null,"OK"]
[426,null,null,"OK"]
[427,null,null,"OK"]
[428,null,null,"OK"]
[429,null,null,"OK"]
[430,null,null,"OK"]
[431,null,null,"OK"]
[432,null,null,"OK"]
[433,null,null,"OK"]
[434,null,null,"OK"]
[435,null,null,"OK"]
[436,null,null,"OK"]
[437,null,null,"OK"]
[438,null,null,"OK"]
[439,{"$f":"'Acct Summary 7-9'!E34","v":0},null,"Error?"]
[440,{"$f":"'Acct Summary 7-9'!E35","v":0},null,"Error?"]
[441,null,null,"OK"]
[442,null,null,"OK"]
[443,null,null,"OK"]
[444,null,null,"OK"]
[445,null,null,"OK"]
[446,null,null,"OK"]
[447,null,null,"OK"]
[448,null,null,"OK"]
[449,null,null,"OK"]
[450,null,null,{"$f":"IF(ISBLANK(B509),\"OK\",IF(A509-B509=0,\"OK\",\"Error?\"))","v":"OK"}]
[451,null,null,"OK"]
[452,null,null,"OK"]
[453,null,null,"OK"]
[454,null,null,"OK"]
[455,null,null,"OK"]
[456,null,null,"OK"]
[457,null,null,"OK"]
[458,null,null,"OK"]
[459,null,null,"OK"]
[460,null,null,"OK"]
[461,null,null,"OK"]
[462,null,null,"OK"]
[463,null,null,"OK"]
[464,null,null,"OK"]
[465,null,null,"OK"]
[466,null,null,"OK"]
[467,null,null,"OK"]
[468,null,null,"OK"]
[469,null,null,"OK"]
[470,null,null,"OK"]
[471,null,null,"OK"]
[472,null,null,"OK"]
[473,null,null,"OK"]
[474,null,null,"OK"]
[475,null,null,"OK"]
[476,null,null,"OK"]
[477,null,null,"OK"]
[478,null,null,"OK"]
[479,null,null,"OK"]
[480,null,null,"OK"]
[481,null,null,"OK"]
[482,null,null,"OK"]
[483,null,null,"OK"]
[484,null,null,"OK"]
[485,null,null,"OK"]
[486,null,null,"OK"]
[487,null,null,"OK"]
[488,null,null,"OK"]
[489,null,null,"OK"]
[490,null,null,"OK"]
[491,null,null,"OK"]
[492,null,null,"OK"]
[493,null,null,"OK"]
[494,null,null,"OK"]
[495,null,null,"OK"]
[496,null,null,"OK"]
[497,null,null,"OK"]
[498,null,null,"OK"]
[499,null,null,"OK"]
[500,null,null,"OK"]
[501,null,null,"OK"]
[502,null,null,"OK"]
[503,null,null,"OK"]
[504,null,null,"OK"]
[505,null,null,"OK"]
[506,null,null,"OK"]
[507,null,null,"OK"]
[508,null,null,"OK"]
[509,null,null,"OK"]
[510,null,null,"OK"]
[511,null,null,"OK"]
[512,null,null,"OK"]
[513,null,null,"OK"]
[514,null,null,{"$f":"IF(ISBLANK(B573),\"OK\",IF(A573-B573=0,\"OK\",\"Error?\"))","v":"OK"}]
[515,null,null,"OK"]
[516,null,null,"OK"]
[517,null,null,"OK"]
[518,null,null,"OK"]
[519,null,null,"OK"]
[520,null,null,"OK"]
[521,null,null,"OK"]
[522,null,null,"OK"]
[523,null,null,"OK"]
[524,null,null,"OK"]
[525,null,null,"OK"]
[526,null,null,"OK"]
[527,null,null,"OK"]
[528,null,null,"OK"]
[529,null,null,"OK"]
[530,null,null,"OK"]
[531,null,null,"OK"]
[532,null,null,"OK"]
[533,null,null,"OK"]
[534,null,null,"OK"]
[535,null,null,"OK"]
[536,null,null,"OK"]
[537,null,null,"OK"]
[538,null,null,"OK"]
[539,null,null,"OK"]
[540,null,null,"OK"]
[541,null,null,"OK"]
[542,null,null,"OK"]
[543,null,null,"OK"]
[544,null,null,"OK"]
[545,null,null,"OK"]
[546,null,null,"OK"]
[547,null,null,"OK"]
[548,null,null,"OK"]
[549,null,null,"OK"]
[550,null,null,"OK"]
[551,null,null,"OK"]
[552,null,null,"OK"]
[553,null,null,"OK"]
[554,null,null,"OK"]
[555,null,null,"OK"]
[556,null,null,"OK"]
[557,{"$f":"'Acct Summary 7-9'!H33","v":0},null,"Error?"]
[558,{"$f":"'Acct Summary 7-9'!H34","v":0},null,"Error?"]
[559,{"$f":"'Acct Summary 7-9'!H35","v":0},null,"Error?"]
[560,null,null,"OK"]
[561,null,null,"OK"]
[562,null,null,"OK"]
[563,null,null,"OK"]
[564,null,null,"OK"]
[565,null,null,"OK"]
[566,null,null,"OK"]
[567,null,null,"OK"]
[568,null,null,"OK"]
[569,null,null,"OK"]
[570,null,null,"OK"]
[571,null,null,"OK"]
[572,null,null,"OK"]
[573,null,null,"OK"]
[574,null,null,"OK"]
[575,null,null,"OK"]
[576,null,null,"OK"]
[577,null,null,"OK"]
[578,null,null,{"$f":"IF(ISBLANK(B637),\"OK\",IF(A637-B637=0,\"OK\",\"Error?\"))","v":"OK"}]
[579,null,null,"OK"]
[580,null,null,"OK"]
[581,null,null,"OK"]
[582,null,null,"OK"]
[583,null,null,"OK"]
[584,null,null,"OK"]
[585,null,null,"OK"]
[586,null,null,"OK"]
[587,null,null,"OK"]
[588,null,null,"OK"]
[589,null,null,"OK"]
[590,{"$f":"'Acct Summary 7-9'!I33","v":0},null,"Error?"]
[591,{"$f":"'Acct Summary 7-9'!I34","v":0},null,"Error?"]
[592,{"$f":"'Acct Summary 7-9'!I35","v":0},null,"Error?"]
[593,null,null,"OK"]
[594,null,null,"OK"]
[595,null,null,"OK"]
[596,null,null,"OK"]
[597,null,null,"OK"]
[598,null,null,"OK"]
[599,null,null,"OK"]
[600,null,null,"OK"]
[601,null,null,"OK"]
[602,null,null,"OK"]
[603,null,null,"OK"]
[604,null,null,"OK"]
[605,null,null,"OK"]
[606,null,null,"OK"]
[607,null,null,"OK"]
[608,null,null,"OK"]
[609,null,null,"OK"]
[610,null,null,"OK"]
[611,null,null,"OK"]
[612,null,null,"OK"]
[613,null,null,"OK"]
[614,null,null,"OK"]
[615,null,null,"OK"]
[616,null,null,"OK"]
[617,null,null,"OK"]
[618,null,null,"OK"]
[619,null,null,"OK"]
[620,null,null,"OK"]
[621,null,null,"OK"]
[622,null,null,"OK"]
[623,null,null,"OK"]
[624,null,null,"OK"]
[625,null,null,"OK"]
[626,null,null,"OK"]
[627,null,null,"OK"]
[628,null,null,"OK"]
[629,null,null,"OK"]
[630,null,null,"OK"]
[631,null,null,"OK"]
[632,null,null,"OK"]
[633,null,null,"OK"]
[634,null,null,"OK"]
[635,null,null,"OK"]
[636,null,null,"OK"]
[637,null,null,"OK"]
[638,null,null,"OK"]
[639,null,null,"OK"]
[640,null,null,"OK"]
[641,null,null,"OK"]
[642,null,null,{"$f":"IF(ISBLANK(B701),\"OK\",IF(A701-B701=0,\"OK\",\"Error?\"))","v":"OK"}]
[643,null,null,"OK"]
[644,{"$f":"'Expenditures 16-24'!C5","v":0},null,"Error?"]
[645,{"$f":"'Expenditures 16-24'!C16","v":0},null,"Error?"]
[646,null,null,"OK"]
[647,null,null,"OK"]
[648,null,null,"OK"]
[649,null,null,"OK"]
[650,null,null,"OK"]
[651,{"$f":"'Expenditures 16-24'!C18","v":0},null,"Error?"]
[652,null,null,"OK"]
[653,null,null,"OK"]
[654,null,null,"OK"]
[655,{"$f":"'Expenditures 16-24'!C12","v":0},null,"Error?"]
[656,{"$f":"'Expenditures 16-24'!C13","v":0},null,"Error?"]
[657,{"$f":"'Expenditures 16-24'!C14","v":0},null,"Error?"]
[658,{"$f":"'Expenditures 16-24'!C15","v":0},null,"Error?"]
[659,{"$f":"'Expenditures 16-24'!C34","v":0},null,"Error?"]
[660,{"$f":"'Expenditures 16-24'!C38","v":0},null,"Error?"]
[661,{"$f":"'Expenditures 16-24'!C39","v":0},"T","Error?"]
[662,{"$f":"'Expenditures 16-24'!C40","v":0},null,"Error?"]
[663,{"$f":"'Expenditures 16-24'!C41","v":0},null,"Error?"]
[664,{"$f":"'Expenditures 16-24'!C42","v":0},null,"Error?"]
[665,{"$f":"'Expenditures 16-24'!C43","v":0},null,"Error?"]
[666,{"$f":"'Expenditures 16-24'!C44","v":0},null,"Error?"]
[667,{"$f":"'Expenditures 16-24'!C46","v":0},null,"Error?"]
[668,{"$f":"'Expenditures 16-24'!C47","v":0},"T","Error?"]
[669,{"$f":"'Expenditures 16-24'!C48","v":0},null,"Error?"]
[670,{"$f":"'Expenditures 16-24'!C49","v":0},null,"Error?"]
[671,{"$f":"'Expenditures 16-24'!C51","v":0},null,"Error?"]
[672,{"$f":"'Expenditures 16-24'!C52","v":0},"T","Error?"]
[673,{"$f":"'Expenditures 16-24'!C55","v":0},null,"Error?"]
[674,{"$f":"'Expenditures 16-24'!C57","v":0},null,"Error?"]
[675,{"$f":"'Expenditures 16-24'!C58","v":0},"T","Error?"]
[676,{"$f":"'Expenditures 16-24'!C59","v":0},null,"Error?"]
[677,{"$f":"'Expenditures 16-24'!C61","v":0},null,"Error?"]
[678,{"$f":"'Expenditures 16-24'!C62","v":0},"T","Error?"]
[679,{"$f":"'Expenditures 16-24'!C63","v":0},null,"Error?"]
[680,{"$f":"'Expenditures 16-24'!C64","v":0},null,"Error?"]
[681,{"$f":"'Expenditures 16-24'!C65","v":0},null,"Error?"]
[682,{"$f":"'Expenditures 16-24'!C66","v":0},null,"Error?"]
[683,null,null,"OK"]
[684,{"$f":"'Expenditures 16-24'!C67","v":0},null,"Error?"]
[685,{"$f":"'Expenditures 16-24'!C69","v":0},null,"Error?"]
[686,{"$f":"'Expenditures 16-24'!C70","v":0},"T","Error?"]
[687,{"$f":"'Expenditures 16-24'!C71","v":0},null,"Error?"]
[688,{"$f":"'Expenditures 16-24'!C72","v":0},null,"Error?"]
[689,null,null,"OK"]
[690,{"$f":"'Expenditures 16-24'!C73","v":0},null,"Error?"]
[691,null,null,"OK"]
[692,{"$f":"'Expenditures 16-24'!C74","v":0},null,"Error?"]
[693,{"$f":"'Expenditures 16-24'!C75","v":0},null,"Error?"]
[694,{"$f":"'Expenditures 16-24'!C76","v":0},"T","Error?"]
[695,{"$f":"'Expenditures 16-24'!C77","v":0},null,"Error?"]
[696,{"$f":"'Expenditures 16-24'!C116","v":0},"T","Error?"]
[697,null,null,"OK"]
[698,null,"T","OK"]
[699,null,null,"OK"]
[700,null,null,"OK"]
[701,null,null,"OK"]
[702,{"$f":"'Expenditures 16-24'!D5","v":0},null,"Error?"]
[703,{"$f":"'Expenditures 16-24'!D16","v":0},null,"Error?"]
[704,null,null,"OK"]
[705,null,null,"OK"]
[706,null,null,{"$f":"IF(ISBLANK(B765),\"OK\",IF(A765-B765=0,\"OK\",\"Error?\"))","v":"OK"}]
[707,null,null,"OK"]
[708,null,null,"OK"]
[709,{"$f":"'Expenditures 16-24'!D18","v":0},null,"Error?"]
[710,null,null,"OK"]
[711,null,null,"OK"]
[712,null,null,"OK"]
[713,{"$f":"'Expenditures 16-24'!D12","v":0},null,"Error?"]
[714,{"$f":"'Expenditures 16-24'!D13","v":0},null,"Error?"]
[715,{"$f":"'Expenditures 16-24'!D14","v":0},null,"Error?"]
[716,{"$f":"'Expenditures 16-24'!D15","v":0},null,"Error?"]
[717,{"$f":"'Expenditures 16-24'!D34","v":0},null,"Error?"]
[718,{"$f":"'Expenditures 16-24'!D38","v":0},null,"Error?"]
[719,{"$f":"'Expenditures 16-24'!D39","v":0},"T","Error?"]
[720,{"$f":"'Expenditures 16-24'!D40","v":0},null,"Error?"]
[721,{"$f":"'Expenditures 16-24'!D41","v":0},null,"Error?"]
[722,{"$f":"'Expenditures 16-24'!D42","v":0},null,"Error?"]
[723,{"$f":"'Expenditures 16-24'!D43","v":0},null,"Error?"]
[724,{"$f":"'Expenditures 16-24'!D44","v":0},null,"Error?"]
[725,{"$f":"'Expenditures 16-24'!D46","v":0},null,"Error?"]
[726,{"$f":"'Expenditures 16-24'!D47","v":0},"T","Error?"]
[727,{"$f":"'Expenditures 16-24'!D48","v":0},null,"Error?"]
[728,{"$f":"'Expenditures 16-24'!D49","v":0},null,"Error?"]
[729,{"$f":"'Expenditures 16-24'!D51","v":0},null,"Error?"]
[730,{"$f":"'Expenditures 16-24'!D52","v":0},"T","Error?"]
[731,{"$f":"'Expenditures 16-24'!D55","v":0},null,"Error?"]
[732,{"$f":"'Expenditures 16-24'!D57","v":0},null,"Error?"]
[733,{"$f":"'Expenditures 16-24'!D58","v":0},"T","Error?"]
[734,{"$f":"'Expenditures 16-24'!D59","v":0},null,"Error?"]
[735,{"$f":"'Expenditures 16-24'!D61","v":0},null,"Error?"]
[736,{"$f":"'Expenditures 16-24'!D62","v":0},"T","Error?"]
[737,{"$f":"'Expenditures 16-24'!D63","v":0},null,"Error?"]
[738,{"$f":"'Expenditures 16-24'!D64","v":0},null,"Error?"]
[739,{"$f":"'Expenditures 16-24'!D65","v":0},null,"Error?"]
[740,{"$f":"'Expenditures 16-24'!D66","v":0},null,"Error?"]
[741,null,null,"OK"]
[742,{"$f":"'Expenditures 16-24'!D67","v":0},null,"Error?"]
[743,{"$f":"'Expenditures 16-24'!D69","v":0},null,"Error?"]
[744,{"$f":"'Expenditures 16-24'!D70","v":0},"T","Error?"]
[745,{"$f":"'Expenditures 16-24'!D71","v":0},null,"Error?"]
[746,{"$f":"'Expenditures 16-24'!D72","v":0},null,"Error?"]
[747,null,null,"OK"]
[748,{"$f":"'Expenditures 16-24'!D73","v":0},null,"Error?"]
[749,null,null,"OK"]
[750,{"$f":"'Expenditures 16-24'!D74","v":0},null,"Error?"]
[751,{"$f":"'Expenditures 16-24'!D75","v":0},null,"Error?"]
[752,{"$f":"'Expenditures 16-24'!D76","v":0},"T","Error?"]
[753,{"$f":"'Expenditures 16-24'!D77","v":0},null,"Error?"]
[754,{"$f":"'Expenditures 16-24'!D116","v":0},"T","Error?"]
[755,null,null,"OK"]
[756,null,"T","OK"]
[757,null,null,"OK"]
[758,null,null,"OK"]
[759,null,null,"OK"]
[760,{"$f":"'Expenditures 16-24'!E5","v":0},null,"Error?"]
[761,{"$f":"'Expenditures 16-24'!E16","v":0},null,"Error?"]
[762,null,null,"OK"]
[763,null,null,"OK"]
[764,null,null,"OK"]
[765,null,null,"OK"]
[766,null,null,"OK"]
[767,{"$f":"'Expenditures 16-24'!E18","v":0},null,"Error?"]
[768,null,null,"OK"]
[769,null,null,"OK"]
[770,null,null,{"$f":"IF(ISBLANK(B829),\"OK\",IF(A829-B829=0,\"OK\",\"Error?\"))","v":"OK"}]
[771,{"$f":"'Expenditures 16-24'!E12","v":0},null,"Error?"]
[772,{"$f":"'Expenditures 16-24'!E13","v":0},null,"Error?"]
[773,{"$f":"'Expenditures 16-24'!E14","v":0},null,"Error?"]
[774,{"$f":"'Expenditures 16-24'!E15","v":0},null,"Error?"]
[775,{"$f":"'Expenditures 16-24'!E34","v":0},null,"Error?"]
[776,{"$f":"'Expenditures 16-24'!E38","v":0},null,"Error?"]
[777,{"$f":"'Expenditures 16-24'!E39","v":0},"T","Error?"]
[778,{"$f":"'Expenditures 16-24'!E40","v":0},null,"Error?"]
[779,{"$f":"'Expenditures 16-24'!E41","v":0},null,"Error?"]
[780,{"$f":"'Expenditures 16-24'!E42","v":0},null,"Error?"]
[781,{"$f":"'Expenditures 16-24'!E43","v":0},null,"Error?"]
[782,{"$f":"'Expenditures 16-24'!E44","v":0},null,"Error?"]
[783,{"$f":"'Expenditures 16-24'!E46","v":0},null,"Error?"]
[784,{"$f":"'Expenditures 16-24'!E47","v":0},"T","Error?"]
[785,{"$f":"'Expenditures 16-24'!E48","v":0},null,"Error?"]
[786,{"$f":"'Expenditures 16-24'!E49","v":0},null,"Error?"]
[787,{"$f":"'Expenditures 16-24'!E51","v":0},null,"Error?"]
[788,{"$f":"'Expenditures 16-24'!E52","v":0},"T","Error?"]
[789,{"$f":"'Expenditures 16-24'!E55","v":0},null,"Error?"]
[790,{"$f":"'Expenditures 16-24'!E57","v":0},null,"Error?"]
[791,{"$f":"'Expenditures 16-24'!E58","v":0},"T","Error?"]
[792,{"$f":"'Expenditures 16-24'!E59","v":0},null,"Error?"]
[793,{"$f":"'Expenditures 16-24'!E61","v":0},null,"Error?"]
[794,{"$f":"'Expenditures 16-24'!E62","v":0},"T","Error?"]
[795,{"$f":"'Expenditures 16-24'!E63","v":0},null,"Error?"]
[796,{"$f":"'Expenditures 16-24'!E64","v":0},null,"Error?"]
[797,{"$f":"'Expenditures 16-24'!E65","v":0},null,"Error?"]
[798,{"$f":"'Expenditures 16-24'!E66","v":0},null,"Error?"]
[799,null,null,"OK"]
[800,{"$f":"'Expenditures 16-24'!E67","v":0},null,"Error?"]
[801,{"$f":"'Expenditures 16-24'!E69","v":0},null,"Error?"]
[802,{"$f":"'Expenditures 16-24'!E70","v":0},"T","Error?"]
[803,{"$f":"'Expenditures 16-24'!E71","v":0},null,"Error?"]
[804,{"$f":"'Expenditures 16-24'!E72","v":0},null,"Error?"]
[805,null,null,"OK"]
[806,{"$f":"'Expenditures 16-24'!E73","v":0},null,"Error?"]
[807,null,null,"OK"]
[808,{"$f":"'Expenditures 16-24'!E74","v":0},null,"Error?"]
[809,{"$f":"'Expenditures 16-24'!E75","v":0},null,"Error?"]
[810,{"$f":"'Expenditures 16-24'!E76","v":0},"T","Error?"]
[811,{"$f":"'Expenditures 16-24'!E77","v":0},null,"Error?"]
[812,{"$f":"'Expenditures 16-24'!E116","v":0},"T","Error?"]
[813,null,null,"OK"]
[814,null,"T","OK"]
[815,null,null,"OK"]
[816,null,null,"OK"]
[817,null,null,"OK"]
[818,{"$f":"'Expenditures 16-24'!F5","v":0},null,"Error?"]
[819,{"$f":"'Expenditures 16-24'!F16","v":0},null,"Error?"]
[820,null,null,"OK"]
[821,null,null,"OK"]
[822,null,null,"OK"]
[823,null,null,"OK"]
[824,null,null,"OK"]
[825,{"$f":"'Expenditures 16-24'!F18","v":0},null,"Error?"]
[826,null,null,"OK"]
[827,null,null,"OK"]
[828,null,null,"OK"]
[829,{"$f":"'Expenditures 16-24'!F12","v":0},null,"Error?"]
[830,{"$f":"'Expenditures 16-24'!F13","v":0},null,"Error?"]
[831,{"$f":"'Expenditures 16-24'!F14","v":0},null,"Error?"]
[832,{"$f":"'Expenditures 16-24'!F15","v":0},null,"Error?"]
[833,{"$f":"'Expenditures 16-24'!F34","v":0},null,"Error?"]
[834,{"$f":"'Expenditures 16-24'!F38","v":0},null,{"$f":"IF(ISBLANK(B893),\"OK\",IF(A893-B893=0,\"OK\",\"Error?\"))","v":"Error?"}]
[835,{"$f":"'Expenditures 16-24'!F39","v":0},"T","Error?"]
[836,{"$f":"'Expenditures 16-24'!F40","v":0},null,"Error?"]
[837,{"$f":"'Expenditures 16-24'!F41","v":0},null,"Error?"]
[838,{"$f":"'Expenditures 16-24'!F42","v":0},null,"Error?"]
[839,{"$f":"'Expenditures 16-24'!F43","v":0},null,"Error?"]
[840,{"$f":"'Expenditures 16-24'!F44","v":0},null,"Error?"]
[841,{"$f":"'Expenditures 16-24'!F46","v":0},null,"Error?"]
[842,{"$f":"'Expenditures 16-24'!F47","v":0},"T","Error?"]
[843,{"$f":"'Expenditures 16-24'!F48","v":0},null,"Error?"]
[844,{"$f":"'Expenditures 16-24'!F49","v":0},null,"Error?"]
[845,{"$f":"'Expenditures 16-24'!F51","v":0},null,"Error?"]
[846,{"$f":"'Expenditures 16-24'!F52","v":0},"T","Error?"]
[847,{"$f":"'Expenditures 16-24'!F55","v":0},null,"Error?"]
[848,{"$f":"'Expenditures 16-24'!F57","v":0},null,"Error?"]
[849,{"$f":"'Expenditures 16-24'!F58","v":0},"T","Error?"]
[850,{"$f":"'Expenditures 16-24'!F59","v":0},null,"Error?"]
[851,{"$f":"'Expenditures 16-24'!F61","v":0},null,"Error?"]
[852,{"$f":"'Expenditures 16-24'!F62","v":0},"T","Error?"]
[853,{"$f":"'Expenditures 16-24'!F63","v":0},null,"Error?"]
[854,{"$f":"'Expenditures 16-24'!F64","v":0},null,"Error?"]
[855,{"$f":"'Expenditures 16-24'!F65","v":0},null,"Error?"]
[856,{"$f":"'Expenditures 16-24'!F66","v":0},null,"Error?"]
[857,null,null,"OK"]
[858,{"$f":"'Expenditures 16-24'!F67","v":0},null,"Error?"]
[859,{"$f":"'Expenditures 16-24'!F69","v":0},null,"Error?"]
[860,{"$f":"'Expenditures 16-24'!F70","v":0},"T","Error?"]
[861,{"$f":"'Expenditures 16-24'!F71","v":0},null,"Error?"]
[862,{"$f":"'Expenditures 16-24'!F72","v":0},null,"Error?"]
[863,null,null,"OK"]
[864,{"$f":"'Expenditures 16-24'!F73","v":0},null,"Error?"]
[865,null,null,"OK"]
[866,{"$f":"'Expenditures 16-24'!F74","v":0},null,"Error?"]
[867,{"$f":"'Expenditures 16-24'!F75","v":0},null,"Error?"]
[868,{"$f":"'Expenditures 16-24'!F76","v":0},"T","Error?"]
[869,{"$f":"'Expenditures 16-24'!F77","v":0},null,"Error?"]
[870,{"$f":"'Expenditures 16-24'!F116","v":0},"T","Error?"]
[871,null,null,"OK"]
[872,null,"T","OK"]
[873,null,null,"OK"]
[874,null,null,"OK"]
[875,null,null,"OK"]
[876,{"$f":"'Expenditures 16-24'!G5","v":0},null,"Error?"]
[877,{"$f":"'Expenditures 16-24'!G16","v":0},null,"Error?"]
[878,null,null,"OK"]
[879,null,null,"OK"]
[880,null,null,"OK"]
[881,null,null,"OK"]
[882,null,null,"OK"]
[883,{"$f":"'Expenditures 16-24'!G18","v":0},null,"Error?"]
[884,null,null,"OK"]
[885,null,null,"OK"]
[886,null,null,"OK"]
[887,{"$f":"'Expenditures 16-24'!G12","v":0},null,"Error?"]
[888,{"$f":"'Expenditures 16-24'!G13","v":0},null,"Error?"]
[889,{"$f":"'Expenditures 16-24'!G14","v":0},null,"Error?"]
[890,{"$f":"'Expenditures 16-24'!G15","v":0},null,"Error?"]
[891,{"$f":"'Expenditures 16-24'!G34","v":0},null,"Error?"]
[892,{"$f":"'Expenditures 16-24'!G38","v":0},null,"Error?"]
[893,{"$f":"'Expenditures 16-24'!G39","v":0},"T","Error?"]
[894,{"$f":"'Expenditures 16-24'!G40","v":0},null,"Error?"]
[895,{"$f":"'Expenditures 16-24'!G41","v":0},null,"Error?"]
[896,{"$f":"'Expenditures 16-24'!G42","v":0},null,"Error?"]
[897,{"$f":"'Expenditures 16-24'!G43","v":0},null,"Error?"]
[898,{"$f":"'Expenditures 16-24'!G44","v":0},null,{"$f":"IF(ISBLANK(B957),\"OK\",IF(A957-B957=0,\"OK\",\"Error?\"))","v":"Error?"}]
[899,{"$f":"'Expenditures 16-24'!G46","v":0},null,"Error?"]
[900,{"$f":"'Expenditures 16-24'!G47","v":0},"T","Error?"]
[901,{"$f":"'Expenditures 16-24'!G48","v":0},null,"Error?"]
[902,{"$f":"'Expenditures 16-24'!G49","v":0},null,"Error?"]
[903,{"$f":"'Expenditures 16-24'!G51","v":0},null,"Error?"]
[904,{"$f":"'Expenditures 16-24'!G52","v":0},"T","Error?"]
[905,{"$f":"'Expenditures 16-24'!G55","v":0},null,"Error?"]
[906,{"$f":"'Expenditures 16-24'!G57","v":0},null,"Error?"]
[907,{"$f":"'Expenditures 16-24'!G58","v":0},"T","Error?"]
[908,{"$f":"'Expenditures 16-24'!G59","v":0},null,"Error?"]
[909,{"$f":"'Expenditures 16-24'!G61","v":0},null,"Error?"]
[910,{"$f":"'Expenditures 16-24'!G62","v":0},"T","Error?"]
[911,{"$f":"'Expenditures 16-24'!G63","v":0},null,"Error?"]
[912,{"$f":"'Expenditures 16-24'!G64","v":0},null,"Error?"]
[913,{"$f":"'Expenditures 16-24'!G65","v":0},null,"Error?"]
[914,{"$f":"'Expenditures 16-24'!G66","v":0},null,"Error?"]
[915,null,null,"OK"]
[916,{"$f":"'Expenditures 16-24'!G67","v":0},null,"Error?"]
[917,{"$f":"'Expenditures 16-24'!G69","v":0},null,"Error?"]
[918,{"$f":"'Expenditures 16-24'!G70","v":0},"T","Error?"]
[919,{"$f":"'Expenditures 16-24'!G71","v":0},null,"Error?"]
[920,{"$f":"'Expenditures 16-24'!G72","v":0},null,"Error?"]
[921,null,null,"OK"]
[922,{"$f":"'Expenditures 16-24'!G73","v":0},null,"Error?"]
[923,null,null,"OK"]
[924,{"$f":"'Expenditures 16-24'!G74","v":0},null,"Error?"]
[925,{"$f":"'Expenditures 16-24'!G75","v":0},null,"Error?"]
[926,{"$f":"'Expenditures 16-24'!G76","v":0},"T","Error?"]
[927,{"$f":"'Expenditures 16-24'!G77","v":0},null,"Error?"]
[928,{"$f":"'Expenditures 16-24'!G116","v":0},"T","Error?"]
[929,null,null,"OK"]
[930,null,"T","OK"]
[931,null,null,"OK"]
[932,null,null,"OK"]
[933,null,null,"OK"]
[934,{"$f":"'Expenditures 16-24'!H5","v":0},null,"Error?"]
[935,{"$f":"'Expenditures 16-24'!H16","v":0},null,"Error?"]
[936,null,null,"OK"]
[937,null,null,"OK"]
[938,null,null,"OK"]
[939,null,null,"OK"]
[940,null,null,"OK"]
[941,{"$f":"'Expenditures 16-24'!H18","v":0},null,"Error?"]
[942,null,null,"OK"]
[943,null,null,"OK"]
[944,null,null,"OK"]
[945,{"$f":"'Expenditures 16-24'!H12","v":0},null,"Error?"]
[946,{"$f":"'Expenditures 16-24'!H13","v":0},null,"Error?"]
[947,{"$f":"'Expenditures 16-24'!H14","v":0},null,"Error?"]
[948,{"$f":"'Expenditures 16-24'!H15","v":0},null,"Error?"]
[949,{"$f":"'Expenditures 16-24'!H34","v":0},null,"Error?"]
[950,{"$f":"'Expenditures 16-24'!H38","v":0},null,"Error?"]
[951,{"$f":"'Expenditures 16-24'!H39","v":0},"T","Error?"]
[952,{"$f":"'Expenditures 16-24'!H40","v":0},null,"Error?"]
[953,{"$f":"'Expenditures 16-24'!H41","v":0},null,"Error?"]
[954,{"$f":"'Expenditures 16-24'!H42","v":0},null,"Error?"]
[955,{"$f":"'Expenditures 16-24'!H43","v":0},null,"Error?"]
[956,{"$f":"'Expenditures 16-24'!H44","v":0},null,"Error?"]
[957,{"$f":"'Expenditures 16-24'!H46","v":0},null,"Error?"]
[958,{"$f":"'Expenditures 16-24'!H47","v":0},"T","Error?"]
[959,{"$f":"'Expenditures 16-24'!H48","v":0},null,"Error?"]
[960,{"$f":"'Expenditures 16-24'!H49","v":0},null,"Error?"]
[961,{"$f":"'Expenditures 16-24'!H51","v":0},null,"Error?"]
[962,{"$f":"'Expenditures 16-24'!H52","v":0},"T",{"$f":"IF(ISBLANK(B1021),\"OK\",IF(A1021-B1021=0,\"OK\",\"Error?\"))","v":"Error?"}]
[963,{"$f":"'Expenditures 16-24'!H55","v":0},null,"Error?"]
[964,{"$f":"'Expenditures 16-24'!H57","v":0},null,"Error?"]
[965,{"$f":"'Expenditures 16-24'!H58","v":0},"T","Error?"]
[966,{"$f":"'Expenditures 16-24'!H59","v":0},null,"Error?"]
[967,{"$f":"'Expenditures 16-24'!H61","v":0},null,"Error?"]
[968,{"$f":"'Expenditures 16-24'!H62","v":0},"T","Error?"]
[969,{"$f":"'Expenditures 16-24'!H63","v":0},null,"Error?"]
[970,{"$f":"'Expenditures 16-24'!H64","v":0},null,"Error?"]
[971,{"$f":"'Expenditures 16-24'!H65","v":0},null,"Error?"]
[972,{"$f":"'Expenditures 16-24'!H66","v":0},null,"Error?"]
[973,null,null,"OK"]
[974,{"$f":"'Expenditures 16-24'!H67","v":0},null,"Error?"]
[975,{"$f":"'Expenditures 16-24'!H69","v":0},null,"Error?"]
[976,{"$f":"'Expenditures 16-24'!H70","v":0},"T","Error?"]
[977,{"$f":"'Expenditures 16-24'!H71","v":0},null,"Error?"]
[978,{"$f":"'Expenditures 16-24'!H72","v":0},null,"Error?"]
[979,null,null,"OK"]
[980,{"$f":"'Expenditures 16-24'!H73","v":0},null,"Error?"]
[981,null,null,"OK"]
[982,{"$f":"'Expenditures 16-24'!H74","v":0},null,"Error?"]
[983,{"$f":"'Expenditures 16-24'!H75","v":0},null,"Error?"]
[984,{"$f":"'Expenditures 16-24'!H76","v":0},"T","Error?"]
[985,{"$f":"'Expenditures 16-24'!H77","v":0},null,"Error?"]
[986,{"$f":"'Expenditures 16-24'!H104","v":0},"T","Error?"]
[987,{"$f":"'Expenditures 16-24'!H107","v":0},null,"Error?"]
[988,{"$f":"'Expenditures 16-24'!H108","v":0},"T","Error?"]
[989,null,null,"OK"]
[990,{"$f":"'Expenditures 16-24'!H111","v":0},null,"Error?"]
[991,null,null,"OK"]
[992,{"$f":"'Expenditures 16-24'!H112","v":0},null,"Error?"]
[993,{"$f":"'Expenditures 16-24'!H116","v":0},null,"Error?"]
[994,null,"T","OK"]
[995,null,"T","OK","deleted 09"]
[996,null,null,"OK"]
[997,null,"T","OK"]
[998,null,"T","OK"]
[999,null,null,"OK"]
[1000,null,null,"OK"]
[1001,null,null,"OK"]
[1002,null,null,"OK"]
[1003,null,null,"OK"]
[1004,null,null,"OK"]
[1005,null,null,"OK"]
[1006,null,null,"OK"]
[1007,null,null,"OK"]
[1008,null,null,"OK"]
[1009,null,null,"OK"]
[1010,null,null,"OK"]
[1011,null,null,"OK"]
[1012,null,null,"OK"]
[1013,null,null,"OK"]
[1014,null,null,"OK"]
[1015,null,null,"OK"]
[1016,null,null,"OK"]
[1017,null,null,"OK"]
[1018,null,null,"OK"]
[1019,null,"T","OK"]
[1020,null,null,"OK"]
[1021,null,null,"OK"]
[1022,null,null,"OK"]
[1023,null,null,"OK"]
[1024,null,null,"OK"]
[1025,null,null,"OK"]
[1026,null,null,{"$f":"IF(ISBLANK(B1085),\"OK\",IF(A1085-B1085=0,\"OK\",\"Error?\"))","v":"OK"}]
[1027,null,"T","OK"]
[1028,null,"T","OK"]
[1029,null,null,"OK"]
[1030,null,null,"OK"]
[1031,null,null,"OK"]
[1032,{"$f":"'Expenditures 16-24'!K5","v":0},null,"Error?"]
[1033,{"$f":"'Expenditures 16-24'!K16","v":0},null,"Error?"]
[1034,null,"T","OK"]
[1035,null,"T","OK"]
[1036,null,null,"OK"]
[1037,null,null,"OK"]
[1038,null,null,"OK"]
[1039,{"$f":"'Expenditures 16-24'!K18","v":0},null,"Error?"]
[1040,null,null,"OK"]
[1041,null,"T","OK"]
[1042,null,null,"OK"]
[1043,{"$f":"'Expenditures 16-24'!K12","v":0},null,"Error?"]
[1044,{"$f":"'Expenditures 16-24'!K13","v":0},null,"Error?"]
[1045,{"$f":"'Expenditures 16-24'!K14","v":0},"T","Error?"]
[1046,{"$f":"'Expenditures 16-24'!K15","v":0},"T","Error?"]
[1047,{"$f":"'Expenditures 16-24'!K34","v":0},"T","Error?"]
[1048,{"$f":"'Expenditures 16-24'!K38","v":0},"T","Error?"]
[1049,{"$f":"'Expenditures 16-24'!K39","v":0},"T","Error?"]
[1050,{"$f":"'Expenditures 16-24'!K40","v":0},"T","Error?"]
[1051,{"$f":"'Expenditures 16-24'!K41","v":0},"T","Error?"]
[1052,{"$f":"'Expenditures 16-24'!K42","v":0},"T","Error?"]
[1053,{"$f":"'Expenditures 16-24'!K43","v":0},"T","Error?"]
[1054,{"$f":"'Expenditures 16-24'!K44","v":0},"T","Error?"]
[1055,{"$f":"'Expenditures 16-24'!K46","v":0},"T","Error?"]
[1056,{"$f":"'Expenditures 16-24'!K47","v":0},"T","Error?"]
[1057,{"$f":"'Expenditures 16-24'!K48","v":0},"T","Error?"]
[1058,{"$f":"'Expenditures 16-24'!K49","v":0},"T","Error?"]
[1059,{"$f":"'Expenditures 16-24'!K51","v":0},"T","Error?"]
[1060,{"$f":"'Expenditures 16-24'!K52","v":0},"T","Error?"]
[1061,{"$f":"'Expenditures 16-24'!K55","v":0},"T","Error?"]
[1062,{"$f":"'Expenditures 16-24'!K57","v":0},"T","Error?"]
[1063,{"$f":"'Expenditures 16-24'!K58","v":0},"T","Error?"]
[1064,{"$f":"'Expenditures 16-24'!K59","v":0},"T","Error?"]
[1065,{"$f":"'Expenditures 16-24'!K61","v":0},"T","Error?"]
[1066,{"$f":"'Expenditures 16-24'!K62","v":0},"T","Error?"]
[1067,{"$f":"'Expenditures 16-24'!K63","v":0},"T","Error?"]
[1068,{"$f":"'Expenditures 16-24'!K64","v":0},"T","Error?"]
[1069,{"$f":"'Expenditures 16-24'!K65","v":0},"T","Error?"]
[1070,{"$f":"'Expenditures 16-24'!K66","v":0},"T","Error?"]
[1071,null,"T","OK"]
[1072,{"$f":"'Expenditures 16-24'!K67","v":0},"T","Error?"]
[1073,{"$f":"'Expenditures 16-24'!K69","v":0},null,"Error?"]
[1074,{"$f":"'Expenditures 16-24'!K70","v":0},"T","Error?"]
[1075,{"$f":"'Expenditures 16-24'!K71","v":0},"T","Error?"]
[1076,{"$f":"'Expenditures 16-24'!K72","v":0},"T","Error?"]
[1077,null,"T","OK"]
[1078,{"$f":"'Expenditures 16-24'!K73","v":0},"T","Error?"]
[1079,null,null,"OK"]
[1080,{"$f":"'Expenditures 16-24'!K74","v":0},"T","Error?"]
[1081,{"$f":"'Expenditures 16-24'!K75","v":0},null,"Error?"]
[1082,{"$f":"'Expenditures 16-24'!K76","v":0},"T","Error?"]
[1083,{"$f":"'Expenditures 16-24'!K77","v":0},"T","Error?"]
[1084,{"$f":"'Expenditures 16-24'!K104","v":0},"T","Error?"]
[1085,{"$f":"'Expenditures 16-24'!K107","v":0},"T","Error?"]
[1086,{"$f":"'Expenditures 16-24'!K108","v":0},"T","Error?"]
[1087,null,"T","OK"]
[1088,{"$f":"'Expenditures 16-24'!K111","v":0},"T","Error?"]
[1089,null,"T","OK"]
[1090,{"$f":"'Expenditures 16-24'!K112","v":0},"T",{"$f":"IF(ISBLANK(B1149),\"OK\",IF(A1149-B1149=0,\"OK\",\"Error?\"))","v":"Error?"}]
[1091,{"$f":"'Expenditures 16-24'!K116","v":0},null,"Error?"]
[1092,{"$f":"'Expenditures 16-24'!K118","v":0},"T","Error?"]
[1093,null,"T","OK"]
[1094,null,"T","OK"]
[1095,null,null,"OK"]
[1096,null,null,"OK"]
[1097,null,null,"OK"]
[1098,null,null,"OK"]
[1099,null,null,"OK"]
[1100,null,null,"OK"]
[1101,null,null,"OK"]
[1102,null,null,"OK"]
[1103,null,null,"OK"]
[1104,null,null,"OK"]
[1105,null,null,"OK"]
[1106,null,null,"OK"]
[1107,null,null,"OK"]
[1108,null,null,"OK"]
[1109,null,null,"OK"]
[1110,null,null,"OK"]
[1111,null,null,"OK"]
[1112,null,null,"OK"]
[1113,null,null,"OK"]
[1114,null,null,"OK"]
[1115,null,null,"OK"]
[1116,null,null,"OK"]
[1117,null,null,"OK"]
[1118,null,null,"OK"]
[1119,null,null,"OK"]
[1120,null,null,"OK"]
[1121,null,null,"OK"]
[1122,null,null,"OK"]
[1123,null,null,"OK"]
[1124,null,null,"OK"]
[1125,null,null,"OK"]
[1126,null,null,"OK"]
[1127,null,null,"OK"]
[1128,null,null,"OK"]
[1129,null,null,"OK"]
[1130,null,null,"OK"]
[1131,null,null,"OK"]
[1132,null,null,"OK"]
[1133,null,null,"OK"]
[1134,null,null,"OK"]
[1135,null,null,"OK"]
[1136,null,null,"OK"]
[1137,null,null,"OK"]
[1138,null,null,"OK"]
[1139,null,null,"OK"]
[1140,null,null,"OK"]
[1141,null,null,"OK"]
[1142,null,null,"OK"]
[1143,null,null,"OK"]
[1144,null,null,"OK"]
[1145,null,null,"OK"]
[1146,null,null,"OK"]
[1147,null,null,"OK"]
[1148,null,null,"OK"]
[1149,null,null,"OK"]
[1150,null,null,"OK"]
[1151,null,null,"OK"]
[1152,null,null,"OK"]
[1153,null,null,"OK"]
[1154,null,null,{"$f":"IF(ISBLANK(B1213),\"OK\",IF(A1213-B1213=0,\"OK\",\"Error?\"))","v":"OK"}]
[1155,null,null,"OK"]
[1156,null,null,"OK"]
[1157,null,null,"OK"]
[1158,{"$f":"'Expenditures 16-24'!C126","v":0},null,"Error?"]
[1159,{"$f":"'Expenditures 16-24'!C127","v":0},null,"Error?"]
[1160,{"$f":"'Expenditures 16-24'!C128","v":0},null,"Error?"]
[1161,null,null,"OK"]
[1162,{"$f":"'Expenditures 16-24'!C131","v":0},null,"Error?"]
[1163,{"$f":"'Expenditures 16-24'!C132","v":0},null,"Error?"]
[1164,{"$f":"'Expenditures 16-24'!C133","v":0},"T","Error?"]
[1165,{"$f":"'Expenditures 16-24'!C155","v":0},null,"Error?"]
[1166,{"$f":"'Expenditures 16-24'!D126","v":0},"T","Error?"]
[1167,{"$f":"'Expenditures 16-24'!D127","v":0},"T","Error?"]
[1168,{"$f":"'Expenditures 16-24'!D128","v":0},null,"Error?"]
[1169,null,null,"OK"]
[1170,{"$f":"'Expenditures 16-24'!D131","v":0},null,"Error?"]
[1171,{"$f":"'Expenditures 16-24'!D132","v":0},null,"Error?"]
[1172,{"$f":"'Expenditures 16-24'!D133","v":0},"T","Error?"]
[1173,{"$f":"'Expenditures 16-24'!D155","v":0},null,"Error?"]
[1174,{"$f":"'Expenditures 16-24'!E126","v":0},"T","Error?"]
[1175,{"$f":"'Expenditures 16-24'!E127","v":0},"T","Error?"]
[1176,{"$f":"'Expenditures 16-24'!E128","v":0},null,"Error?"]
[1177,null,null,"OK"]
[1178,{"$f":"'Expenditures 16-24'!E131","v":0},null,"Error?"]
[1179,{"$f":"'Expenditures 16-24'!E132","v":0},null,"Error?"]
[1180,{"$f":"'Expenditures 16-24'!E133","v":0},"T","Error?"]
[1181,{"$f":"'Expenditures 16-24'!E155","v":0},null,"Error?"]
[1182,{"$f":"'Expenditures 16-24'!F126","v":0},"T","Error?"]
[1183,{"$f":"'Expenditures 16-24'!F127","v":0},"T","Error?"]
[1184,{"$f":"'Expenditures 16-24'!F128","v":0},null,"Error?"]
[1185,null,null,"OK"]
[1186,{"$f":"'Expenditures 16-24'!F131","v":0},null,"Error?"]
[1187,{"$f":"'Expenditures 16-24'!F132","v":0},null,"Error?"]
[1188,{"$f":"'Expenditures 16-24'!F133","v":0},"T","Error?"]
[1189,{"$f":"'Expenditures 16-24'!F155","v":0},null,"Error?"]
[1190,{"$f":"'Expenditures 16-24'!G126","v":0},"T","Error?"]
[1191,{"$f":"'Expenditures 16-24'!G127","v":0},"T","Error?"]
[1192,{"$f":"'Expenditures 16-24'!G128","v":0},null,"Error?"]
[1193,{"$f":"'Expenditures 16-24'!G130","v":0},null,"Error?"]
[1194,null,null,"OK"]
[1195,{"$f":"'Expenditures 16-24'!G131","v":0},null,"Error?"]
[1196,{"$f":"'Expenditures 16-24'!G132","v":0},null,"Error?"]
[1197,{"$f":"'Expenditures 16-24'!G133","v":0},"T","Error?"]
[1198,{"$f":"'Expenditures 16-24'!G155","v":0},null,"Error?"]
[1199,{"$f":"'Expenditures 16-24'!H126","v":0},"T","Error?"]
[1200,{"$f":"'Expenditures 16-24'!H127","v":0},"T","Error?"]
[1201,{"$f":"'Expenditures 16-24'!H128","v":0},null,"Error?"]
[1202,null,null,"OK"]
[1203,{"$f":"'Expenditures 16-24'!H131","v":0},null,"Error?"]
[1204,{"$f":"'Expenditures 16-24'!H132","v":0},null,"Error?"]
[1205,{"$f":"'Expenditures 16-24'!H133","v":0},"T","Error?"]
[1206,{"$f":"'Expenditures 16-24'!H143","v":0},null,"Error?"]
[1207,{"$f":"'Expenditures 16-24'!H146","v":0},"T","Error?"]
[1208,{"$f":"'Expenditures 16-24'!H147","v":0},"T","Error?"]
[1209,{"$f":"'Expenditures 16-24'!H150","v":0},null,"Error?"]
[1210,null,null,"OK"]
[1211,{"$f":"'Expenditures 16-24'!H153","v":0},null,"Error?"]
[1212,{"$f":"'Expenditures 16-24'!H155","v":0},null,"Error?"]
[1213,{"$f":"'Expenditures 16-24'!K126","v":0},"T","Error?"]
[1214,{"$f":"'Expenditures 16-24'!K127","v":0},"T","Error?"]
[1215,{"$f":"'Expenditures 16-24'!K128","v":0},"T","Error?"]
[1216,{"$f":"'Expenditures 16-24'!K130","v":0},"T","Error?"]
[1217,null,"T","OK"]
[1218,{"$f":"'Expenditures 16-24'!K131","v":0},"T",{"$f":"IF(ISBLANK(B1277),\"OK\",IF(A1277-B1277=0,\"OK\",\"Error?\"))","v":"Error?"}]
[1219,{"$f":"'Expenditures 16-24'!K132","v":0},null,"Error?"]
[1220,{"$f":"'Expenditures 16-24'!K133","v":0},"T","Error?"]
[1221,{"$f":"'Expenditures 16-24'!K143","v":0},"T","Error?"]
[1222,{"$f":"'Expenditures 16-24'!K146","v":0},"T","Error?"]
[1223,{"$f":"'Expenditures 16-24'!K147","v":0},"T","Error?"]
[1224,{"$f":"'Expenditures 16-24'!K150","v":0},"T","Error?"]
[1225,null,"T","OK"]
[1226,{"$f":"'Expenditures 16-24'!K153","v":0},"T","Error?"]
[1227,{"$f":"'Expenditures 16-24'!K155","v":0},null,"Error?"]
[1228,{"$f":"'Expenditures 16-24'!K156","v":0},"T","Error?"]
[1229,null,"T","OK"]
[1230,null,"T","OK"]
[1231,null,null,"OK"]
[1232,null,null,"OK"]
[1233,null,null,"OK"]
[1234,null,null,"OK"]
[1235,null,null,"OK"]
[1236,null,null,"OK"]
[1237,null,null,"OK"]
[1238,null,null,"OK"]
[1239,null,null,"OK"]
[1240,null,null,"OK"]
[1241,null,null,"OK"]
[1242,null,null,"OK"]
[1243,null,null,"OK"]
[1244,null,null,"OK"]
[1245,null,null,"OK"]
[1246,{"$f":"'Expenditures 16-24'!E175","v":0},null,"Error?"]
[1247,{"$f":"'Expenditures 16-24'!E176","v":0},null,"Error?"]
[1248,{"$f":"'Expenditures 16-24'!E178","v":0},null,"Error?"]
[1249,{"$f":"'Expenditures 16-24'!H167","v":0},"T","Error?"]
[1250,{"$f":"'Expenditures 16-24'!H168","v":0},"T","Error?"]
[1251,{"$f":"'Expenditures 16-24'!H173","v":0},null,"Error?"]
[1252,{"$f":"'Expenditures 16-24'!H171","v":0},null,"Error?"]
[1253,{"$f":"'Expenditures 16-24'!H172","v":0},null,"Error?"]
[1254,{"$f":"'Expenditures 16-24'!H174","v":0},null,"Error?"]
[1255,{"$f":"'Expenditures 16-24'!H175","v":0},"T","Error?"]
[1256,{"$f":"'Expenditures 16-24'!H176","v":0},null,"Error?"]
[1257,{"$f":"'Expenditures 16-24'!H178","v":0},null,"Error?"]
[1258,null,"T","OK"]
[1259,null,"T","OK"]
[1260,null,"T","OK"]
[1261,null,null,"OK"]
[1262,{"$f":"'Expenditures 16-24'!K164","v":0},"T","Error?"]
[1263,{"$f":"'Expenditures 16-24'!K167","v":0},"T","Error?"]
[1264,{"$f":"'Expenditures 16-24'!K168","v":0},"T","Error?"]
[1265,{"$f":"'Expenditures 16-24'!K173","v":0},"T","Error?"]
[1266,{"$f":"'Expenditures 16-24'!K171","v":0},"T","Error?"]
[1267,{"$f":"'Expenditures 16-24'!K172","v":0},"T","Error?"]
[1268,{"$f":"'Expenditures 16-24'!K174","v":0},"T","Error?"]
[1269,{"$f":"'Expenditures 16-24'!K175","v":0},"T","Error?"]
[1270,{"$f":"'Expenditures 16-24'!K176","v":0},"T","Error?"]
[1271,{"$f":"'Expenditures 16-24'!K178","v":0},"T","Error?"]
[1272,{"$f":"'Expenditures 16-24'!K179","v":0},"T","Error?"]
[1273,null,"T","OK"]
[1274,{"$f":"'Expenditures 16-24'!C186","v":0},"T","Error?"]
[1275,null,null,"OK"]
[1276,null,null,"OK"]
[1277,{"$f":"'Expenditures 16-24'!C187","v":0},null,"Error?"]
[1278,{"$f":"'Expenditures 16-24'!C188","v":0},null,"Error?"]
[1279,{"$f":"'Expenditures 16-24'!C214","v":0},null,"Error?"]
[1280,{"$f":"'Expenditures 16-24'!D186","v":0},"T","Error?"]
[1281,null,"T","OK"]
[1282,null,null,{"$f":"IF(ISBLANK(B1341),\"OK\",IF(A1341-B1341=0,\"OK\",\"Error?\"))","v":"OK"}]
[1283,{"$f":"'Expenditures 16-24'!D187","v":0},null,"Error?"]
[1284,{"$f":"'Expenditures 16-24'!D188","v":0},null,"Error?"]
[1285,{"$f":"'Expenditures 16-24'!D214","v":0},null,"Error?"]
[1286,{"$f":"'Expenditures 16-24'!E186","v":0},"T","Error?"]
[1287,null,"T","OK"]
[1288,null,null,"OK"]
[1289,{"$f":"'Expenditures 16-24'!E187","v":0},null,"Error?"]
[1290,{"$f":"'Expenditures 16-24'!E188","v":0},null,"Error?"]
[1291,{"$f":"'Expenditures 16-24'!E200","v":0},null,"Error?"]
[1292,{"$f":"'Expenditures 16-24'!E214","v":0},"T","Error?"]
[1293,{"$f":"'Expenditures 16-24'!F186","v":0},"T","Error?"]
[1294,null,"T","OK"]
[1295,null,null,"OK"]
[1296,{"$f":"'Expenditures 16-24'!F187","v":0},null,"Error?"]
[1297,{"$f":"'Expenditures 16-24'!F188","v":0},null,"Error?"]
[1298,{"$f":"'Expenditures 16-24'!F214","v":0},null,"Error?"]
[1299,{"$f":"'Expenditures 16-24'!G186","v":0},"T","Error?"]
[1300,null,"T","OK"]
[1301,null,null,"OK"]
[1302,{"$f":"'Expenditures 16-24'!G187","v":0},null,"Error?"]
[1303,{"$f":"'Expenditures 16-24'!G188","v":0},null,"Error?"]
[1304,{"$f":"'Expenditures 16-24'!G214","v":0},null,"Error?"]
[1305,{"$f":"'Expenditures 16-24'!H186","v":0},"T","Error?"]
[1306,null,"T","OK"]
[1307,null,null,"OK"]
[1308,{"$f":"'Expenditures 16-24'!H187","v":0},null,"Error?"]
[1309,{"$f":"'Expenditures 16-24'!H188","v":0},null,"Error?"]
[1310,{"$f":"'Expenditures 16-24'!H203","v":0},null,"Error?"]
[1311,{"$f":"'Expenditures 16-24'!H204","v":0},"T","Error?"]
[1312,{"$f":"'Expenditures 16-24'!H207","v":0},null,"Error?"]
[1313,null,null,"OK"]
[1314,{"$f":"'Expenditures 16-24'!H212","v":0},null,"Error?"]
[1315,{"$f":"'Expenditures 16-24'!H214","v":0},null,"Error?"]
[1316,{"$f":"'Expenditures 16-24'!K186","v":0},"T","Error?"]
[1317,null,"T","OK"]
[1318,null,"T","OK"]
[1319,{"$f":"'Expenditures 16-24'!K187","v":0},null,"Error?"]
[1320,{"$f":"'Expenditures 16-24'!K188","v":0},null,"Error?"]
[1321,{"$f":"'Expenditures 16-24'!K200","v":0},"T","Error?"]
[1322,{"$f":"'Expenditures 16-24'!K203","v":0},"T","Error?"]
[1323,{"$f":"'Expenditures 16-24'!K204","v":0},"T","Error?"]
[1324,{"$f":"'Expenditures 16-24'!K207","v":0},"T","Error?"]
[1325,null,"T","OK"]
[1326,{"$f":"'Expenditures 16-24'!K212","v":0},"T","Error?"]
[1327,{"$f":"'Expenditures 16-24'!K214","v":0},null,"Error?"]
[1328,{"$f":"'Expenditures 16-24'!K215","v":0},"T","Error?"]
[1329,null,"T","OK"]
[1330,null,"T","OK"]
[1331,null,null,"OK"]
[1332,null,null,"OK"]
[1333,null,null,"OK"]
[1334,null,null,"OK"]
[1335,{"$f":"'Expenditures 16-24'!D229","v":0},null,"Error?"]
[1336,null,null,"OK"]
[1337,null,null,"OK"]
[1338,null,null,"OK"]
[1339,null,null,"OK"]
[1340,null,null,"OK"]
[1341,{"$f":"'Expenditures 16-24'!D231","v":0},null,"Error?"]
[1342,null,null,"OK"]
[1343,null,null,"OK"]
[1344,null,null,"OK"]
[1345,{"$f":"'Expenditures 16-24'!D225","v":0},null,"Error?"]
[1346,{"$f":"'Expenditures 16-24'!D226","v":0},null,{"$f":"IF(ISBLANK(B1405),\"OK\",IF(A1405-B1405=0,\"OK\",\"Error?\"))","v":"Error?"}]
[1347,{"$f":"'Expenditures 16-24'!D227","v":0},null,"Error?"]
[1348,{"$f":"'Expenditures 16-24'!D228","v":0},null,"Error?"]
[1349,{"$f":"'Expenditures 16-24'!D233","v":0},null,"Error?"]
[1350,{"$f":"'Expenditures 16-24'!D236","v":0},null,"Error?"]
[1351,{"$f":"'Expenditures 16-24'!D237","v":0},"T","Error?"]
[1352,{"$f":"'Expenditures 16-24'!D238","v":0},null,"Error?"]
[1353,{"$f":"'Expenditures 16-24'!D239","v":0},null,"Error?"]
[1354,{"$f":"'Expenditures 16-24'!D240","v":0},null,"Error?"]
[1355,{"$f":"'Expenditures 16-24'!D241","v":0},null,"Error?"]
[1356,{"$f":"'Expenditures 16-24'!D242","v":0},null,"Error?"]
[1357,{"$f":"'Expenditures 16-24'!D244","v":0},null,"Error?"]
[1358,{"$f":"'Expenditures 16-24'!D245","v":0},"T","Error?"]
[1359,{"$f":"'Expenditures 16-24'!D246","v":0},null,"Error?"]
[1360,{"$f":"'Expenditures 16-24'!D247","v":0},null,"Error?"]
[1361,{"$f":"'Expenditures 16-24'!D249","v":0},null,"Error?","closed FY21 "]
[1362,{"$f":"'Expenditures 16-24'!D250","v":0},"T","Error?","closed FY21 "]
[1363,{"$f":"'Expenditures 16-24'!D254","v":0},null,"Error?"]
[1364,{"$f":"'Expenditures 16-24'!D256","v":0},null,"Error?"]
[1365,{"$f":"'Expenditures 16-24'!D257","v":0},"T","Error?"]
[1366,{"$f":"'Expenditures 16-24'!D258","v":0},null,"Error?"]
[1367,{"$f":"'Expenditures 16-24'!D260","v":0},null,"Error?"]
[1368,{"$f":"'Expenditures 16-24'!D261","v":0},"T","Error?"]
[1369,{"$f":"'Expenditures 16-24'!D262","v":0},null,"Error?"]
[1370,{"$f":"'Expenditures 16-24'!D263","v":0},null,"Error?"]
[1371,{"$f":"'Expenditures 16-24'!D264","v":0},null,"Error?"]
[1372,{"$f":"'Expenditures 16-24'!D265","v":0},null,"Error?"]
[1373,{"$f":"'Expenditures 16-24'!D266","v":0},null,"Error?"]
[1374,null,null,"OK"]
[1375,{"$f":"'Expenditures 16-24'!D267","v":0},null,"Error?"]
[1376,{"$f":"'Expenditures 16-24'!D269","v":0},null,"Error?"]
[1377,{"$f":"'Expenditures 16-24'!D270","v":0},"T","Error?"]
[1378,{"$f":"'Expenditures 16-24'!D271","v":0},null,"Error?"]
[1379,{"$f":"'Expenditures 16-24'!D272","v":0},null,"Error?"]
[1380,null,null,"OK"]
[1381,{"$f":"'Expenditures 16-24'!D273","v":0},null,"Error?"]
[1382,null,null,"OK"]
[1383,{"$f":"'Expenditures 16-24'!D274","v":0},null,"Error?"]
[1384,{"$f":"'Expenditures 16-24'!D275","v":0},null,"Error?"]
[1385,{"$f":"'Expenditures 16-24'!D276","v":0},"T","Error?"]
[1386,{"$f":"'Expenditures 16-24'!D277","v":0},null,"Error?"]
[1387,{"$f":"'Expenditures 16-24'!D292","v":0},"T","Error?"]
[1388,{"$f":"'Expenditures 16-24'!H285","v":0},null,"Error?"]
[1389,{"$f":"'Expenditures 16-24'!H286","v":0},"T","Error?"]
[1390,{"$f":"'Expenditures 16-24'!H289","v":0},null,"Error?"]
[1391,{"$f":"'Expenditures 16-24'!H290","v":0},null,"Error?"]
[1392,null,null,"OK"]
[1393,{"$f":"'Expenditures 16-24'!H292","v":0},"T","Error?"]
[1394,null,null,"OK"]
[1395,null,"T","OK"]
[1396,null,null,"OK"]
[1397,null,null,"OK"]
[1398,null,null,"OK"]
[1399,{"$f":"'Expenditures 16-24'!K229","v":0},null,"Error?"]
[1400,null,null,"OK"]
[1401,null,"T","OK"]
[1402,null,null,"OK"]
[1403,null,null,"OK"]
[1404,null,null,"OK"]
[1405,{"$f":"'Expenditures 16-24'!K231","v":0},null,"Error?"]
[1406,null,null,"OK"]
[1407,null,"T","OK"]
[1408,null,null,"OK"]
[1409,{"$f":"'Expenditures 16-24'!K225","v":0},null,"Error?"]
[1410,{"$f":"'Expenditures 16-24'!K226","v":0},null,{"$f":"IF(ISBLANK(B1469),\"OK\",IF(A1469-B1469=0,\"OK\",\"Error?\"))","v":"Error?"}]
[1411,{"$f":"'Expenditures 16-24'!K227","v":0},"T","Error?"]
[1412,{"$f":"'Expenditures 16-24'!K228","v":0},"T","Error?"]
[1413,{"$f":"'Expenditures 16-24'!K233","v":0},"T","Error?"]
[1414,{"$f":"'Expenditures 16-24'!K236","v":0},"T","Error?"]
[1415,{"$f":"'Expenditures 16-24'!K237","v":0},"T","Error?"]
[1416,{"$f":"'Expenditures 16-24'!K238","v":0},"T","Error?"]
[1417,{"$f":"'Expenditures 16-24'!K239","v":0},"T","Error?"]
[1418,{"$f":"'Expenditures 16-24'!K240","v":0},"T","Error?"]
[1419,{"$f":"'Expenditures 16-24'!K241","v":0},"T","Error?"]
[1420,{"$f":"'Expenditures 16-24'!K242","v":0},"T","Error?"]
[1421,{"$f":"'Expenditures 16-24'!K244","v":0},"T","Error?"]
[1422,{"$f":"'Expenditures 16-24'!K245","v":0},"T","Error?"]
[1423,{"$f":"'Expenditures 16-24'!K246","v":0},"T","Error?"]
[1424,{"$f":"'Expenditures 16-24'!K247","v":0},"T","Error?"]
[1425,{"$f":"'Expenditures 16-24'!K249","v":0},"T","Error?","closed FY21 "]
[1426,{"$f":"'Expenditures 16-24'!K250","v":0},"T","Error?","closed FY21 "]
[1427,{"$f":"'Expenditures 16-24'!K254","v":0},"T","Error?"]
[1428,{"$f":"'Expenditures 16-24'!K256","v":0},"T","Error?"]
[1429,{"$f":"'Expenditures 16-24'!K257","v":0},"T","Error?"]
[1430,{"$f":"'Expenditures 16-24'!K258","v":0},"T","Error?"]
[1431,{"$f":"'Expenditures 16-24'!K260","v":0},"T","Error?"]
[1432,{"$f":"'Expenditures 16-24'!K261","v":0},"T","Error?"]
[1433,{"$f":"'Expenditures 16-24'!K262","v":0},"T","Error?"]
[1434,{"$f":"'Expenditures 16-24'!K263","v":0},"T","Error?"]
[1435,{"$f":"'Expenditures 16-24'!K264","v":0},"T","Error?"]
[1436,{"$f":"'Expenditures 16-24'!K265","v":0},"T","Error?"]
[1437,{"$f":"'Expenditures 16-24'!K266","v":0},"T","Error?"]
[1438,null,"T","OK"]
[1439,{"$f":"'Expenditures 16-24'!K267","v":0},"T","Error?"]
[1440,{"$f":"'Expenditures 16-24'!K269","v":0},null,"Error?"]
[1441,{"$f":"'Expenditures 16-24'!K270","v":0},"T","Error?"]
[1442,{"$f":"'Expenditures 16-24'!K271","v":0},"T","Error?"]
[1443,{"$f":"'Expenditures 16-24'!K272","v":0},"T","Error?"]
[1444,null,"T","OK"]
[1445,{"$f":"'Expenditures 16-24'!K273","v":0},"T","Error?"]
[1446,null,null,"OK"]
[1447,{"$f":"'Expenditures 16-24'!K274","v":0},"T","Error?"]
[1448,{"$f":"'Expenditures 16-24'!K275","v":0},null,"Error?"]
[1449,{"$f":"'Expenditures 16-24'!K276","v":0},"T","Error?"]
[1450,{"$f":"'Expenditures 16-24'!K277","v":0},"T","Error?"]
[1451,{"$f":"'Expenditures 16-24'!K285","v":0},"T","Error?"]
[1452,{"$f":"'Expenditures 16-24'!K286","v":0},"T","Error?"]
[1453,{"$f":"'Expenditures 16-24'!K289","v":0},"T","Error?"]
[1454,{"$f":"'Expenditures 16-24'!K290","v":0},"T","Error?"]
[1455,null,"T","OK"]
[1456,{"$f":"'Expenditures 16-24'!K292","v":0},"T","Error?"]
[1457,{"$f":"'Expenditures 16-24'!K293","v":0},null,"Error?"]
[1458,{"$f":"'Expenditures 16-24'!C298","v":0},"T","Error?"]
[1459,null,"T","OK"]
[1460,null,null,"OK"]
[1461,{"$f":"'Expenditures 16-24'!C299","v":0},null,"Error?"]
[1462,{"$f":"'Expenditures 16-24'!C300","v":0},null,"Error?"]
[1463,{"$f":"'Expenditures 16-24'!C309","v":0},null,"Error?"]
[1464,{"$f":"'Expenditures 16-24'!D298","v":0},"T","Error?"]
[1465,null,"T","OK"]
[1466,null,null,"OK"]
[1467,{"$f":"'Expenditures 16-24'!D299","v":0},null,"Error?"]
[1468,{"$f":"'Expenditures 16-24'!D300","v":0},null,"Error?"]
[1469,{"$f":"'Expenditures 16-24'!D309","v":0},null,"Error?"]
[1470,{"$f":"'Expenditures 16-24'!E298","v":0},"T","Error?"]
[1471,null,"T","OK"]
[1472,null,null,"OK"]
[1473,{"$f":"'Expenditures 16-24'!E299","v":0},null,"Error?"]
[1474,{"$f":"'Expenditures 16-24'!E300","v":0},null,{"$f":"IF(ISBLANK(B1533),\"OK\",IF(A1533-B1533=0,\"OK\",\"Error?\"))","v":"Error?"}]
[1475,{"$f":"'Expenditures 16-24'!E309","v":0},null,"Error?"]
[1476,{"$f":"'Expenditures 16-24'!F298","v":0},"T","Error?"]
[1477,null,"T","OK"]
[1478,null,null,"OK"]
[1479,{"$f":"'Expenditures 16-24'!F299","v":0},null,"Error?"]
[1480,{"$f":"'Expenditures 16-24'!F300","v":0},null,"Error?"]
[1481,{"$f":"'Expenditures 16-24'!F309","v":0},null,"Error?"]
[1482,{"$f":"'Expenditures 16-24'!G298","v":0},"T","Error?"]
[1483,null,"T","OK"]
[1484,null,null,"OK"]
[1485,{"$f":"'Expenditures 16-24'!G299","v":0},null,"Error?"]
[1486,{"$f":"'Expenditures 16-24'!G300","v":0},null,"Error?"]
[1487,{"$f":"'Expenditures 16-24'!G309","v":0},null,"Error?"]
[1488,{"$f":"'Expenditures 16-24'!H298","v":0},"T","Error?"]
[1489,null,"T","OK"]
[1490,null,null,"OK"]
[1491,{"$f":"'Expenditures 16-24'!H299","v":0},null,"Error?"]
[1492,{"$f":"'Expenditures 16-24'!H300","v":0},null,"Error?"]
[1493,{"$f":"'Expenditures 16-24'!H309","v":0},null,"Error?"]
[1494,{"$f":"'Expenditures 16-24'!K298","v":0},"T","Error?"]
[1495,null,"T","OK"]
[1496,null,"T","OK"]
[1497,{"$f":"'Expenditures 16-24'!K299","v":0},null,"Error?"]
[1498,{"$f":"'Expenditures 16-24'!K300","v":0},null,"Error?"]
[1499,{"$f":"'Expenditures 16-24'!K309","v":0},"T","Error?"]
[1500,{"$f":"'Expenditures 16-24'!K310","v":0},"T","Error?"]
[1501,null,"T","OK"]
[1502,null,"T","OK"]
[1503,null,null,"OK"]
[1504,null,null,"OK"]
[1505,null,null,"OK"]
[1506,null,null,"OK"]
[1507,null,null,"OK"]
[1508,null,null,"OK"]
[1509,null,null,"OK"]
[1510,null,"T","OK"]
[1511,null,"T","OK"]
[1512,null,null,"OK"]
[1513,null,"T","OK"]
[1514,null,"T","OK"]
[1515,null,"T","OK"]
[1516,null,"T","OK"]
[1517,null,"T","OK"]
[1518,null,"T","OK"]
[1519,null,null,"OK"]
[1520,null,null,"OK"]
[1521,null,null,"OK"]
[1522,null,null,"OK"]
[1523,null,null,"OK"]
[1524,null,null,"OK"]
[1525,null,null,"OK"]
[1526,null,null,"OK"]
[1527,null,null,"OK"]
[1528,null,null,"OK"]
[1529,null,null,"OK"]
[1530,null,null,"OK"]
[1531,null,null,"OK"]
[1532,null,null,"OK"]
[1533,null,null,"OK"]
[1534,null,null,"OK"]
[1535,null,null,"OK"]
[1536,null,null,"OK"]
[1537,null,null,"OK"]
[1538,null,null,{"$f":"IF(ISBLANK(B1597),\"OK\",IF(A1597-B1597=0,\"OK\",\"Error?\"))","v":"OK"}]
[1539,null,null,"OK"]
[1540,null,null,"OK"]
[1541,null,null,"OK"]
[1542,null,null,"OK"]
[1543,null,null,"OK"]
[1544,null,null,"OK"]
[1545,null,null,"OK"]
[1546,null,null,"OK"]
[1547,null,null,"OK"]
[1548,null,null,"OK"]
[1549,null,null,"OK"]
[1550,null,null,"OK"]
[1551,null,null,"OK"]
[1552,null,null,"OK"]
[1553,null,null,"OK"]
[1554,null,null,"OK"]
[1555,null,null,"OK"]
[1556,{"$f":"'Acct Summary 7-9'!C79","v":0},null,"Error?"]
[1557,null,null,"OK"]
[1558,null,null,"OK"]
[1559,null,null,"OK"]
[1560,null,null,"OK"]
[1561,null,null,"OK"]
[1562,null,null,"OK"]
[1563,null,null,"OK"]
[1564,null,null,"OK"]
[1565,null,null,"OK"]
[1566,null,null,"OK"]
[1567,null,null,"OK"]
[1568,null,null,"OK"]
[1569,{"$f":"'Acct Summary 7-9'!C81","v":0},null,"Error?"]
[1570,{"$f":"'Acct Summary 7-9'!D79","v":0},null,"Error?"]
[1571,null,"T","OK"]
[1572,null,null,"OK"]
[1573,null,null,"OK"]
[1574,null,null,"OK"]
[1575,null,null,"OK"]
[1576,null,null,"OK"]
[1577,null,null,"OK"]
[1578,null,null,"OK"]
[1579,null,null,"OK"]
[1580,null,null,"OK"]
[1581,null,null,"OK"]
[1582,null,null,"OK"]
[1583,{"$f":"'Acct Summary 7-9'!D81","v":0},null,"Error?"]
[1584,{"$f":"'Acct Summary 7-9'!E79","v":0},null,"Error?"]
[1585,null,"T","OK"]
[1586,null,null,"OK"]
[1587,null,null,"OK"]
[1588,null,null,"OK"]
[1589,null,null,"OK"]
[1590,null,null,"OK"]
[1591,null,null,"OK"]
[1592,null,null,"OK"]
[1593,null,null,"OK"]
[1594,null,null,"OK"]
[1595,null,null,"OK"]
[1596,null,null,"OK"]
[1597,{"$f":"'Acct Summary 7-9'!E81","v":0},null,"Error?"]
[1598,{"$f":"'Acct Summary 7-9'!F79","v":0},null,"Error?"]
[1599,null,"T","OK"]
[1600,null,null,"OK"]
[1601,null,null,"OK"]
[1602,null,null,{"$f":"IF(ISBLANK(B1661),\"OK\",IF(A1661-B1661=0,\"OK\",\"Error?\"))","v":"OK"}]
[1603,null,null,"OK"]
[1604,null,null,"OK"]
[1605,null,null,"OK"]
[1606,null,null,"OK"]
[1607,null,null,"OK"]
[1608,null,null,"OK"]
[1609,null,null,"OK"]
[1610,null,null,"OK"]
[1611,{"$f":"'Acct Summary 7-9'!F81","v":0},null,"Error?"]
[1612,{"$f":"'Acct Summary 7-9'!G79","v":0},null,"Error?"]
[1613,null,"T","OK"]
[1614,null,null,"OK"]
[1615,null,null,"OK"]
[1616,null,null,"OK"]
[1617,null,null,"OK"]
[1618,null,null,"OK"]
[1619,null,null,"OK"]
[1620,null,null,"OK"]
[1621,null,null,"OK"]
[1622,null,null,"OK"]
[1623,null,null,"OK"]
[1624,null,null,"OK"]
[1625,{"$f":"'Acct Summary 7-9'!G81","v":0},null,"Error?"]
[1626,{"$f":"'Acct Summary 7-9'!H79","v":0},null,"Error?"]
[1627,null,"T","OK"]
[1628,null,null,"OK"]
[1629,null,null,"OK"]
[1630,null,null,"OK"]
[1631,null,null,"OK"]
[1632,null,null,"OK"]
[1633,null,null,"OK"]
[1634,null,null,"OK"]
[1635,null,null,"OK"]
[1636,null,null,"OK"]
[1637,null,null,"OK"]
[1638,null,null,"OK"]
[1639,{"$f":"'Acct Summary 7-9'!H81","v":0},null,"Error?"]
[1640,null,null,"OK"]
[1641,null,"T","OK"]
[1642,null,null,"OK"]
[1643,null,null,"OK"]
[1644,null,null,"OK"]
[1645,null,null,"OK"]
[1646,null,null,"OK"]
[1647,null,null,"OK"]
[1648,null,null,"OK"]
[1649,null,null,"OK"]
[1650,null,null,"OK"]
[1651,null,null,"OK"]
[1652,null,null,"OK"]
[1653,null,null,"OK"]
[1654,null,null,"OK"]
[1655,null,null,"OK"]
[1656,null,null,"OK"]
[1657,null,null,"OK"]
[1658,null,null,"OK"]
[1659,null,null,"OK"]
[1660,null,null,"OK"]
[1661,null,null,"OK"]
[1662,null,null,"OK"]
[1663,null,null,"OK"]
[1664,null,null,"OK"]
[1665,null,null,"OK"]
[1666,null,null,{"$f":"IF(ISBLANK(B1725),\"OK\",IF(A1725-B1725=0,\"OK\",\"Error?\"))","v":"OK"}]
[1667,null,null,"OK"]
[1668,null,null,"OK"]
[1669,null,"T","OK"]
[1670,null,null,"OK"]
[1671,null,null,"OK"]
[1672,null,null,"OK"]
[1673,null,null,"OK"]
[1674,null,null,"OK"]
[1675,null,null,"OK"]
[1676,null,null,"OK"]
[1677,null,null,"OK"]
[1678,null,null,"OK"]
[1679,null,null,"OK"]
[1680,null,null,"OK"]
[1681,null,null,"OK"]
[1682,null,null,"OK"]
[1683,{"$f":"'Tax Sched 25'!B4","v":0},null,"Error?"]
[1684,{"$f":"'Tax Sched 25'!B5","v":0},null,"Error?"]
[1685,{"$f":"'Tax Sched 25'!B6","v":0},"T","Error?"]
[1686,{"$f":"'Tax Sched 25'!B7","v":0},"T","Error?"]
[1687,{"$f":"'Tax Sched 25'!B8","v":0},"T","Error?"]
[1688,{"$f":"'Tax Sched 25'!B10","v":0},"T","Error?"]
[1689,null,"T","OK","Deleted 09"]
[1690,{"$f":"'Tax Sched 25'!B9","v":0},"T","Error?"]
[1691,{"$f":"'Tax Sched 25'!B11","v":0},null,"Error?"]
[1692,{"$f":"'Tax Sched 25'!B12","v":0},"T","Error?"]
[1693,{"$f":"'Tax Sched 25'!B14","v":0},"T","Error?"]
[1694,null,"T","OK"]
[1695,{"$f":"'Tax Sched 25'!B15","v":0},"T","Error?"]
[1696,null,null,"OK"]
[1697,null,"T","OK"]
[1698,{"$f":"'Tax Sched 25'!B19","v":0},"T","Error?"]
[1699,{"$f":"'Tax Sched 25'!D4","v":0},"T","Error?"]
[1700,{"$f":"'Tax Sched 25'!D5","v":0},"T","Error?"]
[1701,{"$f":"'Tax Sched 25'!D6","v":0},"T","Error?"]
[1702,{"$f":"'Tax Sched 25'!D7","v":0},"T","Error?"]
[1703,{"$f":"'Tax Sched 25'!D8","v":0},"T","Error?"]
[1704,{"$f":"'Tax Sched 25'!D10","v":0},"T","Error?"]
[1705,null,"T","OK"]
[1706,{"$f":"'Tax Sched 25'!D9","v":0},"T","Error?"]
[1707,{"$f":"'Tax Sched 25'!D11","v":0},"T","Error?"]
[1708,{"$f":"'Tax Sched 25'!D12","v":0},"T","Error?"]
[1709,{"$f":"'Tax Sched 25'!D14","v":0},"T","Error?"]
[1710,null,"T","OK"]
[1711,{"$f":"'Tax Sched 25'!D15","v":0},"T","Error?"]
[1712,null,null,"OK"]
[1713,null,"T","OK"]
[1714,{"$f":"'Tax Sched 25'!D19","v":0},"T","Error?"]
[1715,{"$f":"'Tax Sched 25'!C4","v":0},"T","Error?"]
[1716,{"$f":"'Tax Sched 25'!C5","v":0},"T","Error?"]
[1717,{"$f":"'Tax Sched 25'!C6","v":0},null,"Error?"]
[1718,{"$f":"'Tax Sched 25'!C7","v":0},null,"Error?"]
[1719,{"$f":"'Tax Sched 25'!C8","v":0},null,"Error?"]
[1720,{"$f":"'Tax Sched 25'!C10","v":0},null,"Error?"]
[1721,null,null,"OK"]
[1722,{"$f":"'Tax Sched 25'!C9","v":0},null,"Error?"]
[1723,{"$f":"'Tax Sched 25'!C11","v":0},null,"Error?"]
[1724,{"$f":"'Tax Sched 25'!C12","v":0},null,"Error?"]
[1725,{"$f":"'Tax Sched 25'!C14","v":0},null,"Error?"]
[1726,null,null,"OK"]
[1727,{"$f":"'Tax Sched 25'!C15","v":0},null,"Error?"]
[1728,null,null,"OK"]
[1729,null,null,"OK"]
[1730,{"$f":"'Tax Sched 25'!C19","v":0},null,{"$f":"IF(ISBLANK(B1789),\"OK\",IF(A1789-B1789=0,\"OK\",\"Error?\"))","v":"Error?"}]
[1731,{"$f":"'Tax Sched 25'!F4","v":0},null,"Error?"]
[1732,{"$f":"'Tax Sched 25'!F5","v":0},"T","Error?"]
[1733,{"$f":"'Tax Sched 25'!F6","v":0},"T","Error?"]
[1734,{"$f":"'Tax Sched 25'!F7","v":0},"T","Error?"]
[1735,{"$f":"'Tax Sched 25'!F8","v":0},"T","Error?"]
[1736,{"$f":"'Tax Sched 25'!F10","v":0},"T","Error?"]
[1737,null,"T","OK"]
[1738,{"$f":"'Tax Sched 25'!F9","v":0},"T","Error?"]
[1739,{"$f":"'Tax Sched 25'!F11","v":0},"T","Error?"]
[1740,{"$f":"'Tax Sched 25'!F12","v":0},"T","Error?"]
[1741,{"$f":"'Tax Sched 25'!F14","v":0},"T","Error?"]
[1742,null,"T","OK"]
[1743,{"$f":"'Tax Sched 25'!F15","v":0},"T","Error?"]
[1744,null,null,"OK"]
[1745,null,"T","OK"]
[1746,{"$f":"'Tax Sched 25'!F19","v":0},"T","Error?"]
[1747,{"$f":"'Tax Sched 25'!E4","v":0},"T","Error?"]
[1748,{"$f":"'Tax Sched 25'!E5","v":0},"T","Error?"]
[1749,{"$f":"'Tax Sched 25'!E6","v":0},null,"Error?"]
[1750,{"$f":"'Tax Sched 25'!E7","v":0},null,"Error?"]
[1751,{"$f":"'Tax Sched 25'!E8","v":0},null,"Error?"]
[1752,{"$f":"'Tax Sched 25'!E10","v":0},null,"Error?"]
[1753,null,null,"OK"]
[1754,{"$f":"'Tax Sched 25'!E9","v":0},null,"Error?"]
[1755,{"$f":"'Tax Sched 25'!E11","v":0},null,"Error?"]
[1756,{"$f":"'Tax Sched 25'!E12","v":0},null,"Error?"]
[1757,{"$f":"'Tax Sched 25'!E14","v":0},null,"Error?"]
[1758,null,null,"OK"]
[1759,{"$f":"'Tax Sched 25'!E15","v":0},null,"Error?"]
[1760,null,null,"OK"]
[1761,null,null,"OK"]
[1762,{"$f":"'Tax Sched 25'!E19","v":0},null,"Error?"]
[1763,null,null,"OK"]
[1764,{"$f":"'Short-Term Long-Term Debt 26'!C6","v":0},"T","Error?"]
[1765,{"$f":"'Short-Term Long-Term Debt 26'!C7","v":0},null,"Error?"]
[1766,{"$f":"'Short-Term Long-Term Debt 26'!C12","v":0},null,"Error?"]
[1767,{"$f":"'Short-Term Long-Term Debt 26'!C11","v":0},null,"Error?"]
[1768,{"$f":"'Short-Term Long-Term Debt 26'!C8","v":0},null,"Error?"]
[1769,{"$f":"'Short-Term Long-Term Debt 26'!C9","v":0},null,"Error?"]
[1770,{"$f":"'Short-Term Long-Term Debt 26'!C10","v":0},null,"Error?"]
[1771,{"$f":"'Short-Term Long-Term Debt 26'!C14","v":0},null,"Error?"]
[1772,{"$f":"'Short-Term Long-Term Debt 26'!C15","v":0},null,"Error?"]
[1773,{"$f":"'Short-Term Long-Term Debt 26'!C17","v":0},null,"Error?"]
[1774,{"$f":"'Short-Term Long-Term Debt 26'!C18","v":0},"T","Error?"]
[1775,{"$f":"'Short-Term Long-Term Debt 26'!C20","v":0},null,"Error?"]
[1776,{"$f":"'Short-Term Long-Term Debt 26'!C21","v":0},null,"Error?"]
[1777,{"$f":"'Short-Term Long-Term Debt 26'!C23","v":0},null,"Error?"]
[1778,{"$f":"'Short-Term Long-Term Debt 26'!D6","v":0},"T","Error?"]
[1779,{"$f":"'Short-Term Long-Term Debt 26'!D7","v":0},null,"Error?"]
[1780,{"$f":"'Short-Term Long-Term Debt 26'!D12","v":0},null,"Error?"]
[1781,{"$f":"'Short-Term Long-Term Debt 26'!D11","v":0},null,"Error?"]
[1782,{"$f":"'Short-Term Long-Term Debt 26'!D8","v":0},null,"Error?"]
[1783,{"$f":"'Short-Term Long-Term Debt 26'!D9","v":0},null,"Error?"]
[1784,{"$f":"'Short-Term Long-Term Debt 26'!D10","v":0},null,"Error?"]
[1785,{"$f":"'Short-Term Long-Term Debt 26'!D14","v":0},null,"Error?"]
[1786,{"$f":"'Short-Term Long-Term Debt 26'!D15","v":0},null,"Error?"]
[1787,{"$f":"'Short-Term Long-Term Debt 26'!D17","v":0},null,"Error?"]
[1788,{"$f":"'Short-Term Long-Term Debt 26'!D18","v":0},"T","Error?"]
[1789,{"$f":"'Short-Term Long-Term Debt 26'!D20","v":0},null,"Error?"]
[1790,{"$f":"'Short-Term Long-Term Debt 26'!D21","v":0},null,"Error?"]
[1791,{"$f":"'Short-Term Long-Term Debt 26'!D23","v":0},null,"Error?"]
[1792,{"$f":"'Short-Term Long-Term Debt 26'!E6","v":0},"T","Error?"]
[1793,{"$f":"'Short-Term Long-Term Debt 26'!E7","v":0},null,"Error?"]
[1794,{"$f":"'Short-Term Long-Term Debt 26'!E12","v":0},null,{"$f":"IF(ISBLANK(B1853),\"OK\",IF(A1853-B1853=0,\"OK\",\"Error?\"))","v":"Error?"}]
[1795,{"$f":"'Short-Term Long-Term Debt 26'!E11","v":0},null,"Error?"]
[1796,{"$f":"'Short-Term Long-Term Debt 26'!E8","v":0},null,"Error?"]
[1797,{"$f":"'Short-Term Long-Term Debt 26'!E9","v":0},null,"Error?"]
[1798,{"$f":"'Short-Term Long-Term Debt 26'!E10","v":0},null,"Error?"]
[1799,{"$f":"'Short-Term Long-Term Debt 26'!E14","v":0},null,"Error?"]
[1800,{"$f":"'Short-Term Long-Term Debt 26'!E15","v":0},null,"Error?"]
[1801,{"$f":"'Short-Term Long-Term Debt 26'!E17","v":0},null,"Error?"]
[1802,{"$f":"'Short-Term Long-Term Debt 26'!E18","v":0},"T","Error?"]
[1803,{"$f":"'Short-Term Long-Term Debt 26'!E20","v":0},null,"Error?"]
[1804,{"$f":"'Short-Term Long-Term Debt 26'!E21","v":0},null,"Error?"]
[1805,{"$f":"'Short-Term Long-Term Debt 26'!E23","v":0},null,"Error?"]
[1806,{"$f":"'Short-Term Long-Term Debt 26'!F6","v":0},"T","Error?"]
[1807,{"$f":"'Short-Term Long-Term Debt 26'!F7","v":0},null,"Error?"]
[1808,{"$f":"'Short-Term Long-Term Debt 26'!F12","v":0},"T","Error?"]
[1809,{"$f":"'Short-Term Long-Term Debt 26'!F11","v":0},"T","Error?"]
[1810,{"$f":"'Short-Term Long-Term Debt 26'!F8","v":0},"T","Error?"]
[1811,{"$f":"'Short-Term Long-Term Debt 26'!F9","v":0},"T","Error?"]
[1812,{"$f":"'Short-Term Long-Term Debt 26'!F10","v":0},"T","Error?"]
[1813,{"$f":"'Short-Term Long-Term Debt 26'!F14","v":0},"T","Error?"]
[1814,{"$f":"'Short-Term Long-Term Debt 26'!F15","v":0},"T","Error?"]
[1815,{"$f":"'Short-Term Long-Term Debt 26'!F17","v":0},"T","Error?"]
[1816,{"$f":"'Short-Term Long-Term Debt 26'!F18","v":0},"T","Error?"]
[1817,{"$f":"'Short-Term Long-Term Debt 26'!F20","v":0},"T","Error?"]
[1818,{"$f":"'Short-Term Long-Term Debt 26'!F21","v":0},"T","Error?"]
[1819,{"$f":"'Short-Term Long-Term Debt 26'!F23","v":0},"T","Error?"]
[1820,null,"T","OK"]
[1821,null,"T","OK"]
[1822,null,null,"OK"]
[1823,null,null,"OK"]
[1824,null,null,"OK"]
[1825,null,null,"OK"]
[1826,null,null,"OK"]
[1827,null,null,"OK"]
[1828,null,null,"OK"]
[1829,null,null,"OK"]
[1830,null,null,"OK"]
[1831,null,null,"OK"]
[1832,null,null,"OK"]
[1833,null,null,"OK"]
[1834,null,null,"OK"]
[1835,null,null,"OK"]
[1836,null,null,"OK"]
[1837,null,null,"OK"]
[1838,null,null,"OK"]
[1839,null,null,"OK"]
[1840,null,null,"OK"]
[1841,null,null,"OK"]
[1842,null,null,"OK"]
[1843,null,null,"OK"]
[1844,null,null,"OK"]
[1845,null,null,"OK"]
[1846,null,null,"OK"]
[1847,null,null,"OK"]
[1848,null,null,"OK"]
[1849,null,null,"OK"]
[1850,null,null,"OK"]
[1851,null,null,"OK"]
[1852,null,null,"OK"]
[1853,null,null,"OK"]
[1854,null,null,"OK"]
[1855,null,null,"OK"]
[1856,null,null,"OK"]
[1857,null,null,"OK"]
[1858,null,null,{"$f":"IF(ISBLANK(B1917),\"OK\",IF(A1917-B1917=0,\"OK\",\"Error?\"))","v":"OK"}]
[1859,null,null,"OK"]
[1860,null,null,"OK"]
[1861,null,null,"OK"]
[1862,null,null,"OK"]
[1863,null,null,"OK"]
[1864,null,null,"OK"]
[1865,null,null,"OK"]
[1866,null,null,"OK"]
[1867,null,null,"OK"]
[1868,null,null,"OK"]
[1869,null,null,"OK"]
[1870,null,null,"OK"]
[1871,null,null,"OK"]
[1872,null,null,"OK"]
[1873,null,null,"OK"]
[1874,null,null,"OK"]
[1875,null,null,"OK"]
[1876,null,null,"OK"]
[1877,null,null,"OK"]
[1878,{"$f":"'Short-Term Long-Term Debt 26'!E49","v":0},null,"Error?"]
[1879,{"$f":"'Short-Term Long-Term Debt 26'!F49","v":0},null,"Error?"]
[1880,null,"T","OK"]
[1881,null,"T","OK"]
[1882,null,"T","OK"]
[1883,null,null,"OK"]
[1884,null,null,"OK"]
[1885,null,null,"OK"]
[1886,null,null,"OK"]
[1887,{"$f":"'Rest Tax Levies-Tort Im 27'!G3","v":0},null,"Error?"]
[1888,null,null,"OK"]
[1889,{"$f":"'Rest Tax Levies-Tort Im 27'!G6","v":0},null,"Error?"]
[1890,null,null,"OK"]
[1891,null,null,"OK","closed 2010"]
[1892,{"$f":"'Rest Tax Levies-Tort Im 27'!G12","v":0},null,"Error?"]
[1893,null,null,"OK","closed 2010"]
[1894,{"$f":"'Rest Tax Levies-Tort Im 27'!G16","v":0},"T","Error?"]
[1895,null,"T","OK"]
[1896,{"$f":"'Rest Tax Levies-Tort Im 27'!G23","v":0},null,"Error?"]
[1897,{"$f":"'Rest Tax Levies-Tort Im 27'!G24","v":0},null,"Error?"]
[1898,null,"T","OK"]
[1899,null,"T","OK"]
[1900,null,null,"OK"]
[1901,null,null,"OK"]
[1902,null,null,"OK"]
[1903,null,null,"OK"]
[1904,null,null,"OK"]
[1905,null,null,"OK"]
[1906,null,null,"OK"]
[1907,null,null,"OK"]
[1908,null,null,"OK"]
[1909,null,null,"OK"]
[1910,{"$f":"'Rest Tax Levies-Tort Im 27'!H3","v":0},null,"Error?"]
[1911,{"$f":"'Rest Tax Levies-Tort Im 27'!H5","v":0},null,"Error?"]
[1912,{"$f":"'Rest Tax Levies-Tort Im 27'!H6","v":0},null,"Error?"]
[1913,{"$f":"'Rest Tax Levies-Tort Im 27'!H10","v":0},null,"Error?"]
[1914,null,null,"OK"]
[1915,null,null,"OK","closed 2010"]
[1916,{"$f":"'Rest Tax Levies-Tort Im 27'!H12","v":0},null,"Error?"]
[1917,null,null,"OK","closed 2010"]
[1918,{"$f":"'Rest Tax Levies-Tort Im 27'!H15","v":0},"T","Error?"]
[1919,{"$f":"'Rest Tax Levies-Tort Im 27'!H22","v":0},"T","Error?"]
[1920,null,null,"OK","closed 2010"]
[1921,{"$f":"'Rest Tax Levies-Tort Im 27'!H23","v":0},null,"Error?"]
[1922,{"$f":"'Rest Tax Levies-Tort Im 27'!H24","v":0},null,{"$f":"IF(ISBLANK(B1981),\"OK\",IF(A1981-B1981=0,\"OK\",\"Error?\"))","v":"Error?"}]
[1923,{"$f":"'Rest Tax Levies-Tort Im 27'!I3","v":0},"T","Error?"]
[1924,{"$f":"'Rest Tax Levies-Tort Im 27'!I5","v":0},"T","Error?"]
[1925,{"$f":"'Rest Tax Levies-Tort Im 27'!I6","v":0},null,"Error?"]
[1926,{"$f":"'Rest Tax Levies-Tort Im 27'!I11","v":0},null,"Error?"]
[1927,{"$f":"'Rest Tax Levies-Tort Im 27'!I10","v":0},null,"Error?"]
[1928,null,null,"OK","closed 2010"]
[1929,{"$f":"'Rest Tax Levies-Tort Im 27'!I12","v":0},null,"Error?"]
[1930,null,null,"OK","closed 2010"]
[1931,{"$f":"'Rest Tax Levies-Tort Im 27'!I15","v":0},"T","Error?"]
[1932,{"$f":"'Rest Tax Levies-Tort Im 27'!I22","v":0},"T","Error?"]
[1933,null,null,"OK","closed 2010"]
[1934,{"$f":"'Rest Tax Levies-Tort Im 27'!I23","v":0},null,"Error?"]
[1935,{"$f":"'Rest Tax Levies-Tort Im 27'!I24","v":0},null,"Error?"]
[1936,null,"T","OK"]
[1937,null,"T","OK"]
[1938,null,null,"OK"]
[1939,null,null,"OK"]
[1940,null,null,"OK"]
[1941,null,null,"OK"]
[1942,null,null,"OK"]
[1943,null,null,"OK"]
[1944,null,null,"OK"]
[1945,null,null,"OK"]
[1946,null,null,"OK"]
[1947,{"$f":"'Cap Outlay Deprec 36'!C5","v":0},null,"Error?"]
[1948,{"$f":"'Cap Outlay Deprec 36'!C8","v":0},null,"Error?"]
[1949,{"$f":"'Cap Outlay Deprec 36'!C10","v":0},null,"Error?"]
[1950,{"$f":"'Cap Outlay Deprec 36'!C12","v":0},null,"Error?"]
[1951,{"$f":"'Cap Outlay Deprec 36'!C13","v":0},null,"Error?"]
[1952,{"$f":"'Cap Outlay Deprec 36'!C16","v":0},null,"Error?"]
[1953,{"$f":"'Cap Outlay Deprec 36'!D5","v":0},null,"Error?"]
[1954,{"$f":"'Cap Outlay Deprec 36'!D8","v":0},"T","Error?"]
[1955,{"$f":"'Cap Outlay Deprec 36'!D10","v":0},null,"Error?"]
[1956,{"$f":"'Cap Outlay Deprec 36'!D12","v":0},null,"Error?"]
[1957,{"$f":"'Cap Outlay Deprec 36'!D13","v":0},null,"Error?"]
[1958,{"$f":"'Cap Outlay Deprec 36'!D16","v":0},null,"Error?"]
[1959,{"$f":"'Cap Outlay Deprec 36'!E5","v":0},null,"Error?"]
[1960,{"$f":"'Cap Outlay Deprec 36'!E8","v":0},"T","Error?"]
[1961,{"$f":"'Cap Outlay Deprec 36'!E10","v":0},null,"Error?"]
[1962,{"$f":"'Cap Outlay Deprec 36'!E12","v":0},null,"Error?"]
[1963,{"$f":"'Cap Outlay Deprec 36'!E13","v":0},null,"Error?"]
[1964,{"$f":"'Cap Outlay Deprec 36'!E16","v":0},null,"Error?"]
[1965,{"$f":"'Cap Outlay Deprec 36'!F5","v":0},null,"Error?"]
[1966,{"$f":"'Cap Outlay Deprec 36'!F8","v":0},"T","Error?"]
[1967,{"$f":"'Cap Outlay Deprec 36'!F10","v":0},"T","Error?"]
[1968,{"$f":"'Cap Outlay Deprec 36'!F12","v":0},"T","Error?"]
[1969,{"$f":"'Cap Outlay Deprec 36'!F13","v":0},"T","Error?"]
[1970,{"$f":"'Cap Outlay Deprec 36'!F16","v":0},"T","Error?"]
[1971,null,"T","OK"]
[1972,{"$f":"'Cap Outlay Deprec 36'!H8","v":0},"T","Error?"]
[1973,{"$f":"'Cap Outlay Deprec 36'!H10","v":0},null,"Error?"]
[1974,{"$f":"'Cap Outlay Deprec 36'!H12","v":0},null,"Error?"]
[1975,{"$f":"'Cap Outlay Deprec 36'!H13","v":0},null,"Error?"]
[1976,{"$f":"'Cap Outlay Deprec 36'!H16","v":0},null,"Error?"]
[1977,null,null,"OK"]
[1978,{"$f":"'Cap Outlay Deprec 36'!I8","v":0},"T","Error?"]
[1979,{"$f":"'Cap Outlay Deprec 36'!I10","v":0},null,"Error?"]
[1980,{"$f":"'Cap Outlay Deprec 36'!I12","v":0},null,"Error?"]
[1981,{"$f":"'Cap Outlay Deprec 36'!I13","v":0},null,"Error?"]
[1982,{"$f":"'Cap Outlay Deprec 36'!I16","v":0},null,"Error?"]
[1983,null,null,"OK"]
[1984,{"$f":"'Cap Outlay Deprec 36'!J8","v":0},"T","Error?"]
[1985,{"$f":"'Cap Outlay Deprec 36'!J10","v":0},null,"Error?"]
[1986,{"$f":"'Cap Outlay Deprec 36'!J12","v":0},null,{"$f":"IF(ISBLANK(B2045),\"OK\",IF(A2045-B2045=0,\"OK\",\"Error?\"))","v":"Error?"}]
[1987,{"$f":"'Cap Outlay Deprec 36'!J13","v":0},null,"Error?"]
[1988,{"$f":"'Cap Outlay Deprec 36'!J16","v":0},null,"Error?"]
[1989,null,null,"OK"]
[1990,{"$f":"'Cap Outlay Deprec 36'!K8","v":0},"T","Error?"]
[1991,{"$f":"'Cap Outlay Deprec 36'!K10","v":0},null,"Error?"]
[1992,{"$f":"'Cap Outlay Deprec 36'!K12","v":0},"T","Error?"]
[1993,{"$f":"'Cap Outlay Deprec 36'!K13","v":0},"T","Error?"]
[1994,{"$f":"'Cap Outlay Deprec 36'!K16","v":0},"T","Error?"]
[1995,{"$f":"'Cap Outlay Deprec 36'!L5","v":0},"T","Error?"]
[1996,{"$f":"'Cap Outlay Deprec 36'!L8","v":0},"T","Error?"]
[1997,{"$f":"'Cap Outlay Deprec 36'!L10","v":0},"T","Error?"]
[1998,{"$f":"'Cap Outlay Deprec 36'!L12","v":0},"T","Error?"]
[1999,{"$f":"'Cap Outlay Deprec 36'!L13","v":0},"T","Error?"]
[2000,{"$f":"'Cap Outlay Deprec 36'!L16","v":0},"T","Error?"]
[2001,null,"T","OK"]
[2002,null,"T","OK"]
[2003,null,null,"OK"]
[2004,null,null,"OK"]
[2005,null,null,"OK"]
[2006,null,null,"OK"]
[2007,null,null,"OK"]
[2008,null,null,"OK"]
[2009,null,null,"OK"]
[2010,null,null,"OK"]
[2011,null,null,"OK"]
[2012,null,null,"OK"]
[2013,null,null,"OK"]
[2014,null,null,"OK"]
[2015,null,null,"OK"]
[2016,null,null,"OK"]
[2017,null,null,"OK"]
[2018,null,"T","OK"]
[2019,null,"T","OK"]
[2020,{"$f":"'Expenditures 16-24'!H86","v":0},null,"Error?"]
[2021,null,null,"OK"]
[2022,null,"T","OK"]
[2023,null,"T","OK"]
[2024,null,null,"OK"]
[2025,null,null,"OK"]
[2026,null,"T","OK"]
[2027,{"$f":"'Expenditures 16-24'!K86","v":0},null,"Error?"]
[2028,{"$f":"'Expenditures 16-24'!K94","v":0},null,"Error?"]
[2029,null,"T","OK"]
[2030,{"$f":"'Expenditures 16-24'!H141","v":0},"T","Error?"]
[2031,{"$f":"'Expenditures 16-24'!H142","v":0},null,"Error?"]
[2032,{"$f":"'Expenditures 16-24'!K141","v":0},"T","Error?"]
[2033,{"$f":"'Expenditures 16-24'!K142","v":0},null,"Error?"]
[2034,null,"T","OK"]
[2035,null,"T","OK"]
[2036,null,null,"OK"]
[2037,null,null,"OK"]
[2038,null,null,"OK"]
[2039,null,null,"OK"]
[2040,null,"T","OK"]
[2041,{"$f":"'Expenditures 16-24'!K307","v":0},null,"Error?"]
[2042,null,"T","OK"]
[2043,null,"T","OK"]
[2044,{"$f":"'Acct Summary 7-9'!I47","v":0},null,"Error?"]
[2045,{"$f":"'Acct Summary 7-9'!I48","v":0},null,"Error?"]
[2046,{"$f":"'Rest Tax Levies-Tort Im 27'!H11","v":0},"T","Error?"]
[2047,null,null,"OK"]
[2048,null,null,"OK"]
[2049,null,null,"OK"]
[2050,null,null,{"$f":"IF(ISBLANK(B2109),\"OK\",IF(A2109-B2109=0,\"OK\",\"Error?\"))","v":"OK"}]
[2051,null,null,"OK"]
[2052,null,null,"OK"]
[2053,null,null,"OK"]
[2054,null,null,"OK"]
[2055,null,null,"OK"]
[2056,null,null,"OK"]
[2057,null,null,"OK"]
[2058,null,null,"OK"]
[2059,null,null,"OK"]
[2060,null,null,"OK"]
[2061,null,null,"OK"]
[2062,null,null,"OK"]
[2063,null,null,"OK"]
[2064,null,null,"OK"]
[2065,null,null,"OK"]
[2066,null,null,"OK"]
[2067,null,null,"OK"]
[2068,null,null,"OK"]
[2069,null,null,"OK"]
[2070,null,null,"OK"]
[2071,null,null,"OK"]
[2072,null,"T","OK"]
[2073,null,null,"OK"]
[2074,null,null,"OK"]
[2075,null,null,"OK"]
[2076,null,null,"OK"]
[2077,null,null,"OK"]
[2078,null,null,"OK"]
[2079,null,null,"OK"]
[2080,null,null,"OK"]
[2081,null,null,"OK"]
[2082,null,null,"OK"]
[2083,null,null,"OK"]
[2084,null,null,"OK"]
[2085,null,null,"OK"]
[2086,null,null,"OK"]
[2087,null,null,"OK"]
[2088,null,null,"OK"]
[2089,null,null,"OK"]
[2090,null,null,"OK"]
[2091,null,null,"OK"]
[2092,null,null,"OK"]
[2093,null,null,"OK"]
[2094,null,null,"OK"]
[2095,null,null,"OK"]
[2096,null,null,"OK"]
[2097,null,null,"OK"]
[2098,null,null,"OK"]
[2099,null,null,"OK"]
[2100,null,null,"OK"]
[2101,null,null,"OK"]
[2102,null,null,"OK"]
[2103,null,null,"OK"]
[2104,null,null,"OK"]
[2105,null,null,"OK"]
[2106,null,null,"OK"]
[2107,null,null,"OK"]
[2108,null,null,"OK"]
[2109,null,null,"OK"]
[2110,null,null,"OK"]
[2111,null,null,"OK"]
[2112,null,null,"OK"]
[2113,null,null,"OK"]
[2114,null,null,{"$f":"IF(ISBLANK(B2173),\"OK\",IF(A2173-B2173=0,\"OK\",\"Error?\"))","v":"OK"}]
[2115,null,null,"OK"]
[2116,null,null,"OK"]
[2117,null,null,"OK"]
[2118,null,null,"OK"]
[2119,null,null,"OK"]
[2120,null,null,"OK"]
[2121,null,null,"OK"]
[2122,null,null,"OK"]
[2123,null,null,"OK"]
[2124,null,null,"OK"]
[2125,null,null,"OK"]
[2126,null,null,"OK"]
[2127,null,null,"OK"]
[2128,null,null,"OK"]
[2129,null,null,"OK"]
[2130,null,null,"OK"]
[2131,null,null,"OK"]
[2132,null,null,"OK"]
[2133,null,null,"OK"]
[2134,null,null,"OK"]
[2135,null,null,"OK"]
[2136,null,null,"OK"]
[2137,null,null,"OK"]
[2138,null,null,"OK"]
[2139,null,null,"OK"]
[2140,null,null,"OK"]
[2141,null,null,"OK"]
[2142,null,null,"OK"]
[2143,null,null,"OK"]
[2144,null,null,"OK"]
[2145,null,null,"OK"]
[2146,null,null,"OK"]
[2147,null,null,"OK"]
[2148,null,null,"OK"]
[2149,null,null,"OK"]
[2150,null,null,"OK"]
[2151,null,null,"OK"]
[2152,null,null,"OK"]
[2153,null,null,"OK"]
[2154,null,null,"OK"]
[2155,null,null,"OK"]
[2156,null,null,"OK"]
[2157,null,null,"OK"]
[2158,null,null,"OK"]
[2159,null,null,"OK"]
[2160,null,null,"OK"]
[2161,null,null,"OK"]
[2162,null,null,"OK"]
[2163,null,null,"OK"]
[2164,null,null,"OK"]
[2165,null,null,"OK"]
[2166,null,null,"OK"]
[2167,null,null,"OK"]
[2168,null,null,"OK"]
[2169,null,null,"OK"]
[2170,null,null,"OK"]
[2171,null,null,"OK"]
[2172,null,null,"OK"]
[2173,null,null,"OK"]
[2174,null,null,"OK"]
[2175,null,null,"OK"]
[2176,null,null,"OK"]
[2177,null,null,"OK"]
[2178,null,null,{"$f":"IF(ISBLANK(B2237),\"OK\",IF(A2237-B2237=0,\"OK\",\"Error?\"))","v":"OK"}]
[2179,null,null,"OK"]
[2180,null,null,"OK"]
[2181,null,null,"OK"]
[2182,null,null,"OK"]
[2183,null,null,"OK"]
[2184,null,null,"OK"]
[2185,null,null,"OK"]
[2186,null,null,"OK"]
[2187,null,null,"OK"]
[2188,null,null,"OK"]
[2189,null,null,"OK"]
[2190,null,null,"OK"]
[2191,null,null,"OK"]
[2192,null,null,"OK"]
[2193,null,null,"OK"]
[2194,null,null,"OK"]
[2195,null,null,"OK"]
[2196,null,null,"OK"]
[2197,null,null,"OK"]
[2198,null,null,"OK"]
[2199,null,null,"OK"]
[2200,null,null,"OK"]
[2201,null,null,"OK"]
[2202,null,null,"OK"]
[2203,null,null,"OK"]
[2204,null,null,"OK"]
[2205,null,null,"OK"]
[2206,null,null,"OK"]
[2207,null,null,"OK"]
[2208,null,null,"OK"]
[2209,null,null,"OK"]
[2210,null,null,"OK"]
[2211,null,null,"OK"]
[2212,null,null,"OK"]
[2213,null,null,"OK"]
[2214,null,null,"OK"]
[2215,null,null,"OK"]
[2216,null,null,"OK"]
[2217,null,null,"OK"]
[2218,null,null,"OK"]
[2219,null,null,"OK"]
[2220,null,null,"OK"]
[2221,null,null,"OK"]
[2222,null,null,"OK"]
[2223,null,null,"OK"]
[2224,null,null,"OK"]
[2225,null,null,"OK"]
[2226,null,null,"OK"]
[2227,null,null,"OK"]
[2228,null,null,"OK"]
[2229,null,null,"OK"]
[2230,null,null,"OK"]
[2231,null,null,"OK"]
[2232,null,null,"OK"]
[2233,null,null,"OK"]
[2234,null,null,"OK"]
[2235,null,null,"OK"]
[2236,null,null,"OK"]
[2237,null,null,"OK"]
[2238,null,null,"OK"]
[2239,null,null,"OK"]
[2240,null,null,"OK"]
[2241,null,null,"OK"]
[2242,null,null,{"$f":"IF(ISBLANK(B2301),\"OK\",IF(A2301-B2301=0,\"OK\",\"Error?\"))","v":"OK"}]
[2243,null,null,"OK"]
[2244,null,null,"OK"]
[2245,null,null,"OK"]
[2246,null,null,"OK"]
[2247,null,null,"OK"]
[2248,null,null,"OK"]
[2249,null,null,"OK"]
[2250,null,null,"OK"]
[2251,null,null,"OK"]
[2252,null,null,"OK"]
[2253,null,null,"OK"]
[2254,null,null,"OK"]
[2255,null,null,"OK"]
[2256,null,null,"OK"]
[2257,null,null,"OK"]
[2258,null,null,"OK"]
[2259,null,null,"OK"]
[2260,null,null,"OK"]
[2261,null,null,"OK"]
[2262,null,null,"OK"]
[2263,null,null,"OK"]
[2264,null,null,"OK"]
[2265,null,null,"OK"]
[2266,null,null,"OK"]
[2267,null,null,"OK"]
[2268,null,null,"OK"]
[2269,null,null,"OK"]
[2270,null,null,"OK"]
[2271,null,null,"OK"]
[2272,null,null,"OK"]
[2273,null,null,"OK"]
[2274,null,null,"OK"]
[2275,null,null,"OK"]
[2276,null,null,"OK"]
[2277,null,null,"OK"]
[2278,null,null,"OK"]
[2279,null,null,"OK"]
[2280,null,null,"OK"]
[2281,null,null,"OK"]
[2282,null,null,"OK"]
[2283,null,null,"OK"]
[2284,null,null,"OK"]
[2285,null,null,"OK"]
[2286,null,null,"OK"]
[2287,null,null,"OK"]
[2288,null,null,"OK"]
[2289,null,null,"OK"]
[2290,null,null,"OK"]
[2291,null,null,"OK"]
[2292,null,null,"OK"]
[2293,null,null,"OK"]
[2294,null,null,"OK"]
[2295,null,null,"OK"]
[2296,null,null,"OK"]
[2297,null,null,"OK"]
[2298,null,null,"OK"]
[2299,null,null,"OK"]
[2300,null,null,"OK"]
[2301,null,null,"OK"]
[2302,null,null,"OK"]
[2303,null,null,"OK"]
[2304,null,null,"OK"]
[2305,null,null,"OK"]
[2306,null,null,{"$f":"IF(ISBLANK(B2365),\"OK\",IF(A2365-B2365=0,\"OK\",\"Error?\"))","v":"OK"}]
[2307,null,null,"OK"]
[2308,null,null,"OK"]
[2309,null,null,"OK"]
[2310,null,null,"OK"]
[2311,null,null,"OK"]
[2312,null,null,"OK"]
[2313,null,null,"OK"]
[2314,null,null,"OK"]
[2315,null,null,"OK"]
[2316,null,null,"OK"]
[2317,null,null,"OK"]
[2318,null,null,"OK"]
[2319,null,null,"OK"]
[2320,null,null,"OK"]
[2321,null,null,"OK"]
[2322,null,null,"OK"]
[2323,null,null,"OK"]
[2324,null,null,"OK"]
[2325,null,null,"OK"]
[2326,null,null,"OK"]
[2327,null,null,"OK"]
[2328,null,null,"OK"]
[2329,null,null,"OK"]
[2330,null,null,"OK"]
[2331,null,null,"OK"]
[2332,null,null,"OK"]
[2333,null,null,"OK"]
[2334,null,null,"OK"]
[2335,null,null,"OK"]
[2336,null,null,"OK"]
[2337,null,null,"OK"]
[2338,null,null,"OK"]
[2339,null,null,"OK"]
[2340,null,null,"OK"]
[2341,null,null,"OK"]
[2342,null,null,"OK"]
[2343,null,null,"OK"]
[2344,null,null,"OK"]
[2345,null,null,"OK"]
[2346,null,null,"OK"]
[2347,null,null,"OK"]
[2348,null,null,"OK"]
[2349,null,null,"OK"]
[2350,null,null,"OK"]
[2351,null,null,"OK"]
[2352,null,null,"OK"]
[2353,null,null,"OK"]
[2354,null,null,"OK"]
[2355,null,null,"OK"]
[2356,null,null,"OK"]
[2357,null,null,"OK"]
[2358,null,null,"OK"]
[2359,null,null,"OK"]
[2360,null,null,"OK"]
[2361,null,null,"OK"]
[2362,null,null,"OK"]
[2363,null,null,"OK"]
[2364,null,null,"OK"]
[2365,null,null,"OK"]
[2366,null,null,"OK"]
[2367,null,null,"OK"]
[2368,null,null,"OK"]
[2369,null,null,"OK"]
[2370,null,null,{"$f":"IF(ISBLANK(B2429),\"OK\",IF(A2429-B2429=0,\"OK\",\"Error?\"))","v":"OK"}]
[2371,null,null,"OK"]
[2372,null,null,"OK"]
[2373,null,null,"OK"]
[2374,{"$f":"'Assets-Liab 5-6'!C38","v":0},null,"Error?"]
[2375,null,null,"OK"]
[2376,{"$f":"'Assets-Liab 5-6'!D38","v":0},null,"Error?"]
[2377,null,null,"OK"]
[2378,null,null,"OK"]
[2379,null,null,"OK"]
[2380,null,null,"OK"]
[2381,null,null,"OK"]
[2382,null,null,"OK"]
[2383,null,null,"OK"]
[2384,null,null,"OK"]
[2385,null,null,"OK"]
[2386,null,null,"OK"]
[2387,null,null,"OK"]
[2388,null,null,"OK"]
[2389,null,null,"OK"]
[2390,null,null,"OK"]
[2391,null,null,"OK"]
[2392,null,null,"OK"]
[2393,null,null,"OK"]
[2394,null,null,"OK"]
[2395,null,null,"OK"]
[2396,null,null,"OK"]
[2397,null,null,"OK"]
[2398,null,null,"OK"]
[2399,null,null,"OK"]
[2400,null,null,"OK"]
[2401,null,null,"OK"]
[2402,null,null,"OK"]
[2403,null,null,"OK"]
[2404,null,null,"OK"]
[2405,null,null,"OK"]
[2406,null,null,"OK"]
[2407,null,null,"OK"]
[2408,null,null,"OK"]
[2409,null,null,"OK"]
[2410,null,null,"OK"]
[2411,null,null,"OK"]
[2412,null,null,"OK"]
[2413,null,null,"OK"]
[2414,{"$f":"'Assets-Liab 5-6'!F38","v":0},null,"Error?"]
[2415,null,null,"OK"]
[2416,{"$f":"'Assets-Liab 5-6'!G38","v":0},null,"Error?"]
[2417,null,null,"OK"]
[2418,null,null,"OK"]
[2419,null,null,"OK"]
[2420,null,null,"OK"]
[2421,null,null,"OK"]
[2422,null,null,"OK"]
[2423,null,null,"OK"]
[2424,null,null,"OK"]
[2425,null,null,"OK"]
[2426,null,null,"OK"]
[2427,null,null,"OK"]
[2428,null,null,"OK"]
[2429,null,null,"OK"]
[2430,null,null,"OK"]
[2431,null,null,"OK"]
[2432,null,null,"OK"]
[2433,null,null,"OK"]
[2434,null,null,{"$f":"IF(ISBLANK(B2493),\"OK\",IF(A2493-B2493=0,\"OK\",\"Error?\"))","v":"OK"}]
[2435,null,null,"OK"]
[2436,null,null,"OK"]
[2437,null,null,"OK"]
[2438,null,null,"OK"]
[2439,null,null,"OK"]
[2440,null,null,"OK"]
[2441,null,null,"OK"]
[2442,null,null,"OK"]
[2443,{"$f":"'Assets-Liab 5-6'!E38","v":0},null,"Error?"]
[2444,null,null,"OK"]
[2445,null,null,"OK"]
[2446,null,null,"OK"]
[2447,null,null,"OK"]
[2448,null,null,"OK"]
[2449,null,null,"OK"]
[2450,null,null,"OK"]
[2451,null,null,"OK"]
[2452,null,null,"OK"]
[2453,null,null,"OK"]
[2454,null,null,"OK"]
[2455,null,null,"OK"]
[2456,null,null,"OK"]
[2457,null,null,"OK"]
[2458,null,null,"OK"]
[2459,null,null,"OK"]
[2460,null,null,"OK"]
[2461,null,null,"OK"]
[2462,null,null,"OK"]
[2463,null,null,"OK"]
[2464,null,null,"OK"]
[2465,null,null,"OK"]
[2466,null,null,"OK"]
[2467,null,null,"OK"]
[2468,null,null,"OK"]
[2469,null,null,"OK"]
[2470,null,null,"OK"]
[2471,null,null,"OK"]
[2472,null,null,"OK"]
[2473,null,null,"OK"]
[2474,{"$f":"'Assets-Liab 5-6'!H38","v":0},null,"Error?"]
[2475,null,null,"OK"]
[2476,null,null,"OK"]
[2477,null,null,"OK"]
[2478,null,null,"OK"]
[2479,null,null,"OK"]
[2480,null,null,"OK"]
[2481,null,null,"OK"]
[2482,null,null,"OK"]
[2483,null,null,"OK"]
[2484,null,null,"OK"]
[2485,null,null,"OK"]
[2486,null,null,"OK"]
[2487,null,null,"OK"]
[2488,null,null,"OK"]
[2489,null,null,"OK"]
[2490,{"$f":"'Acct Summary 7-9'!C4","v":0},null,"Error?"]
[2491,null,null,"OK"]
[2492,{"$f":"'Acct Summary 7-9'!C6","v":0},"T","Error?"]
[2493,{"$f":"'Acct Summary 7-9'!C7","v":0},null,"Error?"]
[2494,{"$f":"'Acct Summary 7-9'!C8","v":0},"T","Error?"]
[2495,{"$f":"'Acct Summary 7-9'!C12","v":0},"T","Error?"]
[2496,{"$f":"'Acct Summary 7-9'!C13","v":0},"T","Error?"]
[2497,{"$f":"'Acct Summary 7-9'!C14","v":0},"T","Error?"]
[2498,{"$f":"'Acct Summary 7-9'!C15","v":0},"T",{"$f":"IF(ISBLANK(B2557),\"OK\",IF(A2557-B2557=0,\"OK\",\"Error?\"))","v":"Error?"}]
[2499,{"$f":"'Acct Summary 7-9'!C16","v":0},"T","Error?"]
[2500,{"$f":"'Acct Summary 7-9'!C17","v":0},"T","Error?"]
[2501,{"$f":"'Acct Summary 7-9'!C20","v":0},"T","Error?"]
[2502,{"$f":"'Acct Summary 7-9'!C80","v":0},"T","Error?"]
[2503,{"$f":"'Acct Summary 7-9'!D4","v":0},"T","Error?"]
[2504,null,null,"OK"]
[2505,{"$f":"'Acct Summary 7-9'!D6","v":0},"T","Error?"]
[2506,{"$f":"'Acct Summary 7-9'!D7","v":0},null,"Error?"]
[2507,{"$f":"'Acct Summary 7-9'!D8","v":0},"T","Error?"]
[2508,{"$f":"'Acct Summary 7-9'!D13","v":0},"T","Error?"]
[2509,{"$f":"'Acct Summary 7-9'!D14","v":0},"T","Error?"]
[2510,{"$f":"'Acct Summary 7-9'!D15","v":0},"T","Error?"]
[2511,{"$f":"'Acct Summary 7-9'!D16","v":0},"T","Error?"]
[2512,{"$f":"'Acct Summary 7-9'!D17","v":0},"T","Error?"]
[2513,{"$f":"'Acct Summary 7-9'!D20","v":0},"T","Error?"]
[2514,{"$f":"'Acct Summary 7-9'!D80","v":0},"T","Error?"]
[2515,null,"T","OK"]
[2516,null,null,"OK"]
[2517,null,null,"OK"]
[2518,null,null,"OK"]
[2519,null,null,"OK"]
[2520,null,null,"OK"]
[2521,null,null,"OK"]
[2522,null,null,"OK"]
[2523,null,null,"OK"]
[2524,null,null,"OK"]
[2525,null,null,"OK"]
[2526,null,null,"OK"]
[2527,null,null,"OK"]
[2528,null,null,"OK"]
[2529,null,null,"OK"]
[2530,{"$f":"'Acct Summary 7-9'!F4","v":0},null,"Error?"]
[2531,null,null,"OK"]
[2532,{"$f":"'Acct Summary 7-9'!F6","v":0},"T","Error?"]
[2533,{"$f":"'Acct Summary 7-9'!F7","v":0},null,"Error?"]
[2534,{"$f":"'Acct Summary 7-9'!F8","v":0},"T","Error?"]
[2535,{"$f":"'Acct Summary 7-9'!F13","v":0},"T","Error?"]
[2536,{"$f":"'Acct Summary 7-9'!F14","v":0},"T","Error?"]
[2537,{"$f":"'Acct Summary 7-9'!F15","v":0},"T","Error?"]
[2538,{"$f":"'Acct Summary 7-9'!F16","v":0},"T","Error?"]
[2539,{"$f":"'Acct Summary 7-9'!F17","v":0},"T","Error?"]
[2540,{"$f":"'Acct Summary 7-9'!F20","v":0},"T","Error?"]
[2541,{"$f":"'Acct Summary 7-9'!F80","v":0},"T","Error?"]
[2542,{"$f":"'Acct Summary 7-9'!G4","v":0},"T","Error?"]
[2543,{"$f":"'Acct Summary 7-9'!G6","v":0},null,"Error?"]
[2544,{"$f":"'Acct Summary 7-9'!G7","v":0},"T","Error?"]
[2545,{"$f":"'Acct Summary 7-9'!G8","v":0},"T","Error?"]
[2546,{"$f":"'Acct Summary 7-9'!G12","v":0},"T","Error?"]
[2547,{"$f":"'Acct Summary 7-9'!G13","v":0},"T","Error?"]
[2548,{"$f":"'Acct Summary 7-9'!G14","v":0},"T","Error?"]
[2549,null,"T","OK"]
[2550,{"$f":"'Acct Summary 7-9'!G16","v":0},"T","Error?"]
[2551,{"$f":"'Acct Summary 7-9'!G17","v":0},null,"Error?"]
[2552,{"$f":"'Acct Summary 7-9'!G20","v":0},"T","Error?"]
[2553,{"$f":"'Acct Summary 7-9'!G80","v":0},"T","Error?"]
[2554,null,"T","OK"]
[2555,null,null,"OK"]
[2556,null,null,"OK"]
[2557,null,null,"OK"]
[2558,null,null,"OK"]
[2559,null,null,"OK"]
[2560,null,null,"OK"]
[2561,null,null,"OK"]
[2562,null,null,{"$f":"IF(ISBLANK(B2621),\"OK\",IF(A2621-B2621=0,\"OK\",\"Error?\"))","v":"OK"}]
[2563,null,null,"OK"]
[2564,null,null,"OK"]
[2565,null,null,"OK"]
[2566,null,null,"OK"]
[2567,null,null,"OK"]
[2568,null,null,"OK"]
[2569,{"$f":"'Acct Summary 7-9'!E4","v":0},null,"Error?"]
[2570,{"$f":"'Acct Summary 7-9'!E6","v":0},null,"Error?"]
[2571,{"$f":"'Acct Summary 7-9'!E8","v":0},"T","Error?"]
[2572,{"$f":"'Acct Summary 7-9'!E15","v":0},"T","Error?"]
[2573,{"$f":"'Acct Summary 7-9'!E16","v":0},"T","Error?"]
[2574,{"$f":"'Acct Summary 7-9'!E17","v":0},"T","Error?"]
[2575,{"$f":"'Acct Summary 7-9'!E20","v":0},"T","Error?"]
[2576,{"$f":"'Acct Summary 7-9'!E80","v":0},"T","Error?"]
[2577,null,"T","OK"]
[2578,null,null,"OK"]
[2579,null,"T","OK"]
[2580,null,"T","OK"]
[2581,null,"T","OK"]
[2582,null,"T","OK"]
[2583,null,"T","OK"]
[2584,null,"T","OK"]
[2585,null,null,"OK"]
[2586,null,null,"OK"]
[2587,null,null,"OK"]
[2588,null,null,"OK"]
[2589,null,null,"OK"]
[2590,null,null,"OK"]
[2591,null,null,"OK"]
[2592,null,null,"OK"]
[2593,null,null,"OK"]
[2594,{"$f":"'Acct Summary 7-9'!H4","v":0},null,"Error?"]
[2595,{"$f":"'Acct Summary 7-9'!H6","v":0},null,"Error?"]
[2596,{"$f":"'Acct Summary 7-9'!H7","v":0},"T","Error?"]
[2597,{"$f":"'Acct Summary 7-9'!H8","v":0},"T","Error?"]
[2598,{"$f":"'Acct Summary 7-9'!H13","v":0},"T","Error?"]
[2599,{"$f":"'Acct Summary 7-9'!H15","v":0},"T","Error?"]
[2600,{"$f":"'Acct Summary 7-9'!H17","v":0},"T","Error?"]
[2601,{"$f":"'Acct Summary 7-9'!H20","v":0},"T","Error?"]
[2602,{"$f":"'Acct Summary 7-9'!H80","v":0},"T","Error?"]
[2603,null,"T","OK"]
[2604,null,null,"OK"]
[2605,null,null,"OK"]
[2606,null,null,"OK"]
[2607,null,null,"OK"]
[2608,null,null,"OK"]
[2609,null,null,"OK"]
[2610,null,null,"OK"]
[2611,null,null,"OK"]
[2612,null,null,"OK"]
[2613,null,null,"OK"]
[2614,null,null,"OK"]
[2615,null,null,"OK"]
[2616,null,null,"OK"]
[2617,null,null,"OK"]
[2618,null,null,"OK"]
[2619,null,null,"OK"]
[2620,null,null,"OK"]
[2621,null,null,"OK"]
[2622,null,null,"OK"]
[2623,null,null,"OK"]
[2624,null,null,"OK"]
[2625,null,null,"OK"]
[2626,null,null,{"$f":"IF(ISBLANK(B2685),\"OK\",IF(A2685-B2685=0,\"OK\",\"Error?\"))","v":"OK"}]
[2627,null,null,"OK"]
[2628,null,null,"OK"]
[2629,null,null,"OK"]
[2630,null,null,"OK"]
[2631,null,null,"OK"]
[2632,null,null,"OK"]
[2633,null,null,"OK"]
[2634,null,null,"OK"]
[2635,null,null,"OK"]
[2636,null,null,"OK"]
[2637,null,null,"OK"]
[2638,null,null,"OK"]
[2639,null,null,"OK"]
[2640,null,null,"OK"]
[2641,null,null,"OK"]
[2642,null,null,"OK"]
[2643,null,null,"OK"]
[2644,null,null,"OK"]
[2645,null,null,"OK"]
[2646,null,null,"OK"]
[2647,null,null,"OK"]
[2648,null,null,"OK"]
[2649,null,null,"OK"]
[2650,null,null,"OK"]
[2651,null,null,"OK"]
[2652,null,null,"OK"]
[2653,null,null,"OK"]
[2654,null,null,"OK"]
[2655,null,null,"OK"]
[2656,null,null,"OK"]
[2657,{"$f":"'Expenditures 16-24'!C53","v":0},null,"Error?"]
[2658,{"$f":"'Expenditures 16-24'!D53","v":0},null,"Error?"]
[2659,{"$f":"'Expenditures 16-24'!E53","v":0},null,"Error?"]
[2660,{"$f":"'Expenditures 16-24'!F53","v":0},null,"Error?"]
[2661,{"$f":"'Expenditures 16-24'!G53","v":0},null,"Error?"]
[2662,{"$f":"'Expenditures 16-24'!H53","v":0},null,"Error?"]
[2663,{"$f":"'Expenditures 16-24'!K53","v":0},null,"Error?"]
[2664,{"$f":"'Expenditures 16-24'!D251","v":0},null,"Error?","closed FY21 "]
[2665,{"$f":"'Expenditures 16-24'!K251","v":0},"T","Error?","closed FY21 "]
[2666,{"$f":"'Short-Term Long-Term Debt 26'!C4","v":0},null,"Error?"]
[2667,{"$f":"'Short-Term Long-Term Debt 26'!C25","v":0},"T","Error?"]
[2668,{"$f":"'Short-Term Long-Term Debt 26'!D4","v":0},null,"Error?"]
[2669,{"$f":"'Short-Term Long-Term Debt 26'!D25","v":0},null,"Error?"]
[2670,{"$f":"'Short-Term Long-Term Debt 26'!E4","v":0},null,"Error?"]
[2671,{"$f":"'Short-Term Long-Term Debt 26'!E25","v":0},null,"Error?"]
[2672,{"$f":"'Short-Term Long-Term Debt 26'!F4","v":0},null,"Error?"]
[2673,{"$f":"'Short-Term Long-Term Debt 26'!F25","v":0},null,"Error?"]
[2674,null,"T","OK"]
[2675,null,"T","OK"]
[2676,null,null,"OK"]
[2677,null,null,"OK"]
[2678,null,null,"OK"]
[2679,null,null,"OK"]
[2680,null,null,"OK"]
[2681,null,null,"OK"]
[2682,null,null,"OK"]
[2683,null,null,"OK","closed 2010"]
[2684,null,null,"OK"]
[2685,null,null,"OK"]
[2686,null,null,"OK"]
[2687,null,null,"OK"]
[2688,null,null,"OK"]
[2689,null,null,"OK"]
[2690,null,null,{"$f":"IF(ISBLANK(B2749),\"OK\",IF(A2749-B2749=0,\"OK\",\"Error?\"))","v":"OK"}]
[2691,null,null,"OK"]
[2692,null,null,"OK"]
[2693,null,null,"OK"]
[2694,null,null,"OK"]
[2695,null,null,"OK"]
[2696,{"$f":"'Acct Summary 7-9'!C28","v":0},null,"Error?"]
[2697,{"$f":"'Acct Summary 7-9'!D28","v":0},null,"Error?"]
[2698,null,null,"OK"]
[2699,{"$f":"'Acct Summary 7-9'!E28","v":0},null,"Error?"]
[2700,null,null,"OK"]
[2701,{"$f":"'Acct Summary 7-9'!F26","v":0},null,"Error?"]
[2702,{"$f":"'Acct Summary 7-9'!F28","v":0},null,"Error?"]
[2703,null,null,"OK"]
[2704,null,null,"OK"]
[2705,{"$f":"'Acct Summary 7-9'!G28","v":0},null,"Error?"]
[2706,null,null,"OK"]
[2707,null,null,"OK"]
[2708,{"$f":"'Acct Summary 7-9'!H28","v":0},null,"Error?"]
[2709,null,null,"OK"]
[2710,null,null,"OK"]
[2711,{"$f":"'Acct Summary 7-9'!I28","v":0},null,"Error?"]
[2712,null,null,"OK"]
[2713,null,null,"OK"]
[2714,null,null,"OK"]
[2715,null,null,"OK"]
[2716,null,null,"OK"]
[2717,null,null,"OK"]
[2718,null,null,"OK"]
[2719,null,null,"OK"]
[2720,null,null,"OK"]
[2721,null,null,"OK"]
[2722,null,null,"OK"]
[2723,null,null,"OK"]
[2724,null,null,"OK"]
[2725,null,null,"OK"]
[2726,null,null,"OK"]
[2727,null,null,"OK"]
[2728,{"$f":"'Expenditures 16-24'!E86","v":0},null,"Error?"]
[2729,{"$f":"'Expenditures 16-24'!E104","v":0},null,"Error?"]
[2730,{"$f":"'Expenditures 16-24'!H109","v":0},"T","Error?"]
[2731,{"$f":"'Expenditures 16-24'!H110","v":0},"T","Error?"]
[2732,null,null,"OK"]
[2733,{"$f":"'Acct Summary 7-9'!C50","v":0},null,"Error?"]
[2734,{"$f":"'Expenditures 16-24'!K109","v":0},null,"Error?"]
[2735,{"$f":"'Expenditures 16-24'!K110","v":0},null,"Error?"]
[2736,{"$f":"'Expenditures 16-24'!C134","v":0},"T","Error?"]
[2737,{"$f":"'Expenditures 16-24'!D134","v":0},"T","Error?"]
[2738,{"$f":"'Expenditures 16-24'!E134","v":0},null,"Error?"]
[2739,{"$f":"'Expenditures 16-24'!F134","v":0},null,"Error?"]
[2740,{"$f":"'Expenditures 16-24'!G134","v":0},null,"Error?"]
[2741,{"$f":"'Expenditures 16-24'!H134","v":0},null,"Error?"]
[2742,null,null,"OK"]
[2743,null,null,"OK"]
[2744,{"$f":"'Expenditures 16-24'!K134","v":0},null,"Error?"]
[2745,{"$f":"'Acct Summary 7-9'!D50","v":0},"T","Error?"]
[2746,{"$f":"'Expenditures 16-24'!H148","v":0},"T","Error?"]
[2747,{"$f":"'Expenditures 16-24'!H149","v":0},null,"Error?"]
[2748,null,null,"OK"]
[2749,{"$f":"'Expenditures 16-24'!K148","v":0},null,"Error?"]
[2750,{"$f":"'Expenditures 16-24'!K149","v":0},"T","Error?"]
[2751,{"$f":"'Expenditures 16-24'!H169","v":0},"T","Error?"]
[2752,{"$f":"'Expenditures 16-24'!H170","v":0},"T","Error?"]
[2753,null,null,"OK"]
[2754,null,null,{"$f":"IF(ISBLANK(B2813),\"OK\",IF(A2813-B2813=0,\"OK\",\"Error?\"))","v":"OK"}]
[2755,null,null,"OK"]
[2756,{"$f":"'Acct Summary 7-9'!E50","v":0},null,"Error?"]
[2757,{"$f":"'Expenditures 16-24'!K169","v":0},"T","Error?"]
[2758,{"$f":"'Expenditures 16-24'!K170","v":0},null,"Error?"]
[2759,{"$f":"'Expenditures 16-24'!C189","v":0},"T","Error?"]
[2760,{"$f":"'Expenditures 16-24'!D189","v":0},"T","Error?"]
[2761,{"$f":"'Expenditures 16-24'!E189","v":0},null,"Error?"]
[2762,{"$f":"'Expenditures 16-24'!E198","v":0},null,"Error?"]
[2763,{"$f":"'Expenditures 16-24'!E199","v":0},null,"Error?"]
[2764,{"$f":"'Expenditures 16-24'!F189","v":0},"T","Error?"]
[2765,{"$f":"'Expenditures 16-24'!G189","v":0},null,"Error?"]
[2766,{"$f":"'Expenditures 16-24'!H189","v":0},null,"Error?"]
[2767,{"$f":"'Expenditures 16-24'!H198","v":0},null,"Error?"]
[2768,{"$f":"'Expenditures 16-24'!H199","v":0},null,"Error?"]
[2769,{"$f":"'Expenditures 16-24'!H200","v":0},"T","Error?"]
[2770,{"$f":"'Expenditures 16-24'!H205","v":0},null,"Error?"]
[2771,{"$f":"'Expenditures 16-24'!H206","v":0},"T","Error?"]
[2772,null,null,"OK"]
[2773,null,null,"OK"]
[2774,null,null,"OK","Corrected 8/18/04."]
[2775,{"$f":"'Expenditures 16-24'!K189","v":0},null,"Error?"]
[2776,{"$f":"'Expenditures 16-24'!K198","v":0},null,"Error?"]
[2777,null,"T","OK"]
[2778,{"$f":"'Expenditures 16-24'!K199","v":0},null,"Error?"]
[2779,{"$f":"'Acct Summary 7-9'!F50","v":0},null,"Error?"]
[2780,{"$f":"'Expenditures 16-24'!K205","v":0},"T","Error?"]
[2781,{"$f":"'Expenditures 16-24'!K206","v":0},null,"Error?"]
[2782,{"$f":"'Expenditures 16-24'!H287","v":0},"T","Error?"]
[2783,{"$f":"'Expenditures 16-24'!H288","v":0},"T","Error?"]
[2784,{"$f":"'Expenditures 16-24'!K287","v":0},null,"Error?"]
[2785,{"$f":"'Expenditures 16-24'!K288","v":0},null,"Error?"]
[2786,null,"T","OK"]
[2787,{"$f":"'Acct Summary 7-9'!H50","v":0},"T","Error?"]
[2788,null,null,"OK"]
[2789,null,null,"OK"]
[2790,null,null,"OK"]
[2791,null,null,"OK"]
[2792,null,null,"OK"]
[2793,{"$f":"'ICR Computation 41'!E7","v":0},null,"Error?"]
[2794,{"$f":"'ICR Computation 41'!E8","v":0},null,"Error?"]
[2795,{"$f":"'ICR Computation 41'!E12","v":0},null,"Error?"]
[2796,null,null,"OK"]
[2797,{"$f":"'ICR Computation 41'!E13","v":0},null,"Error?"]
[2798,null,null,"OK"]
[2799,{"$f":"'ICR Computation 41'!E14","v":0},null,"Error?"]
[2800,null,null,"OK"]
[2801,{"$f":"'ICR Computation 41'!E9","v":0},null,"Error?"]
[2802,null,null,"OK"]
[2803,{"$f":"'Assets-Liab 5-6'!M20","v":0},null,"Error?"]
[2804,null,null,"OK"]
[2805,null,null,"OK"]
[2806,null,null,"OK"]
[2807,null,null,"OK"]
[2808,null,null,"OK"]
[2809,null,null,"OK"]
[2810,null,null,"OK"]
[2811,null,null,"OK"]
[2812,null,null,"OK"]
[2813,null,null,"OK"]
[2814,null,null,"OK"]
[2815,null,null,"OK"]
[2816,null,null,"OK"]
[2817,null,null,"OK"]
[2818,null,null,{"$f":"IF(ISBLANK(B2877),\"OK\",IF(A2877-B2877=0,\"OK\",\"Error?\"))","v":"OK"}]
[2819,{"$f":"'Assets-Liab 5-6'!I6","v":0},null,"Error?"]
[2820,null,null,"OK"]
[2821,null,null,"OK"]
[2822,null,null,"OK"]
[2823,null,null,"OK"]
[2824,{"$f":"'Assets-Liab 5-6'!I5","v":0},null,"Error?"]
[2825,null,null,"OK"]
[2826,{"$f":"'Assets-Liab 5-6'!I12","v":0},null,"Error?"]
[2827,{"$f":"'Assets-Liab 5-6'!I13","v":0},null,"Error?"]
[2828,null,null,"OK"]
[2829,null,"T","OK"]
[2830,{"$f":"'Assets-Liab 5-6'!L10","v":0},null,"Error?"]
[2831,{"$f":"'Assets-Liab 5-6'!L5","v":0},null,"Error?"]
[2832,null,null,"OK"]
[2833,{"$f":"'Assets-Liab 5-6'!L12","v":0},null,"Error?"]
[2834,{"$f":"'Assets-Liab 5-6'!L13","v":0},null,"Error?"]
[2835,null,null,"OK"]
[2836,null,"T","OK"]
[2837,null,null,"OK"]
[2838,null,null,"OK"]
[2839,null,null,"OK"]
[2840,null,null,"OK"]
[2841,null,null,"OK"]
[2842,null,null,"OK"]
[2843,null,null,"OK"]
[2844,null,null,"OK"]
[2845,null,null,"OK"]
[2846,null,null,"OK"]
[2847,{"$f":"'Assets-Liab 5-6'!I32","v":0},null,"Error?"]
[2848,null,null,"OK"]
[2849,{"$f":"'Assets-Liab 5-6'!I34","v":0},null,"Error?"]
[2850,{"$f":"'Assets-Liab 5-6'!I38","v":0},null,"Error?"]
[2851,{"$f":"'Assets-Liab 5-6'!I39","v":0},"T","Error?"]
[2852,{"$f":"'Assets-Liab 5-6'!I41","v":0},null,"Error?"]
[2853,{"$f":"'Assets-Liab 5-6'!L33","v":0},null,"Error?"]
[2854,null,"T","OK"]
[2855,{"$f":"'Assets-Liab 5-6'!L34","v":0},null,"Error?"]
[2856,{"$f":"'Assets-Liab 5-6'!L41","v":0},null,"Error?"]
[2857,null,"T","OK"]
[2858,null,"T","OK"]
[2859,null,null,"OK"]
[2860,null,null,"OK"]
[2861,null,null,"OK"]
[2862,null,null,"OK"]
[2863,null,null,"OK"]
[2864,null,null,"OK"]
[2865,null,null,"OK"]
[2866,null,null,"OK"]
[2867,null,null,"OK"]
[2868,null,null,"OK"]
[2869,null,null,"OK"]
[2870,null,null,"OK"]
[2871,null,null,"OK"]
[2872,null,null,"OK"]
[2873,null,null,"OK"]
[2874,null,null,"OK"]
[2875,null,null,"OK"]
[2876,null,null,"OK"]
[2877,null,null,"OK"]
[2878,null,null,"OK"]
[2879,null,null,"OK"]
[2880,null,null,"OK"]
[2881,null,null,"OK"]
[2882,null,null,{"$f":"IF(ISBLANK(B2941),\"OK\",IF(A2941-B2941=0,\"OK\",\"Error?\"))","v":"OK"}]
[2883,null,null,"OK"]
[2884,null,null,"OK"]
[2885,null,null,"OK"]
[2886,{"$f":"'Expenditures 16-24'!E103","v":0},null,"Error?"]
[2887,null,null,"OK"]
[2888,{"$f":"'Expenditures 16-24'!E80","v":0},null,"Error?"]
[2889,{"$f":"'Expenditures 16-24'!E81","v":0},null,"Error?"]
[2890,{"$f":"'Expenditures 16-24'!E82","v":0},null,"Error?"]
[2891,{"$f":"'Expenditures 16-24'!E83","v":0},null,"Error?"]
[2892,{"$f":"'Expenditures 16-24'!E84","v":0},null,"Error?"]
[2893,{"$f":"'Expenditures 16-24'!E85","v":0},null,"Error?"]
[2894,{"$f":"'Expenditures 16-24'!H80","v":0},null,"Error?"]
[2895,{"$f":"'Expenditures 16-24'!H81","v":0},null,"Error?"]
[2896,{"$f":"'Expenditures 16-24'!H82","v":0},null,"Error?"]
[2897,{"$f":"'Expenditures 16-24'!H83","v":0},null,"Error?"]
[2898,{"$f":"'Expenditures 16-24'!H84","v":0},null,"Error?"]
[2899,{"$f":"'Expenditures 16-24'!H85","v":0},null,"Error?"]
[2900,null,null,"OK"]
[2901,null,null,"OK"]
[2902,null,null,"OK"]
[2903,null,null,"OK"]
[2904,null,null,"OK"]
[2905,null,null,"OK"]
[2906,null,null,"OK"]
[2907,null,null,"OK"]
[2908,null,null,"OK"]
[2909,null,null,"OK"]
[2910,null,null,"OK"]
[2911,null,null,"OK"]
[2912,{"$f":"'Expenditures 16-24'!K80","v":0},null,"Error?"]
[2913,{"$f":"'Expenditures 16-24'!K81","v":0},null,"Error?"]
[2914,{"$f":"'Expenditures 16-24'!K82","v":0},"T","Error?"]
[2915,{"$f":"'Expenditures 16-24'!K83","v":0},"T","Error?"]
[2916,{"$f":"'Expenditures 16-24'!K84","v":0},"T","Error?"]
[2917,{"$f":"'Expenditures 16-24'!K85","v":0},"T","Error?"]
[2918,{"$f":"'Expenditures 16-24'!H138","v":0},"T","Error?"]
[2919,{"$f":"'Expenditures 16-24'!H139","v":0},"T","Error?"]
[2920,{"$f":"'Expenditures 16-24'!H140","v":0},null,"Error?"]
[2921,null,null,"OK"]
[2922,null,null,"OK"]
[2923,null,null,"OK"]
[2924,null,null,"OK"]
[2925,{"$f":"'Expenditures 16-24'!K138","v":0},null,"Error?"]
[2926,{"$f":"'Expenditures 16-24'!K139","v":0},"T","Error?"]
[2927,{"$f":"'Expenditures 16-24'!K140","v":0},"T","Error?"]
[2928,{"$f":"'Expenditures 16-24'!E192","v":0},"T","Error?"]
[2929,{"$f":"'Expenditures 16-24'!E193","v":0},"T","Error?"]
[2930,{"$f":"'Expenditures 16-24'!E194","v":0},null,"Error?"]
[2931,{"$f":"'Expenditures 16-24'!E195","v":0},null,"Error?"]
[2932,{"$f":"'Expenditures 16-24'!E196","v":0},null,"Error?"]
[2933,{"$f":"'Expenditures 16-24'!E197","v":0},null,"Error?"]
[2934,{"$f":"'Expenditures 16-24'!H192","v":0},null,"Error?"]
[2935,{"$f":"'Expenditures 16-24'!H193","v":0},null,"Error?"]
[2936,{"$f":"'Expenditures 16-24'!H194","v":0},null,"Error?"]
[2937,{"$f":"'Expenditures 16-24'!H195","v":0},null,"Error?"]
[2938,{"$f":"'Expenditures 16-24'!H196","v":0},null,"Error?"]
[2939,{"$f":"'Expenditures 16-24'!H197","v":0},null,"Error?"]
[2940,null,null,"OK"]
[2941,null,null,"OK"]
[2942,null,null,"OK"]
[2943,null,null,"OK"]
[2944,null,null,"OK"]
[2945,null,null,"OK"]
[2946,{"$f":"'Expenditures 16-24'!K192","v":0},null,{"$f":"IF(ISBLANK(B3005),\"OK\",IF(A3005-B3005=0,\"OK\",\"Error?\"))","v":"Error?"}]
[2947,{"$f":"'Expenditures 16-24'!K193","v":0},null,"Error?"]
[2948,{"$f":"'Expenditures 16-24'!K194","v":0},"T","Error?"]
[2949,{"$f":"'Expenditures 16-24'!K195","v":0},"T","Error?"]
[2950,{"$f":"'Expenditures 16-24'!K196","v":0},"T","Error?"]
[2951,{"$f":"'Expenditures 16-24'!K197","v":0},"T","Error?"]
[2952,null,"T","OK","closed 2010"]
[2953,null,"T","OK"]
[2954,null,null,"OK"]
[2955,null,null,"OK"]
[2956,null,null,"OK"]
[2957,null,null,"OK"]
[2958,null,null,"OK"]
[2959,null,null,"OK"]
[2960,null,null,"OK"]
[2961,null,null,"OK"]
[2962,null,null,"OK"]
[2963,null,null,"OK"]
[2964,null,null,"OK"]
[2965,null,null,"OK"]
[2966,null,null,"OK"]
[2967,null,null,"OK"]
[2968,null,null,"OK"]
[2969,null,null,"OK"]
[2970,null,null,"OK"]
[2971,null,null,"OK"]
[2972,null,null,"OK"]
[2973,null,null,"OK"]
[2974,null,null,"OK"]
[2975,null,null,"OK"]
[2976,null,null,"OK"]
[2977,null,null,"OK"]
[2978,null,null,"OK"]
[2979,null,null,"OK"]
[2980,null,null,"OK"]
[2981,null,null,"OK"]
[2982,null,null,"OK"]
[2983,null,null,"OK"]
[2984,null,null,"OK"]
[2985,null,null,"OK"]
[2986,null,null,"OK"]
[2987,null,null,"OK"]
[2988,null,null,"OK"]
[2989,null,null,"OK"]
[2990,null,null,"OK"]
[2991,null,null,"OK"]
[2992,null,null,"OK"]
[2993,null,null,"OK"]
[2994,{"$f":"'Expenditures 16-24'!C10","v":0},null,"Error?"]
[2995,{"$f":"'Expenditures 16-24'!D10","v":0},null,"Error?"]
[2996,{"$f":"'Expenditures 16-24'!E10","v":0},null,"Error?"]
[2997,{"$f":"'Expenditures 16-24'!F10","v":0},null,"Error?"]
[2998,{"$f":"'Expenditures 16-24'!G10","v":0},null,"Error?"]
[2999,{"$f":"'Expenditures 16-24'!H10","v":0},null,"Error?"]
[3000,null,null,"OK"]
[3001,{"$f":"'Expenditures 16-24'!K10","v":0},null,"Error?"]
[3002,null,null,"OK"]
[3003,{"$f":"'Expenditures 16-24'!D223","v":0},"T","Error?"]
[3004,{"$f":"'Expenditures 16-24'!K223","v":0},null,"Error?"]
[3005,null,null,"OK"]
[3006,null,"T","OK"]
[3007,null,null,"OK"]
[3008,null,null,"OK"]
[3009,null,null,"OK"]
[3010,{"$f":"'Assets-Liab 5-6'!L38","v":0},null,{"$f":"IF(ISBLANK(B3069),\"OK\",IF(A3069-B3069=0,\"OK\",\"Error?\"))","v":"Error?"}]
[3011,{"$f":"'Assets-Liab 5-6'!L39","v":0},null,"Error?"]
[3012,null,null,"OK"]
[3013,null,null,"OK"]
[3014,null,null,"OK"]
[3015,null,null,"OK"]
[3016,null,null,"OK"]
[3017,{"$f":"'Acct Summary 7-9'!D33","v":0},null,"Error?"]
[3018,{"$f":"'Acct Summary 7-9'!D34","v":0},null,"Error?"]
[3019,{"$f":"'Acct Summary 7-9'!D35","v":0},null,"Error?"]
[3020,null,null,"OK"]
[3021,{"$f":"'Acct Summary 7-9'!E33","v":0},null,"Error?"]
[3022,{"$f":"'Acct Summary 7-9'!F33","v":0},null,"Error?"]
[3023,{"$f":"'Acct Summary 7-9'!F34","v":0},null,"Error?"]
[3024,{"$f":"'Acct Summary 7-9'!F35","v":0},null,"Error?"]
[3025,null,null,"OK"]
[3026,null,null,"OK"]
[3027,null,null,"OK"]
[3028,null,null,"OK"]
[3029,null,null,"OK"]
[3030,null,null,"OK"]
[3031,null,null,"OK"]
[3032,null,null,"OK"]
[3033,null,null,"OK"]
[3034,null,null,"OK"]
[3035,null,null,"OK"]
[3036,null,null,"OK"]
[3037,null,null,"OK"]
[3038,null,null,"OK"]
[3039,null,null,"OK"]
[3040,null,null,"OK"]
[3041,null,null,"OK"]
[3042,null,null,"OK"]
[3043,null,null,"OK"]
[3044,null,null,"OK"]
[3045,null,null,"OK"]
[3046,null,null,"OK"]
[3047,null,null,"OK"]
[3048,null,null,"OK"]
[3049,null,null,"OK"]
[3050,null,null,"OK"]
[3051,null,null,"OK"]
[3052,null,null,"OK"]
[3053,null,null,"OK"]
[3054,null,null,"OK"]
[3055,null,null,"OK"]
[3056,null,null,"OK"]
[3057,null,null,"OK"]
[3058,null,null,"OK"]
[3059,null,null,"OK"]
[3060,null,null,"OK"]
[3061,null,null,"OK"]
[3062,null,null,"OK"]
[3063,null,null,"OK"]
[3064,null,null,"OK"]
[3065,null,null,"OK"]
[3066,null,null,"OK"]
[3067,null,null,"OK"]
[3068,null,null,"OK"]
[3069,null,null,"OK"]
[3070,null,null,"OK"]
[3071,null,null,"OK"]
[3072,null,null,"OK"]
[3073,null,null,"OK"]
[3074,null,null,{"$f":"IF(ISBLANK(B3133),\"OK\",IF(A3133-B3133=0,\"OK\",\"Error?\"))","v":"OK"}]
[3075,null,null,"OK"]
[3076,null,null,"OK"]
[3077,null,null,"OK"]
[3078,null,null,"OK"]
[3079,null,null,"OK"]
[3080,null,null,"OK"]
[3081,null,null,"OK"]
[3082,null,null,"OK"]
[3083,null,null,"OK"]
[3084,null,null,"OK"]
[3085,null,null,"OK"]
[3086,null,null,"OK"]
[3087,null,null,"OK"]
[3088,null,null,"OK"]
[3089,null,null,"OK"]
[3090,null,null,"OK"]
[3091,null,null,"OK"]
[3092,null,null,"OK"]
[3093,null,null,"OK"]
[3094,null,null,"OK"]
[3095,null,null,"OK"]
[3096,null,null,"OK"]
[3097,null,null,"OK"]
[3098,null,null,"OK"]
[3099,null,null,"OK"]
[3100,{"$f":"'Acct Summary 7-9'!D29","v":0},null,"Error?"]
[3101,null,null,"OK"]
[3102,null,null,"OK"]
[3103,null,null,"OK"]
[3104,null,null,"OK"]
[3105,null,null,"OK"]
[3106,null,null,"OK"]
[3107,null,null,"OK"]
[3108,null,null,"OK"]
[3109,{"$f":"'Acct Summary 7-9'!H51","v":0},null,"Error?"]
[3110,null,null,"OK"]
[3111,null,"T","OK"]
[3112,null,null,"OK"]
[3113,null,null,"OK"]
[3114,null,null,"OK"]
[3115,null,null,"OK"]
[3116,null,null,"OK"]
[3117,null,null,"OK"]
[3118,null,null,"OK"]
[3119,null,null,"OK"]
[3120,null,null,"OK"]
[3121,null,null,"OK"]
[3122,null,null,"OK"]
[3123,null,null,"OK"]
[3124,null,null,"OK"]
[3125,null,null,"OK"]
[3126,null,null,"OK"]
[3127,null,null,"OK"]
[3128,null,null,"OK"]
[3129,null,null,"OK"]
[3130,null,null,"OK"]
[3131,null,null,"OK"]
[3132,null,null,"OK"]
[3133,null,null,"OK"]
[3134,null,null,"OK"]
[3135,null,null,"OK"]
[3136,null,null,"OK"]
[3137,null,null,"OK"]
[3138,null,null,{"$f":"IF(ISBLANK(B3197),\"OK\",IF(A3197-B3197=0,\"OK\",\"Error?\"))","v":"OK"}]
[3139,null,null,"OK"]
[3140,null,null,"OK"]
[3141,null,null,"OK"]
[3142,null,null,"OK"]
[3143,null,null,"OK"]
[3144,null,null,"OK"]
[3145,null,null,"OK"]
[3146,null,null,"OK"]
[3147,null,null,"OK"]
[3148,null,null,"OK"]
[3149,null,null,"OK"]
[3150,null,null,"OK"]
[3151,null,null,"OK"]
[3152,null,null,"OK"]
[3153,null,null,"OK"]
[3154,null,null,"OK"]
[3155,null,null,"OK"]
[3156,null,null,"OK"]
[3157,null,null,"OK"]
[3158,null,null,"OK"]
[3159,null,null,"OK"]
[3160,null,null,"OK"]
[3161,null,null,"OK"]
[3162,null,null,"OK"]
[3163,null,null,"OK"]
[3164,{"$f":"'Acct Summary 7-9'!I4","v":0},null,"Error?"]
[3165,{"$f":"'Acct Summary 7-9'!I8","v":0},null,"Error?"]
[3166,{"$f":"'Acct Summary 7-9'!I20","v":0},"T","Error?"]
[3167,{"$f":"'Acct Summary 7-9'!C43","v":0},"T","Error?"]
[3168,{"$f":"'Acct Summary 7-9'!C44","v":0},"T","Error?"]
[3169,{"$f":"'Acct Summary 7-9'!C75","v":0},null,"Error?"]
[3170,{"$f":"'Acct Summary 7-9'!C76","v":0},"T","Error?"]
[3171,{"$f":"'Acct Summary 7-9'!C77","v":0},null,"Error?"]
[3172,{"$f":"'Acct Summary 7-9'!C78","v":0},"T","Error?"]
[3173,{"$f":"'Acct Summary 7-9'!D43","v":0},"T","Error?"]
[3174,{"$f":"'Acct Summary 7-9'!D44","v":0},"T","Error?"]
[3175,{"$f":"'Acct Summary 7-9'!D75","v":0},null,"Error?"]
[3176,{"$f":"'Acct Summary 7-9'!D76","v":0},"T","Error?"]
[3177,{"$f":"'Acct Summary 7-9'!D77","v":0},null,"Error?"]
[3178,{"$f":"'Acct Summary 7-9'!D78","v":0},"T","Error?"]
[3179,null,"T","OK"]
[3180,null,"T","OK"]
[3181,null,null,"OK"]
[3182,null,null,"OK"]
[3183,null,null,"OK"]
[3184,null,null,"OK"]
[3185,null,null,"OK"]
[3186,null,null,"OK"]
[3187,null,null,"OK"]
[3188,null,null,"OK"]
[3189,null,null,"OK"]
[3190,{"$f":"'Acct Summary 7-9'!F43","v":0},null,"Error?"]
[3191,{"$f":"'Acct Summary 7-9'!F44","v":0},null,"Error?"]
[3192,{"$f":"'Acct Summary 7-9'!F75","v":0},null,"Error?"]
[3193,{"$f":"'Acct Summary 7-9'!F76","v":0},"T","Error?"]
[3194,{"$f":"'Acct Summary 7-9'!F77","v":0},null,"Error?"]
[3195,{"$f":"'Acct Summary 7-9'!F78","v":0},"T","Error?"]
[3196,{"$f":"'Acct Summary 7-9'!G43","v":0},"T","Error?"]
[3197,{"$f":"'Acct Summary 7-9'!G44","v":0},"T","Error?"]
[3198,{"$f":"'Acct Summary 7-9'!G50","v":0},null,"Error?"]
[3199,{"$f":"'Acct Summary 7-9'!G76","v":0},"T","Error?"]
[3200,{"$f":"'Acct Summary 7-9'!G77","v":0},null,"Error?"]
[3201,{"$f":"'Acct Summary 7-9'!G78","v":0},"T","Error?"]
[3202,null,"T",{"$f":"IF(ISBLANK(B3261),\"OK\",IF(A3261-B3261=0,\"OK\",\"Error?\"))","v":"OK"}]
[3203,null,"T","OK"]
[3204,null,null,"OK"]
[3205,null,null,"OK"]
[3206,null,null,"OK"]
[3207,null,null,"OK"]
[3208,null,null,"OK"]
[3209,null,null,"OK"]
[3210,null,null,"OK"]
[3211,null,null,"OK"]
[3212,{"$f":"'Acct Summary 7-9'!E43","v":0},null,"Error?"]
[3213,{"$f":"'Acct Summary 7-9'!E44","v":0},null,"Error?"]
[3214,{"$f":"'Acct Summary 7-9'!E75","v":0},null,"Error?"]
[3215,{"$f":"'Acct Summary 7-9'!E76","v":0},"T","Error?"]
[3216,{"$f":"'Acct Summary 7-9'!E77","v":0},null,"Error?"]
[3217,{"$f":"'Acct Summary 7-9'!E78","v":0},"T","Error?"]
[3218,null,"T","OK"]
[3219,null,"T","OK"]
[3220,null,null,"OK"]
[3221,null,"T","OK"]
[3222,null,null,"OK"]
[3223,null,"T","OK"]
[3224,null,"T","OK"]
[3225,null,"T","OK"]
[3226,null,null,"OK"]
[3227,null,null,"OK"]
[3228,null,null,"OK"]
[3229,null,null,"OK"]
[3230,null,null,"OK"]
[3231,null,null,"OK"]
[3232,null,null,"OK"]
[3233,null,null,"OK"]
[3234,{"$f":"'Acct Summary 7-9'!H43","v":0},null,"Error?"]
[3235,{"$f":"'Acct Summary 7-9'!H44","v":0},null,"Error?"]
[3236,{"$f":"'Acct Summary 7-9'!H75","v":0},null,"Error?"]
[3237,{"$f":"'Acct Summary 7-9'!H76","v":0},"T","Error?"]
[3238,{"$f":"'Acct Summary 7-9'!H77","v":0},null,"Error?"]
[3239,{"$f":"'Acct Summary 7-9'!H78","v":0},"T","Error?"]
[3240,null,"T","OK"]
[3241,null,"T","OK"]
[3242,null,null,"OK"]
[3243,null,null,"OK"]
[3244,null,null,"OK"]
[3245,null,null,"OK"]
[3246,null,null,"OK"]
[3247,null,null,"OK"]
[3248,null,null,"OK"]
[3249,null,null,"OK"]
[3250,null,null,"OK"]
[3251,null,null,"OK"]
[3252,null,null,"OK"]
[3253,null,null,"OK"]
[3254,null,null,"OK"]
[3255,{"$f":"'Acct Summary 7-9'!I43","v":0},null,"Error?"]
[3256,{"$f":"'Acct Summary 7-9'!I44","v":0},null,"Error?"]
[3257,{"$f":"'Acct Summary 7-9'!I76","v":0},null,"Error?"]
[3258,{"$f":"'Acct Summary 7-9'!I77","v":0},"T","Error?"]
[3259,{"$f":"'Acct Summary 7-9'!I78","v":0},"T","Error?"]
[3260,{"$f":"'Acct Summary 7-9'!I79","v":0},"T","Error?"]
[3261,{"$f":"'Acct Summary 7-9'!I80","v":0},"T","Error?"]
[3262,{"$f":"'Acct Summary 7-9'!I81","v":0},null,"Error?"]
[3263,null,null,"OK"]
[3264,null,"T","OK"]
[3265,null,null,"OK"]
[3266,null,null,{"$f":"IF(ISBLANK(B3325),\"OK\",IF(A3325-B3325=0,\"OK\",\"Error?\"))","v":"OK"}]
[3267,null,null,"OK"]
[3268,null,null,"OK"]
[3269,null,null,"OK"]
[3270,null,null,"OK"]
[3271,null,null,"OK"]
[3272,null,null,"OK"]
[3273,null,null,"OK"]
[3274,null,null,"OK"]
[3275,null,null,"OK"]
[3276,null,null,"OK"]
[3277,null,null,"OK"]
[3278,null,null,"OK"]
[3279,null,null,"OK"]
[3280,null,null,"OK"]
[3281,null,null,"OK"]
[3282,null,null,"OK"]
[3283,null,null,"OK"]
[3284,null,null,"OK"]
[3285,null,null,"OK"]
[3286,null,null,"OK"]
[3287,null,null,"OK"]
[3288,null,null,"OK"]
[3289,null,null,"OK"]
[3290,null,null,"OK"]
[3291,null,null,"OK"]
[3292,null,null,"OK"]
[3293,null,null,"OK"]
[3294,null,null,"OK"]
[3295,null,null,"OK"]
[3296,null,null,"OK"]
[3297,null,null,"OK"]
[3298,null,null,"OK"]
[3299,null,null,"OK"]
[3300,null,null,"OK"]
[3301,null,null,"OK"]
[3302,null,null,"OK"]
[3303,null,null,"OK"]
[3304,null,null,"OK"]
[3305,{"$f":"'Expenditures 16-24'!C8","v":0},null,"Error?"]
[3306,{"$f":"'Expenditures 16-24'!C19","v":0},null,"Error?"]
[3307,{"$f":"'Expenditures 16-24'!D8","v":0},null,"Error?"]
[3308,{"$f":"'Expenditures 16-24'!D19","v":0},null,"Error?"]
[3309,{"$f":"'Expenditures 16-24'!E8","v":0},null,"Error?"]
[3310,{"$f":"'Expenditures 16-24'!E19","v":0},null,"Error?"]
[3311,{"$f":"'Expenditures 16-24'!F8","v":0},null,"Error?"]
[3312,{"$f":"'Expenditures 16-24'!F19","v":0},null,"Error?"]
[3313,{"$f":"'Expenditures 16-24'!G8","v":0},null,"Error?"]
[3314,{"$f":"'Expenditures 16-24'!G19","v":0},null,"Error?"]
[3315,{"$f":"'Expenditures 16-24'!H8","v":0},null,"Error?"]
[3316,{"$f":"'Expenditures 16-24'!H19","v":0},null,"Error?"]
[3317,null,null,"OK"]
[3318,null,null,"OK"]
[3319,{"$f":"'Expenditures 16-24'!K8","v":0},null,"Error?"]
[3320,{"$f":"'Expenditures 16-24'!K19","v":0},null,"Error?"]
[3321,null,"T","OK"]
[3322,null,"T","OK"]
[3323,null,null,"OK"]
[3324,null,null,"OK"]
[3325,null,null,"OK"]
[3326,{"$f":"'Expenditures 16-24'!D219","v":0},null,"Error?"]
[3327,{"$f":"'Expenditures 16-24'!D221","v":0},null,"Error?"]
[3328,{"$f":"'Expenditures 16-24'!D232","v":0},null,"Error?"]
[3329,{"$f":"'Expenditures 16-24'!K219","v":0},null,"Error?"]
[3330,{"$f":"'Expenditures 16-24'!K221","v":0},null,{"$f":"IF(ISBLANK(B3389),\"OK\",IF(A3389-B3389=0,\"OK\",\"Error?\"))","v":"Error?"}]
[3331,{"$f":"'Expenditures 16-24'!K232","v":0},"T","Error?"]
[3332,null,"T","OK"]
[3333,null,"T","OK"]
[3334,null,null,"OK"]
[3335,null,null,"OK"]
[3336,null,null,"OK"]
[3337,null,null,"OK"]
[3338,null,null,"OK"]
[3339,null,null,"OK"]
[3340,null,null,"OK"]
[3341,null,null,"OK"]
[3342,null,null,"OK"]
[3343,null,null,"OK"]
[3344,{"$f":"'Acct Summary 7-9'!C5","v":0},null,"Error?"]
[3345,{"$f":"'Acct Summary 7-9'!D5","v":0},null,"Error?"]
[3346,null,"T","OK"]
[3347,{"$f":"'Acct Summary 7-9'!F5","v":0},"T","Error?"]
[3348,{"$f":"'Acct Summary 7-9'!G5","v":0},null,"Error?"]
[3349,null,"T","OK"]
[3350,{"$f":"'Assets-Liab 5-6'!C4","v":0},"T","Error?"]
[3351,null,null,"OK"]
[3352,null,null,"OK"]
[3353,{"$f":"'Assets-Liab 5-6'!D4","v":0},null,"Error?"]
[3354,null,null,"OK"]
[3355,null,null,"OK"]
[3356,{"$f":"'Assets-Liab 5-6'!E4","v":0},null,"Error?"]
[3357,null,null,"OK"]
[3358,{"$f":"'Assets-Liab 5-6'!F4","v":0},null,"Error?"]
[3359,null,null,"OK"]
[3360,null,null,"OK"]
[3361,{"$f":"'Assets-Liab 5-6'!G4","v":0},null,"Error?"]
[3362,null,null,"OK"]
[3363,null,null,"OK"]
[3364,{"$f":"'Assets-Liab 5-6'!H4","v":0},null,"Error?"]
[3365,null,null,"OK"]
[3366,{"$f":"'Assets-Liab 5-6'!I4","v":0},null,"Error?"]
[3367,null,null,"OK"]
[3368,null,null,"OK"]
[3369,null,null,"OK"]
[3370,null,null,"OK"]
[3371,null,null,"OK"]
[3372,null,null,"OK"]
[3373,null,null,"OK"]
[3374,{"$f":"'Assets-Liab 5-6'!L4","v":0},null,"Error?"]
[3375,null,null,"OK"]
[3376,null,null,"OK"]
[3377,null,null,"OK"]
[3378,null,null,"OK"]
[3379,null,null,"OK"]
[3380,null,null,"OK"]
[3381,null,null,"OK"]
[3382,null,null,"OK"]
[3383,null,null,"OK"]
[3384,null,null,"OK"]
[3385,{"$f":"'Tax Sched 25'!B16","v":0},"T","Error?"]
[3386,{"$f":"'Tax Sched 25'!D16","v":0},"T","Error?"]
[3387,{"$f":"'Tax Sched 25'!C16","v":0},"T","Error?"]
[3388,{"$f":"'Tax Sched 25'!F16","v":0},"T","Error?"]
[3389,{"$f":"'Tax Sched 25'!E16","v":0},null,"Error?"]
[3390,{"$f":"'Cap Outlay Deprec 36'!C15","v":0},"T","Error?"]
[3391,{"$f":"'Cap Outlay Deprec 36'!D15","v":0},null,"Error?"]
[3392,{"$f":"'Cap Outlay Deprec 36'!E15","v":0},null,"Error?"]
[3393,{"$f":"'Cap Outlay Deprec 36'!F15","v":0},null,"Error?"]
[3394,null,null,{"$f":"IF(ISBLANK(B3453),\"OK\",IF(A3453-B3453=0,\"OK\",\"Error?\"))","v":"OK"}]
[3395,null,"T","OK"]
[3396,null,null,"OK"]
[3397,null,null,"OK"]
[3398,{"$f":"'Cap Outlay Deprec 36'!L15","v":0},null,"Error?"]
[3399,null,null,"OK"]
[3400,null,"T","OK"]
[3401,null,null,"OK"]
[3402,null,null,"OK"]
[3403,null,null,"OK"]
[3404,null,null,"OK"]
[3405,null,null,"OK"]
[3406,null,null,"OK"]
[3407,null,null,"OK"]
[3408,null,null,"OK"]
[3409,null,null,"OK"]
[3410,null,null,"OK"]
[3411,null,null,"OK"]
[3412,null,null,"OK"]
[3413,null,null,"OK"]
[3414,null,null,"OK"]
[3415,null,null,"OK"]
[3416,null,null,"OK"]
[3417,null,null,"OK"]
[3418,null,null,"OK"]
[3419,null,null,"OK"]
[3420,null,null,"OK"]
[3421,{"$f":"'Expenditures 16-24'!C129","v":0},null,"Error?"]
[3422,{"$f":"'Expenditures 16-24'!D129","v":0},null,"Error?"]
[3423,{"$f":"'Expenditures 16-24'!E129","v":0},null,"Error?"]
[3424,{"$f":"'Expenditures 16-24'!F129","v":0},null,"Error?"]
[3425,{"$f":"'Expenditures 16-24'!G129","v":0},null,"Error?"]
[3426,{"$f":"'Expenditures 16-24'!H129","v":0},null,"Error?"]
[3427,{"$f":"'Expenditures 16-24'!K129","v":0},null,"Error?"]
[3428,null,null,"OK"]
[3429,{"$f":"'Acct Summary 7-9'!E26","v":0},"T","Error?"]
[3430,null,null,"OK"]
[3431,{"$f":"'Acct Summary 7-9'!G26","v":0},null,"Error?"]
[3432,{"$f":"'Acct Summary 7-9'!H26","v":0},null,"Error?"]
[3433,null,null,"OK"]
[3434,null,null,"OK"]
[3435,null,null,"OK"]
[3436,null,null,"OK"]
[3437,null,null,"OK"]
[3438,null,null,"OK"]
[3439,null,null,"OK"]
[3440,null,null,"OK"]
[3441,null,null,"OK"]
[3442,null,null,"OK"]
[3443,null,null,"OK"]
[3444,null,null,"OK"]
[3445,null,null,"OK"]
[3446,null,null,"OK"]
[3447,null,null,"OK"]
[3448,null,null,"OK"]
[3449,null,null,"OK"]
[3450,null,null,"OK"]
[3451,null,null,"OK"]
[3452,null,null,"OK"]
[3453,null,null,"OK"]
[3454,null,null,"OK"]
[3455,null,null,"OK"]
[3456,null,null,"OK"]
[3457,null,null,"OK"]
[3458,{"$f":"'Assets-Liab 5-6'!H6","v":0},null,{"$f":"IF(ISBLANK(B3517),\"OK\",IF(A3517-B3517=0,\"OK\",\"Error?\"))","v":"Error?"}]
[3459,null,null,"OK"]
[3460,null,null,"OK","closed 2010"]
[3461,null,null,"OK","closed 2010"]
[3462,null,null,"OK","closed 2010"]
[3463,null,null,"OK","closed 2010"]
[3464,null,null,"OK","closed 2010"]
[3465,null,null,"OK","closed 2010"]
[3466,null,null,"OK","closed 2010"]
[3467,null,null,"OK","closed 2010"]
[3468,null,null,"OK","closed 2010"]
[3469,{"$f":"'Acct Summary 7-9'!C36","v":0},null,"Error?"]
[3470,{"$f":"'Acct Summary 7-9'!D36","v":0},null,"Error?"]
[3471,{"$f":"'Acct Summary 7-9'!F36","v":0},null,"Error?"]
[3472,{"$f":"'Acct Summary 7-9'!G36","v":0},null,"Error?"]
[3473,{"$f":"'Acct Summary 7-9'!H36","v":0},null,"Error?"]
[3474,null,null,"OK"]
[3475,null,null,"OK"]
[3476,null,null,"OK"]
[3477,null,null,"OK"]
[3478,null,null,"OK"]
[3479,null,null,"OK"]
[3480,null,null,"OK"]
[3481,null,null,"OK"]
[3482,null,null,"OK"]
[3483,null,null,"OK"]
[3484,null,null,"OK"]
[3485,{"$f":"'Assets-Liab 5-6'!K4","v":0},null,"Error?"]
[3486,null,null,"OK"]
[3487,{"$f":"'Assets-Liab 5-6'!K6","v":0},null,"Error?"]
[3488,{"$f":"'Assets-Liab 5-6'!K10","v":0},null,"Error?"]
[3489,{"$f":"'Assets-Liab 5-6'!K5","v":0},null,"Error?"]
[3490,{"$f":"'Assets-Liab 5-6'!K12","v":0},null,"Error?"]
[3491,{"$f":"'Assets-Liab 5-6'!K13","v":0},null,"Error?"]
[3492,null,null,"OK"]
[3493,null,"T","OK"]
[3494,null,null,"OK"]
[3495,null,null,"OK"]
[3496,null,null,"OK"]
[3497,null,null,"OK"]
[3498,null,null,"OK"]
[3499,null,null,"OK"]
[3500,{"$f":"'Assets-Liab 5-6'!K31","v":0},null,"Error?"]
[3501,{"$f":"'Assets-Liab 5-6'!K32","v":0},null,"Error?"]
[3502,null,null,"OK"]
[3503,null,null,"OK"]
[3504,{"$f":"'Assets-Liab 5-6'!K34","v":0},null,"Error?"]
[3505,{"$f":"'Assets-Liab 5-6'!K38","v":0},null,"Error?"]
[3506,{"$f":"'Assets-Liab 5-6'!K39","v":0},"T","Error?"]
[3507,{"$f":"'Assets-Liab 5-6'!K41","v":0},null,"Error?"]
[3508,{"$f":"'Acct Summary 7-9'!K4","v":0},null,"Error?"]
[3509,{"$f":"'Acct Summary 7-9'!K6","v":0},"T","Error?"]
[3510,{"$f":"'Acct Summary 7-9'!K8","v":0},"T","Error?"]
[3511,{"$f":"'Acct Summary 7-9'!K13","v":0},"T","Error?"]
[3512,{"$f":"'Acct Summary 7-9'!K15","v":0},"T","Error?"]
[3513,{"$f":"'Acct Summary 7-9'!K16","v":0},"T","Error?"]
[3514,{"$f":"'Acct Summary 7-9'!K17","v":0},"T","Error?"]
[3515,{"$f":"'Acct Summary 7-9'!K20","v":0},"T","Error?"]
[3516,{"$f":"'Acct Summary 7-9'!K26","v":0},"T","Error?"]
[3517,{"$f":"'Acct Summary 7-9'!K28","v":0},"T","Error?"]
[3518,{"$f":"'Acct Summary 7-9'!K33","v":0},null,"Error?"]
[3519,{"$f":"'Acct Summary 7-9'!K34","v":0},null,"Error?"]
[3520,{"$f":"'Acct Summary 7-9'!K35","v":0},null,"Error?"]
[3521,{"$f":"'Acct Summary 7-9'!K36","v":0},null,"Error?"]
[3522,{"$f":"'Acct Summary 7-9'!K43","v":0},null,{"$f":"IF(ISBLANK(B3581),\"OK\",IF(A3581-B3581=0,\"OK\",\"Error?\"))","v":"Error?"}]
[3523,{"$f":"'Acct Summary 7-9'!K44","v":0},null,"Error?"]
[3524,{"$f":"'Acct Summary 7-9'!K75","v":0},null,"Error?"]
[3525,{"$f":"'Acct Summary 7-9'!K76","v":0},"T","Error?"]
[3526,{"$f":"'Acct Summary 7-9'!K77","v":0},null,"Error?"]
[3527,{"$f":"'Acct Summary 7-9'!K78","v":0},"T","Error?"]
[3528,{"$f":"'Acct Summary 7-9'!K79","v":0},"T","Error?"]
[3529,{"$f":"'Acct Summary 7-9'!K80","v":0},"T","Error?"]
[3530,{"$f":"'Acct Summary 7-9'!K81","v":0},null,"Error?"]
[3531,null,null,"OK"]
[3532,null,"T","OK"]
[3533,null,null,"OK"]
[3534,null,null,"OK"]
[3535,null,null,"OK"]
[3536,null,null,"OK"]
[3537,null,null,"OK"]
[3538,null,null,"OK"]
[3539,null,null,"OK"]
[3540,null,null,"OK"]
[3541,null,null,"OK"]
[3542,null,null,"OK"]
[3543,null,null,"OK"]
[3544,null,null,"OK"]
[3545,null,null,"OK"]
[3546,null,null,"OK"]
[3547,null,null,"OK"]
[3548,null,null,"OK"]
[3549,null,null,"OK"]
[3550,null,null,"OK"]
[3551,null,null,"OK"]
[3552,null,null,"OK"]
[3553,null,null,"OK"]
[3554,null,null,"OK"]
[3555,null,null,"OK"]
[3556,{"$f":"'Expenditures 16-24'!C435","v":0},null,"Error?"]
[3557,{"$f":"'Expenditures 16-24'!C436","v":0},null,"Error?"]
[3558,{"$f":"'Expenditures 16-24'!C437","v":0},null,"Error?"]
[3559,{"$f":"'Expenditures 16-24'!C438","v":0},null,"Error?"]
[3560,{"$f":"'Expenditures 16-24'!C439","v":0},"T","Error?"]
[3561,{"$f":"'Expenditures 16-24'!C454","v":0},null,"Error?"]
[3562,null,"T","OK"]
[3563,{"$f":"'Expenditures 16-24'!D435","v":0},"T","Error?"]
[3564,{"$f":"'Expenditures 16-24'!D436","v":0},null,"Error?"]
[3565,{"$f":"'Expenditures 16-24'!D437","v":0},null,"Error?"]
[3566,{"$f":"'Expenditures 16-24'!D438","v":0},null,"Error?"]
[3567,{"$f":"'Expenditures 16-24'!D439","v":0},"T","Error?"]
[3568,{"$f":"'Expenditures 16-24'!D454","v":0},null,"Error?"]
[3569,null,"T","OK"]
[3570,{"$f":"'Expenditures 16-24'!E435","v":0},"T","Error?"]
[3571,{"$f":"'Expenditures 16-24'!E436","v":0},null,"Error?"]
[3572,{"$f":"'Expenditures 16-24'!E437","v":0},null,"Error?"]
[3573,{"$f":"'Expenditures 16-24'!E438","v":0},null,"Error?"]
[3574,{"$f":"'Expenditures 16-24'!E439","v":0},"T","Error?"]
[3575,{"$f":"'Expenditures 16-24'!E454","v":0},null,"Error?"]
[3576,null,"T","OK"]
[3577,{"$f":"'Expenditures 16-24'!F435","v":0},"T","Error?"]
[3578,{"$f":"'Expenditures 16-24'!F436","v":0},null,"Error?"]
[3579,{"$f":"'Expenditures 16-24'!F437","v":0},null,"Error?"]
[3580,{"$f":"'Expenditures 16-24'!F438","v":0},null,"Error?"]
[3581,{"$f":"'Expenditures 16-24'!F439","v":0},"T","Error?"]
[3582,{"$f":"'Expenditures 16-24'!F454","v":0},null,"Error?"]
[3583,null,"T","OK"]
[3584,{"$f":"'Expenditures 16-24'!G435","v":0},"T","Error?"]
[3585,{"$f":"'Expenditures 16-24'!G436","v":0},null,"Error?"]
[3586,{"$f":"'Expenditures 16-24'!G437","v":0},null,{"$f":"IF(ISBLANK(B3645),\"OK\",IF(A3645-B3645=0,\"OK\",\"Error?\"))","v":"Error?"}]
[3587,{"$f":"'Expenditures 16-24'!G438","v":0},null,"Error?"]
[3588,{"$f":"'Expenditures 16-24'!G439","v":0},"T","Error?"]
[3589,{"$f":"'Expenditures 16-24'!G454","v":0},null,"Error?"]
[3590,null,"T","OK"]
[3591,{"$f":"'Expenditures 16-24'!H435","v":0},"T","Error?"]
[3592,{"$f":"'Expenditures 16-24'!H436","v":0},null,"Error?"]
[3593,{"$f":"'Expenditures 16-24'!H437","v":0},null,"Error?"]
[3594,{"$f":"'Expenditures 16-24'!H438","v":0},null,"Error?"]
[3595,{"$f":"'Expenditures 16-24'!H439","v":0},"T","Error?"]
[3596,{"$f":"'Expenditures 16-24'!H447","v":0},null,"Error?"]
[3597,{"$f":"'Expenditures 16-24'!H449","v":0},"T","Error?"]
[3598,null,null,"OK"]
[3599,{"$f":"'Expenditures 16-24'!H454","v":0},null,"Error?"]
[3600,null,null,"OK"]
[3601,null,"T","OK"]
[3602,null,null,"OK"]
[3603,null,null,"OK"]
[3604,null,null,"OK"]
[3605,null,"T","OK"]
[3606,null,null,"OK"]
[3607,{"$f":"'Expenditures 16-24'!K435","v":0},null,"Error?"]
[3608,{"$f":"'Expenditures 16-24'!K436","v":0},null,"Error?"]
[3609,{"$f":"'Expenditures 16-24'!K437","v":0},"T","Error?"]
[3610,{"$f":"'Expenditures 16-24'!K438","v":0},"T","Error?"]
[3611,{"$f":"'Expenditures 16-24'!K439","v":0},"T","Error?"]
[3612,{"$f":"'Expenditures 16-24'!K443","v":0},"T","Error?"]
[3613,{"$f":"'Expenditures 16-24'!K444","v":0},"T","Error?"]
[3614,{"$f":"'Expenditures 16-24'!K447","v":0},"T","Error?"]
[3615,{"$f":"'Expenditures 16-24'!K449","v":0},null,"Error?"]
[3616,null,"T","OK"]
[3617,{"$f":"'Expenditures 16-24'!K454","v":0},null,"Error?"]
[3618,null,null,"OK"]
[3619,null,"T","OK"]
[3620,{"$f":"'Expenditures 16-24'!K455","v":0},null,"Error?"]
[3621,{"$f":"'Short-Term Long-Term Debt 26'!C13","v":0},null,"Error?"]
[3622,{"$f":"'Short-Term Long-Term Debt 26'!C19","v":0},"T","Error?"]
[3623,{"$f":"'Short-Term Long-Term Debt 26'!D13","v":0},null,"Error?"]
[3624,{"$f":"'Short-Term Long-Term Debt 26'!D19","v":0},null,"Error?"]
[3625,{"$f":"'Short-Term Long-Term Debt 26'!E13","v":0},null,"Error?"]
[3626,{"$f":"'Short-Term Long-Term Debt 26'!E19","v":0},null,"Error?"]
[3627,{"$f":"'Short-Term Long-Term Debt 26'!F13","v":0},null,"Error?"]
[3628,{"$f":"'Short-Term Long-Term Debt 26'!F19","v":0},null,"Error?"]
[3629,null,"T","OK"]
[3630,null,"T","OK"]
[3631,null,null,"OK"]
[3632,null,null,"OK"]
[3633,null,null,"OK"]
[3634,null,null,"OK"]
[3635,null,null,"OK"]
[3636,null,null,"OK"]
[3637,{"$f":"'Acct Summary 7-9'!D30","v":0},null,"Error?"]
[3638,{"$f":"'Acct Summary 7-9'!E31","v":0},null,"Error?"]
[3639,null,null,"OK"]
[3640,null,null,"OK"]
[3641,{"$f":"'Acct Summary 7-9'!K52","v":0},null,"Error?"]
[3642,{"$f":"'Acct Summary 7-9'!K53","v":0},null,"Error?"]
[3643,null,"T","OK"]
[3644,null,"T","OK"]
[3645,null,null,"OK"]
[3646,null,null,"OK"]
[3647,null,null,"OK"]
[3648,null,null,"OK"]
[3649,null,null,"OK"]
[3650,null,null,{"$f":"IF(ISBLANK(B3709),\"OK\",IF(A3709-B3709=0,\"OK\",\"Error?\"))","v":"OK"}]
[3651,null,null,"OK"]
[3652,null,null,"OK"]
[3653,null,null,"OK"]
[3654,null,null,"OK"]
[3655,null,null,"OK"]
[3656,{"$f":"'Expenditures 16-24'!K306","v":0},null,"Error?"]
[3657,{"$f":"'Acct Summary 7-9'!K7","v":0},null,"Error?"]
[3658,null,"T","OK"]
[3659,null,"T","OK"]
[3660,{"$f":"'Expenditures 16-24'!D280","v":0},null,"Error?"]
[3661,{"$f":"'Expenditures 16-24'!D282","v":0},null,"Error?"]
[3662,{"$f":"'Expenditures 16-24'!K280","v":0},null,"Error?"]
[3663,{"$f":"'Expenditures 16-24'!K282","v":0},"T","Error?"]
[3664,{"$f":"'Tax Sched 25'!B13","v":0},"T","Error?"]
[3665,{"$f":"'Tax Sched 25'!D13","v":0},"T","Error?"]
[3666,{"$f":"'Tax Sched 25'!C13","v":0},"T","Error?"]
[3667,{"$f":"'Tax Sched 25'!F13","v":0},"T","Error?"]
[3668,{"$f":"'Tax Sched 25'!E13","v":0},null,"Error?"]
[3669,{"$f":"'ICR Computation 41'!E10","v":0},"T","Error?"]
[3670,null,null,"OK"]
[3671,null,null,"OK"]
[3672,null,null,"OK"]
[3673,null,null,"OK"]
[3674,null,null,"OK"]
[3675,null,null,"OK"]
[3676,null,null,"OK"]
[3677,null,null,"OK"]
[3678,null,null,"OK"]
[3679,null,null,"OK"]
[3680,null,null,"OK"]
[3681,null,null,"OK"]
[3682,null,null,"OK"]
[3683,null,null,"OK"]
[3684,null,null,"OK"]
[3685,null,null,"OK"]
[3686,null,null,"OK"]
[3687,null,null,"OK"]
[3688,null,null,"OK"]
[3689,null,null,"OK"]
[3690,null,null,"OK"]
[3691,null,null,"OK"]
[3692,null,null,"OK"]
[3693,null,null,"OK"]
[3694,null,null,"OK"]
[3695,null,null,"OK"]
[3696,null,null,"OK"]
[3697,null,null,"OK"]
[3698,null,null,"OK"]
[3699,null,null,"OK"]
[3700,null,null,"OK"]
[3701,null,null,"OK"]
[3702,null,null,"OK"]
[3703,null,null,"OK"]
[3704,null,null,"OK"]
[3705,null,null,"OK"]
[3706,null,null,"OK"]
[3707,null,null,"OK"]
[3708,null,null,"OK"]
[3709,null,null,"OK"]
[3710,null,null,"OK"]
[3711,null,null,"OK"]
[3712,null,null,"OK"]
[3713,null,null,"OK"]
[3714,null,null,{"$f":"IF(ISBLANK(B3773),\"OK\",IF(A3773-B3773=0,\"OK\",\"Error?\"))","v":"OK"}]
[3715,null,null,"OK"]
[3716,null,null,"OK"]
[3717,null,null,"OK"]
[3718,null,null,"OK"]
[3719,null,null,"OK"]
[3720,null,null,"OK"]
[3721,null,null,"OK"]
[3722,null,null,"OK"]
[3723,null,null,"OK"]
[3724,null,null,"OK"]
[3725,null,null,"OK"]
[3726,null,null,"OK"]
[3727,null,null,"OK"]
[3728,null,null,"OK"]
[3729,null,null,"OK"]
[3730,null,null,"OK"]
[3731,null,null,"OK"]
[3732,null,null,"OK"]
[3733,null,null,"OK"]
[3734,null,null,"OK"]
[3735,null,null,"OK"]
[3736,null,null,"OK"]
[3737,null,null,"OK"]
[3738,null,null,"OK"]
[3739,null,null,"OK"]
[3740,null,null,"OK"]
[3741,null,null,"OK"]
[3742,null,null,"OK"]
[3743,null,null,"OK"]
[3744,null,null,"OK"]
[3745,null,null,"OK"]
[3746,null,null,"OK"]
[3747,null,null,"OK"]
[3748,null,null,"OK"]
[3749,null,null,"OK"]
[3750,null,null,"OK"]
[3751,null,null,"OK"]
[3752,null,null,"OK"]
[3753,null,null,"OK"]
[3754,null,null,"OK"]
[3755,null,null,"OK"]
[3756,null,null,"OK"]
[3757,null,null,"OK"]
[3758,null,null,"OK"]
[3759,null,null,"OK"]
[3760,null,null,"OK"]
[3761,null,null,"OK"]
[3762,null,null,"OK"]
[3763,null,null,"OK"]
[3764,null,null,"OK"]
[3765,null,null,"OK"]
[3766,null,null,"OK"]
[3767,null,null,"OK"]
[3768,null,null,"OK"]
[3769,null,null,"OK"]
[3770,null,null,"OK"]
[3771,null,null,"OK"]
[3772,null,null,"OK"]
[3773,null,null,"OK"]
[3774,null,null,"OK"]
[3775,null,null,"OK"]
[3776,null,null,"OK"]
[3777,null,null,"OK"]
[3778,null,null,{"$f":"IF(ISBLANK(B3837),\"OK\",IF(A3837-B3837=0,\"OK\",\"Error?\"))","v":"OK"}]
[3779,null,null,"OK"]
[3780,null,null,"OK"]
[3781,null,null,"OK"]
[3782,null,null,"OK"]
[3783,null,null,"OK"]
[3784,null,null,"OK"]
[3785,null,null,"OK"]
[3786,null,null,"OK"]
[3787,null,null,"OK"]
[3788,null,null,"OK"]
[3789,null,null,"OK"]
[3790,null,null,"OK"]
[3791,null,null,"OK"]
[3792,null,null,"OK"]
[3793,null,null,"OK"]
[3794,null,null,"OK"]
[3795,null,null,"OK"]
[3796,null,null,"OK"]
[3797,null,null,"OK"]
[3798,null,null,"OK"]
[3799,null,null,"OK"]
[3800,null,null,"OK"]
[3801,null,null,"OK"]
[3802,null,null,"OK"]
[3803,null,null,"OK"]
[3804,null,null,"OK"]
[3805,null,null,"OK"]
[3806,null,null,"OK"]
[3807,null,null,"OK"]
[3808,null,null,"OK"]
[3809,null,null,"OK"]
[3810,null,null,"OK"]
[3811,null,null,"OK"]
[3812,null,null,"OK"]
[3813,null,null,"OK"]
[3814,null,null,"OK"]
[3815,null,null,"OK"]
[3816,null,null,"OK"]
[3817,null,null,"OK"]
[3818,null,null,"OK"]
[3819,null,null,"OK"]
[3820,null,null,"OK"]
[3821,null,null,"OK"]
[3822,null,null,"OK"]
[3823,null,null,"OK"]
[3824,null,null,"OK"]
[3825,null,null,"OK"]
[3826,null,null,"OK"]
[3827,null,null,"OK"]
[3828,null,null,"OK"]
[3829,null,null,"OK"]
[3830,null,null,"OK"]
[3831,null,null,"OK"]
[3832,null,null,"OK"]
[3833,null,null,"OK"]
[3834,null,null,"OK"]
[3835,null,null,"OK"]
[3836,null,null,"OK"]
[3837,null,null,"OK"]
[3838,null,null,"OK"]
[3839,null,null,"OK"]
[3840,null,null,"OK"]
[3841,null,null,"OK"]
[3842,null,null,{"$f":"IF(ISBLANK(B3901),\"OK\",IF(A3901-B3901=0,\"OK\",\"Error?\"))","v":"OK"}]
[3843,null,null,"OK"]
[3844,null,null,"OK"]
[3845,null,null,"OK"]
[3846,null,null,"OK"]
[3847,null,null,"OK"]
[3848,null,null,"OK"]
[3849,null,null,"OK"]
[3850,null,null,"OK"]
[3851,null,null,"OK"]
[3852,null,null,"OK"]
[3853,null,null,"OK"]
[3854,null,null,"OK"]
[3855,null,null,"OK"]
[3856,null,null,"OK"]
[3857,null,null,"OK"]
[3858,null,null,"OK"]
[3859,null,null,"OK"]
[3860,null,null,"OK"]
[3861,null,null,"OK"]
[3862,null,null,"OK"]
[3863,null,null,"OK"]
[3864,null,null,"OK"]
[3865,null,null,"OK"]
[3866,null,null,"OK"]
[3867,null,null,"OK"]
[3868,null,null,"OK"]
[3869,null,null,"OK"]
[3870,null,null,"OK"]
[3871,null,null,"OK"]
[3872,null,null,"OK"]
[3873,null,null,"OK"]
[3874,null,null,"OK"]
[3875,null,null,"OK"]
[3876,null,null,"OK"]
[3877,null,null,"OK"]
[3878,null,null,"OK"]
[3879,null,null,"OK"]
[3880,null,null,"OK"]
[3881,null,null,"OK"]
[3882,null,null,"OK"]
[3883,null,null,"OK"]
[3884,null,null,"OK"]
[3885,null,null,"OK"]
[3886,null,null,"OK"]
[3887,null,null,"OK"]
[3888,null,null,"OK"]
[3889,null,null,"OK"]
[3890,null,null,"OK"]
[3891,null,null,"OK"]
[3892,null,null,"OK"]
[3893,null,null,"OK"]
[3894,null,null,"OK"]
[3895,null,null,"OK"]
[3896,null,null,"OK"]
[3897,null,null,"OK"]
[3898,null,null,"OK"]
[3899,null,null,"OK"]
[3900,null,null,"OK"]
[3901,null,null,"OK"]
[3902,null,null,"OK"]
[3903,null,null,"OK"]
[3904,null,null,"OK"]
[3905,null,null,"OK"]
[3906,null,null,{"$f":"IF(ISBLANK(B3965),\"OK\",IF(A3965-B3965=0,\"OK\",\"Error?\"))","v":"OK"}]
[3907,null,null,"OK"]
[3908,null,null,"OK"]
[3909,null,null,"OK"]
[3910,null,null,"OK"]
[3911,null,null,"OK"]
[3912,null,null,"OK"]
[3913,null,null,"OK"]
[3914,null,null,"OK"]
[3915,null,null,"OK"]
[3916,null,null,"OK"]
[3917,null,null,"OK"]
[3918,null,null,"OK"]
[3919,null,null,"OK"]
[3920,null,null,"OK"]
[3921,null,null,"OK"]
[3922,null,null,"OK"]
[3923,null,null,"OK"]
[3924,null,null,"OK"]
[3925,null,null,"OK"]
[3926,null,null,"OK"]
[3927,null,null,"OK"]
[3928,null,null,"OK"]
[3929,null,null,"OK"]
[3930,null,null,"OK"]
[3931,null,null,"OK"]
[3932,null,null,"OK"]
[3933,null,null,"OK"]
[3934,null,null,"OK"]
[3935,null,null,"OK"]
[3936,null,null,"OK"]
[3937,null,null,"OK"]
[3938,null,null,"OK"]
[3939,null,null,"OK"]
[3940,null,null,"OK"]
[3941,null,null,"OK"]
[3942,null,null,"OK"]
[3943,null,null,"OK"]
[3944,null,null,"OK"]
[3945,null,null,"OK"]
[3946,null,null,"OK"]
[3947,null,null,"OK"]
[3948,null,null,"OK"]
[3949,null,null,"OK"]
[3950,null,null,"OK"]
[3951,null,null,"OK"]
[3952,null,null,"OK"]
[3953,null,null,"OK"]
[3954,null,null,"OK"]
[3955,null,null,"OK"]
[3956,null,null,"OK"]
[3957,null,null,"OK"]
[3958,null,null,"OK"]
[3959,null,null,"OK"]
[3960,null,null,"OK"]
[3961,null,null,"OK"]
[3962,null,null,"OK"]
[3963,null,null,"OK"]
[3964,null,null,"OK"]
[3965,null,null,"OK"]
[3966,null,null,"OK"]
[3967,null,null,"OK"]
[3968,null,null,"OK"]
[3969,null,null,"OK"]
[3970,null,null,{"$f":"IF(ISBLANK(B4029),\"OK\",IF(A4029-B4029=0,\"OK\",\"Error?\"))","v":"OK"}]
[3971,null,null,"OK"]
[3972,null,null,"OK"]
[3973,null,null,"OK"]
[3974,null,null,"OK"]
[3975,null,null,"OK"]
[3976,null,null,"OK"]
[3977,null,null,"OK"]
[3978,null,null,"OK"]
[3979,null,null,"OK"]
[3980,null,null,"OK"]
[3981,null,null,"OK"]
[3982,null,null,"OK"]
[3983,null,null,"OK"]
[3984,null,null,"OK"]
[3985,null,null,"OK"]
[3986,null,null,"OK"]
[3987,null,null,"OK"]
[3988,null,null,"OK"]
[3989,null,null,"OK"]
[3990,null,null,"OK"]
[3991,null,null,"OK"]
[3992,null,null,"OK"]
[3993,null,null,"OK"]
[3994,null,null,"OK"]
[3995,null,null,"OK"]
[3996,null,null,"OK"]
[3997,null,null,"OK"]
[3998,null,null,"OK"]
[3999,null,null,"OK"]
[4000,null,null,"OK"]
[4001,null,null,"OK"]
[4002,null,null,"OK"]
[4003,null,null,"OK"]
[4004,null,null,"OK"]
[4005,null,null,"OK"]
[4006,null,null,"OK"]
[4007,null,null,"OK"]
[4008,null,null,"OK"]
[4009,null,null,"OK"]
[4010,null,null,"OK"]
[4011,null,null,"OK"]
[4012,null,null,"OK"]
[4013,{"$f":"'Expenditures 16-24'!C124","v":0},null,"Error?"]
[4014,{"$f":"'Expenditures 16-24'!D124","v":0},null,"Error?"]
[4015,{"$f":"'Expenditures 16-24'!E124","v":0},null,"Error?"]
[4016,{"$f":"'Expenditures 16-24'!F124","v":0},null,"Error?"]
[4017,{"$f":"'Expenditures 16-24'!G124","v":0},null,"Error?"]
[4018,{"$f":"'Expenditures 16-24'!H124","v":0},null,"Error?"]
[4019,{"$f":"'Expenditures 16-24'!K124","v":0},null,"Error?"]
[4020,{"$f":"'Expenditures 16-24'!C184","v":0},null,"Error?"]
[4021,{"$f":"'Expenditures 16-24'!D184","v":0},"T","Error?"]
[4022,{"$f":"'Expenditures 16-24'!E184","v":0},null,"Error?"]
[4023,{"$f":"'Expenditures 16-24'!F184","v":0},null,"Error?"]
[4024,{"$f":"'Expenditures 16-24'!G184","v":0},null,"Error?"]
[4025,{"$f":"'Expenditures 16-24'!H184","v":0},null,"Error?"]
[4026,{"$f":"'Expenditures 16-24'!K184","v":0},null,"Error?"]
[4027,null,null,"OK"]
[4028,null,"T","OK"]
[4029,null,null,"OK"]
[4030,null,null,"OK"]
[4031,null,null,"OK"]
[4032,null,null,"OK"]
[4033,null,null,"OK"]
[4034,null,null,{"$f":"IF(ISBLANK(B4093),\"OK\",IF(A4093-B4093=0,\"OK\",\"Error?\"))","v":"OK"}]
[4035,null,null,"OK"]
[4036,null,null,"OK"]
[4037,null,null,"OK"]
[4038,{"$f":"'Expenditures 16-24'!K304","v":0},null,"Error?"]
[4039,{"$f":"'Expenditures 16-24'!K305","v":0},"T","Error?"]
[4040,null,"T","OK"]
[4041,{"$f":"'Tax Sched 25'!B17","v":0},"T","Error?"]
[4042,{"$f":"'Tax Sched 25'!B18","v":0},"T","Error?"]
[4043,{"$f":"'Tax Sched 25'!D17","v":0},"T","Error?"]
[4044,{"$f":"'Tax Sched 25'!D18","v":0},"T","Error?"]
[4045,{"$f":"'Tax Sched 25'!C17","v":0},"T","Error?"]
[4046,{"$f":"'Tax Sched 25'!C18","v":0},"T","Error?"]
[4047,{"$f":"'Tax Sched 25'!F17","v":0},null,"Error?"]
[4048,{"$f":"'Tax Sched 25'!F18","v":0},null,"Error?"]
[4049,{"$f":"'Tax Sched 25'!E17","v":0},"T","Error?"]
[4050,{"$f":"'Tax Sched 25'!E18","v":0},"T","Error?"]
[4051,null,"T","OK"]
[4052,{"$f":"'Acct Summary 7-9'!C9","v":0},null,"Error?"]
[4053,{"$f":"'Acct Summary 7-9'!D9","v":0},null,"Error?"]
[4054,{"$f":"'Acct Summary 7-9'!E9","v":0},null,"Error?"]
[4055,{"$f":"'Acct Summary 7-9'!F9","v":0},null,"Error?"]
[4056,{"$f":"'Acct Summary 7-9'!G9","v":0},null,"Error?"]
[4057,{"$f":"'Acct Summary 7-9'!H9","v":0},null,"Error?"]
[4058,null,null,"OK"]
[4059,null,null,"OK"]
[4060,{"$f":"'Acct Summary 7-9'!K9","v":0},null,"Error?"]
[4061,{"$f":"'Acct Summary 7-9'!C10","v":0},null,"Error?"]
[4062,{"$f":"'Acct Summary 7-9'!D10","v":0},null,"Error?"]
[4063,{"$f":"'Acct Summary 7-9'!E10","v":0},"T","Error?"]
[4064,{"$f":"'Acct Summary 7-9'!F10","v":0},"T","Error?"]
[4065,{"$f":"'Acct Summary 7-9'!G10","v":0},"T","Error?"]
[4066,{"$f":"'Acct Summary 7-9'!H10","v":0},"T","Error?"]
[4067,{"$f":"'Acct Summary 7-9'!I10","v":0},"T","Error?"]
[4068,null,"T","OK"]
[4069,{"$f":"'Acct Summary 7-9'!K10","v":0},"T","Error?"]
[4070,{"$f":"'Acct Summary 7-9'!C18","v":0},"T","Error?"]
[4071,{"$f":"'Acct Summary 7-9'!D18","v":0},"T","Error?"]
[4072,{"$f":"'Acct Summary 7-9'!F18","v":0},"T","Error?"]
[4073,{"$f":"'Acct Summary 7-9'!H18","v":0},"T","Error?"]
[4074,{"$f":"'Acct Summary 7-9'!K18","v":0},"T","Error?"]
[4075,{"$f":"'Acct Summary 7-9'!C19","v":0},"T","Error?"]
[4076,{"$f":"'Acct Summary 7-9'!D19","v":0},"T","Error?"]
[4077,{"$f":"'Acct Summary 7-9'!E19","v":0},"T","Error?"]
[4078,{"$f":"'Acct Summary 7-9'!F19","v":0},"T","Error?"]
[4079,{"$f":"'Acct Summary 7-9'!G19","v":0},"T","Error?"]
[4080,{"$f":"'Acct Summary 7-9'!H19","v":0},"T","Error?"]
[4081,null,"T","OK"]
[4082,null,"T","OK"]
[4083,{"$f":"'Acct Summary 7-9'!K19","v":0},null,"Error?"]
[4084,null,"T","OK"]
[4085,null,"T","OK"]
[4086,null,"T","OK"]
[4087,null,null,"OK"]
[4088,null,null,"OK"]
[4089,null,null,"OK"]
[4090,null,null,"OK"]
[4091,null,"T","OK"]
[4092,null,"T","OK"]
[4093,null,null,"OK"]
[4094,null,null,"OK"]
[4095,{"$f":"'Expenditures 16-24'!H208","v":0},null,"Error?"]
[4096,{"$f":"'Expenditures 16-24'!K208","v":0},null,"Error?"]
[4097,null,"T","OK"]
[4098,null,"T",{"$f":"IF(ISBLANK(B4157),\"OK\",IF(A4157-B4157=0,\"OK\",\"Error?\"))","v":"OK"}]
[4099,null,null,"OK"]
[4100,null,null,"OK"]
[4101,null,null,"OK"]
[4102,null,null,"OK"]
[4103,null,null,"OK"]
[4104,{"$f":"'Expenditures 16-24'!D281","v":0},"T","Error?"]
[4105,{"$f":"'Expenditures 16-24'!K281","v":0},null,"Error?"]
[4106,null,null,"OK"]
[4107,null,"T","OK"]
[4108,null,null,"OK"]
[4109,null,null,"OK"]
[4110,{"$f":"'Short-Term Long-Term Debt 26'!I49","v":0},null,"Error?"]
[4111,{"$f":"'Short-Term Long-Term Debt 26'!J49","v":0},"T","Error?"]
[4112,{"$f":"'Short-Term Long-Term Debt 26'!H49","v":0},"T","Error?"]
[4113,null,"T","OK"]
[4114,{"$f":"'Acct Summary 7-9'!E18","v":0},"T","Error?"]
[4115,{"$f":"'Acct Summary 7-9'!G18","v":0},"T","Error?"]
[4116,{"$f":"'Short-Term Long-Term Debt 26'!G49","v":0},"T","Error?"]
[4117,null,"T","OK"]
[4118,{"$f":"'Revenues 10-15'!D163","v":0},null,"Error?"]
[4119,{"$f":"'Revenues 10-15'!F163","v":0},"T","Error?"]
[4120,{"$f":"'Revenues 10-15'!G163","v":0},null,"Error?"]
[4121,null,null,"OK"]
[4122,null,null,"OK"]
[4123,null,null,"OK"]
[4124,null,null,"OK"]
[4125,null,null,"OK"]
[4126,null,null,"OK"]
[4127,null,null,"OK"]
[4128,{"$f":"'Revenues 10-15'!C262","v":0},null,"Error?"]
[4129,{"$f":"'Revenues 10-15'!D262","v":0},null,"Error?"]
[4130,{"$f":"'Revenues 10-15'!F262","v":0},null,"Error?"]
[4131,{"$f":"'Revenues 10-15'!G262","v":0},null,"Error?"]
[4132,null,null,"OK"]
[4133,null,null,"OK"]
[4134,null,null,"OK"]
[4135,null,null,"OK"]
[4136,null,null,"OK"]
[4137,null,null,"OK"]
[4138,{"$f":"'Expenditures 16-24'!E138","v":0},null,"Error?"]
[4139,{"$f":"'Expenditures 16-24'!E139","v":0},"T","Error?"]
[4140,{"$f":"'Expenditures 16-24'!E140","v":0},null,"Error?"]
[4141,{"$f":"'Expenditures 16-24'!E141","v":0},null,"Error?"]
[4142,{"$f":"'Expenditures 16-24'!E143","v":0},null,"Error?"]
[4143,null,"T","OK"]
[4144,null,"T","OK"]
[4145,null,null,"OK"]
[4146,null,"T","OK"]
[4147,null,null,"OK"]
[4148,null,null,"OK"]
[4149,{"$f":"'Expenditures 16-24'!H210","v":0},null,"Error?"]
[4150,{"$f":"'Expenditures 16-24'!K210","v":0},null,"Error?"]
[4151,null,null,"OK"]
[4152,null,"T","OK"]
[4153,null,null,"OK"]
[4154,{"$f":"'Revenues 10-15'!I170","v":0},"T","Error?"]
[4155,{"$f":"'Revenues 10-15'!I172","v":0},"T","Error?"]
[4156,{"$f":"'Acct Summary 7-9'!E36","v":0},null,"Error?"]
[4157,null,"T","OK"]
[4158,null,null,"OK"]
[4159,null,null,"OK"]
[4160,null,null,"OK"]
[4161,null,null,"OK"]
[4162,null,null,{"$f":"IF(ISBLANK(B4221),\"OK\",IF(A4221-B4221=0,\"OK\",\"Error?\"))","v":"OK"}]
[4163,null,null,"OK"]
[4164,null,null,"OK"]
[4165,null,null,"OK"]
[4166,{"$f":"'Revenues 10-15'!C142","v":0},null,"Error?"]
[4167,{"$f":"'Revenues 10-15'!D142","v":0},null,"Error?"]
[4168,null,null,"OK"]
[4169,{"$f":"'Revenues 10-15'!G142","v":0},null,"Error?"]
[4170,null,null,"OK"]
[4171,null,null,"OK"]
[4172,null,null,"OK"]
[4173,null,null,"OK"]
[4174,null,null,"OK","Deleted in 2019"]
[4175,null,null,"OK","Deleted in 2019"]
[4176,null,null,"OK","Deleted in 2019"]
[4177,null,null,"OK","Deleted in 2019"]
[4178,null,null,"OK"]
[4179,null,null,"OK"]
[4180,null,null,"OK"]
[4181,null,null,"OK"]
[4182,null,null,"OK"]
[4183,null,null,"OK"]
[4184,null,null,"OK"]
[4185,null,null,"OK"]
[4186,null,null,"OK"]
[4187,null,null,"OK"]
[4188,null,null,"OK"]
[4189,null,null,"OK"]
[4190,null,null,"OK"]
[4191,null,null,"OK"]
[4192,null,null,"OK"]
[4193,null,null,"OK"]
[4194,null,null,"OK"]
[4195,null,null,"OK"]
[4196,null,null,"OK"]
[4197,null,null,"OK"]
[4198,null,null,"OK"]
[4199,null,null,"OK"]
[4200,null,null,"OK"]
[4201,null,null,"OK"]
[4202,null,null,"OK"]
[4203,null,null,"OK"]
[4204,{"$f":"('FP Info 3'!D10)*100000","v":0},null,"Error?"]
[4205,{"$f":"('FP Info 3'!F10)*100000","v":0},null,"Error?"]
[4206,{"$f":"('FP Info 3'!H10)*100000","v":0},"T","Error?"]
[4207,{"$f":"('FP Info 3'!J10)*100000","v":0},"T","Error?"]
[4208,{"$f":"'FP Info 3'!J17","v":0},"T","Error?"]
[4209,{"$f":"'FP Info 3'!D25","v":0},"T","Error?"]
[4210,null,"T","OK"]
[4211,null,null,"OK","Deleted 4/10"]
[4212,null,"T","OK","Deleted 5/05"]
[4213,null,null,"OK"]
[4214,null,null,"OK"]
[4215,null,"T","OK"]
[4216,null,null,"OK"]
[4217,null,null,"OK"]
[4218,null,null,"OK"]
[4219,null,null,"OK"]
[4220,null,null,"OK"]
[4221,null,null,"OK"]
[4222,null,null,"OK"]
[4223,null,null,"OK"]
[4224,null,null,"OK"]
[4225,null,null,"OK"]
[4226,null,null,{"$f":"IF(ISBLANK(B4285),\"OK\",IF(A4285-B4285=0,\"OK\",\"Error?\"))","v":"OK"}]
[4227,null,null,"OK"]
[4228,null,null,"OK"]
[4229,null,null,"OK"]
[4230,null,null,"OK"]
[4231,null,null,"OK"]
[4232,null,null,"OK"]
[4233,null,null,"OK"]
[4234,null,null,"OK"]
[4235,null,null,"OK"]
[4236,null,"T","OK"]
[4237,{"$f":"'Rest Tax Levies-Tort Im 27'!G31","v":0},"T","Error?"]
[4238,{"$f":"'Rest Tax Levies-Tort Im 27'!G32","v":0},null,"Error?"]
[4239,{"$f":"'Rest Tax Levies-Tort Im 27'!G36","v":0},null,"Error?"]
[4240,{"$f":"'Rest Tax Levies-Tort Im 27'!G37","v":0},null,"Error?"]
[4241,{"$f":"'Rest Tax Levies-Tort Im 27'!G38","v":0},null,"Error?"]
[4242,{"$f":"'Rest Tax Levies-Tort Im 27'!G39","v":0},null,"Error?"]
[4243,{"$f":"'Rest Tax Levies-Tort Im 27'!G40","v":0},null,"Error?"]
[4244,{"$f":"'Rest Tax Levies-Tort Im 27'!G41","v":0},null,"Error?"]
[4245,{"$f":"'Rest Tax Levies-Tort Im 27'!G42","v":0},null,"Error?"]
[4246,{"$f":"'Rest Tax Levies-Tort Im 27'!G43","v":0},null,"Error?"]
[4247,{"$f":"'Rest Tax Levies-Tort Im 27'!G44","v":0},null,"Error?"]
[4248,{"$f":"'Revenues 10-15'!C133","v":0},null,"Error?"]
[4249,{"$f":"'Revenues 10-15'!D133","v":0},null,"Error?"]
[4250,{"$f":"'Revenues 10-15'!F133","v":0},null,"Error?"]
[4251,{"$f":"'Revenues 10-15'!C152","v":0},null,"Error?"]
[4252,{"$f":"'Revenues 10-15'!D152","v":0},null,"Error?"]
[4253,{"$f":"'Revenues 10-15'!C156","v":0},null,"Error?"]
[4254,{"$f":"'Revenues 10-15'!D156","v":0},null,"Error?"]
[4255,{"$f":"'Revenues 10-15'!F156","v":0},null,"Error?"]
[4256,{"$f":"'Revenues 10-15'!C166","v":0},null,"Error?"]
[4257,{"$f":"'Revenues 10-15'!F166","v":0},null,"Error?"]
[4258,null,null,"OK"]
[4259,null,null,"OK"]
[4260,{"$f":"'Revenues 10-15'!C167","v":0},null,"Error?"]
[4261,{"$f":"'Revenues 10-15'!F167","v":0},null,"Error?"]
[4262,null,null,"OK"]
[4263,null,null,"OK"]
[4264,null,null,"OK"]
[4265,null,null,"OK"]
[4266,{"$f":"'Revenues 10-15'!D168","v":0},null,"Error?"]
[4267,{"$f":"'Revenues 10-15'!H168","v":0},null,"Error?"]
[4268,{"$f":"'Revenues 10-15'!D169","v":0},null,"Error?"]
[4269,{"$f":"'Revenues 10-15'!K169","v":0},null,"Error?"]
[4270,{"$f":"'Revenues 10-15'!C199","v":0},null,"Error?"]
[4271,{"$f":"'Revenues 10-15'!C205","v":0},null,"Error?"]
[4272,{"$f":"'Revenues 10-15'!D205","v":0},null,"Error?"]
[4273,{"$f":"'Revenues 10-15'!F205","v":0},null,"Error?"]
[4274,{"$f":"'Revenues 10-15'!G205","v":0},null,"Error?"]
[4275,{"$f":"'Revenues 10-15'!C210","v":0},null,"Error?"]
[4276,{"$f":"'Revenues 10-15'!D210","v":0},null,"Error?"]
[4277,{"$f":"'Revenues 10-15'!F210","v":0},null,"Error?"]
[4278,{"$f":"'Revenues 10-15'!G210","v":0},null,"Error?"]
[4279,{"$f":"'Revenues 10-15'!C218","v":0},null,"Error?"]
[4280,{"$f":"'Revenues 10-15'!D218","v":0},null,"Error?"]
[4281,{"$f":"'Revenues 10-15'!F218","v":0},null,"Error?"]
[4282,{"$f":"'Revenues 10-15'!G218","v":0},null,"Error?"]
[4283,{"$f":"'Revenues 10-15'!C222","v":0},null,"Error?"]
[4284,{"$f":"'Revenues 10-15'!D222","v":0},null,"Error?"]
[4285,{"$f":"'Revenues 10-15'!G222","v":0},null,"Error?"]
[4286,null,null,"OK"]
[4287,null,null,"OK"]
[4288,null,null,"OK"]
[4289,null,null,"OK"]
[4290,{"$f":"'Revenues 10-15'!C149","v":0},null,{"$f":"IF(ISBLANK(B4349),\"OK\",IF(A4349-B4349=0,\"OK\",\"Error?\"))","v":"Error?"}]
[4291,{"$f":"'Revenues 10-15'!D149","v":0},null,"Error?"]
[4292,{"$f":"'Revenues 10-15'!G149","v":0},null,"Error?"]
[4293,{"$f":"'Revenues 10-15'!F152","v":0},null,"Error?"]
[4294,{"$f":"'Revenues 10-15'!G152","v":0},null,"Error?"]
[4295,{"$f":"'Revenues 10-15'!G156","v":0},null,"Error?"]
[4296,{"$f":"'Revenues 10-15'!G157","v":0},null,"Error?"]
[4297,{"$f":"'Revenues 10-15'!C265","v":0},null,"Error?"]
[4298,{"$f":"'Revenues 10-15'!D265","v":0},"T","Error?"]
[4299,{"$f":"'Revenues 10-15'!F265","v":0},null,"Error?"]
[4300,{"$f":"'Revenues 10-15'!G265","v":0},null,"Error?"]
[4301,{"$f":"'Revenues 10-15'!C266","v":0},null,"Error?"]
[4302,{"$f":"'Revenues 10-15'!I171","v":0},null,"Error?"]
[4303,{"$f":"'Revenues 10-15'!E175","v":0},null,"Error?"]
[4304,{"$f":"'Revenues 10-15'!H175","v":0},"T","Error?"]
[4305,{"$f":"'Revenues 10-15'!I175","v":0},null,"Error?"]
[4306,null,null,"OK"]
[4307,{"$f":"'Revenues 10-15'!K175","v":0},null,"Error?"]
[4308,{"$f":"'Revenues 10-15'!E176","v":0},null,"Error?"]
[4309,{"$f":"'Revenues 10-15'!I176","v":0},null,"Error?"]
[4310,null,null,"OK"]
[4311,{"$f":"'Revenues 10-15'!E177","v":0},null,"Error?"]
[4312,{"$f":"'Revenues 10-15'!I177","v":0},null,"Error?"]
[4313,null,"T","OK"]
[4314,{"$f":"'Revenues 10-15'!C187","v":0},"T","Error?"]
[4315,{"$f":"'Revenues 10-15'!D187","v":0},"T","Error?"]
[4316,{"$f":"'Revenues 10-15'!F187","v":0},null,"Error?"]
[4317,{"$f":"'Revenues 10-15'!G187","v":0},null,"Error?"]
[4318,{"$f":"'Revenues 10-15'!C188","v":0},null,"Error?"]
[4319,{"$f":"'Revenues 10-15'!D188","v":0},null,"Error?"]
[4320,{"$f":"'Revenues 10-15'!F188","v":0},null,"Error?"]
[4321,{"$f":"'Revenues 10-15'!G188","v":0},null,"Error?"]
[4322,null,null,"OK"]
[4323,null,null,"OK"]
[4324,null,null,"OK"]
[4325,null,null,"OK"]
[4326,null,null,"OK"]
[4327,null,null,"OK"]
[4328,null,null,"OK"]
[4329,null,null,"OK"]
[4330,{"$f":"'Revenues 10-15'!C189","v":0},null,"Error?"]
[4331,{"$f":"'Revenues 10-15'!D189","v":0},null,"Error?"]
[4332,{"$f":"'Revenues 10-15'!F189","v":0},null,"Error?"]
[4333,{"$f":"'Revenues 10-15'!G189","v":0},null,"Error?"]
[4334,{"$f":"'Revenues 10-15'!C190","v":0},null,"Error?"]
[4335,{"$f":"'Revenues 10-15'!D190","v":0},null,"Error?"]
[4336,{"$f":"'Revenues 10-15'!F190","v":0},"T","Error?"]
[4337,{"$f":"'Revenues 10-15'!G190","v":0},"T","Error?"]
[4338,null,"T","OK","Deleted in 2019"]
[4339,null,"T","OK","Deleted in 2019"]
[4340,null,null,"OK","Deleted in 2019"]
[4341,null,null,"OK","Deleted in 2019"]
[4342,null,null,"OK"]
[4343,null,null,"OK"]
[4344,null,null,"OK"]
[4345,null,null,"OK"]
[4346,{"$f":"'Revenues 10-15'!C209","v":0},null,"Error?"]
[4347,{"$f":"'Revenues 10-15'!D209","v":0},null,"Error?"]
[4348,{"$f":"'Revenues 10-15'!F209","v":0},null,"Error?"]
[4349,{"$f":"'Revenues 10-15'!G209","v":0},null,"Error?"]
[4350,{"$f":"'Revenues 10-15'!C211","v":0},null,"Error?"]
[4351,{"$f":"'Revenues 10-15'!D211","v":0},null,"Error?"]
[4352,{"$f":"'Revenues 10-15'!F211","v":0},"T","Error?"]
[4353,{"$f":"'Revenues 10-15'!G211","v":0},"T","Error?"]
[4354,{"$f":"'Revenues 10-15'!C258","v":0},"T",{"$f":"IF(ISBLANK(B4413),\"OK\",IF(A4413-B4413=0,\"OK\",\"Error?\"))","v":"Error?"}]
[4355,{"$f":"'Revenues 10-15'!F258","v":0},"T","Error?"]
[4356,{"$f":"'Revenues 10-15'!G258","v":0},null,"Error?"]
[4357,{"$f":"'Revenues 10-15'!C261","v":0},null,"Error?"]
[4358,{"$f":"'Revenues 10-15'!D261","v":0},null,"Error?"]
[4359,{"$f":"'Revenues 10-15'!F261","v":0},null,"Error?"]
[4360,{"$f":"'Revenues 10-15'!G261","v":0},null,"Error?"]
[4361,null,null,"OK"]
[4362,null,null,"OK"]
[4363,null,null,"OK"]
[4364,null,null,"OK"]
[4365,null,null,"OK"]
[4366,null,null,"OK"]
[4367,null,null,"OK"]
[4368,null,null,"OK"]
[4369,null,null,"OK"]
[4370,null,null,"OK"]
[4371,null,null,"OK"]
[4372,null,null,"OK"]
[4373,{"$f":"'Revenues 10-15'!E269","v":0},null,"Error?"]
[4374,{"$f":"'Revenues 10-15'!I269","v":0},null,"Error?"]
[4375,null,"T","OK"]
[4376,{"$f":"('FP Info 3'!L10)*100000","v":0},"T","Error?"]
[4377,null,"T","OK"]
[4378,null,null,"OK"]
[4379,null,null,"OK"]
[4380,{"$f":"'Revenues 10-15'!H268","v":0},null,"Error?"]
[4381,{"$f":"'Revenues 10-15'!K268","v":0},null,"Error?"]
[4382,{"$f":"'Acct Summary 7-9'!E7","v":0},"T","Error?"]
[4383,{"$f":"'Acct Summary 7-9'!I7","v":0},"T","Error?"]
[4384,null,"T","OK"]
[4385,{"$f":"'Revenues 10-15'!D266","v":0},"T","Error?"]
[4386,{"$f":"'Revenues 10-15'!F266","v":0},"T","Error?"]
[4387,{"$f":"'Revenues 10-15'!G266","v":0},null,"Error?"]
[4388,null,null,"OK"]
[4389,null,null,"OK"]
[4390,null,null,"OK"]
[4391,null,null,"OK"]
[4392,null,null,"OK"]
[4393,null,null,"OK"]
[4394,null,null,"OK"]
[4395,null,null,"OK"]
[4396,null,null,"OK"]
[4397,null,null,"OK"]
[4398,null,null,"OK"]
[4399,null,null,"OK"]
[4400,null,null,"OK"]
[4401,null,null,"OK"]
[4402,null,null,"OK"]
[4403,null,null,"OK"]
[4404,null,null,"OK"]
[4405,null,null,"OK"]
[4406,null,null,"OK"]
[4407,null,null,"OK"]
[4408,null,null,"OK"]
[4409,null,null,"OK"]
[4410,null,null,"OK"]
[4411,null,null,"OK"]
[4412,null,null,"OK"]
[4413,null,null,"OK"]
[4414,null,null,"OK"]
[4415,null,null,"OK"]
[4416,null,null,"OK"]
[4417,null,null,"OK"]
[4418,null,null,{"$f":"IF(ISBLANK(B4477),\"OK\",IF(A4477-B4477=0,\"OK\",\"Error?\"))","v":"OK"}]
[4419,null,null,"OK"]
[4420,null,null,"OK"]
[4421,null,null,"OK"]
[4422,null,null,"OK"]
[4423,null,null,"OK"]
[4424,null,null,"OK"]
[4425,null,null,"OK"]
[4426,null,null,"OK"]
[4427,null,null,"OK"]
[4428,null,null,"OK"]
[4429,null,null,"OK"]
[4430,null,null,"OK"]
[4431,null,null,"OK"]
[4432,null,null,"OK"]
[4433,null,null,"OK"]
[4434,null,null,"OK"]
[4435,null,null,"OK"]
[4436,null,null,"OK"]
[4437,null,null,"OK"]
[4438,null,null,"OK"]
[4439,null,null,"OK"]
[4440,null,null,"OK"]
[4441,null,null,"OK"]
[4442,null,null,"OK"]
[4443,null,null,"OK"]
[4444,null,null,"OK"]
[4445,null,null,"OK"]
[4446,null,null,"OK"]
[4447,null,null,"OK"]
[4448,null,null,"OK"]
[4449,null,null,"OK"]
[4450,null,null,"OK"]
[4451,null,null,"OK"]
[4452,null,null,"OK"]
[4453,null,null,"OK"]
[4454,null,null,"OK"]
[4455,null,null,"OK"]
[4456,null,null,"OK"]
[4457,null,null,"OK"]
[4458,null,null,"OK"]
[4459,null,null,"OK"]
[4460,null,null,"OK"]
[4461,null,null,"OK"]
[4462,null,null,"OK"]
[4463,null,null,"OK"]
[4464,null,null,"OK"]
[4465,null,null,"OK"]
[4466,null,null,"OK"]
[4467,null,null,"OK"]
[4468,null,null,"OK"]
[4469,null,null,"OK"]
[4470,null,null,"OK"]
[4471,null,null,"OK"]
[4472,null,null,"OK"]
[4473,null,null,"OK"]
[4474,null,null,"OK"]
[4475,null,null,"OK"]
[4476,null,null,"OK"]
[4477,null,null,"OK"]
[4478,null,null,"OK"]
[4479,null,null,"OK"]
[4480,null,null,"OK"]
[4481,null,null,"OK"]
[4482,null,null,{"$f":"IF(ISBLANK(B4541),\"OK\",IF(A4541-B4541=0,\"OK\",\"Error?\"))","v":"OK"}]
[4483,null,null,"OK"]
[4484,null,null,"OK"]
[4485,null,null,"OK"]
[4486,null,null,"OK"]
[4487,null,null,"OK"]
[4488,null,null,"OK"]
[4489,null,null,"OK"]
[4490,null,null,"OK"]
[4491,null,null,"OK"]
[4492,null,null,"OK"]
[4493,null,null,"OK"]
[4494,null,null,"OK"]
[4495,null,null,"OK"]
[4496,null,null,"OK"]
[4497,null,null,"OK"]
[4498,null,null,"OK"]
[4499,null,null,"OK"]
[4500,null,null,"OK"]
[4501,null,null,"OK"]
[4502,null,null,"OK"]
[4503,null,null,"OK"]
[4504,null,null,"OK"]
[4505,null,null,"OK"]
[4506,null,null,"OK"]
[4507,null,null,"OK"]
[4508,null,null,"OK"]
[4509,null,null,"OK"]
[4510,null,null,"OK"]
[4511,null,null,"OK"]
[4512,null,null,"OK"]
[4513,null,null,"OK"]
[4514,null,null,"OK"]
[4515,null,null,"OK"]
[4516,null,null,"OK"]
[4517,null,null,"OK"]
[4518,null,null,"OK"]
[4519,null,null,"OK"]
[4520,null,null,"OK"]
[4521,null,null,"OK"]
[4522,null,null,"OK"]
[4523,null,null,"OK"]
[4524,null,null,"OK"]
[4525,null,null,"OK"]
[4526,null,null,"OK"]
[4527,null,null,"OK"]
[4528,null,null,"OK"]
[4529,null,null,"OK"]
[4530,null,null,"OK"]
[4531,null,null,"OK"]
[4532,null,null,"OK"]
[4533,null,null,"OK"]
[4534,null,null,"OK"]
[4535,null,null,"OK"]
[4536,null,null,"OK"]
[4537,null,null,"OK"]
[4538,null,null,"OK"]
[4539,null,null,"OK"]
[4540,null,null,"OK"]
[4541,null,null,"OK"]
[4542,null,null,"OK"]
[4543,null,null,"OK"]
[4544,null,null,"OK"]
[4545,null,null,"OK"]
[4546,null,null,{"$f":"IF(ISBLANK(B4605),\"OK\",IF(A4605-B4605=0,\"OK\",\"Error?\"))","v":"OK"}]
[4547,null,null,"OK"]
[4548,null,null,"OK"]
[4549,null,null,"OK"]
[4550,null,null,"OK"]
[4551,null,null,"OK"]
[4552,null,null,"OK"]
[4553,null,null,"OK"]
[4554,null,null,"OK"]
[4555,null,null,"OK"]
[4556,null,null,"OK"]
[4557,null,null,"OK"]
[4558,null,null,"OK"]
[4559,null,null,"OK"]
[4560,null,null,"OK"]
[4561,null,null,"OK"]
[4562,null,null,"OK"]
[4563,null,null,"OK"]
[4564,null,null,"OK"]
[4565,null,null,"OK"]
[4566,null,null,"OK"]
[4567,null,null,"OK"]
[4568,null,null,"OK"]
[4569,null,null,"OK"]
[4570,null,null,"OK"]
[4571,null,null,"OK"]
[4572,null,null,"OK"]
[4573,null,null,"OK"]
[4574,null,null,"OK"]
[4575,null,null,"OK"]
[4576,null,null,"OK"]
[4577,null,null,"OK"]
[4578,null,null,"OK"]
[4579,null,null,"OK"]
[4580,null,null,"OK"]
[4581,null,null,"OK"]
[4582,null,null,"OK"]
[4583,null,null,"OK"]
[4584,null,null,"OK"]
[4585,null,null,"OK"]
[4586,null,null,"OK"]
[4587,null,null,"OK"]
[4588,null,null,"OK"]
[4589,null,null,"OK"]
[4590,null,null,"OK"]
[4591,null,null,"OK"]
[4592,null,null,"OK"]
[4593,null,null,"OK"]
[4594,null,null,"OK"]
[4595,null,null,"OK"]
[4596,null,null,"OK"]
[4597,null,null,"OK"]
[4598,null,null,"OK"]
[4599,null,null,"OK"]
[4600,null,null,"OK"]
[4601,null,null,"OK"]
[4602,null,null,"OK"]
[4603,null,null,"OK"]
[4604,null,null,"OK"]
[4605,null,null,"OK"]
[4606,null,null,"OK"]
[4607,null,null,"OK"]
[4608,null,null,"OK"]
[4609,null,null,"OK"]
[4610,null,null,{"$f":"IF(ISBLANK(B4669),\"OK\",IF(A4669-B4669=0,\"OK\",\"Error?\"))","v":"OK"}]
[4611,null,null,"OK"]
[4612,null,null,"OK"]
[4613,null,null,"OK"]
[4614,null,null,"OK"]
[4615,null,null,"OK"]
[4616,null,null,"OK"]
[4617,null,null,"OK"]
[4618,null,null,"OK"]
[4619,null,null,"OK"]
[4620,null,null,"OK"]
[4621,null,null,"OK"]
[4622,null,null,"OK"]
[4623,null,null,"OK"]
[4624,null,null,"OK"]
[4625,null,null,"OK"]
[4626,null,null,"OK"]
[4627,null,null,"OK"]
[4628,null,null,"OK"]
[4629,null,null,"OK"]
[4630,null,null,"OK"]
[4631,null,null,"OK"]
[4632,null,null,"OK"]
[4633,null,null,"OK"]
[4634,null,null,"OK"]
[4635,null,null,"OK"]
[4636,null,null,"OK"]
[4637,null,null,"OK"]
[4638,null,null,"OK"]
[4639,null,null,"OK"]
[4640,null,null,"OK"]
[4641,null,null,"OK"]
[4642,null,null,"OK"]
[4643,null,null,"OK"]
[4644,null,null,"OK"]
[4645,null,null,"OK"]
[4646,null,null,"OK"]
[4647,null,null,"OK"]
[4648,null,null,"OK"]
[4649,null,null,"OK"]
[4650,null,null,"OK"]
[4651,null,null,"OK"]
[4652,null,null,"OK"]
[4653,null,null,"OK"]
[4654,null,null,"OK"]
[4655,null,null,"OK"]
[4656,null,null,"OK"]
[4657,null,null,"OK"]
[4658,null,null,"OK"]
[4659,null,null,"OK"]
[4660,null,null,"OK"]
[4661,null,null,"OK"]
[4662,null,null,"OK"]
[4663,null,null,"OK"]
[4664,null,null,"OK"]
[4665,null,null,"OK"]
[4666,null,null,"OK"]
[4667,null,null,"OK"]
[4668,null,null,"OK"]
[4669,null,null,"OK"]
[4670,null,null,"OK"]
[4671,null,null,"OK"]
[4672,null,null,"OK"]
[4673,null,null,"OK"]
[4674,null,null,{"$f":"IF(ISBLANK(B4733),\"OK\",IF(A4733-B4733=0,\"OK\",\"Error?\"))","v":"OK"}]
[4675,null,null,"OK"]
[4676,null,null,"OK"]
[4677,null,null,"OK"]
[4678,null,null,"OK"]
[4679,null,null,"OK"]
[4680,null,null,"OK"]
[4681,null,null,"OK"]
[4682,null,null,"OK"]
[4683,null,null,"OK"]
[4684,null,null,"OK"]
[4685,null,null,"OK"]
[4686,null,null,"OK"]
[4687,null,null,"OK"]
[4688,null,null,"OK"]
[4689,null,null,"OK"]
[4690,null,null,"OK"]
[4691,null,null,"OK"]
[4692,null,null,"OK"]
[4693,null,null,"OK"]
[4694,null,null,"OK"]
[4695,null,null,"OK"]
[4696,null,null,"OK"]
[4697,null,null,"OK"]
[4698,null,null,"OK"]
[4699,null,null,"OK"]
[4700,{"$f":"'Revenues 10-15'!C106","v":0},null,"Error?"]
[4701,null,null,"OK"]
[4702,null,null,"OK"]
[4703,null,null,"OK"]
[4704,null,null,"OK"]
[4705,null,null,"OK"]
[4706,null,null,"OK"]
[4707,null,null,"OK"]
[4708,null,null,"OK"]
[4709,null,null,"OK"]
[4710,{"$f":"'Revenues 10-15'!G138","v":0},"T","Error?"]
[4711,null,null,"OK"]
[4712,null,null,"OK"]
[4713,null,null,"OK"]
[4714,null,null,"OK"]
[4715,null,null,"OK"]
[4716,null,null,"OK"]
[4717,null,null,"OK"]
[4718,null,null,"OK"]
[4719,null,null,"OK"]
[4720,null,null,"OK"]
[4721,null,null,"OK"]
[4722,null,null,"OK"]
[4723,null,null,"OK"]
[4724,null,null,"OK"]
[4725,null,null,"OK"]
[4726,null,null,"OK"]
[4727,null,null,"OK"]
[4728,null,null,"OK"]
[4729,null,null,"OK"]
[4730,null,null,"OK"]
[4731,{"$f":"'Revenues 10-15'!C170","v":0},null,"Error?"]
[4732,{"$f":"'Revenues 10-15'!D170","v":0},null,"Error?"]
[4733,{"$f":"'Revenues 10-15'!E170","v":0},null,"Error?"]
[4734,{"$f":"'Revenues 10-15'!F170","v":0},null,"Error?"]
[4735,{"$f":"'Revenues 10-15'!G170","v":0},null,"Error?"]
[4736,{"$f":"'Revenues 10-15'!H170","v":0},null,"Error?"]
[4737,null,null,"OK"]
[4738,{"$f":"'Revenues 10-15'!K170","v":0},null,{"$f":"IF(ISBLANK(B4797),\"OK\",IF(A4797-B4797=0,\"OK\",\"Error?\"))","v":"Error?"}]
[4739,null,null,"OK"]
[4740,{"$f":"'Revenues 10-15'!C181","v":0},null,"Error?"]
[4741,{"$f":"'Revenues 10-15'!D181","v":0},null,"Error?"]
[4742,null,null,"OK"]
[4743,{"$f":"'Revenues 10-15'!F181","v":0},null,"Error?"]
[4744,{"$f":"'Revenues 10-15'!C182","v":0},null,"Error?"]
[4745,{"$f":"'Revenues 10-15'!D182","v":0},null,"Error?"]
[4746,null,null,"OK"]
[4747,{"$f":"'Revenues 10-15'!F182","v":0},null,"Error?"]
[4748,null,null,"OK"]
[4749,{"$f":"'Revenues 10-15'!G181","v":0},null,"Error?"]
[4750,{"$f":"'Revenues 10-15'!H181","v":0},null,"Error?"]
[4751,null,null,"OK"]
[4752,{"$f":"'Revenues 10-15'!G182","v":0},null,"Error?"]
[4753,{"$f":"'Revenues 10-15'!H182","v":0},null,"Error?"]
[4754,null,null,"OK"]
[4755,{"$f":"'Revenues 10-15'!K182","v":0},null,"Error?"]
[4756,null,null,"OK"]
[4757,null,null,"OK"]
[4758,null,null,"OK"]
[4759,null,null,"OK"]
[4760,null,null,"OK"]
[4761,null,null,"OK"]
[4762,null,null,"OK"]
[4763,null,null,"OK"]
[4764,null,null,"OK"]
[4765,null,null,"OK"]
[4766,null,null,"OK"]
[4767,null,null,"OK"]
[4768,null,null,"OK"]
[4769,null,null,"OK"]
[4770,null,null,"OK"]
[4771,null,null,"OK"]
[4772,null,null,"OK"]
[4773,null,null,"OK"]
[4774,null,null,"OK"]
[4775,null,null,"OK"]
[4776,null,null,"OK"]
[4777,null,null,"OK"]
[4778,null,null,"OK"]
[4779,null,null,"OK"]
[4780,null,null,"OK"]
[4781,null,null,"OK"]
[4782,null,null,"OK"]
[4783,null,null,"OK"]
[4784,null,null,"OK"]
[4785,null,null,"OK"]
[4786,null,null,"OK"]
[4787,null,null,"OK"]
[4788,null,null,"OK"]
[4789,null,null,"OK"]
[4790,null,null,"OK"]
[4791,{"$f":"'Revenues 10-15'!C267","v":0},null,"Error?"]
[4792,{"$f":"'Revenues 10-15'!D267","v":0},null,"Error?"]
[4793,null,null,"OK"]
[4794,{"$f":"'Revenues 10-15'!F267","v":0},null,"Error?"]
[4795,null,null,"OK"]
[4796,null,null,"OK"]
[4797,null,null,"OK"]
[4798,null,null,"OK"]
[4799,null,null,"OK"]
[4800,null,null,"OK"]
[4801,null,null,"OK"]
[4802,null,null,{"$f":"IF(ISBLANK(B4861),\"OK\",IF(A4861-B4861=0,\"OK\",\"Error?\"))","v":"OK"}]
[4803,{"$f":"'Revenues 10-15'!G267","v":0},null,"Error?"]
[4804,{"$f":"'Revenues 10-15'!H267","v":0},null,"Error?"]
[4805,null,null,"OK"]
[4806,null,null,"OK"]
[4807,{"$f":"'Revenues 10-15'!K267","v":0},null,"Error?"]
[4808,null,null,"OK"]
[4809,null,null,"OK"]
[4810,null,null,"OK"]
[4811,null,null,"OK"]
[4812,null,null,"OK"]
[4813,null,null,"OK"]
[4814,null,null,"OK"]
[4815,null,null,"OK"]
[4816,null,null,"OK"]
[4817,null,null,"OK"]
[4818,null,null,"OK"]
[4819,null,null,"OK"]
[4820,null,null,"OK"]
[4821,{"$f":"'Revenues 10-15'!C123","v":0},null,"Error?"]
[4822,{"$f":"'Revenues 10-15'!D123","v":0},null,"Error?"]
[4823,{"$f":"'Revenues 10-15'!E123","v":0},null,"Error?"]
[4824,{"$f":"'Revenues 10-15'!F123","v":0},null,"Error?"]
[4825,{"$f":"'Revenues 10-15'!G123","v":0},null,"Error?"]
[4826,null,null,"OK"]
[4827,null,null,"OK"]
[4828,{"$f":"'Revenues 10-15'!K123","v":0},null,"Error?"]
[4829,null,null,"OK"]
[4830,null,null,"OK"]
[4831,null,null,"OK"]
[4832,null,null,"OK"]
[4833,null,null,"OK"]
[4834,null,null,"OK"]
[4835,null,null,"OK"]
[4836,null,null,"OK"]
[4837,null,null,"OK"]
[4838,null,null,"OK"]
[4839,null,null,"OK"]
[4840,null,null,"OK"]
[4841,null,null,"OK"]
[4842,null,null,"OK"]
[4843,null,null,"OK"]
[4844,null,null,"OK"]
[4845,null,null,"OK"]
[4846,null,null,"OK"]
[4847,null,null,"OK"]
[4848,null,null,"OK"]
[4849,null,null,"OK"]
[4850,null,null,"OK"]
[4851,null,null,"OK"]
[4852,null,null,"OK"]
[4853,null,null,"OK"]
[4854,{"$f":"'Revenues 10-15'!C164","v":0},null,"Error?"]
[4855,{"$f":"'Revenues 10-15'!D164","v":0},null,"Error?"]
[4856,{"$f":"'Revenues 10-15'!E164","v":0},null,"Error?"]
[4857,{"$f":"'Revenues 10-15'!F164","v":0},null,"Error?"]
[4858,{"$f":"'Revenues 10-15'!G164","v":0},null,"Error?"]
[4859,{"$f":"'Revenues 10-15'!H164","v":0},null,"Error?"]
[4860,null,null,"OK"]
[4861,{"$f":"'Revenues 10-15'!K164","v":0},null,"Error?"]
[4862,null,null,"OK"]
[4863,null,null,"OK"]
[4864,null,null,"OK"]
[4865,null,null,"OK"]
[4866,null,null,{"$f":"IF(ISBLANK(B4925),\"OK\",IF(A4925-B4925=0,\"OK\",\"Error?\"))","v":"OK"}]
[4867,null,null,"OK"]
[4868,null,null,"OK"]
[4869,null,null,"OK"]
[4870,null,null,"OK"]
[4871,null,null,"OK"]
[4872,null,null,"OK"]
[4873,null,null,"OK"]
[4874,null,null,"OK"]
[4875,null,null,"OK"]
[4876,null,null,"OK"]
[4877,null,null,"OK"]
[4878,null,null,"OK"]
[4879,null,null,"OK"]
[4880,null,null,"OK"]
[4881,null,null,"OK"]
[4882,null,null,"OK"]
[4883,{"$f":"'Revenues 10-15'!C176","v":0},null,"Error?"]
[4884,{"$f":"'Revenues 10-15'!D176","v":0},null,"Error?"]
[4885,{"$f":"'Revenues 10-15'!F176","v":0},null,"Error?"]
[4886,{"$f":"'Revenues 10-15'!G176","v":0},null,"Error?"]
[4887,{"$f":"'Revenues 10-15'!H176","v":0},null,"Error?"]
[4888,{"$f":"'Revenues 10-15'!K176","v":0},null,"Error?"]
[4889,{"$f":"'Revenues 10-15'!H177","v":0},null,"Error?"]
[4890,{"$f":"'Revenues 10-15'!K177","v":0},null,"Error?"]
[4891,null,"T","OK"]
[4892,null,"T","OK"]
[4893,null,null,"OK"]
[4894,null,null,"OK"]
[4895,null,null,"OK"]
[4896,null,null,"OK"]
[4897,null,null,"OK"]
[4898,null,null,"OK"]
[4899,null,null,"OK"]
[4900,null,null,"OK"]
[4901,null,null,"OK"]
[4902,null,null,"OK"]
[4903,null,null,"OK"]
[4904,null,null,"OK"]
[4905,null,null,"OK"]
[4906,null,null,"OK"]
[4907,null,null,"OK"]
[4908,null,null,"OK"]
[4909,null,null,"OK"]
[4910,null,null,"OK"]
[4911,null,null,"OK"]
[4912,null,null,"OK"]
[4913,null,null,"OK"]
[4914,null,null,"OK"]
[4915,null,null,"OK"]
[4916,null,null,"OK"]
[4917,null,null,"OK"]
[4918,null,null,"OK"]
[4919,null,null,"OK"]
[4920,null,null,"OK"]
[4921,null,null,"OK"]
[4922,null,null,"OK"]
[4923,null,null,"OK"]
[4924,null,null,"OK"]
[4925,null,null,"OK"]
[4926,null,null,"OK"]
[4927,null,null,"OK"]
[4928,null,null,"OK"]
[4929,null,null,"OK"]
[4930,null,null,{"$f":"IF(ISBLANK(B4989),\"OK\",IF(A4989-B4989=0,\"OK\",\"Error?\"))","v":"OK"}]
[4931,null,null,"OK"]
[4932,null,null,"OK"]
[4933,null,null,"OK"]
[4934,{"$f":"'FP Info 3'!J7","v":0},null,"Error?"]
[4935,{"$f":"'FP Info 3'!H32","v":"Enter x in a.or b."},null,{"$error":"#VALUE!"}]
[4936,{"$f":"'FP Info 3'!H38","v":0},null,"Error?"]
[4937,null,null,"OK"]
[4938,null,null,"OK"]
[4939,{"$f":"'Revenues 10-15'!K171","v":0},null,"Error?"]
[4940,null,"T","OK"]
[4941,null,"T","OK"]
[4942,null,null,"OK"]
[4943,null,null,"OK"]
[4944,null,null,"OK"]
[4945,null,null,"OK"]
[4946,null,"T","OK"]
[4947,null,null,"OK"]
[4948,null,null,"OK"]
[4949,null,null,"OK"]
[4950,{"$f":"'Acct Summary 7-9'!I6","v":0},"T","Error?"]
[4951,{"$f":"'Acct Summary 7-9'!C27","v":0},"T","Error?"]
[4952,{"$f":"'Acct Summary 7-9'!D27","v":0},"T","Error?"]
[4953,{"$f":"'Acct Summary 7-9'!F27","v":0},"T","Error?"]
[4954,null,null,"OK"]
[4955,null,"T","OK"]
[4956,null,null,"OK"]
[4957,null,null,"OK"]
[4958,null,null,"OK"]
[4959,null,null,"OK"]
[4960,null,null,"OK"]
[4961,{"$f":"'Acct Summary 7-9'!C49","v":0},null,"Error?"]
[4962,{"$f":"'Acct Summary 7-9'!D49","v":0},null,"Error?"]
[4963,{"$f":"'Acct Summary 7-9'!F49","v":0},null,"Error?"]
[4964,null,null,"OK"]
[4965,{"$f":"'Revenues 10-15'!C6","v":0},null,"Error?"]
[4966,{"$f":"'Revenues 10-15'!F106","v":0},"T","Error?"]
[4967,null,null,"OK"]
[4968,null,null,"OK"]
[4969,null,null,"OK"]
[4970,null,null,"OK"]
[4971,null,null,"OK"]
[4972,null,null,"OK"]
[4973,null,null,"OK"]
[4974,null,null,"OK"]
[4975,null,null,"OK"]
[4976,null,null,"OK"]
[4977,null,null,"OK"]
[4978,null,null,"OK"]
[4979,null,null,"OK"]
[4980,null,null,"OK"]
[4981,null,null,"OK"]
[4982,null,null,"OK"]
[4983,null,null,"OK"]
[4984,null,null,"OK"]
[4985,null,null,"OK"]
[4986,null,null,"OK"]
[4987,null,null,"OK"]
[4988,null,null,"OK"]
[4989,null,null,"OK"]
[4990,null,null,"OK"]
[4991,null,null,"OK"]
[4992,null,null,"OK"]
[4993,null,null,"OK"]
[4994,null,null,{"$f":"IF(ISBLANK(B5053),\"OK\",IF(A5053-B5053=0,\"OK\",\"Error?\"))","v":"OK"}]
[4995,{"$f":"'Revenues 10-15'!C162","v":0},null,"Error?"]
[4996,{"$f":"'Revenues 10-15'!D162","v":0},null,"Error?"]
[4997,{"$f":"'Revenues 10-15'!F162","v":0},null,"Error?"]
[4998,{"$f":"'Revenues 10-15'!G162","v":0},null,"Error?"]
[4999,{"$f":"'Revenues 10-15'!C163","v":0},null,"Error?"]
[5000,{"$f":"'Revenues 10-15'!C5","v":0},null,"Error?"]
[5001,null,null,"OK"]
[5002,{"$f":"'Revenues 10-15'!C7","v":0},null,"Error?"]
[5003,{"$f":"'Revenues 10-15'!C10","v":0},null,"Error?"]
[5004,{"$f":"'Revenues 10-15'!C11","v":0},null,"Error?"]
[5005,{"$f":"'Revenues 10-15'!C12","v":0},null,"Error?"]
[5006,{"$f":"'Revenues 10-15'!C14","v":0},null,"Error?"]
[5007,{"$f":"'Revenues 10-15'!C15","v":0},"T","Error?"]
[5008,{"$f":"'Revenues 10-15'!C16","v":0},null,"Error?"]
[5009,{"$f":"'Revenues 10-15'!C17","v":0},null,"Error?"]
[5010,{"$f":"'Revenues 10-15'!C18","v":0},null,"Error?"]
[5011,{"$f":"'Revenues 10-15'!C20","v":0},null,"Error?"]
[5012,{"$f":"'Revenues 10-15'!C21","v":0},"T","Error?"]
[5013,{"$f":"'Revenues 10-15'!C22","v":0},null,"Error?"]
[5014,{"$f":"'Revenues 10-15'!C24","v":0},null,"Error?"]
[5015,{"$f":"'Revenues 10-15'!C25","v":0},null,"Error?"]
[5016,{"$f":"'Revenues 10-15'!C26","v":0},null,"Error?"]
[5017,{"$f":"'Revenues 10-15'!C28","v":0},null,"Error?"]
[5018,{"$f":"'Revenues 10-15'!C29","v":0},null,"Error?"]
[5019,{"$f":"'Revenues 10-15'!C30","v":0},null,"Error?"]
[5020,{"$f":"'Revenues 10-15'!C32","v":0},null,"Error?"]
[5021,{"$f":"'Revenues 10-15'!C33","v":0},null,"Error?"]
[5022,{"$f":"'Revenues 10-15'!C34","v":0},null,"Error?"]
[5023,{"$f":"'Revenues 10-15'!C36","v":0},null,"Error?"]
[5024,{"$f":"'Revenues 10-15'!C37","v":0},null,"Error?"]
[5025,{"$f":"'Revenues 10-15'!C38","v":0},null,"Error?"]
[5026,{"$f":"'Revenues 10-15'!C40","v":0},null,"Error?"]
[5027,{"$f":"'Revenues 10-15'!C65","v":0},null,"Error?"]
[5028,{"$f":"'Revenues 10-15'!C66","v":0},"T","Error?"]
[5029,{"$f":"'Revenues 10-15'!C67","v":0},null,"Error?"]
[5030,{"$f":"'Revenues 10-15'!C70","v":0},null,"Error?"]
[5031,{"$f":"'Revenues 10-15'!C71","v":0},"T","Error?"]
[5032,{"$f":"'Revenues 10-15'!C72","v":0},null,"Error?"]
[5033,{"$f":"'Revenues 10-15'!C73","v":0},null,"Error?"]
[5034,{"$f":"'Revenues 10-15'!C74","v":0},null,"Error?"]
[5035,{"$f":"'Revenues 10-15'!C75","v":0},null,"Error?"]
[5036,{"$f":"'Revenues 10-15'!C77","v":0},null,"Error?"]
[5037,{"$f":"'Revenues 10-15'!C78","v":0},"T","Error?"]
[5038,{"$f":"'Revenues 10-15'!C79","v":0},null,"Error?"]
[5039,{"$f":"'Revenues 10-15'!C80","v":0},null,"Error?"]
[5040,{"$f":"'Revenues 10-15'!C81","v":0},null,"Error?"]
[5041,{"$f":"'Revenues 10-15'!C83","v":0},null,"Error?"]
[5042,{"$f":"'Revenues 10-15'!C86","v":0},null,"Error?"]
[5043,{"$f":"'Revenues 10-15'!C87","v":0},"T","Error?"]
[5044,{"$f":"'Revenues 10-15'!C88","v":0},null,"Error?"]
[5045,{"$f":"'Revenues 10-15'!C89","v":0},null,"Error?"]
[5046,{"$f":"'Revenues 10-15'!C90","v":0},null,"Error?"]
[5047,{"$f":"'Revenues 10-15'!C91","v":0},null,"Error?"]
[5048,{"$f":"'Revenues 10-15'!C92","v":0},null,"Error?"]
[5049,{"$f":"'Revenues 10-15'!C93","v":0},null,"Error?"]
[5050,{"$f":"'Revenues 10-15'!C94","v":0},null,"Error?"]
[5051,{"$f":"'Revenues 10-15'!C95","v":0},null,"Error?"]
[5052,{"$f":"'Revenues 10-15'!C97","v":0},null,"Error?"]
[5053,{"$f":"'Revenues 10-15'!C98","v":0},"T","Error?"]
[5054,{"$f":"'Revenues 10-15'!C100","v":0},null,"Error?"]
[5055,{"$f":"'Revenues 10-15'!C101","v":0},null,"Error?"]
[5056,{"$f":"'Revenues 10-15'!C107","v":0},null,"Error?"]
[5057,{"$f":"'Revenues 10-15'!C108","v":0},null,"Error?"]
[5058,{"$f":"'Revenues 10-15'!C109","v":0},null,{"$f":"IF(ISBLANK(B5117),\"OK\",IF(A5117-B5117=0,\"OK\",\"Error?\"))","v":"Error?"}]
[5059,{"$f":"'Revenues 10-15'!C110","v":0},null,"Error?"]
[5060,{"$f":"'Revenues 10-15'!C111","v":0},null,"Error?"]
[5061,{"$f":"'Revenues 10-15'!C114","v":0},"T","Error?"]
[5062,{"$f":"'Revenues 10-15'!C115","v":0},"T","Error?"]
[5063,{"$f":"'Revenues 10-15'!C116","v":0},null,"Error?"]
[5064,{"$f":"'Revenues 10-15'!C117","v":0},null,"Error?"]
[5065,{"$f":"'Revenues 10-15'!C120","v":0},null,"Error?"]
[5066,{"$f":"'Revenues 10-15'!C121","v":0},"T","Error?"]
[5067,null,null,"OK"]
[5068,null,null,"OK"]
[5069,null,null,"OK"]
[5070,null,null,"OK"]
[5071,{"$f":"'Revenues 10-15'!C124","v":0},null,"Error?"]
[5072,{"$f":"'Revenues 10-15'!C127","v":0},null,"Error?"]
[5073,{"$f":"'Revenues 10-15'!C128","v":0},"T","Error?"]
[5074,{"$f":"'Revenues 10-15'!C129","v":0},null,"Error?"]
[5075,null,null,"OK"]
[5076,{"$f":"'Revenues 10-15'!C130","v":0},null,"Error?"]
[5077,null,null,"OK"]
[5078,{"$f":"'Revenues 10-15'!C131","v":0},null,"Error?"]
[5079,null,null,"OK"]
[5080,null,null,"OK"]
[5081,{"$f":"'Revenues 10-15'!C132","v":0},null,"Error?"]
[5082,null,null,"OK"]
[5083,null,null,"OK"]
[5084,null,null,"OK"]
[5085,null,null,"OK"]
[5086,{"$f":"'Revenues 10-15'!C134","v":0},null,"Error?"]
[5087,{"$f":"'Revenues 10-15'!C136","v":0},null,"Error?"]
[5088,null,"T","OK"]
[5089,null,null,"OK"]
[5090,null,null,"OK"]
[5091,{"$f":"'Revenues 10-15'!C137","v":0},null,"Error?"]
[5092,{"$f":"'Revenues 10-15'!C138","v":0},null,"Error?"]
[5093,null,null,"OK"]
[5094,null,null,"OK"]
[5095,null,null,"OK"]
[5096,null,null,"OK"]
[5097,null,null,"OK"]
[5098,null,null,"OK"]
[5099,null,null,"OK"]
[5100,{"$f":"'Revenues 10-15'!C143","v":0},null,"Error?"]
[5101,null,null,"OK"]
[5102,{"$f":"'Revenues 10-15'!C145","v":0},"T","Error?"]
[5103,{"$f":"'Revenues 10-15'!C146","v":0},null,"Error?"]
[5104,{"$f":"'Revenues 10-15'!C147","v":0},null,"Error?"]
[5105,null,null,"OK"]
[5106,{"$f":"'Revenues 10-15'!C148","v":0},"T","Error?"]
[5107,{"$f":"'Revenues 10-15'!C150","v":0},null,"Error?"]
[5108,null,null,"OK"]
[5109,null,null,"OK"]
[5110,{"$f":"'Revenues 10-15'!C151","v":0},null,"Error?"]
[5111,null,null,"OK"]
[5112,null,null,"OK"]
[5113,null,null,"OK"]
[5114,{"$f":"'Revenues 10-15'!C154","v":0},null,"Error?"]
[5115,null,null,"OK"]
[5116,{"$f":"'Revenues 10-15'!C155","v":0},null,"Error?"]
[5117,{"$f":"'Revenues 10-15'!C157","v":0},null,"Error?"]
[5118,null,null,"OK"]
[5119,null,"T","OK"]
[5120,{"$f":"'Revenues 10-15'!C158","v":0},null,"Error?"]
[5121,null,null,"OK"]
[5122,null,null,{"$f":"IF(ISBLANK(B5181),\"OK\",IF(A5181-B5181=0,\"OK\",\"Error?\"))","v":"OK"}]
[5123,null,null,"OK"]
[5124,null,null,"OK"]
[5125,null,null,"OK"]
[5126,{"$f":"'Revenues 10-15'!C159","v":0},null,"Error?"]
[5127,null,null,"OK"]
[5128,null,null,"OK"]
[5129,null,null,"OK"]
[5130,null,null,"OK"]
[5131,null,null,"OK"]
[5132,null,null,"OK"]
[5133,{"$f":"'Revenues 10-15'!C160","v":0},null,"Error?"]
[5134,null,null,"OK"]
[5135,{"$f":"'Revenues 10-15'!C161","v":0},null,"Error?"]
[5136,null,null,"OK"]
[5137,null,null,"OK"]
[5138,null,null,"OK","Deleted in 2019"]
[5139,null,null,"OK","Deleted in 2019"]
[5140,null,null,"OK"]
[5141,null,null,"OK"]
[5142,null,null,"OK"]
[5143,null,null,"OK"]
[5144,null,null,"OK"]
[5145,null,null,"OK"]
[5146,null,null,"OK"]
[5147,null,null,"OK"]
[5148,null,null,"OK"]
[5149,null,null,"OK"]
[5150,null,null,"OK"]
[5151,null,null,"OK"]
[5152,null,null,"OK"]
[5153,{"$f":"'Revenues 10-15'!C171","v":0},null,"Error?"]
[5154,null,null,"OK"]
[5155,null,"T","OK"]
[5156,null,null,"OK"]
[5157,null,null,"OK"]
[5158,null,null,"OK"]
[5159,null,null,"OK"]
[5160,null,null,"OK"]
[5161,null,null,"OK"]
[5162,{"$f":"'Revenues 10-15'!C172","v":0},null,"Error?"]
[5163,{"$f":"'Revenues 10-15'!C175","v":0},null,"Error?"]
[5164,{"$f":"'Revenues 10-15'!C177","v":0},"T","Error?"]
[5165,null,null,"OK"]
[5166,null,"T","OK"]
[5167,null,null,"OK"]
[5168,null,null,"OK"]
[5169,{"$f":"'Revenues 10-15'!C179","v":0},null,"Error?"]
[5170,{"$f":"'Revenues 10-15'!C180","v":0},null,"Error?"]
[5171,{"$f":"'Revenues 10-15'!C183","v":0},null,"Error?"]
[5172,{"$f":"'Revenues 10-15'!C186","v":0},null,"Error?"]
[5173,null,"T","OK"]
[5174,null,null,"OK"]
[5175,null,null,"OK"]
[5176,null,null,"OK"]
[5177,null,null,"OK"]
[5178,{"$f":"'Revenues 10-15'!C193","v":0},null,"Error?"]
[5179,{"$f":"'Revenues 10-15'!C194","v":0},null,"Error?"]
[5180,{"$f":"'Revenues 10-15'!C195","v":0},null,"Error?"]
[5181,{"$f":"'Revenues 10-15'!C196","v":0},null,"Error?"]
[5182,{"$f":"'Revenues 10-15'!C197","v":0},null,"Error?"]
[5183,null,null,"OK"]
[5184,null,null,"OK"]
[5185,{"$f":"'Revenues 10-15'!C200","v":0},null,"Error?"]
[5186,{"$f":"'Revenues 10-15'!C202","v":0},null,{"$f":"IF(ISBLANK(B5245),\"OK\",IF(A5245-B5245=0,\"OK\",\"Error?\"))","v":"Error?"}]
[5187,{"$f":"'Revenues 10-15'!C203","v":0},"T","Error?"]
[5188,null,null,"OK"]
[5189,null,null,"OK"]
[5190,null,null,"OK"]
[5191,null,null,"OK"]
[5192,null,null,"OK"]
[5193,null,null,"OK","Deleted in 2019"]
[5194,{"$f":"'Revenues 10-15'!C204","v":0},null,"Error?"]
[5195,{"$f":"'Revenues 10-15'!C208","v":0},null,"Error?"]
[5196,null,null,"OK"]
[5197,null,null,"OK"]
[5198,null,null,"OK"]
[5199,{"$f":"'Revenues 10-15'!C206","v":0},null,"Error?"]
[5200,null,null,"OK"]
[5201,null,"T","OK"]
[5202,null,null,"OK"]
[5203,null,null,"OK"]
[5204,null,null,"OK"]
[5205,null,null,"OK"]
[5206,null,null,"OK"]
[5207,null,null,"OK"]
[5208,null,null,"OK"]
[5209,null,null,"OK"]
[5210,null,null,"OK"]
[5211,null,null,"OK"]
[5212,null,null,"OK"]
[5213,{"$f":"'Revenues 10-15'!C213","v":0},null,"Error?"]
[5214,{"$f":"'Revenues 10-15'!C214","v":0},null,"Error?"]
[5215,null,null,"OK"]
[5216,null,null,"OK"]
[5217,{"$f":"'Revenues 10-15'!C215","v":0},null,"Error?"]
[5218,{"$f":"'Revenues 10-15'!C216","v":0},null,"Error?"]
[5219,{"$f":"'Revenues 10-15'!C217","v":0},null,"Error?"]
[5220,null,null,"OK"]
[5221,null,null,"OK"]
[5222,null,null,"OK"]
[5223,null,null,"OK"]
[5224,null,null,"OK"]
[5225,{"$f":"'Revenues 10-15'!C219","v":0},null,"Error?"]
[5226,null,null,"OK"]
[5227,null,"T","OK"]
[5228,null,null,"OK"]
[5229,null,null,"OK"]
[5230,null,null,"OK"]
[5231,null,null,"OK"]
[5232,null,null,"OK"]
[5233,null,null,"OK"]
[5234,null,null,"OK"]
[5235,null,null,"OK"]
[5236,null,null,"OK"]
[5237,null,null,"OK"]
[5238,null,null,"OK"]
[5239,null,null,"OK"]
[5240,{"$f":"'Revenues 10-15'!C221","v":0},null,"Error?"]
[5241,null,null,"OK"]
[5242,null,null,"OK"]
[5243,{"$f":"'Revenues 10-15'!C223","v":0},null,"Error?"]
[5244,null,null,"OK"]
[5245,null,"T","OK"]
[5246,null,null,"OK"]
[5247,null,null,"OK"]
[5248,null,null,"OK"]
[5249,{"$f":"'Revenues 10-15'!C224","v":0},null,"Error?"]
[5250,null,null,{"$f":"IF(ISBLANK(B5309),\"OK\",IF(A5309-B5309=0,\"OK\",\"Error?\"))","v":"OK"}]
[5251,{"$f":"'Revenues 10-15'!C257","v":0},null,"Error?"]
[5252,null,null,"OK","Deleted in 2019"]
[5253,null,null,"OK"]
[5254,{"$f":"'Revenues 10-15'!C259","v":0},null,"Error?"]
[5255,null,null,"OK"]
[5256,{"$f":"'Revenues 10-15'!C260","v":0},null,"Error?"]
[5257,null,null,"OK"]
[5258,null,null,"OK"]
[5259,{"$f":"'Revenues 10-15'!C268","v":0},null,"Error?"]
[5260,null,null,"OK"]
[5261,null,"T","OK"]
[5262,null,null,"OK"]
[5263,null,null,"OK"]
[5264,null,null,"OK"]
[5265,{"$f":"'Revenues 10-15'!C269","v":0},null,"Error?"]
[5266,{"$f":"'Revenues 10-15'!C270","v":0},null,"Error?"]
[5267,{"$f":"'Revenues 10-15'!D5","v":0},"T","Error?"]
[5268,null,"T","OK"]
[5269,{"$f":"'Revenues 10-15'!D6","v":0},null,"Error?"]
[5270,{"$f":"'Revenues 10-15'!D7","v":0},null,"Error?"]
[5271,{"$f":"'Revenues 10-15'!D9","v":0},null,"Error?"]
[5272,{"$f":"'Revenues 10-15'!D11","v":0},null,"Error?"]
[5273,{"$f":"'Revenues 10-15'!D12","v":0},null,"Error?"]
[5274,{"$f":"'Revenues 10-15'!D14","v":0},null,"Error?"]
[5275,{"$f":"'Revenues 10-15'!D15","v":0},"T","Error?"]
[5276,{"$f":"'Revenues 10-15'!D16","v":0},null,"Error?"]
[5277,{"$f":"'Revenues 10-15'!D17","v":0},null,"Error?"]
[5278,{"$f":"'Revenues 10-15'!D18","v":0},null,"Error?"]
[5279,{"$f":"'Revenues 10-15'!D65","v":0},null,"Error?"]
[5280,{"$f":"'Revenues 10-15'!D66","v":0},"T","Error?"]
[5281,{"$f":"'Revenues 10-15'!D67","v":0},null,"Error?"]
[5282,{"$f":"'Revenues 10-15'!D77","v":0},null,"Error?"]
[5283,{"$f":"'Revenues 10-15'!D78","v":0},"T","Error?"]
[5284,{"$f":"'Revenues 10-15'!D79","v":0},null,"Error?"]
[5285,{"$f":"'Revenues 10-15'!D80","v":0},null,"Error?"]
[5286,{"$f":"'Revenues 10-15'!D81","v":0},null,"Error?"]
[5287,{"$f":"'Revenues 10-15'!D83","v":0},null,"Error?"]
[5288,{"$f":"'Revenues 10-15'!D97","v":0},null,"Error?"]
[5289,{"$f":"'Revenues 10-15'!D98","v":0},"T","Error?"]
[5290,{"$f":"'Revenues 10-15'!D100","v":0},null,"Error?"]
[5291,{"$f":"'Revenues 10-15'!D101","v":0},null,"Error?"]
[5292,{"$f":"'Revenues 10-15'!D106","v":0},null,"Error?"]
[5293,{"$f":"'Revenues 10-15'!D109","v":0},null,"Error?"]
[5294,{"$f":"'Revenues 10-15'!D110","v":0},null,"Error?"]
[5295,{"$f":"'Revenues 10-15'!D111","v":0},null,"Error?"]
[5296,{"$f":"'Revenues 10-15'!D114","v":0},"T","Error?"]
[5297,{"$f":"'Revenues 10-15'!D115","v":0},"T","Error?"]
[5298,{"$f":"'Revenues 10-15'!D116","v":0},null,"Error?"]
[5299,{"$f":"'Revenues 10-15'!D117","v":0},null,"Error?"]
[5300,{"$f":"'Revenues 10-15'!D120","v":0},null,"Error?"]
[5301,{"$f":"'Revenues 10-15'!D121","v":0},"T","Error?"]
[5302,null,null,"OK"]
[5303,null,null,"OK"]
[5304,null,null,"OK"]
[5305,null,null,"OK"]
[5306,{"$f":"'Revenues 10-15'!D124","v":0},null,"Error?"]
[5307,{"$f":"'Revenues 10-15'!D129","v":0},null,"Error?"]
[5308,{"$f":"'Revenues 10-15'!D134","v":0},"T","Error?"]
[5309,{"$f":"'Revenues 10-15'!D136","v":0},null,"Error?"]
[5310,null,"T","OK"]
[5311,null,null,"OK"]
[5312,null,null,"OK"]
[5313,{"$f":"'Revenues 10-15'!D137","v":0},null,"Error?"]
[5314,{"$f":"'Revenues 10-15'!D138","v":0},null,{"$f":"IF(ISBLANK(B5373),\"OK\",IF(A5373-B5373=0,\"OK\",\"Error?\"))","v":"Error?"}]
[5315,null,null,"OK"]
[5316,null,null,"OK"]
[5317,null,null,"OK"]
[5318,null,null,"OK"]
[5319,null,null,"OK"]
[5320,null,null,"OK"]
[5321,null,null,"OK"]
[5322,{"$f":"'Revenues 10-15'!D143","v":0},null,"Error?"]
[5323,{"$f":"'Revenues 10-15'!D150","v":0},null,"Error?"]
[5324,null,"T","OK"]
[5325,null,null,"OK"]
[5326,{"$f":"'Revenues 10-15'!D151","v":0},null,"Error?"]
[5327,null,null,"OK"]
[5328,null,null,"OK"]
[5329,null,null,"OK"]
[5330,{"$f":"'Revenues 10-15'!D154","v":0},null,"Error?"]
[5331,null,null,"OK"]
[5332,{"$f":"'Revenues 10-15'!D155","v":0},null,"Error?"]
[5333,{"$f":"'Revenues 10-15'!D157","v":0},null,"Error?"]
[5334,{"$f":"'Revenues 10-15'!D159","v":0},null,"Error?"]
[5335,null,"T","OK"]
[5336,null,null,"OK"]
[5337,null,null,"OK"]
[5338,null,null,"OK"]
[5339,null,null,"OK"]
[5340,{"$f":"'Revenues 10-15'!D161","v":0},null,"Error?"]
[5341,null,null,"OK"]
[5342,null,null,"OK"]
[5343,null,null,"OK"]
[5344,null,null,"OK"]
[5345,null,null,"OK"]
[5346,null,null,"OK"]
[5347,null,null,"OK"]
[5348,null,null,"OK"]
[5349,null,null,"OK"]
[5350,null,null,"OK"]
[5351,{"$f":"'Revenues 10-15'!D171","v":0},null,"Error?"]
[5352,null,null,"OK"]
[5353,null,"T","OK"]
[5354,null,null,"OK"]
[5355,null,null,"OK"]
[5356,null,null,"OK"]
[5357,null,null,"OK"]
[5358,null,null,"OK"]
[5359,null,null,"OK"]
[5360,{"$f":"'Revenues 10-15'!D172","v":0},null,"Error?"]
[5361,{"$f":"'Revenues 10-15'!D175","v":0},null,"Error?"]
[5362,{"$f":"'Revenues 10-15'!D177","v":0},"T","Error?"]
[5363,{"$f":"'Revenues 10-15'!D180","v":0},null,"Error?"]
[5364,{"$f":"'Revenues 10-15'!D183","v":0},"T","Error?"]
[5365,{"$f":"'Revenues 10-15'!D186","v":0},null,"Error?"]
[5366,null,"T","OK"]
[5367,null,null,"OK"]
[5368,null,null,"OK"]
[5369,null,null,"OK"]
[5370,{"$f":"'Revenues 10-15'!D202","v":0},null,"Error?"]
[5371,{"$f":"'Revenues 10-15'!D203","v":0},null,"Error?"]
[5372,null,null,"OK"]
[5373,null,null,"OK"]
[5374,null,null,"OK"]
[5375,null,null,"OK"]
[5376,null,null,"OK"]
[5377,null,null,"OK","Deleted in 2019"]
[5378,{"$f":"'Revenues 10-15'!D204","v":0},null,{"$f":"IF(ISBLANK(B5437),\"OK\",IF(A5437-B5437=0,\"OK\",\"Error?\"))","v":"Error?"}]
[5379,{"$f":"'Revenues 10-15'!D208","v":0},null,"Error?"]
[5380,null,null,"OK"]
[5381,null,null,"OK"]
[5382,null,null,"OK"]
[5383,{"$f":"'Revenues 10-15'!D206","v":0},null,"Error?"]
[5384,null,null,"OK"]
[5385,null,"T","OK"]
[5386,null,null,"OK"]
[5387,null,null,"OK"]
[5388,null,null,"OK"]
[5389,null,null,"OK"]
[5390,null,null,"OK"]
[5391,null,null,"OK"]
[5392,null,null,"OK"]
[5393,null,null,"OK"]
[5394,null,null,"OK"]
[5395,null,null,"OK"]
[5396,null,null,"OK"]
[5397,{"$f":"'Revenues 10-15'!D213","v":0},null,"Error?"]
[5398,{"$f":"'Revenues 10-15'!D214","v":0},null,"Error?"]
[5399,null,null,"OK"]
[5400,null,null,"OK"]
[5401,{"$f":"'Revenues 10-15'!D215","v":0},null,"Error?"]
[5402,{"$f":"'Revenues 10-15'!D216","v":0},null,"Error?"]
[5403,{"$f":"'Revenues 10-15'!D217","v":0},null,"Error?"]
[5404,null,null,"OK"]
[5405,null,null,"OK"]
[5406,null,null,"OK"]
[5407,null,null,"OK"]
[5408,null,null,"OK"]
[5409,{"$f":"'Revenues 10-15'!D219","v":0},null,"Error?"]
[5410,null,null,"OK"]
[5411,null,"T","OK"]
[5412,null,null,"OK"]
[5413,null,null,"OK"]
[5414,null,null,"OK"]
[5415,null,null,"OK"]
[5416,null,null,"OK"]
[5417,null,null,"OK"]
[5418,null,null,"OK"]
[5419,null,null,"OK"]
[5420,null,null,"OK"]
[5421,null,null,"OK"]
[5422,null,null,"OK"]
[5423,null,null,"OK"]
[5424,{"$f":"'Revenues 10-15'!D221","v":0},null,"Error?"]
[5425,null,null,"OK"]
[5426,null,null,"OK"]
[5427,{"$f":"'Revenues 10-15'!D223","v":0},null,"Error?"]
[5428,null,null,"OK"]
[5429,null,"T","OK"]
[5430,null,null,"OK"]
[5431,null,null,"OK"]
[5432,null,null,"OK"]
[5433,{"$f":"'Revenues 10-15'!D224","v":0},null,"Error?"]
[5434,null,null,"OK"]
[5435,{"$f":"'Revenues 10-15'!D259","v":0},null,"Error?"]
[5436,null,null,"OK"]
[5437,{"$f":"'Revenues 10-15'!D260","v":0},null,"Error?"]
[5438,null,null,"OK"]
[5439,null,null,"OK"]
[5440,{"$f":"'Revenues 10-15'!D268","v":0},null,"Error?"]
[5441,null,null,"OK"]
[5442,null,"T",{"$f":"IF(ISBLANK(B5501),\"OK\",IF(A5501-B5501=0,\"OK\",\"Error?\"))","v":"OK"}]
[5443,null,null,"OK"]
[5444,null,null,"OK"]
[5445,null,null,"OK"]
[5446,{"$f":"'Revenues 10-15'!D269","v":0},null,"Error?"]
[5447,{"$f":"'Revenues 10-15'!D270","v":0},null,"Error?"]
[5448,{"$f":"'Revenues 10-15'!E5","v":0},"T","Error?"]
[5449,null,"T","OK"]
[5450,{"$f":"'Revenues 10-15'!E9","v":0},null,"Error?"]
[5451,{"$f":"'Revenues 10-15'!E11","v":0},null,"Error?"]
[5452,{"$f":"'Revenues 10-15'!E12","v":0},null,"Error?"]
[5453,{"$f":"'Revenues 10-15'!E14","v":0},null,"Error?"]
[5454,{"$f":"'Revenues 10-15'!E15","v":0},"T","Error?"]
[5455,{"$f":"'Revenues 10-15'!E16","v":0},null,"Error?"]
[5456,{"$f":"'Revenues 10-15'!E17","v":0},null,"Error?"]
[5457,{"$f":"'Revenues 10-15'!E18","v":0},null,"Error?"]
[5458,{"$f":"'Revenues 10-15'!E65","v":0},null,"Error?"]
[5459,{"$f":"'Revenues 10-15'!E66","v":0},"T","Error?"]
[5460,{"$f":"'Revenues 10-15'!E67","v":0},null,"Error?"]
[5461,{"$f":"'Revenues 10-15'!E98","v":0},null,"Error?"]
[5462,{"$f":"'Revenues 10-15'!E101","v":0},"T","Error?"]
[5463,{"$f":"'Revenues 10-15'!E106","v":0},null,"Error?"]
[5464,{"$f":"'Revenues 10-15'!E109","v":0},null,"Error?"]
[5465,{"$f":"'Revenues 10-15'!E110","v":0},null,"Error?"]
[5466,{"$f":"'Revenues 10-15'!E111","v":0},null,"Error?"]
[5467,{"$f":"'Revenues 10-15'!E120","v":0},"T","Error?"]
[5468,{"$f":"'Revenues 10-15'!E121","v":0},"T","Error?"]
[5469,null,null,"OK"]
[5470,null,null,"OK"]
[5471,null,null,"OK"]
[5472,null,null,"OK"]
[5473,{"$f":"'Revenues 10-15'!E124","v":0},null,"Error?"]
[5474,null,null,"OK"]
[5475,null,"T","OK"]
[5476,{"$f":"'Revenues 10-15'!E171","v":0},null,"Error?"]
[5477,null,null,"OK"]
[5478,null,"T","OK"]
[5479,null,null,"OK"]
[5480,null,null,"OK"]
[5481,null,null,"OK"]
[5482,null,null,"OK"]
[5483,{"$f":"'Revenues 10-15'!E172","v":0},null,"Error?"]
[5484,null,null,"OK"]
[5485,null,"T","OK"]
[5486,null,null,"OK"]
[5487,null,null,"OK"]
[5488,null,null,"OK"]
[5489,null,null,"OK"]
[5490,null,null,"OK"]
[5491,{"$f":"'Revenues 10-15'!E270","v":0},null,"Error?"]
[5492,{"$f":"'Revenues 10-15'!F5","v":0},null,"Error?"]
[5493,null,"T","OK"]
[5494,{"$f":"'Revenues 10-15'!F7","v":0},null,"Error?"]
[5495,{"$f":"'Revenues 10-15'!F11","v":0},null,"Error?"]
[5496,{"$f":"'Revenues 10-15'!F12","v":0},null,"Error?"]
[5497,{"$f":"'Revenues 10-15'!F14","v":0},null,"Error?"]
[5498,{"$f":"'Revenues 10-15'!F15","v":0},"T","Error?"]
[5499,{"$f":"'Revenues 10-15'!F16","v":0},null,"Error?"]
[5500,{"$f":"'Revenues 10-15'!F17","v":0},null,"Error?"]
[5501,{"$f":"'Revenues 10-15'!F18","v":0},null,"Error?"]
[5502,{"$f":"'Revenues 10-15'!F42","v":0},null,"Error?"]
[5503,{"$f":"'Revenues 10-15'!F43","v":0},"T","Error?"]
[5504,{"$f":"'Revenues 10-15'!F44","v":0},null,"Error?"]
[5505,{"$f":"'Revenues 10-15'!F45","v":0},null,"Error?"]
[5506,{"$f":"'Revenues 10-15'!F47","v":0},null,{"$f":"IF(ISBLANK(B5565),\"OK\",IF(A5565-B5565=0,\"OK\",\"Error?\"))","v":"Error?"}]
[5507,{"$f":"'Revenues 10-15'!F48","v":0},null,"Error?"]
[5508,{"$f":"'Revenues 10-15'!F49","v":0},null,"Error?"]
[5509,{"$f":"'Revenues 10-15'!F51","v":0},null,"Error?"]
[5510,{"$f":"'Revenues 10-15'!F52","v":0},null,"Error?"]
[5511,{"$f":"'Revenues 10-15'!F53","v":0},null,"Error?"]
[5512,{"$f":"'Revenues 10-15'!F55","v":0},null,"Error?"]
[5513,{"$f":"'Revenues 10-15'!F56","v":0},null,"Error?"]
[5514,{"$f":"'Revenues 10-15'!F57","v":0},null,"Error?"]
[5515,{"$f":"'Revenues 10-15'!F59","v":0},null,"Error?"]
[5516,{"$f":"'Revenues 10-15'!F60","v":0},null,"Error?"]
[5517,{"$f":"'Revenues 10-15'!F61","v":0},null,"Error?"]
[5518,{"$f":"'Revenues 10-15'!F63","v":0},null,"Error?"]
[5519,{"$f":"'Revenues 10-15'!F65","v":0},null,"Error?"]
[5520,{"$f":"'Revenues 10-15'!F66","v":0},"T","Error?"]
[5521,{"$f":"'Revenues 10-15'!F67","v":0},null,"Error?"]
[5522,{"$f":"'Revenues 10-15'!F98","v":0},null,"Error?"]
[5523,{"$f":"'Revenues 10-15'!F100","v":0},"T","Error?"]
[5524,{"$f":"'Revenues 10-15'!F101","v":0},null,"Error?"]
[5525,{"$f":"'Revenues 10-15'!F109","v":0},null,"Error?"]
[5526,{"$f":"'Revenues 10-15'!F110","v":0},null,"Error?"]
[5527,{"$f":"'Revenues 10-15'!F111","v":0},null,"Error?"]
[5528,{"$f":"'Revenues 10-15'!F114","v":0},"T","Error?"]
[5529,{"$f":"'Revenues 10-15'!F115","v":0},"T","Error?"]
[5530,{"$f":"'Revenues 10-15'!F116","v":0},null,"Error?"]
[5531,{"$f":"'Revenues 10-15'!F117","v":0},null,"Error?"]
[5532,{"$f":"'Revenues 10-15'!F120","v":0},null,"Error?"]
[5533,{"$f":"'Revenues 10-15'!F121","v":0},"T","Error?"]
[5534,null,null,"OK"]
[5535,null,null,"OK"]
[5536,null,null,"OK"]
[5537,null,null,"OK"]
[5538,{"$f":"'Revenues 10-15'!F124","v":0},null,"Error?"]
[5539,{"$f":"'Revenues 10-15'!F127","v":0},null,"Error?"]
[5540,{"$f":"'Revenues 10-15'!F128","v":0},"T","Error?"]
[5541,{"$f":"'Revenues 10-15'!F129","v":0},null,"Error?"]
[5542,null,null,"OK"]
[5543,{"$f":"'Revenues 10-15'!F130","v":0},null,"Error?"]
[5544,null,null,"OK"]
[5545,{"$f":"'Revenues 10-15'!F131","v":0},null,"Error?"]
[5546,null,null,"OK"]
[5547,null,null,"OK"]
[5548,{"$f":"'Revenues 10-15'!F132","v":0},null,"Error?"]
[5549,null,null,"OK"]
[5550,null,null,"OK"]
[5551,null,null,"OK"]
[5552,null,null,"OK"]
[5553,{"$f":"'Revenues 10-15'!F134","v":0},null,"Error?"]
[5554,{"$f":"'Revenues 10-15'!F154","v":0},null,"Error?"]
[5555,null,"T","OK"]
[5556,{"$f":"'Revenues 10-15'!F155","v":0},null,"Error?"]
[5557,{"$f":"'Revenues 10-15'!F157","v":0},null,"Error?"]
[5558,{"$f":"'Revenues 10-15'!F159","v":0},null,"Error?"]
[5559,null,"T","OK"]
[5560,null,null,"OK"]
[5561,null,null,"OK"]
[5562,null,null,"OK"]
[5563,null,null,"OK"]
[5564,{"$f":"'Revenues 10-15'!F160","v":0},null,"Error?"]
[5565,null,null,"OK"]
[5566,{"$f":"'Revenues 10-15'!F161","v":0},null,"Error?"]
[5567,null,null,"OK"]
[5568,null,null,"OK"]
[5569,null,null,"OK","Deleted in 2019"]
[5570,null,null,{"$f":"IF(ISBLANK(B5629),\"OK\",IF(A5629-B5629=0,\"OK\",\"Error?\"))","v":"OK"},"Deleted in 2019"]
[5571,null,null,"OK"]
[5572,null,null,"OK"]
[5573,null,null,"OK"]
[5574,null,null,"OK"]
[5575,null,null,"OK"]
[5576,null,null,"OK"]
[5577,null,null,"OK"]
[5578,null,null,"OK"]
[5579,null,null,"OK"]
[5580,null,null,"OK"]
[5581,null,null,"OK"]
[5582,null,null,"OK"]
[5583,{"$f":"'Revenues 10-15'!F171","v":0},null,"Error?"]
[5584,null,null,"OK"]
[5585,null,"T","OK"]
[5586,null,null,"OK"]
[5587,null,null,"OK"]
[5588,null,null,"OK"]
[5589,null,null,"OK"]
[5590,null,null,"OK"]
[5591,null,null,"OK"]
[5592,{"$f":"'Revenues 10-15'!F172","v":0},null,"Error?"]
[5593,{"$f":"'Revenues 10-15'!F175","v":0},null,"Error?"]
[5594,{"$f":"'Revenues 10-15'!F177","v":0},"T","Error?"]
[5595,null,null,"OK"]
[5596,null,"T","OK"]
[5597,{"$f":"'Revenues 10-15'!F183","v":0},null,"Error?"]
[5598,{"$f":"'Revenues 10-15'!F186","v":0},null,"Error?"]
[5599,null,"T","OK"]
[5600,null,null,"OK"]
[5601,null,null,"OK"]
[5602,null,null,"OK"]
[5603,{"$f":"'Revenues 10-15'!F202","v":0},null,"Error?"]
[5604,{"$f":"'Revenues 10-15'!F203","v":0},null,"Error?"]
[5605,null,null,"OK"]
[5606,null,null,"OK"]
[5607,null,null,"OK"]
[5608,null,null,"OK"]
[5609,null,null,"OK"]
[5610,null,null,"OK","Deleted in 2019"]
[5611,{"$f":"'Revenues 10-15'!F204","v":0},null,"Error?"]
[5612,{"$f":"'Revenues 10-15'!F208","v":0},null,"Error?"]
[5613,null,null,"OK"]
[5614,null,null,"OK"]
[5615,null,null,"OK"]
[5616,{"$f":"'Revenues 10-15'!F206","v":0},null,"Error?"]
[5617,null,null,"OK"]
[5618,null,"T","OK"]
[5619,null,null,"OK"]
[5620,null,null,"OK"]
[5621,null,null,"OK"]
[5622,null,null,"OK"]
[5623,null,null,"OK"]
[5624,null,null,"OK"]
[5625,null,null,"OK"]
[5626,null,null,"OK"]
[5627,null,null,"OK"]
[5628,null,null,"OK"]
[5629,null,null,"OK"]
[5630,{"$f":"'Revenues 10-15'!F213","v":0},null,"Error?"]
[5631,{"$f":"'Revenues 10-15'!F214","v":0},null,"Error?"]
[5632,null,null,"OK"]
[5633,null,null,"OK"]
[5634,{"$f":"'Revenues 10-15'!F215","v":0},null,{"$f":"IF(ISBLANK(B5693),\"OK\",IF(A5693-B5693=0,\"OK\",\"Error?\"))","v":"Error?"}]
[5635,{"$f":"'Revenues 10-15'!F216","v":0},null,"Error?"]
[5636,{"$f":"'Revenues 10-15'!F217","v":0},null,"Error?"]
[5637,null,null,"OK"]
[5638,null,null,"OK"]
[5639,null,null,"OK"]
[5640,null,null,"OK"]
[5641,null,null,"OK"]
[5642,{"$f":"'Revenues 10-15'!F219","v":0},null,"Error?"]
[5643,null,null,"OK"]
[5644,{"$f":"'Revenues 10-15'!F257","v":0},"T","Error?"]
[5645,null,null,"OK","Deleted in 2019"]
[5646,null,null,"OK"]
[5647,{"$f":"'Revenues 10-15'!F259","v":0},null,"Error?"]
[5648,null,null,"OK"]
[5649,{"$f":"'Revenues 10-15'!F260","v":0},null,"Error?"]
[5650,null,null,"OK"]
[5651,null,null,"OK"]
[5652,{"$f":"'Revenues 10-15'!F268","v":0},null,"Error?"]
[5653,null,null,"OK"]
[5654,null,"T","OK"]
[5655,null,null,"OK"]
[5656,null,null,"OK"]
[5657,null,null,"OK"]
[5658,{"$f":"'Revenues 10-15'!F269","v":0},null,"Error?"]
[5659,{"$f":"'Revenues 10-15'!F270","v":0},null,"Error?"]
[5660,{"$f":"'Revenues 10-15'!G5","v":0},"T","Error?"]
[5661,{"$f":"'Revenues 10-15'!G7","v":0},"T","Error?"]
[5662,{"$f":"'Revenues 10-15'!G8","v":0},null,"Error?"]
[5663,{"$f":"'Revenues 10-15'!G11","v":0},null,"Error?"]
[5664,{"$f":"'Revenues 10-15'!G12","v":0},null,"Error?"]
[5665,{"$f":"'Revenues 10-15'!G14","v":0},null,"Error?"]
[5666,{"$f":"'Revenues 10-15'!G15","v":0},"T","Error?"]
[5667,{"$f":"'Revenues 10-15'!G16","v":0},null,"Error?"]
[5668,{"$f":"'Revenues 10-15'!G17","v":0},null,"Error?"]
[5669,{"$f":"'Revenues 10-15'!G18","v":0},null,"Error?"]
[5670,{"$f":"'Revenues 10-15'!G65","v":0},null,"Error?"]
[5671,{"$f":"'Revenues 10-15'!G66","v":0},"T","Error?"]
[5672,{"$f":"'Revenues 10-15'!G67","v":0},null,"Error?"]
[5673,{"$f":"'Revenues 10-15'!G98","v":0},null,"Error?"]
[5674,{"$f":"'Revenues 10-15'!G101","v":0},"T","Error?"]
[5675,{"$f":"'Revenues 10-15'!G109","v":0},null,"Error?"]
[5676,{"$f":"'Revenues 10-15'!G110","v":0},null,"Error?"]
[5677,{"$f":"'Revenues 10-15'!G114","v":0},null,"Error?"]
[5678,{"$f":"'Revenues 10-15'!G115","v":0},"T","Error?"]
[5679,{"$f":"'Revenues 10-15'!G116","v":0},null,"Error?"]
[5680,{"$f":"'Revenues 10-15'!G117","v":0},null,"Error?"]
[5681,{"$f":"'Revenues 10-15'!G120","v":0},null,"Error?"]
[5682,{"$f":"'Revenues 10-15'!G121","v":0},"T","Error?"]
[5683,null,null,"OK"]
[5684,null,null,"OK"]
[5685,null,null,"OK"]
[5686,null,null,"OK"]
[5687,{"$f":"'Revenues 10-15'!G124","v":0},null,"Error?"]
[5688,{"$f":"'Revenues 10-15'!G136","v":0},null,"Error?"]
[5689,null,"T","OK"]
[5690,null,null,"OK"]
[5691,{"$f":"'Revenues 10-15'!G143","v":0},null,"Error?"]
[5692,null,null,"OK"]
[5693,{"$f":"'Revenues 10-15'!G145","v":0},"T","Error?"]
[5694,{"$f":"'Revenues 10-15'!G146","v":0},null,"Error?"]
[5695,{"$f":"'Revenues 10-15'!G147","v":0},null,"Error?"]
[5696,{"$f":"'Revenues 10-15'!G159","v":0},null,"Error?"]
[5697,null,"T","OK"]
[5698,null,null,{"$f":"IF(ISBLANK(B5757),\"OK\",IF(A5757-B5757=0,\"OK\",\"Error?\"))","v":"OK"}]
[5699,null,null,"OK"]
[5700,null,null,"OK"]
[5701,null,null,"OK"]
[5702,{"$f":"'Revenues 10-15'!G160","v":0},null,"Error?"]
[5703,null,null,"OK"]
[5704,{"$f":"'Revenues 10-15'!G161","v":0},null,"Error?"]
[5705,null,null,"OK"]
[5706,null,null,"OK","Deleted in 2019"]
[5707,null,null,"OK","Deleted in 2019"]
[5708,null,null,"OK"]
[5709,{"$f":"'Revenues 10-15'!G171","v":0},null,"Error?"]
[5710,null,null,"OK"]
[5711,null,"T","OK"]
[5712,null,null,"OK"]
[5713,null,null,"OK"]
[5714,null,null,"OK"]
[5715,null,null,"OK"]
[5716,null,null,"OK"]
[5717,{"$f":"'Revenues 10-15'!G172","v":0},null,"Error?"]
[5718,{"$f":"'Revenues 10-15'!G175","v":0},null,"Error?"]
[5719,{"$f":"'Revenues 10-15'!G177","v":0},"T","Error?"]
[5720,null,null,"OK"]
[5721,null,"T","OK"]
[5722,null,null,"OK"]
[5723,{"$f":"'Revenues 10-15'!G183","v":0},null,"Error?"]
[5724,{"$f":"'Revenues 10-15'!G186","v":0},null,"Error?"]
[5725,null,"T","OK"]
[5726,null,null,"OK"]
[5727,null,null,"OK"]
[5728,null,null,"OK"]
[5729,{"$f":"'Revenues 10-15'!G202","v":0},null,"Error?"]
[5730,{"$f":"'Revenues 10-15'!G203","v":0},null,"Error?"]
[5731,null,null,"OK"]
[5732,null,null,"OK"]
[5733,null,null,"OK"]
[5734,null,null,"OK"]
[5735,null,null,"OK"]
[5736,null,null,"OK","Deleted in 2019"]
[5737,{"$f":"'Revenues 10-15'!G204","v":0},null,"Error?"]
[5738,{"$f":"'Revenues 10-15'!G208","v":0},null,"Error?"]
[5739,null,null,"OK"]
[5740,null,null,"OK"]
[5741,null,null,"OK"]
[5742,{"$f":"'Revenues 10-15'!G206","v":0},null,"Error?"]
[5743,null,null,"OK"]
[5744,null,"T","OK"]
[5745,null,null,"OK"]
[5746,null,null,"OK"]
[5747,null,null,"OK"]
[5748,null,null,"OK"]
[5749,null,null,"OK"]
[5750,null,null,"OK"]
[5751,null,null,"OK"]
[5752,null,null,"OK"]
[5753,null,null,"OK"]
[5754,null,null,"OK"]
[5755,null,null,"OK"]
[5756,{"$f":"'Revenues 10-15'!G213","v":0},null,"Error?"]
[5757,{"$f":"'Revenues 10-15'!G214","v":0},null,"Error?"]
[5758,null,null,"OK"]
[5759,null,null,"OK"]
[5760,{"$f":"'Revenues 10-15'!G215","v":0},null,"Error?"]
[5761,{"$f":"'Revenues 10-15'!G216","v":0},null,"Error?"]
[5762,{"$f":"'Revenues 10-15'!G217","v":0},null,{"$f":"IF(ISBLANK(B5821),\"OK\",IF(A5821-B5821=0,\"OK\",\"Error?\"))","v":"Error?"}]
[5763,null,null,"OK"]
[5764,null,null,"OK"]
[5765,null,null,"OK"]
[5766,null,null,"OK"]
[5767,null,null,"OK"]
[5768,{"$f":"'Revenues 10-15'!G219","v":0},null,"Error?"]
[5769,null,null,"OK"]
[5770,null,"T","OK"]
[5771,null,null,"OK"]
[5772,null,null,"OK"]
[5773,null,null,"OK"]
[5774,null,null,"OK"]
[5775,null,null,"OK"]
[5776,null,null,"OK"]
[5777,null,null,"OK"]
[5778,null,null,"OK"]
[5779,null,null,"OK"]
[5780,null,null,"OK"]
[5781,null,null,"OK"]
[5782,null,null,"OK"]
[5783,{"$f":"'Revenues 10-15'!G221","v":0},null,"Error?"]
[5784,null,null,"OK"]
[5785,null,null,"OK"]
[5786,{"$f":"'Revenues 10-15'!G223","v":0},null,"Error?"]
[5787,null,null,"OK"]
[5788,null,"T","OK"]
[5789,null,null,"OK"]
[5790,null,null,"OK"]
[5791,null,null,"OK"]
[5792,{"$f":"'Revenues 10-15'!G224","v":0},null,"Error?"]
[5793,null,null,"OK"]
[5794,{"$f":"'Revenues 10-15'!G257","v":0},null,"Error?"]
[5795,null,null,"OK","Deleted in 2019"]
[5796,null,null,"OK"]
[5797,{"$f":"'Revenues 10-15'!G259","v":0},null,"Error?"]
[5798,null,null,"OK"]
[5799,{"$f":"'Revenues 10-15'!G260","v":0},null,"Error?"]
[5800,null,null,"OK"]
[5801,null,null,"OK"]
[5802,{"$f":"'Revenues 10-15'!G268","v":0},null,"Error?"]
[5803,null,null,"OK"]
[5804,null,"T","OK"]
[5805,null,null,"OK"]
[5806,null,null,"OK"]
[5807,null,null,"OK"]
[5808,{"$f":"'Revenues 10-15'!G269","v":0},null,"Error?"]
[5809,{"$f":"'Revenues 10-15'!G270","v":0},null,"Error?"]
[5810,{"$f":"'Revenues 10-15'!H5","v":0},"T","Error?"]
[5811,{"$f":"'Revenues 10-15'!H11","v":0},"T","Error?"]
[5812,{"$f":"'Revenues 10-15'!H12","v":0},null,"Error?"]
[5813,{"$f":"'Revenues 10-15'!H14","v":0},null,"Error?"]
[5814,{"$f":"'Revenues 10-15'!H15","v":0},"T","Error?"]
[5815,{"$f":"'Revenues 10-15'!H16","v":0},null,"Error?"]
[5816,{"$f":"'Revenues 10-15'!H17","v":0},null,"Error?"]
[5817,{"$f":"'Revenues 10-15'!H18","v":0},null,"Error?"]
[5818,{"$f":"'Revenues 10-15'!H65","v":0},null,"Error?"]
[5819,{"$f":"'Revenues 10-15'!H66","v":0},"T","Error?"]
[5820,{"$f":"'Revenues 10-15'!H67","v":0},null,"Error?"]
[5821,{"$f":"'Revenues 10-15'!H98","v":0},null,"Error?"]
[5822,{"$f":"'Revenues 10-15'!H101","v":0},"T","Error?"]
[5823,{"$f":"'Revenues 10-15'!H106","v":0},null,"Error?"]
[5824,{"$f":"'Revenues 10-15'!H109","v":0},null,"Error?"]
[5825,{"$f":"'Revenues 10-15'!H110","v":0},null,"Error?"]
[5826,null,null,{"$f":"IF(ISBLANK(B5885),\"OK\",IF(A5885-B5885=0,\"OK\",\"Error?\"))","v":"OK"}]
[5827,null,"T","OK"]
[5828,null,null,"OK"]
[5829,null,null,"OK"]
[5830,null,null,"OK"]
[5831,null,null,"OK"]
[5832,{"$f":"'Revenues 10-15'!H124","v":0},null,"Error?"]
[5833,null,null,"OK"]
[5834,null,"T","OK"]
[5835,null,null,"OK"]
[5836,null,null,"OK"]
[5837,null,null,"OK"]
[5838,{"$f":"'Revenues 10-15'!H171","v":0},null,"Error?"]
[5839,null,null,"OK"]
[5840,null,"T","OK"]
[5841,null,null,"OK"]
[5842,null,null,"OK"]
[5843,null,null,"OK"]
[5844,null,null,"OK"]
[5845,{"$f":"'Revenues 10-15'!H172","v":0},null,"Error?"]
[5846,{"$f":"'Revenues 10-15'!H180","v":0},null,"Error?"]
[5847,{"$f":"'Revenues 10-15'!H183","v":0},"T","Error?"]
[5848,null,null,"OK"]
[5849,null,"T","OK"]
[5850,null,null,"OK"]
[5851,null,null,"OK"]
[5852,null,null,"OK"]
[5853,{"$f":"'Revenues 10-15'!H269","v":0},null,"Error?"]
[5854,{"$f":"'Revenues 10-15'!H270","v":0},null,"Error?"]
[5855,{"$f":"'Revenues 10-15'!I5","v":0},"T","Error?"]
[5856,{"$f":"'Revenues 10-15'!I11","v":0},"T","Error?"]
[5857,{"$f":"'Revenues 10-15'!I12","v":0},null,"Error?"]
[5858,{"$f":"'Revenues 10-15'!I14","v":0},null,"Error?"]
[5859,{"$f":"'Revenues 10-15'!I15","v":0},"T","Error?"]
[5860,{"$f":"'Revenues 10-15'!I16","v":0},null,"Error?"]
[5861,{"$f":"'Revenues 10-15'!I17","v":0},null,"Error?"]
[5862,{"$f":"'Revenues 10-15'!I18","v":0},null,"Error?"]
[5863,{"$f":"'Revenues 10-15'!I65","v":0},null,"Error?"]
[5864,{"$f":"'Revenues 10-15'!I66","v":0},"T","Error?"]
[5865,{"$f":"'Revenues 10-15'!I67","v":0},null,"Error?"]
[5866,{"$f":"'Revenues 10-15'!I98","v":0},null,"Error?"]
[5867,null,"T","OK"]
[5868,{"$f":"'Revenues 10-15'!I109","v":0},null,"Error?"]
[5869,{"$f":"'Revenues 10-15'!I110","v":0},null,"Error?"]
[5870,null,null,"OK"]
[5871,null,"T","OK"]
[5872,null,null,"OK"]
[5873,null,null,"OK"]
[5874,null,null,"OK"]
[5875,null,null,"OK"]
[5876,null,null,"OK"]
[5877,null,null,"OK"]
[5878,null,null,"OK"]
[5879,null,null,"OK"]
[5880,null,null,"OK"]
[5881,null,null,"OK"]
[5882,null,null,"OK"]
[5883,null,null,"OK"]
[5884,null,null,"OK"]
[5885,{"$f":"'Revenues 10-15'!I270","v":0},null,"Error?"]
[5886,null,null,"OK"]
[5887,null,"T","OK"]
[5888,null,null,"OK"]
[5889,null,null,"OK"]
[5890,null,"T",{"$f":"IF(ISBLANK(B5949),\"OK\",IF(A5949-B5949=0,\"OK\",\"Error?\"))","v":"OK"}]
[5891,null,null,"OK"]
[5892,null,null,"OK"]
[5893,null,null,"OK"]
[5894,null,null,"OK"]
[5895,null,"T","OK"]
[5896,null,null,"OK"]
[5897,null,null,"OK"]
[5898,null,"T","OK"]
[5899,null,null,"OK"]
[5900,null,null,"OK"]
[5901,null,null,"OK"]
[5902,null,"T","OK"]
[5903,null,null,"OK"]
[5904,null,null,"OK"]
[5905,null,null,"OK"]
[5906,null,null,"OK"]
[5907,null,null,"OK"]
[5908,null,null,"OK"]
[5909,null,"T","OK"]
[5910,null,null,"OK"]
[5911,null,null,"OK"]
[5912,null,null,"OK"]
[5913,null,null,"OK"]
[5914,null,null,"OK"]
[5915,null,null,"OK"]
[5916,null,null,"OK"]
[5917,null,"T","OK"]
[5918,null,null,"OK"]
[5919,null,null,"OK"]
[5920,null,null,"OK"]
[5921,null,null,"OK"]
[5922,null,null,"OK"]
[5923,null,null,"OK"]
[5924,{"$f":"'Revenues 10-15'!K5","v":0},null,"Error?"]
[5925,{"$f":"'Revenues 10-15'!K11","v":0},"T","Error?"]
[5926,{"$f":"'Revenues 10-15'!K12","v":0},null,"Error?"]
[5927,{"$f":"'Revenues 10-15'!K14","v":0},null,"Error?"]
[5928,{"$f":"'Revenues 10-15'!K15","v":0},"T","Error?"]
[5929,{"$f":"'Revenues 10-15'!K16","v":0},null,"Error?"]
[5930,{"$f":"'Revenues 10-15'!K17","v":0},null,"Error?"]
[5931,{"$f":"'Revenues 10-15'!K18","v":0},null,"Error?"]
[5932,{"$f":"'Revenues 10-15'!K65","v":0},null,"Error?"]
[5933,{"$f":"'Revenues 10-15'!K66","v":0},"T","Error?"]
[5934,{"$f":"'Revenues 10-15'!K67","v":0},null,"Error?"]
[5935,{"$f":"'Revenues 10-15'!K98","v":0},null,"Error?"]
[5936,{"$f":"'Revenues 10-15'!K101","v":0},"T","Error?"]
[5937,{"$f":"'Revenues 10-15'!K109","v":0},null,"Error?"]
[5938,{"$f":"'Revenues 10-15'!K110","v":0},null,"Error?"]
[5939,{"$f":"'Revenues 10-15'!K120","v":0},null,"Error?"]
[5940,{"$f":"'Revenues 10-15'!K121","v":0},"T","Error?"]
[5941,null,null,"OK"]
[5942,null,null,"OK"]
[5943,null,null,"OK"]
[5944,null,null,"OK"]
[5945,{"$f":"'Revenues 10-15'!K124","v":0},null,"Error?"]
[5946,null,null,"OK"]
[5947,null,"T","OK"]
[5948,null,null,"OK"]
[5949,null,null,"OK"]
[5950,null,null,"OK"]
[5951,null,null,"OK"]
[5952,null,null,"OK"]
[5953,{"$f":"'Revenues 10-15'!K172","v":0},null,"Error?"]
[5954,null,null,{"$f":"IF(ISBLANK(B6013),\"OK\",IF(A6013-B6013=0,\"OK\",\"Error?\"))","v":"OK"}]
[5955,{"$f":"'Revenues 10-15'!K183","v":0},"T","Error?"]
[5956,null,null,"OK"]
[5957,null,"T","OK"]
[5958,null,null,"OK"]
[5959,null,null,"OK"]
[5960,null,null,"OK"]
[5961,{"$f":"'Revenues 10-15'!K269","v":0},null,"Error?"]
[5962,{"$f":"'Revenues 10-15'!K270","v":0},null,"Error?"]
[5963,{"$f":"'Revenues 10-15'!G111","v":0},"T","Error?"]
[5964,{"$f":"'Revenues 10-15'!H111","v":0},"T","Error?"]
[5965,{"$f":"'Revenues 10-15'!I111","v":0},"T","Error?"]
[5966,null,"T","OK"]
[5967,{"$f":"'Revenues 10-15'!K111","v":0},"T","Error?"]
[5968,null,"T","OK"]
[5969,null,"T","OK"]
[5970,{"$f":"'Revenues 10-15'!C69","v":0},null,"Error?"]
[5971,{"$f":"'Acct Summary 7-9'!G15","v":0},null,"Error?","New/Deleted 04"]
[5972,null,null,"OK","New/Deleted 04"]
[5973,null,"T","OK","New 04"]
[5974,{"$f":"'ICR Computation 41'!E11","v":0},"T","Error?","New for 2005"]
[5975,null,"T","OK","New for 2005"]
[5976,null,"T","OK","New for 2005"]
[5977,null,null,"OK","New for 2005"]
[5978,null,null,"OK","New for 2005"]
[5979,null,null,"OK","New for 2005"]
[5980,null,null,"OK","New for 2005"]
[5981,null,null,"OK","New for 2005"]
[5982,null,null,"OK","New for 2005"]
[5983,null,null,"OK","New for 2005"]
[5984,null,null,"OK","New for 2005"]
[5985,null,null,"OK","New for 2005"]
[5986,null,null,"OK","New for 2005"]
[5987,null,null,"OK","New for 2005"]
[5988,null,null,"OK","New for 2005"]
[5989,null,null,"OK","New for 2005"]
[5990,null,null,"OK","New for 2005"]
[5991,null,null,"OK","New for 2005"]
[5992,null,null,"OK","New for 2005"]
[5993,null,null,"OK","New for 2005"]
[5994,null,null,"OK","New for 2005"]
[5995,null,"T","OK","New for 2005"]
[5996,null,null,"OK","New for 2005"]
[5997,null,null,"OK","New for 2005"]
[5998,null,null,"OK","New for 2005"]
[5999,null,null,"OK","New for 2005"]
[6000,null,null,"OK","New for 2005"]
[6001,null,null,"OK","New for 2005"]
[6002,null,null,"OK","New for 2005"]
[6003,null,null,"OK","New for 2005"]
[6004,null,null,"OK","New for 2005"]
[6005,null,null,"OK","New for 2005"]
[6006,null,null,"OK","New for 2005"]
[6007,null,null,"OK","New for 2005"]
[6008,null,null,"OK","New for 2005"]
[6009,null,null,"OK","New for 2005"]
[6010,null,null,"OK","New for 2005"]
[6011,null,null,"OK","New for 2005"]
[6012,null,null,"OK","New for 2005"]
[6013,{"$f":"'PCTC-OEPP 37-39'!F98","v":0},null,"Error?","New for 2007"]
[6014,null,"T","OK","New for 2007"]
[6015,{"$f":"'Short-Term Long-Term Debt 26'!C27","v":0},null,"Error?","New for 2007"]
[6016,{"$f":"'Short-Term Long-Term Debt 26'!D27","v":0},null,"Error?","New for 2007"]
[6017,{"$f":"'Short-Term Long-Term Debt 26'!E27","v":0},null,"Error?","New for 2007"]
[6018,{"$f":"'Short-Term Long-Term Debt 26'!F27","v":0},null,{"$f":"IF(ISBLANK(B6077),\"OK\",IF(A6077-B6077=0,\"OK\",\"Error?\"))","v":"Error?"},"New for 2008"]
[6019,null,null,"OK","1st new number for 2009"]
[6020,{"$f":"'Assets-Liab 5-6'!C7","v":0},null,"Error?","New for 2009"]
[6021,{"$f":"'Assets-Liab 5-6'!D7","v":0},null,"Error?","New for 2009"]
[6022,{"$f":"'Assets-Liab 5-6'!E7","v":0},null,"Error?","New for 2009"]
[6023,{"$f":"'Assets-Liab 5-6'!F7","v":0},null,"Error?","New for 2009"]
[6024,{"$f":"'Assets-Liab 5-6'!G7","v":0},null,"Error?","New for 2009"]
[6025,{"$f":"'Assets-Liab 5-6'!H7","v":0},null,"Error?","New for 2009"]
[6026,{"$f":"'Assets-Liab 5-6'!I7","v":0},null,"Error?","New for 2009"]
[6027,{"$f":"'Assets-Liab 5-6'!J7","v":0},null,"Error?","New for 2009"]
[6028,{"$f":"'Assets-Liab 5-6'!K7","v":0},null,"Error?","New for 2009"]
[6029,{"$f":"'Assets-Liab 5-6'!C8","v":0},null,"Error?","New for 2009"]
[6030,{"$f":"'Assets-Liab 5-6'!D8","v":0},null,"Error?","New for 2009"]
[6031,{"$f":"'Assets-Liab 5-6'!E8","v":0},null,"Error?","New for 2009"]
[6032,{"$f":"'Assets-Liab 5-6'!F8","v":0},null,"Error?","New for 2009"]
[6033,{"$f":"'Assets-Liab 5-6'!G8","v":0},null,"Error?","New for 2009"]
[6034,{"$f":"'Assets-Liab 5-6'!H8","v":0},null,"Error?","New for 2009"]
[6035,{"$f":"'Assets-Liab 5-6'!I8","v":0},null,"Error?","New for 2009"]
[6036,{"$f":"'Assets-Liab 5-6'!J8","v":0},null,"Error?","New for 2009"]
[6037,{"$f":"'Assets-Liab 5-6'!K8","v":0},null,"Error?","New for 2009"]
[6038,{"$f":"'Assets-Liab 5-6'!C9","v":0},null,"Error?","New for 2009"]
[6039,{"$f":"'Assets-Liab 5-6'!D9","v":0},null,"Error?","New for 2009"]
[6040,{"$f":"'Assets-Liab 5-6'!E9","v":0},null,"Error?","New for 2009"]
[6041,{"$f":"'Assets-Liab 5-6'!F9","v":0},null,"Error?","New for 2009"]
[{"$f":"A6100+1","v":6042},{"$f":"'Assets-Liab 5-6'!G9","v":0},null,"Error?","New for 2009"]
[6043,{"$f":"'Assets-Liab 5-6'!H9","v":0},null,"Error?","New for 2009"]
[6044,{"$f":"'Assets-Liab 5-6'!I9","v":0},null,"Error?","New for 2009"]
[6045,{"$f":"'Assets-Liab 5-6'!J9","v":0},null,"Error?","New for 2009"]
[6046,{"$f":"'Assets-Liab 5-6'!K9","v":0},null,"Error?","New for 2009"]
[6047,{"$f":"'Assets-Liab 5-6'!L9","v":0},null,"Error?","New for 2009"]
[6048,{"$f":"'Assets-Liab 5-6'!E10","v":0},null,"Error?","New for 2009"]
[6049,{"$f":"'Assets-Liab 5-6'!G10","v":0},null,"Error?","New for 2009"]
[6050,{"$f":"'Assets-Liab 5-6'!I10","v":0},null,"Error?","New for 2009"]
[6051,{"$f":"'Assets-Liab 5-6'!J10","v":0},null,"Error?","New for 2009"]
[6052,{"$f":"'Assets-Liab 5-6'!C11","v":0},null,"Error?","New for 2009"]
[6053,{"$f":"'Assets-Liab 5-6'!D11","v":0},null,"Error?","New for 2009"]
[6054,{"$f":"'Assets-Liab 5-6'!E11","v":0},null,"Error?","New for 2009"]
[6055,{"$f":"'Assets-Liab 5-6'!F11","v":0},null,"Error?","New for 2009"]
[6056,{"$f":"'Assets-Liab 5-6'!G11","v":0},null,"Error?","New for 2009"]
[6057,{"$f":"'Assets-Liab 5-6'!H11","v":0},null,"Error?","New for 2009"]
[6058,{"$f":"'Assets-Liab 5-6'!I11","v":0},null,"Error?","New for 2009"]
[6059,{"$f":"'Assets-Liab 5-6'!J11","v":0},null,"Error?","New for 2009"]
[6060,{"$f":"'Assets-Liab 5-6'!K11","v":0},null,"Error?","New for 2009"]
[6061,{"$f":"'Assets-Liab 5-6'!L11","v":0},null,"Error?","New for 2009"]
[6062,{"$f":"'Assets-Liab 5-6'!J12","v":0},null,"Error?","New for 2009"]
[6063,{"$f":"'Assets-Liab 5-6'!J13","v":0},null,"Error?","New for 2009"]
[6064,{"$f":"'Assets-Liab 5-6'!C25","v":0},null,"Error?","New for 2009"]
[6065,{"$f":"'Assets-Liab 5-6'!D25","v":0},null,"Error?","New for 2009"]
[6066,{"$f":"'Assets-Liab 5-6'!E25","v":0},null,"Error?","New for 2009"]
[6067,{"$f":"'Assets-Liab 5-6'!F25","v":0},null,"Error?","New for 2009"]
[6068,{"$f":"'Assets-Liab 5-6'!G25","v":0},null,"Error?","New for 2009"]
[6069,{"$f":"'Assets-Liab 5-6'!H25","v":0},null,"Error?","New for 2009"]
[6070,{"$f":"'Assets-Liab 5-6'!J25","v":0},null,"Error?","New for 2009"]
[6071,{"$f":"'Assets-Liab 5-6'!K25","v":0},null,"Error?","New for 2009"]
[6072,{"$f":"'Assets-Liab 5-6'!C26","v":0},null,"Error?","New for 2009"]
[6073,{"$f":"'Assets-Liab 5-6'!D26","v":0},null,"Error?","New for 2009"]
[6074,{"$f":"'Assets-Liab 5-6'!E26","v":0},null,"Error?","New for 2009"]
[6075,{"$f":"'Assets-Liab 5-6'!F26","v":0},null,"Error?","New for 2009"]
[6076,{"$f":"'Assets-Liab 5-6'!G26","v":0},null,"Error?","New for 2009"]
[6077,{"$f":"'Assets-Liab 5-6'!H26","v":0},null,"Error?","New for 2009"]
[6078,{"$f":"'Assets-Liab 5-6'!I26","v":0},null,"Error?","New for 2009"]
[6079,{"$f":"'Assets-Liab 5-6'!J26","v":0},null,"Error?","New for 2009"]
[6080,{"$f":"'Assets-Liab 5-6'!K26","v":0},null,"Error?","New for 2009"]
[6081,{"$f":"'Assets-Liab 5-6'!C27","v":0},null,"Error?","New for 2009"]
[6082,{"$f":"'Assets-Liab 5-6'!D27","v":0},null,{"$f":"IF(ISBLANK(B6141),\"OK\",IF(A6141-B6141=0,\"OK\",\"Error?\"))","v":"Error?"},"New for 2009"]
[6083,{"$f":"'Assets-Liab 5-6'!E27","v":0},null,"Error?","New for 2009"]
[6084,{"$f":"'Assets-Liab 5-6'!F27","v":0},null,"Error?","New for 2009"]
[6085,{"$f":"'Assets-Liab 5-6'!G27","v":0},null,"Error?","New for 2009"]
[6086,{"$f":"'Assets-Liab 5-6'!H27","v":0},null,"Error?","New for 2009"]
[6087,{"$f":"'Assets-Liab 5-6'!I27","v":0},null,"Error?","New for 2009"]
[6088,{"$f":"'Assets-Liab 5-6'!J27","v":0},null,"Error?","New for 2009"]
[6089,{"$f":"'Assets-Liab 5-6'!K27","v":0},null,"Error?","New for 2009"]
[6090,{"$f":"'Assets-Liab 5-6'!C28","v":0},null,"Error?","New for 2009"]
[6091,{"$f":"'Assets-Liab 5-6'!D28","v":0},null,"Error?","New for 2009"]
[6092,{"$f":"'Assets-Liab 5-6'!E28","v":0},null,"Error?","New for 2009"]
[6093,{"$f":"'Assets-Liab 5-6'!F28","v":0},null,"Error?","New for 2009"]
[6094,{"$f":"'Assets-Liab 5-6'!G28","v":0},null,"Error?","New for 2009"]
[6095,{"$f":"'Assets-Liab 5-6'!H28","v":0},null,"Error?","New for 2009"]
[6096,{"$f":"'Assets-Liab 5-6'!I28","v":0},null,"Error?","New for 2009"]
[6097,{"$f":"'Assets-Liab 5-6'!J28","v":0},null,"Error?","New for 2009"]
[6098,{"$f":"'Assets-Liab 5-6'!K28","v":0},null,"Error?","New for 2009"]
[6099,{"$f":"'Assets-Liab 5-6'!C29","v":0},null,"Error?","New for 2009"]
[6100,{"$f":"'Assets-Liab 5-6'!D29","v":0},null,"Error?","New for 2009"]
[6101,{"$f":"'Assets-Liab 5-6'!E29","v":0},null,"Error?","New for 2009"]
[6102,{"$f":"'Assets-Liab 5-6'!F29","v":0},null,"Error?","New for 2009"]
[6103,{"$f":"'Assets-Liab 5-6'!G29","v":0},null,"Error?","New for 2009"]
[6104,{"$f":"'Assets-Liab 5-6'!H29","v":0},null,"Error?","New for 2009"]
[6105,{"$f":"'Assets-Liab 5-6'!I29","v":0},null,"Error?","New for 2009"]
[6106,{"$f":"'Assets-Liab 5-6'!J29","v":0},null,"Error?","New for 2009"]
[6107,{"$f":"'Assets-Liab 5-6'!K29","v":0},null,"Error?","New for 2009"]
[6108,{"$f":"'Assets-Liab 5-6'!C30","v":0},null,"Error?","New for 2009"]
[6109,{"$f":"'Assets-Liab 5-6'!D30","v":0},null,"Error?","New for 2009"]
[6110,{"$f":"'Assets-Liab 5-6'!E30","v":0},null,"Error?","New for 2009"]
[6111,{"$f":"'Assets-Liab 5-6'!F30","v":0},null,"Error?","New for 2009"]
[6112,{"$f":"'Assets-Liab 5-6'!G30","v":0},null,"Error?","New for 2009"]
[6113,{"$f":"'Assets-Liab 5-6'!H30","v":0},null,"Error?","New for 2009"]
[6114,{"$f":"'Assets-Liab 5-6'!I30","v":0},null,"Error?","New for 2009"]
[6115,{"$f":"'Assets-Liab 5-6'!J30","v":0},null,"Error?","New for 2009"]
[6116,{"$f":"'Assets-Liab 5-6'!K30","v":0},null,"Error?","New for 2009"]
[6117,{"$f":"'Assets-Liab 5-6'!E31","v":0},null,"Error?","New for 2009"]
[6118,{"$f":"'Assets-Liab 5-6'!I31","v":0},null,"Error?","New for 2009"]
[6119,{"$f":"'Assets-Liab 5-6'!J31","v":0},null,"Error?","New for 2009"]
[6120,{"$f":"'Assets-Liab 5-6'!J32","v":0},null,"Error?","New for 2009"]
[6121,{"$f":"'Assets-Liab 5-6'!C33","v":0},null,"Error?","New for 2009"]
[6122,{"$f":"'Assets-Liab 5-6'!D33","v":0},null,"Error?","New for 2009"]
[6123,{"$f":"'Assets-Liab 5-6'!E33","v":0},null,"Error?","New for 2009"]
[6124,{"$f":"'Assets-Liab 5-6'!F33","v":0},null,"Error?","New for 2009"]
[6125,{"$f":"'Assets-Liab 5-6'!G33","v":0},null,"Error?","New for 2009"]
[6126,{"$f":"'Assets-Liab 5-6'!H33","v":0},null,"Error?","New for 2009"]
[6127,{"$f":"'Assets-Liab 5-6'!I33","v":0},null,"Error?","New for 2009"]
[6128,{"$f":"'Assets-Liab 5-6'!J33","v":0},null,"Error?","New for 2009"]
[6129,{"$f":"'Assets-Liab 5-6'!K33","v":0},null,"Error?","New for 2009"]
[6130,{"$f":"'Assets-Liab 5-6'!J34","v":0},null,"Error?","New for 2009"]
[6131,null,null,"OK","Closed 2010"]
[6132,null,null,"OK","Closed 2010"]
[6133,null,null,"OK","Closed 2010"]
[6134,null,null,"OK","Closed 2010"]
[6135,null,null,"OK","Closed 2010"]
[6136,null,null,"OK","Closed 2010"]
[6137,null,null,"OK","Closed 2010"]
[6138,null,null,"OK","Closed 2010"]
[6139,null,null,"OK","Closed 2010"]
[6140,null,null,"OK","Closed 2010"]
[6141,null,null,"OK","Closed 2010"]
[6142,null,null,"OK","Closed 2010"]
[6143,null,null,"OK","Closed 2010"]
[6144,null,null,"OK","Closed 2010"]
[6145,null,null,"OK","Closed 2010"]
[6146,null,null,{"$f":"IF(ISBLANK(B6205),\"OK\",IF(A6205-B6205=0,\"OK\",\"Error?\"))","v":"OK"},"Closed 2010"]
[6147,null,null,"OK","Closed 2010"]
[6148,null,null,"OK","Closed 2010"]
[6149,null,null,"OK","Closed 2010"]
[6150,null,null,"OK","Closed 2010"]
[6151,null,null,"OK","Closed 2010"]
[6152,null,null,"OK","Closed 2010"]
[6153,{"$f":"'Assets-Liab 5-6'!J38","v":0},null,"Error?","New for 2009"]
[6154,{"$f":"'Assets-Liab 5-6'!J39","v":0},null,"Error?","New for 2009"]
[6155,{"$f":"'Assets-Liab 5-6'!J41","v":0},null,"Error?","New for 2009"]
[6156,{"$f":"'Assets-Liab 5-6'!J4","v":0},null,"Error?","New for 2009"]
[6157,{"$f":"'Assets-Liab 5-6'!J5","v":0},null,"Error?","New for 2009"]
[6158,{"$f":"'Assets-Liab 5-6'!J6","v":0},null,"Error?","New for 2009"]
[6159,{"$f":"'Acct Summary 7-9'!J4","v":0},null,"Error?","New for 2009"]
[6160,{"$f":"'Acct Summary 7-9'!J6","v":0},null,"Error?","New for 2009"]
[6161,{"$f":"'Acct Summary 7-9'!J7","v":0},null,"Error?","New for 2009"]
[6162,{"$f":"'Acct Summary 7-9'!J8","v":0},null,"Error?","New for 2009"]
[6163,{"$f":"'Acct Summary 7-9'!J9","v":0},null,"Error?","New for 2009"]
[6164,{"$f":"'Acct Summary 7-9'!J10","v":0},null,"Error?","New for 2009"]
[6165,{"$f":"'Acct Summary 7-9'!J16","v":0},null,"Error?","New for 2009"]
[6166,{"$f":"'Acct Summary 7-9'!J17","v":0},null,"Error?","New for 2009"]
[6167,{"$f":"'Acct Summary 7-9'!J18","v":0},null,"Error?","New for 2009"]
[6168,{"$f":"'Acct Summary 7-9'!J19","v":0},null,"Error?","New for 2009"]
[6169,{"$f":"'Acct Summary 7-9'!J20","v":0},null,"Error?","New for 2009"]
[6170,{"$f":"'Acct Summary 7-9'!J26","v":0},null,"Error?","New for 2009"]
[6171,{"$f":"'Acct Summary 7-9'!J28","v":0},null,"Error?","New for 2009"]
[6172,{"$f":"'Acct Summary 7-9'!J33","v":0},null,"Error?","New for 2009"]
[6173,{"$f":"'Acct Summary 7-9'!J34","v":0},null,"Error?","New for 2009"]
[6174,{"$f":"'Acct Summary 7-9'!J35","v":0},null,"Error?","New for 2009"]
[6175,{"$f":"'Acct Summary 7-9'!J36","v":0},null,"Error?","New for 2009"]
[6176,{"$f":"'Acct Summary 7-9'!J43","v":0},null,"Error?","New for 2009"]
[6177,{"$f":"'Acct Summary 7-9'!J44","v":0},null,"Error?","New for 2009"]
[6178,{"$f":"'Acct Summary 7-9'!J50","v":0},null,"Error?","New for 2009"]
[6179,{"$f":"'Acct Summary 7-9'!C54","v":0},null,"Error?","New for 2009"]
[6180,{"$f":"'Acct Summary 7-9'!D54","v":0},null,"Error?","New for 2009"]
[6181,{"$f":"'Acct Summary 7-9'!H54","v":0},null,"Error?","New for 2009"]
[6182,{"$f":"'Acct Summary 7-9'!C58","v":0},null,"Error?","New for 2009"]
[6183,{"$f":"'Acct Summary 7-9'!D58","v":0},null,"Error?","New for 2009"]
[6184,{"$f":"'Acct Summary 7-9'!H58","v":0},null,"Error?","New for 2009"]
[6185,{"$f":"'Acct Summary 7-9'!C62","v":0},null,"Error?","New for 2009"]
[6186,{"$f":"'Acct Summary 7-9'!D62","v":0},null,"Error?","New for 2009"]
[6187,{"$f":"'Acct Summary 7-9'!C66","v":0},null,"Error?","New for 2009"]
[6188,{"$f":"'Acct Summary 7-9'!D66","v":0},null,"Error?","New for 2009"]
[6189,{"$f":"'Acct Summary 7-9'!C70","v":0},null,"Error?","New for 2009"]
[6190,{"$f":"'Acct Summary 7-9'!D70","v":0},null,"Error?","New for 2009"]
[6191,{"$f":"'Acct Summary 7-9'!C74","v":0},null,"Error?","New for 2009"]
[6192,{"$f":"'Acct Summary 7-9'!D74","v":0},null,"Error?","New for 2009"]
[6193,{"$f":"'Acct Summary 7-9'!F74","v":0},null,"Error?","New for 2009"]
[6194,{"$f":"'Acct Summary 7-9'!G74","v":0},null,"Error?","New for 2009"]
[6195,{"$f":"'Acct Summary 7-9'!H74","v":0},null,"Error?","New for 2009"]
[6196,{"$f":"'Acct Summary 7-9'!K74","v":0},null,"Error?","New for 2009"]
[6197,{"$f":"'Acct Summary 7-9'!G75","v":0},null,"Error?","New for 2009"]
[6198,{"$f":"'Acct Summary 7-9'!I75","v":0},null,"Error?","New for 2009"]
[6199,{"$f":"'Acct Summary 7-9'!J75","v":0},null,"Error?","New for 2009"]
[6200,{"$f":"'Acct Summary 7-9'!J76","v":0},null,"Error?","New for 2009"]
[6201,{"$f":"'Acct Summary 7-9'!J77","v":0},null,"Error?","New for 2009"]
[6202,{"$f":"'Acct Summary 7-9'!J78","v":0},null,"Error?","New for 2009"]
[6203,{"$f":"'Acct Summary 7-9'!J79","v":0},null,"Error?","New for 2009"]
[6204,{"$f":"'Acct Summary 7-9'!J80","v":0},null,"Error?","New for 2009"]
[6205,{"$f":"'Acct Summary 7-9'!J81","v":0},null,"Error?","New for 2009"]
[6206,{"$f":"'Acct Summary 7-9'!C82","v":0},null,"Error?","New for 2009"]
[6207,{"$f":"'Acct Summary 7-9'!D82","v":0},null,"Error?","New for 2009"]
[6208,{"$f":"'Acct Summary 7-9'!E82","v":0},null,"Error?","New for 2009"]
[6209,{"$f":"'Acct Summary 7-9'!F82","v":0},null,"Error?","New for 2009"]
[6210,{"$f":"'Acct Summary 7-9'!G82","v":0},null,{"$f":"IF(ISBLANK(B6269),\"OK\",IF(A6269-B6269=0,\"OK\",\"Error?\"))","v":"Error?"},"New for 2009"]
[6211,{"$f":"'Acct Summary 7-9'!H82","v":0},null,"Error?","New for 2009"]
[6212,{"$f":"'Acct Summary 7-9'!I82","v":0},null,"Error?","New for 2009"]
[6213,{"$f":"'Acct Summary 7-9'!J82","v":0},null,"Error?","New for 2009"]
[6214,{"$f":"'Acct Summary 7-9'!K82","v":0},null,"Error?","New for 2009"]
[6215,{"$f":"'Acct Summary 7-9'!C83","v":{"$error":"#DIV/0!"}},null,{"$error":"#DIV/0!"},"New for 2009"]
[6216,{"$f":"'Acct Summary 7-9'!D83","v":{"$error":"#DIV/0!"}},null,{"$error":"#DIV/0!"},"New for 2009"]
[6217,{"$f":"'Acct Summary 7-9'!E83","v":{"$error":"#DIV/0!"}},null,{"$error":"#DIV/0!"},"New for 2009"]
[6218,{"$f":"'Acct Summary 7-9'!F83","v":{"$error":"#DIV/0!"}},null,{"$error":"#DIV/0!"},"New for 2009"]
[6219,{"$f":"'Acct Summary 7-9'!G83","v":{"$error":"#DIV/0!"}},null,{"$error":"#DIV/0!"},"New for 2009"]
[6220,{"$f":"'Acct Summary 7-9'!H83","v":{"$error":"#DIV/0!"}},null,{"$error":"#DIV/0!"},"New for 2009"]
[6221,{"$f":"'Acct Summary 7-9'!I83","v":{"$error":"#DIV/0!"}},null,{"$error":"#DIV/0!"},"New for 2009"]
[6222,{"$f":"'Acct Summary 7-9'!J83","v":{"$error":"#DIV/0!"}},null,{"$error":"#DIV/0!"},"New for 2009"]
[6223,{"$f":"'Acct Summary 7-9'!K83","v":{"$error":"#DIV/0!"}},null,{"$error":"#DIV/0!"},"New for 2009"]
[6224,{"$f":"'Acct Summary 7-9'!E37","v":0},null,"Error?","New for 2009"]
[6225,{"$f":"'Acct Summary 7-9'!E38","v":0},null,"Error?","New for 2009"]
[6226,{"$f":"'Acct Summary 7-9'!E39","v":0},null,"Error?","New for 2009"]
[6227,{"$f":"'Acct Summary 7-9'!E40","v":0},null,"Error?","New for 2009"]
[6228,{"$f":"'Acct Summary 7-9'!H41","v":0},null,"Error?","New for 2009"]
[6229,{"$f":"'Acct Summary 7-9'!C42","v":0},null,"Error?","New for 2009"]
[6230,{"$f":"'Acct Summary 7-9'!D42","v":0},null,"Error?","New for 2009"]
[6231,{"$f":"'Acct Summary 7-9'!E42","v":0},null,"Error?","New for 2009"]
[6232,{"$f":"'Acct Summary 7-9'!F42","v":0},null,"Error?","New for 2009"]
[6233,{"$f":"'Acct Summary 7-9'!G42","v":0},null,"Error?","New for 2009"]
[6234,{"$f":"'Acct Summary 7-9'!H42","v":0},null,"Error?","New for 2009"]
[6235,{"$f":"'Acct Summary 7-9'!K42","v":0},null,"Error?","New for 2009"]
[6236,{"$f":"'Assets-Liab 5-6'!M15","v":0},null,"Error?","New for 2009"]
[6237,{"$f":"'Revenues 10-15'!J5","v":0},null,"Error?","New for 2009"]
[6238,{"$f":"'Revenues 10-15'!H7","v":0},null,"Error?","New for 2009"]
[6239,{"$f":"'Revenues 10-15'!J11","v":0},null,"Error?","New for 2009"]
[6240,{"$f":"'Revenues 10-15'!J12","v":0},null,"Error?","New for 2009"]
[6241,{"$f":"'Revenues 10-15'!J14","v":0},null,"Error?","New for 2009"]
[6242,{"$f":"'Revenues 10-15'!J15","v":0},null,"Error?","New for 2009"]
[6243,{"$f":"'Revenues 10-15'!J16","v":0},null,"Error?","New for 2009"]
[6244,{"$f":"'Revenues 10-15'!J17","v":0},null,"Error?","New for 2009"]
[6245,{"$f":"'Revenues 10-15'!J18","v":0},null,"Error?","New for 2009"]
[6246,{"$f":"'Revenues 10-15'!C23","v":0},null,"Error?","New for 2009"]
[6247,{"$f":"'Revenues 10-15'!C27","v":0},null,"Error?","New for 2009"]
[6248,{"$f":"'Revenues 10-15'!C31","v":0},null,"Error?","New for 2009"]
[6249,{"$f":"'Revenues 10-15'!C35","v":0},null,"Error?","New for 2009"]
[6250,{"$f":"'Revenues 10-15'!C39","v":0},null,"Error?","New for 2009"]
[6251,{"$f":"'Revenues 10-15'!F46","v":0},null,"Error?","New for 2009"]
[6252,{"$f":"'Revenues 10-15'!F50","v":0},null,"Error?","New for 2009"]
[6253,{"$f":"'Revenues 10-15'!F54","v":0},null,"Error?","New for 2009"]
[6254,{"$f":"'Revenues 10-15'!F62","v":0},null,"Error?","New for 2009"]
[6255,{"$f":"'Revenues 10-15'!J65","v":0},null,"Error?","New for 2009"]
[6256,{"$f":"'Revenues 10-15'!J66","v":0},null,"Error?","New for 2009"]
[6257,{"$f":"'Revenues 10-15'!J67","v":0},null,"Error?","New for 2009"]
[6258,{"$f":"'Revenues 10-15'!J98","v":0},null,"Error?","New for 2009"]
[6259,{"$f":"'Revenues 10-15'!C99","v":0},null,"Error?","New for 2009"]
[6260,{"$f":"'Revenues 10-15'!D99","v":0},null,"Error?","New for 2009"]
[6261,{"$f":"'Revenues 10-15'!E99","v":0},null,"Error?","New for 2009"]
[6262,{"$f":"'Revenues 10-15'!F99","v":0},null,"Error?","New for 2009"]
[6263,{"$f":"'Revenues 10-15'!G99","v":0},null,"Error?","New for 2009"]
[6264,{"$f":"'Revenues 10-15'!H99","v":0},null,"Error?","New for 2009"]
[6265,{"$f":"'Revenues 10-15'!I99","v":0},null,"Error?","New for 2009"]
[6266,{"$f":"'Revenues 10-15'!J99","v":0},null,"Error?","New for 2009"]
[6267,{"$f":"'Revenues 10-15'!K99","v":0},null,"Error?","New for 2009"]
[6268,{"$f":"'Revenues 10-15'!J101","v":0},null,"Error?","New for 2009"]
[6269,{"$f":"'Revenues 10-15'!C102","v":0},null,"Error?","New for 2009"]
[6270,{"$f":"'Revenues 10-15'!D102","v":0},null,"Error?","New for 2009"]
[6271,{"$f":"'Revenues 10-15'!E102","v":0},null,"Error?","New for 2009"]
[6272,{"$f":"'Revenues 10-15'!F102","v":0},null,"Error?","New for 2009"]
[6273,{"$f":"'Revenues 10-15'!G102","v":0},null,"Error?","New for 2009"]
[6274,{"$f":"'Revenues 10-15'!H102","v":0},null,{"$f":"IF(ISBLANK(B6333),\"OK\",IF(A6333-B6333=0,\"OK\",\"Error?\"))","v":"Error?"},"New for 2009"]
[6275,{"$f":"'Revenues 10-15'!I102","v":0},null,"Error?","New for 2009"]
[6276,{"$f":"'Revenues 10-15'!J102","v":0},null,"Error?","New for 2009"]
[6277,{"$f":"'Revenues 10-15'!K102","v":0},null,"Error?","New for 2009"]
[6278,{"$f":"'Revenues 10-15'!C103","v":0},null,"Error?","New for 2009"]
[6279,{"$f":"'Revenues 10-15'!C104","v":0},null,"Error?","New for 2009"]
[6280,{"$f":"'Revenues 10-15'!D104","v":0},null,"Error?","New for 2009"]
[6281,{"$f":"'Revenues 10-15'!E104","v":0},null,"Error?","New for 2009"]
[6282,{"$f":"'Revenues 10-15'!F104","v":0},null,"Error?","New for 2009"]
[6283,{"$f":"'Revenues 10-15'!G104","v":0},null,"Error?","New for 2009"]
[6284,{"$f":"'Revenues 10-15'!H104","v":0},null,"Error?","New for 2009"]
[6285,{"$f":"'Revenues 10-15'!I104","v":0},null,"Error?","New for 2009"]
[6286,{"$f":"'Revenues 10-15'!J104","v":0},null,"Error?","New for 2009"]
[6287,{"$f":"'Revenues 10-15'!K104","v":0},null,"Error?","New for 2009"]
[6288,{"$f":"'Revenues 10-15'!G106","v":0},null,"Error?","New for 2009"]
[6289,{"$f":"'Revenues 10-15'!J109","v":0},null,"Error?","New for 2009"]
[6290,{"$f":"'Revenues 10-15'!J110","v":0},null,"Error?","New for 2009"]
[6291,{"$f":"'Revenues 10-15'!J111","v":0},null,"Error?","New for 2009"]
[6292,{"$f":"'Revenues 10-15'!J120","v":0},null,"Error?","New for 2009"]
[6293,null,null,"OK","New for 2009"]
[6294,{"$f":"'Revenues 10-15'!J121","v":0},null,"Error?","New for 2009"]
[6295,{"$f":"'Revenues 10-15'!J123","v":0},null,"Error?","New for 2009"]
[6296,{"$f":"'Revenues 10-15'!J124","v":0},null,"Error?","New for 2009"]
[6297,{"$f":"'Revenues 10-15'!G137","v":0},null,"Error?","New for 2009"]
[6298,{"$f":"'Revenues 10-15'!C139","v":0},null,"Error?","New for 2009"]
[6299,{"$f":"'Revenues 10-15'!D139","v":0},null,"Error?","New for 2009"]
[6300,{"$f":"'Revenues 10-15'!G139","v":0},null,"Error?","New for 2009"]
[6301,{"$f":"'Revenues 10-15'!C140","v":0},null,"Error?","New for 2009"]
[6302,{"$f":"'Revenues 10-15'!D140","v":0},null,"Error?","New for 2009"]
[6303,{"$f":"'Revenues 10-15'!G140","v":0},null,"Error?","New for 2009"]
[6304,{"$f":"'Revenues 10-15'!C141","v":0},null,"Error?","New for 2009"]
[6305,{"$f":"'Revenues 10-15'!D141","v":0},null,"Error?","New for 2009"]
[6306,{"$f":"'Revenues 10-15'!G141","v":0},null,"Error?","New for 2009"]
[6307,{"$f":"'Revenues 10-15'!E151","v":0},null,"Error?","New for 2009"]
[6308,{"$f":"'Revenues 10-15'!F151","v":0},null,"Error?","New for 2009"]
[6309,{"$f":"'Revenues 10-15'!G151","v":0},null,"Error?","New for 2009"]
[6310,{"$f":"'Revenues 10-15'!H151","v":0},null,"Error?","New for 2009"]
[6311,{"$f":"'Revenues 10-15'!I151","v":0},null,"Error?","New for 2009"]
[6312,{"$f":"'Revenues 10-15'!J151","v":0},null,"Error?","New for 2009"]
[6313,{"$f":"'Revenues 10-15'!K151","v":0},null,"Error?","New for 2009"]
[6314,{"$f":"'Revenues 10-15'!E152","v":0},null,"Error?","New for 2009"]
[6315,{"$f":"'Revenues 10-15'!H152","v":0},null,"Error?","New for 2009"]
[6316,{"$f":"'Revenues 10-15'!I152","v":0},null,"Error?","New for 2009"]
[6317,{"$f":"'Revenues 10-15'!J152","v":0},null,"Error?","New for 2009"]
[6318,{"$f":"'Revenues 10-15'!K152","v":0},null,"Error?","New for 2009"]
[6319,{"$f":"'Revenues 10-15'!G154","v":0},null,"Error?","New for 2009"]
[6320,{"$f":"'Revenues 10-15'!G155","v":0},null,"Error?","New for 2009"]
[6321,null,null,"OK","New for 2009"]
[6322,null,null,"OK","New for 2009"]
[6323,null,null,"OK","New for 2009","Deleted 2019"]
[6324,null,null,"OK","New for 2009","Deleted 2019"]
[6325,null,null,"OK","New for 2009","Deleted 2019"]
[6326,null,null,"OK","New for 2009","Deleted 2019"]
[6327,{"$f":"'Revenues 10-15'!C165","v":0},null,"Error?","New for 2009","Deleted 2019"]
[6328,{"$f":"'Revenues 10-15'!D165","v":0},null,"Error?","New for 2009","Deleted 2019"]
[6329,{"$f":"'Revenues 10-15'!E165","v":0},null,"Error?","New for 2009"]
[6330,{"$f":"'Revenues 10-15'!F165","v":0},null,"Error?","New for 2009"]
[6331,{"$f":"'Revenues 10-15'!G165","v":0},null,"Error?","New for 2009"]
[6332,{"$f":"'Revenues 10-15'!H165","v":0},null,"Error?","New for 2009"]
[6333,{"$f":"'Revenues 10-15'!K165","v":0},null,"Error?","New for 2009"]
[6334,{"$f":"'Revenues 10-15'!J170","v":0},null,"Error?","New for 2009"]
[6335,{"$f":"'Revenues 10-15'!J171","v":0},null,"Error?","New for 2009"]
[6336,{"$f":"'Revenues 10-15'!J172","v":0},null,"Error?","New for 2009"]
[6337,{"$f":"'Revenues 10-15'!J175","v":0},null,"Error?","New for 2009"]
[6338,{"$f":"'Revenues 10-15'!J176","v":0},null,{"$f":"IF(ISBLANK(B6397),\"OK\",IF(A6397-B6397=0,\"OK\",\"Error?\"))","v":"Error?"},"New for 2009"]
[6339,{"$f":"'Revenues 10-15'!J177","v":0},null,"Error?","New for 2009"]
[6340,{"$f":"'Revenues 10-15'!C192","v":0},null,"Error?","New for 2009"]
[6341,{"$f":"'Revenues 10-15'!G192","v":0},null,"Error?","New for 2009"]
[6342,{"$f":"'Revenues 10-15'!G193","v":0},null,"Error?","New for 2009"]
[6343,{"$f":"'Revenues 10-15'!G194","v":0},null,"Error?","New for 2009"]
[6344,{"$f":"'Revenues 10-15'!G195","v":0},null,"Error?","New for 2009"]
[6345,{"$f":"'Revenues 10-15'!G196","v":0},null,"Error?","New for 2009"]
[6346,{"$f":"'Revenues 10-15'!G197","v":0},null,"Error?","New for 2009"]
[6347,{"$f":"'Revenues 10-15'!G199","v":0},null,"Error?","New for 2009"]
[6348,{"$f":"'Revenues 10-15'!G200","v":0},null,"Error?","New for 2009"]
[6349,null,null,"OK","New for 2009"]
[6350,null,null,"OK","New for 2009"]
[6351,null,null,"OK","New for 2009","Deleted 2019"]
[6352,null,null,"OK","New for 2009","Deleted 2019"]
[6353,{"$f":"'Cap Outlay Deprec 36'!C3","v":0},null,"Error?","New for 2009","Deleted 2019"]
[6354,{"$f":"'Cap Outlay Deprec 36'!D3","v":0},null,"Error?","New for 2009","Deleted 2019"]
[6355,null,null,"OK","Open cells, closed 2020"]
[6356,null,null,"OK","Open cells, closed 2020"]
[6357,null,null,"OK","Open cells, closed 2020"]
[6358,null,null,"OK","Open cells, closed 2020"]
[6359,null,null,"OK","Open cells, closed 2020"]
[6360,null,null,"OK","Open cells, closed 2020"]
[6361,null,null,"OK","Open cells, closed 2020"]
[6362,null,null,"OK","Open cells, closed 2020"]
[6363,null,null,"OK","Open cells, closed 2020"]
[6364,null,null,"OK","Open cells, closed 2020"]
[6365,null,null,"OK","Open cells, closed 2020"]
[6366,null,null,"OK","Open cells, closed 2020"]
[6367,null,null,"OK","Open cells, closed 2020"]
[6368,null,null,"OK","Open cells, closed 2020"]
[6369,null,null,"OK","Open cells, closed 2020"]
[6370,null,null,"OK","Open cells, closed 2020"]
[6371,null,null,"OK","Open cells, closed 2020"]
[6372,null,null,"OK","Open cells, closed 2020"]
[6373,null,null,"OK","Open cells, closed 2020"]
[6374,null,null,"OK","Open cells, closed 2020"]
[6375,null,null,"OK","Open cells, closed 2020"]
[6376,null,null,"OK","Open cells, closed 2020"]
[6377,null,null,"OK","Open cells, closed 2020"]
[6378,null,null,"OK","Open cells, closed 2020"]
[6379,null,null,"OK","Open cells, closed 2020"]
[6380,null,null,"OK","Open cells, closed 2020"]
[6381,null,null,"OK","Open cells, closed 2020"]
[6382,null,null,"OK","Open cells, closed 2020"]
[6383,null,null,"OK","Open cells, closed 2020"]
[6384,null,null,"OK","Open cells, closed 2020"]
[6385,null,null,"OK","Open cells, closed 2020"]
[6386,null,null,"OK","Open cells, closed 2020"]
[6387,null,null,"OK","Open cells, closed 2020"]
[6388,null,null,"OK","Open cells, closed 2020"]
[6389,null,null,"OK","Open cells, closed 2020"]
[6390,null,null,"OK","Open cells, closed 2020"]
[6391,null,null,"OK","Open cells, closed 2020"]
[6392,null,null,"OK","Open cells, closed 2020"]
[6393,null,null,"OK","Open cells, closed 2020"]
[6394,null,null,"OK","Open cells, closed 2020"]
[6395,null,null,"OK","Open cells, closed 2020"]
[6396,null,null,"OK","Open cells, closed 2020"]
[6397,null,null,"OK","Open cells, closed 2020"]
[6398,null,null,"OK","Open cells, closed 2020"]
[6399,null,null,"OK","Open cells, closed 2020"]
[6400,null,null,"OK","Open cells, closed 2020"]
[6401,null,null,"OK","Open cells, closed 2020"]
[6402,null,null,{"$f":"IF(ISBLANK(B6461),\"OK\",IF(A6461-B6461=0,\"OK\",\"Error?\"))","v":"OK"},"Open cells, closed 2020"]
[6403,null,null,"OK","Open cells, closed 2020"]
[6404,null,null,"OK","Open cells, closed 2020"]
[6405,null,null,"OK","Open cells, closed 2020"]
[6406,null,null,"OK","Open cells, closed 2020"]
[6407,null,null,"OK","Open cells, closed 2020"]
[6408,null,null,"OK","Open cells, closed 2020"]
[6409,null,null,"OK","Open cells, closed 2020"]
[6410,null,null,"OK","Open cells, closed 2020"]
[6411,null,null,"OK","Open cells, closed 2020"]
[6412,null,null,"OK","Open cells, closed 2020"]
[6413,null,null,"OK","Open cells, closed 2020"]
[6414,null,null,"OK","Open cells, closed 2020"]
[6415,null,null,"OK","Open cells, closed 2020"]
[6416,null,null,"OK","Open cells, closed 2020"]
[6417,null,null,"OK","Open cells, closed 2020"]
[6418,null,null,"OK","Open cells, closed 2020"]
[6419,null,null,"OK","Open cells, closed 2020"]
[6420,null,null,"OK","Open cells, closed 2020"]
[6421,null,null,"OK","Open cells, closed 2020"]
[6422,null,null,"OK","Open cells, closed 2020"]
[6423,null,null,"OK","Open cells, closed 2020"]
[6424,null,null,"OK","Open cells, closed 2020"]
[6425,null,null,"OK","Open cells, closed 2020"]
[6426,null,null,"OK","Open cells, closed 2020"]
[6427,null,null,"OK","Open cells, closed 2020"]
[6428,null,null,"OK","Open cells, closed 2020"]
[6429,null,null,"OK","Open cells, closed 2020"]
[6430,null,null,"OK","Open cells, closed 2020"]
[6431,null,null,"OK","Open cells, closed 2020"]
[6432,null,null,"OK","Open cells, closed 2020"]
[6433,null,null,"OK","Open cells, closed 2020"]
[6434,null,null,"OK","Open cells, closed 2020"]
[6435,null,null,"OK","Open cells, closed 2020"]
[6436,null,null,"OK","Open cells, closed 2020"]
[6437,null,null,"OK","Open cells, closed 2020"]
[6438,null,null,"OK","Open cells, closed 2020"]
[6439,null,null,"OK","Open cells, closed 2020"]
[6440,null,null,"OK","Open cells, closed 2020"]
[6441,null,null,"OK","Open cells, closed 2020"]
[6442,null,null,"OK","Open cells, closed 2020"]
[6443,null,null,"OK","Open cells, closed 2020"]
[6444,null,null,"OK","Open cells, closed 2020"]
[6445,null,null,"OK","Open cells, closed 2020"]
[6446,null,null,"OK","Open cells, closed 2020"]
[6447,null,null,"OK","Open cells, closed 2020"]
[6448,null,null,"OK","Open cells, closed 2020"]
[6449,null,null,"OK","Open cells, closed 2020"]
[6450,null,null,"OK","Open cells, closed 2020"]
[6451,null,null,"OK","Open cells, closed 2020"]
[6452,null,null,"OK","Open cells, closed 2020"]
[6453,null,null,"OK","Open cells, closed 2020"]
[6454,null,null,"OK","Open cells, closed 2020"]
[6455,null,null,"OK","Open cells, closed 2020"]
[6456,null,null,"OK","Open cells, closed 2020"]
[6457,null,null,"OK","Open cells, closed 2020"]
[6458,null,null,"OK","Open cells, closed 2020"]
[6459,null,null,"OK","Open cells, closed 2020"]
[6460,null,null,"OK","Open cells, closed 2020"]
[6461,null,null,"OK","Open cells, closed 2020"]
[6462,null,null,"OK","Open cells, closed 2020"]
[6463,null,null,"OK","Open cells, closed 2020"]
[6464,null,null,"OK","Open cells, closed 2020"]
[6465,null,null,"OK","Open cells, closed 2020"]
[6466,null,null,{"$f":"IF(ISBLANK(B6525),\"OK\",IF(A6525-B6525=0,\"OK\",\"Error?\"))","v":"OK"},"Open cells, closed 2020"]
[6467,null,null,"OK","Open cells, closed 2020"]
[6468,null,null,"OK","Open cells, closed 2020"]
[6469,null,null,"OK","Open cells, closed 2020"]
[6470,null,null,"OK","Open cells, closed 2020"]
[6471,null,null,"OK","Open cells, closed 2020"]
[6472,null,null,"OK","Open cells, closed 2020"]
[6473,null,null,"OK","Open cells, closed 2020"]
[6474,null,null,"OK","Open cells, closed 2020"]
[6475,null,null,"OK","Open cells, closed 2020"]
[6476,null,null,"OK","Open cells, closed 2020"]
[6477,null,null,"OK","Open cells, closed 2020"]
[6478,null,null,"OK","Open cells, closed 2020"]
[6479,null,null,"OK","Open cells, closed 2020"]
[6480,null,null,"OK","Open cells, closed 2020"]
[6481,null,null,"OK","Open cells, closed 2020"]
[6482,null,null,"OK","Open cells, closed 2020"]
[6483,null,null,"OK","Open cells, closed 2020"]
[6484,null,null,"OK","Open cells, closed 2020"]
[6485,null,null,"OK","Open cells, closed 2020"]
[6486,null,null,"OK","Open cells, closed 2020"]
[6487,null,null,"OK","Open cells, closed 2020"]
[6488,null,null,"OK","Open cells, closed 2020"]
[6489,null,null,"OK","Open cells, closed 2020"]
[6490,null,null,"OK","Open cells, closed 2020"]
[6491,null,null,"OK","Open cells, closed 2020"]
[6492,null,null,"OK","Open cells, closed 2020"]
[6493,null,null,"OK","Open cells, closed 2020"]
[6494,null,null,"OK","Open cells, closed 2020"]
[6495,null,null,"OK","Open cells, closed 2020"]
[6496,null,null,"OK","Open cells, closed 2020"]
[6497,null,null,"OK","Open cells, closed 2020"]
[6498,null,null,"OK","Open cells, closed 2020"]
[6499,null,null,"OK","Open cells, closed 2020"]
[6500,null,null,"OK","Open cells, closed 2020"]
[6501,null,null,"OK","Open cells, closed 2020"]
[6502,null,null,"OK","Open cells, closed 2020"]
[6503,null,null,"OK","Open cells, closed 2020"]
[6504,null,null,"OK","Open cells, closed 2020"]
[6505,null,null,"OK","Open cells, closed 2020"]
[6506,null,null,"OK","Open cells, closed 2020"]
[6507,null,null,"OK","Open cells, closed 2020"]
[6508,null,null,"OK","Open cells, closed 2020"]
[6509,null,null,"OK","Open cells, closed 2020"]
[6510,null,null,"OK","Open cells, closed 2020"]
[6511,null,null,"OK","Open cells, closed 2020"]
[6512,null,null,"OK","Open cells, closed 2020"]
[6513,null,null,"OK","Open cells, closed 2020"]
[6514,null,null,"OK","Open cells, closed 2020"]
[6515,null,null,"OK","Open cells, closed 2020"]
[6516,null,null,"OK","Open cells, closed 2020"]
[6517,null,null,"OK","Open cells, closed 2020"]
[6518,null,null,"OK","Open cells, closed 2020"]
[6519,null,null,"OK","Open cells, closed 2020"]
[6520,null,null,"OK","Open cells, closed 2020"]
[6521,null,null,"OK","Open cells, closed 2020"]
[6522,null,null,"OK","Open cells, closed 2020"]
[6523,null,null,"OK","Open cells, closed 2020"]
[6524,null,null,"OK","Open cells, closed 2020"]
[6525,null,null,"OK","Open cells, closed 2020"]
[6526,null,null,"OK","Open cells, closed 2020"]
[6527,null,null,"OK","Open cells, closed 2020"]
[6528,null,null,"OK","Open cells, closed 2020"]
[6529,null,null,"OK","Open cells, closed 2020"]
[6530,null,null,{"$f":"IF(ISBLANK(B6589),\"OK\",IF(A6589-B6589=0,\"OK\",\"Error?\"))","v":"OK"},"Open cells, closed 2020"]
[6531,null,null,"OK","Open cells, closed 2020"]
[6532,null,null,"OK","Open cells, closed 2020"]
[6533,null,null,"OK","Open cells, closed 2020"]
[6534,null,null,"OK","Open cells, closed 2020"]
[6535,null,null,"OK","Open cells, closed 2020"]
[6536,null,null,"OK","Open cells, closed 2020"]
[6537,null,null,"OK","Open cells, closed 2020"]
[6538,null,null,"OK","Open cells, closed 2020"]
[6539,null,null,"OK","Open cells, closed 2020"]
[6540,null,null,"OK","Open cells, closed 2020"]
[6541,null,null,"OK","Open cells, closed 2020"]
[6542,null,null,"OK","Open cells, closed 2020"]
[6543,null,null,"OK","Open cells, closed 2020"]
[6544,null,null,"OK","Open cells, closed 2020"]
[6545,null,null,"OK","Open cells, closed 2020"]
[6546,null,null,"OK","Open cells, closed 2020"]
[6547,null,null,"OK","Open cells, closed 2020"]
[6548,null,null,"OK","Open cells, closed 2020"]
[6549,null,null,"OK","Open cells, closed 2020"]
[6550,null,null,"OK","Open cells, closed 2020"]
[6551,null,null,"OK","Open cells, closed 2020"]
[6552,null,null,"OK","Open cells, closed 2020"]
[6553,{"$f":"'Revenues 10-15'!C225","v":0},null,"Error?","New for 2009"]
[6554,{"$f":"'Revenues 10-15'!D225","v":0},null,"Error?","New for 2009"]
[6555,{"$f":"'Revenues 10-15'!E225","v":0},null,"Error?","New for 2009"]
[6556,{"$f":"'Revenues 10-15'!F225","v":0},null,"Error?","New for 2009"]
[6557,{"$f":"'Revenues 10-15'!G225","v":0},null,"Error?","New for 2009"]
[6558,{"$f":"'Revenues 10-15'!H225","v":0},null,"Error?","New for 2009"]
[6559,{"$f":"'Revenues 10-15'!J225","v":0},null,"Error?","New for 2009"]
[6560,{"$f":"'Revenues 10-15'!K225","v":0},null,"Error?","New for 2009"]
[6561,{"$f":"'Revenues 10-15'!C226","v":0},null,"Error?","New for 2009"]
[6562,{"$f":"'Revenues 10-15'!D226","v":0},null,"Error?","New for 2009"]
[6563,{"$f":"'Revenues 10-15'!F226","v":0},null,"Error?","New for 2009"]
[6564,{"$f":"'Revenues 10-15'!G226","v":0},null,"Error?","New for 2009"]
[6565,{"$f":"'Revenues 10-15'!C227","v":0},null,"Error?","New for 2009"]
[6566,{"$f":"'Revenues 10-15'!D227","v":0},null,"Error?","New for 2009"]
[6567,{"$f":"'Revenues 10-15'!E227","v":0},null,"Error?","New for 2009"]
[6568,{"$f":"'Revenues 10-15'!F227","v":0},null,"Error?","New for 2009"]
[6569,{"$f":"'Revenues 10-15'!G227","v":0},null,"Error?","New for 2009"]
[6570,{"$f":"'Revenues 10-15'!H227","v":0},null,"Error?","New for 2009"]
[6571,{"$f":"'Revenues 10-15'!J227","v":0},null,"Error?","New for 2009"]
[6572,{"$f":"'Revenues 10-15'!K227","v":0},null,"Error?","New for 2009"]
[6573,{"$f":"'Revenues 10-15'!C228","v":0},null,"Error?","New for 2009"]
[6574,{"$f":"'Revenues 10-15'!D228","v":0},null,"Error?","New for 2009"]
[6575,{"$f":"'Revenues 10-15'!E228","v":0},null,"Error?","New for 2009"]
[6576,{"$f":"'Revenues 10-15'!F228","v":0},null,"Error?","New for 2009"]
[6577,{"$f":"'Revenues 10-15'!G228","v":0},null,"Error?","New for 2009"]
[6578,{"$f":"'Revenues 10-15'!H228","v":0},null,"Error?","New for 2009"]
[6579,{"$f":"'Revenues 10-15'!J228","v":0},null,"Error?","New for 2009"]
[6580,{"$f":"'Revenues 10-15'!K228","v":0},null,"Error?","New for 2009"]
[6581,{"$f":"'Revenues 10-15'!C229","v":0},null,"Error?","New for 2009"]
[6582,{"$f":"'Revenues 10-15'!D229","v":0},null,"Error?","New for 2009"]
[6583,{"$f":"'Revenues 10-15'!E229","v":0},null,"Error?","New for 2009"]
[6584,{"$f":"'Revenues 10-15'!F229","v":0},null,"Error?","New for 2009"]
[6585,{"$f":"'Revenues 10-15'!G229","v":0},null,"Error?","New for 2009"]
[6586,{"$f":"'Revenues 10-15'!H229","v":0},null,"Error?","New for 2009"]
[6587,{"$f":"'Revenues 10-15'!J229","v":0},null,"Error?","New for 2009"]
[6588,{"$f":"'Revenues 10-15'!K229","v":0},null,"Error?","New for 2009"]
[6589,{"$f":"'Revenues 10-15'!C230","v":0},null,"Error?","New for 2009"]
[6590,{"$f":"'Revenues 10-15'!D230","v":0},null,"Error?","New for 2009"]
[6591,{"$f":"'Revenues 10-15'!E230","v":0},null,"Error?","New for 2009"]
[6592,{"$f":"'Revenues 10-15'!F230","v":0},null,"Error?","New for 2009"]
[6593,{"$f":"'Revenues 10-15'!G230","v":0},null,"Error?","New for 2009"]
[6594,{"$f":"'Revenues 10-15'!H230","v":0},null,{"$f":"IF(ISBLANK(B6653),\"OK\",IF(A6653-B6653=0,\"OK\",\"Error?\"))","v":"Error?"},"New for 2009"]
[6595,{"$f":"'Revenues 10-15'!J230","v":0},null,"Error?","New for 2009"]
[6596,{"$f":"'Revenues 10-15'!K230","v":0},null,"Error?","New for 2009"]
[6597,{"$f":"'Revenues 10-15'!C231","v":0},null,"Error?","New for 2009"]
[6598,{"$f":"'Revenues 10-15'!D231","v":0},null,"Error?","New for 2009"]
[6599,{"$f":"'Revenues 10-15'!E231","v":0},null,"Error?","New for 2009"]
[6600,{"$f":"'Revenues 10-15'!F231","v":0},null,"Error?","New for 2009"]
[6601,{"$f":"'Revenues 10-15'!G231","v":0},null,"Error?","New for 2009"]
[6602,{"$f":"'Revenues 10-15'!H231","v":0},null,"Error?","New for 2009"]
[6603,{"$f":"'Revenues 10-15'!J231","v":0},null,"Error?","New for 2009"]
[6604,{"$f":"'Revenues 10-15'!K231","v":0},null,"Error?","New for 2009"]
[6605,{"$f":"'Revenues 10-15'!C232","v":0},null,"Error?","New for 2009"]
[6606,{"$f":"'Revenues 10-15'!D232","v":0},null,"Error?","New for 2009"]
[6607,{"$f":"'Revenues 10-15'!E232","v":0},null,"Error?","New for 2009"]
[6608,{"$f":"'Revenues 10-15'!F232","v":0},null,"Error?","New for 2009"]
[6609,{"$f":"'Revenues 10-15'!G232","v":0},null,"Error?","New for 2009"]
[6610,{"$f":"'Revenues 10-15'!H232","v":0},null,"Error?","New for 2009"]
[6611,{"$f":"'Revenues 10-15'!J232","v":0},null,"Error?","New for 2009"]
[6612,{"$f":"'Revenues 10-15'!K232","v":0},null,"Error?","New for 2009"]
[6613,{"$f":"'Revenues 10-15'!C233","v":0},null,"Error?","New for 2009"]
[6614,{"$f":"'Revenues 10-15'!D233","v":0},null,"Error?","New for 2009"]
[6615,{"$f":"'Revenues 10-15'!E233","v":0},null,"Error?","New for 2009"]
[6616,{"$f":"'Revenues 10-15'!F233","v":0},null,"Error?","New for 2009"]
[6617,{"$f":"'Revenues 10-15'!G233","v":0},null,"Error?","New for 2009"]
[6618,{"$f":"'Revenues 10-15'!H233","v":0},null,"Error?","New for 2009"]
[6619,{"$f":"'Revenues 10-15'!J233","v":0},null,"Error?","New for 2009"]
[6620,{"$f":"'Revenues 10-15'!K233","v":0},null,"Error?","New for 2009"]
[6621,{"$f":"'Revenues 10-15'!C234","v":0},null,"Error?","New for 2009"]
[6622,{"$f":"'Revenues 10-15'!D234","v":0},null,"Error?","New for 2009"]
[6623,{"$f":"'Revenues 10-15'!E234","v":0},null,"Error?","New for 2009"]
[6624,{"$f":"'Revenues 10-15'!F234","v":0},null,"Error?","New for 2009"]
[6625,{"$f":"'Revenues 10-15'!G234","v":0},null,"Error?","New for 2009"]
[6626,{"$f":"'Revenues 10-15'!H234","v":0},null,"Error?","New for 2009"]
[6627,{"$f":"'Revenues 10-15'!J234","v":0},null,"Error?","New for 2009"]
[6628,{"$f":"'Revenues 10-15'!K234","v":0},null,"Error?","New for 2009"]
[6629,{"$f":"'Revenues 10-15'!C235","v":0},null,"Error?","New for 2009"]
[6630,{"$f":"'Revenues 10-15'!D235","v":0},null,"Error?","New for 2009"]
[6631,{"$f":"'Revenues 10-15'!F235","v":0},null,"Error?","New for 2009"]
[6632,{"$f":"'Revenues 10-15'!G235","v":0},null,"Error?","New for 2009"]
[6633,{"$f":"'Revenues 10-15'!C236","v":0},null,"Error?","New for 2009"]
[6634,{"$f":"'Revenues 10-15'!D236","v":0},null,"Error?","New for 2009"]
[6635,{"$f":"'Revenues 10-15'!C237","v":0},null,"Error?","New for 2009"]
[6636,{"$f":"'Revenues 10-15'!D237","v":0},null,"Error?","New for 2009"]
[6637,{"$f":"'Revenues 10-15'!E237","v":0},null,"Error?","New for 2009"]
[6638,{"$f":"'Revenues 10-15'!F237","v":0},null,"Error?","New for 2009"]
[6639,{"$f":"'Revenues 10-15'!G237","v":0},null,"Error?","New for 2009"]
[6640,{"$f":"'Revenues 10-15'!H237","v":0},null,"Error?","New for 2009"]
[6641,{"$f":"'Revenues 10-15'!J237","v":0},null,"Error?","New for 2009"]
[6642,{"$f":"'Revenues 10-15'!K237","v":0},null,"Error?","New for 2009"]
[6643,{"$f":"'Revenues 10-15'!C238","v":0},null,"Error?","New for 2009"]
[6644,{"$f":"'Revenues 10-15'!D238","v":0},null,"Error?","New for 2009"]
[6645,{"$f":"'Revenues 10-15'!E238","v":0},null,"Error?","New for 2009"]
[6646,{"$f":"'Revenues 10-15'!F238","v":0},null,"Error?","New for 2009"]
[6647,{"$f":"'Revenues 10-15'!G238","v":0},null,"Error?","New for 2009"]
[6648,{"$f":"'Revenues 10-15'!H238","v":0},null,"Error?","New for 2009"]
[6649,{"$f":"'Revenues 10-15'!J238","v":0},null,"Error?","New for 2009"]
[6650,{"$f":"'Revenues 10-15'!K238","v":0},null,"Error?","New for 2009"]
[6651,{"$f":"'Revenues 10-15'!C239","v":0},null,"Error?","New for 2009"]
[6652,{"$f":"'Revenues 10-15'!D239","v":0},null,"Error?","New for 2009"]
[6653,{"$f":"'Revenues 10-15'!E239","v":0},null,"Error?","New for 2009"]
[6654,{"$f":"'Revenues 10-15'!F239","v":0},null,"Error?","New for 2009"]
[6655,{"$f":"'Revenues 10-15'!G239","v":0},null,"Error?","New for 2009"]
[6656,{"$f":"'Revenues 10-15'!H239","v":0},null,"Error?","New for 2009"]
[6657,{"$f":"'Revenues 10-15'!J239","v":0},null,"Error?","New for 2009"]
[6658,{"$f":"'Revenues 10-15'!K239","v":0},null,{"$f":"IF(ISBLANK(B6717),\"OK\",IF(A6717-B6717=0,\"OK\",\"Error?\"))","v":"Error?"},"New for 2009"]
[6659,{"$f":"'Revenues 10-15'!C240","v":0},null,"Error?","New for 2009"]
[6660,{"$f":"'Revenues 10-15'!D240","v":0},null,"Error?","New for 2009"]
[6661,{"$f":"'Revenues 10-15'!E240","v":0},null,"Error?","New for 2009"]
[6662,{"$f":"'Revenues 10-15'!F240","v":0},null,"Error?","New for 2009"]
[6663,{"$f":"'Revenues 10-15'!G240","v":0},null,"Error?","New for 2009"]
[6664,{"$f":"'Revenues 10-15'!H240","v":0},null,"Error?","New for 2009"]
[6665,{"$f":"'Revenues 10-15'!J240","v":0},null,"Error?","New for 2009"]
[6666,{"$f":"'Expenditures 16-24'!C7","v":0},null,"Error?","OPEN CELL"]
[6667,{"$f":"'Revenues 10-15'!K240","v":0},null,"Error?","New for 2009"]
[6668,{"$f":"'Revenues 10-15'!C241","v":0},null,"Error?","New for 2009"]
[6669,{"$f":"'Revenues 10-15'!D241","v":0},null,"Error?","New for 2009"]
[6670,{"$f":"'Revenues 10-15'!E241","v":0},null,"Error?","New for 2009"]
[6671,{"$f":"'Revenues 10-15'!F241","v":0},null,"Error?","New for 2009"]
[6672,{"$f":"'Revenues 10-15'!G241","v":0},null,"Error?","New for 2009"]
[6673,{"$f":"'Revenues 10-15'!H241","v":0},null,"Error?","New for 2009"]
[6674,{"$f":"'Revenues 10-15'!J241","v":0},null,"Error?","New for 2009"]
[6675,{"$f":"'Revenues 10-15'!K241","v":0},null,"Error?","New for 2009"]
[6676,{"$f":"'Revenues 10-15'!C242","v":0},null,"Error?","New for 2009"]
[6677,{"$f":"'Revenues 10-15'!D242","v":0},null,"Error?","New for 2009"]
[6678,{"$f":"'Revenues 10-15'!E242","v":0},null,"Error?","New for 2009"]
[6679,{"$f":"'Revenues 10-15'!F242","v":0},null,"Error?","New for 2009"]
[6680,{"$f":"'Revenues 10-15'!G242","v":0},null,"Error?","New for 2009"]
[6681,{"$f":"'Revenues 10-15'!H242","v":0},null,"Error?","New for 2009"]
[6682,{"$f":"'Revenues 10-15'!J242","v":0},null,"Error?","New for 2009"]
[6683,{"$f":"'Revenues 10-15'!K242","v":0},null,"Error?","New for 2009"]
[6684,{"$f":"'Revenues 10-15'!C243","v":0},null,"Error?","New for 2009"]
[6685,{"$f":"'Revenues 10-15'!D243","v":0},null,"Error?","New for 2009"]
[6686,{"$f":"'Revenues 10-15'!E243","v":0},null,"Error?","New for 2009"]
[6687,{"$f":"'Revenues 10-15'!F243","v":0},null,"Error?","New for 2009"]
[6688,{"$f":"'Revenues 10-15'!G243","v":0},null,"Error?","New for 2009"]
[6689,{"$f":"'Revenues 10-15'!H243","v":0},null,"Error?","New for 2009"]
[6690,{"$f":"'Revenues 10-15'!J243","v":0},null,"Error?","New for 2009"]
[6691,{"$f":"'Revenues 10-15'!K243","v":0},null,"Error?","New for 2009"]
[6692,{"$f":"'Revenues 10-15'!C244","v":0},null,"Error?","New for 2009"]
[6693,{"$f":"'Revenues 10-15'!D244","v":0},null,"Error?","New for 2009"]
[6694,{"$f":"'Revenues 10-15'!E244","v":0},null,"Error?","New for 2009"]
[6695,{"$f":"'Revenues 10-15'!F244","v":0},null,"Error?","New for 2009"]
[6696,{"$f":"'Revenues 10-15'!G244","v":0},null,"Error?","New for 2009"]
[6697,{"$f":"'Revenues 10-15'!H244","v":0},null,"Error?","New for 2009"]
[6698,{"$f":"'Revenues 10-15'!J244","v":0},null,"Error?","New for 2009"]
[6699,{"$f":"'Revenues 10-15'!K244","v":0},null,"Error?","New for 2009"]
[6700,{"$f":"'Revenues 10-15'!C245","v":0},null,"Error?","New for 2009"]
[6701,{"$f":"'Revenues 10-15'!D245","v":0},null,"Error?","New for 2009"]
[6702,{"$f":"'Revenues 10-15'!E245","v":0},null,"Error?","New for 2009"]
[6703,{"$f":"'Revenues 10-15'!F245","v":0},null,"Error?","New for 2009"]
[6704,{"$f":"'Revenues 10-15'!G245","v":0},null,"Error?","New for 2009"]
[6705,{"$f":"'Revenues 10-15'!H245","v":0},null,"Error?","New for 2009"]
[6706,{"$f":"'Revenues 10-15'!J245","v":0},null,"Error?","New for 2009"]
[6707,{"$f":"'Revenues 10-15'!K245","v":0},null,"Error?","New for 2009"]
[6708,{"$f":"'Revenues 10-15'!C246","v":0},null,"Error?","New for 2009"]
[6709,{"$f":"'Revenues 10-15'!D246","v":0},null,"Error?","New for 2009"]
[6710,{"$f":"'Revenues 10-15'!E246","v":0},null,"Error?","New for 2009"]
[6711,{"$f":"'Revenues 10-15'!F246","v":0},null,"Error?","New for 2009"]
[6712,{"$f":"'Revenues 10-15'!G246","v":0},null,"Error?","New for 2009"]
[6713,{"$f":"'Revenues 10-15'!H246","v":0},null,"Error?","New for 2009"]
[6714,{"$f":"'Revenues 10-15'!J246","v":0},null,"Error?","New for 2009"]
[6715,{"$f":"'Revenues 10-15'!K246","v":0},null,"Error?","New for 2009"]
[6716,{"$f":"'Revenues 10-15'!C247","v":0},null,"Error?","New for 2009"]
[6717,{"$f":"'Revenues 10-15'!D247","v":0},null,"Error?","New for 2009"]
[6718,{"$f":"'Revenues 10-15'!E247","v":0},null,"Error?","New for 2009"]
[6719,{"$f":"'Revenues 10-15'!F247","v":0},null,"Error?","New for 2009"]
[6720,{"$f":"'Revenues 10-15'!G247","v":0},null,"Error?","New for 2009"]
[6721,{"$f":"'Revenues 10-15'!H247","v":0},null,"Error?","New for 2009"]
[6722,{"$f":"'Revenues 10-15'!J247","v":0},null,{"$f":"IF(ISBLANK(B6781),\"OK\",IF(A6781-B6781=0,\"OK\",\"Error?\"))","v":"Error?"},"New for 2009"]
[6723,{"$f":"'Revenues 10-15'!K247","v":0},null,"Error?","New for 2009"]
[6724,{"$f":"'Revenues 10-15'!C248","v":0},null,"Error?","New for 2009"]
[6725,{"$f":"'Revenues 10-15'!D248","v":0},null,"Error?","New for 2009"]
[6726,{"$f":"'Revenues 10-15'!E248","v":0},null,"Error?","New for 2009"]
[6727,{"$f":"'Revenues 10-15'!F248","v":0},null,"Error?","New for 2009"]
[6728,{"$f":"'Revenues 10-15'!G248","v":0},null,"Error?","New for 2009"]
[6729,{"$f":"'Revenues 10-15'!H248","v":0},null,"Error?","New for 2009"]
[6730,{"$f":"'Revenues 10-15'!J248","v":0},null,"Error?","New for 2009"]
[6731,{"$f":"'Revenues 10-15'!K248","v":0},null,"Error?","New for 2009"]
[6732,{"$f":"'Revenues 10-15'!C249","v":0},null,"Error?","New for 2009"]
[6733,{"$f":"'Revenues 10-15'!D249","v":0},null,"Error?","New for 2009"]
[6734,{"$f":"'Revenues 10-15'!E249","v":0},null,"Error?","New for 2009"]
[6735,{"$f":"'Revenues 10-15'!F249","v":0},null,"Error?","New for 2009"]
[6736,{"$f":"'Revenues 10-15'!G249","v":0},null,"Error?","New for 2009"]
[6737,{"$f":"'Revenues 10-15'!H249","v":0},null,"Error?","New for 2009"]
[6738,{"$f":"'Revenues 10-15'!J249","v":0},null,"Error?","New for 2009"]
[6739,{"$f":"'Revenues 10-15'!K249","v":0},null,"Error?","New for 2009"]
[6740,{"$f":"'Revenues 10-15'!C250","v":0},null,"Error?","New for 2009"]
[6741,{"$f":"'Revenues 10-15'!D250","v":0},null,"Error?","New for 2009"]
[6742,{"$f":"'Revenues 10-15'!E250","v":0},null,"Error?","New for 2009"]
[6743,{"$f":"'Revenues 10-15'!F250","v":0},null,"Error?","New for 2009"]
[6744,{"$f":"'Revenues 10-15'!G250","v":0},null,"Error?","New for 2009"]
[6745,{"$f":"'Revenues 10-15'!H250","v":0},null,"Error?","New for 2009"]
[6746,{"$f":"'Revenues 10-15'!J250","v":0},null,"Error?","New for 2009"]
[6747,{"$f":"'Revenues 10-15'!K250","v":0},null,"Error?","New for 2009"]
[6748,{"$f":"'Revenues 10-15'!C251","v":0},null,"Error?","New for 2009"]
[6749,{"$f":"'Revenues 10-15'!D251","v":0},null,"Error?","New for 2009"]
[6750,{"$f":"'Revenues 10-15'!E251","v":0},null,"Error?","New for 2009"]
[6751,{"$f":"'Revenues 10-15'!F251","v":0},null,"Error?","New for 2009"]
[6752,{"$f":"'Revenues 10-15'!G251","v":0},null,"Error?","New for 2009"]
[6753,{"$f":"'Revenues 10-15'!H251","v":0},null,"Error?","New for 2009"]
[6754,{"$f":"'Revenues 10-15'!J251","v":0},null,"Error?","New for 2009"]
[6755,{"$f":"'Revenues 10-15'!K251","v":0},null,"Error?","New for 2009"]
[6756,{"$f":"'Revenues 10-15'!C252","v":0},null,"Error?","New for 2009"]
[6757,{"$f":"'Revenues 10-15'!D252","v":0},null,"Error?","New for 2009"]
[6758,{"$f":"'Revenues 10-15'!E252","v":0},null,"Error?","New for 2009"]
[6759,{"$f":"'Revenues 10-15'!F252","v":0},null,"Error?","New for 2009"]
[6760,{"$f":"'Revenues 10-15'!G252","v":0},null,"Error?","New for 2009"]
[6761,{"$f":"'Revenues 10-15'!H252","v":0},null,"Error?","New for 2009"]
[6762,{"$f":"'Revenues 10-15'!J252","v":0},null,"Error?","New for 2009"]
[6763,{"$f":"'Revenues 10-15'!K252","v":0},null,"Error?","New for 2009"]
[6764,{"$f":"'Revenues 10-15'!C253","v":0},null,"Error?","New for 2009"]
[6765,{"$f":"'Revenues 10-15'!D253","v":0},null,"Error?","New for 2009"]
[6766,{"$f":"'Revenues 10-15'!E253","v":0},null,"Error?","New for 2009"]
[6767,{"$f":"'Revenues 10-15'!F253","v":0},null,"Error?","New for 2009"]
[6768,{"$f":"'Revenues 10-15'!G253","v":0},null,"Error?","New for 2009"]
[6769,{"$f":"'Revenues 10-15'!H253","v":0},null,"Error?","New for 2009"]
[6770,{"$f":"'Revenues 10-15'!J253","v":0},null,"Error?","New for 2009"]
[6771,{"$f":"'Revenues 10-15'!K253","v":0},null,"Error?"]
[6772,{"$f":"'Revenues 10-15'!C254","v":0},null,"Error?"]
[6773,{"$f":"'Revenues 10-15'!D254","v":0},null,"Error?"]
[6774,{"$f":"'Revenues 10-15'!E254","v":0},null,"Error?"]
[6775,{"$f":"'Revenues 10-15'!F254","v":0},null,"Error?"]
[6776,{"$f":"'Revenues 10-15'!G254","v":0},null,"Error?"]
[6777,{"$f":"'Revenues 10-15'!H254","v":0},null,"Error?"]
[6778,{"$f":"'Revenues 10-15'!J254","v":0},null,"Error?"]
[6779,{"$f":"'Revenues 10-15'!K254","v":0},null,"Error?"]
[6780,null,null,"OK","Deleted 2019"]
[6781,null,null,"OK","Deleted 2019"]
[6782,null,null,"OK","Deleted 2019"]
[6783,{"$f":"'Expenditures 16-24'!I5","v":0},null,"Error?"]
[6784,{"$f":"'Expenditures 16-24'!J5","v":0},null,"Error?"]
[6785,{"$f":"'Expenditures 16-24'!I7","v":0},null,"Error?"]
[6786,{"$f":"'Expenditures 16-24'!J7","v":0},null,{"$f":"IF(ISBLANK(B6845),\"OK\",IF(A6845-B6845=0,\"OK\",\"Error?\"))","v":"Error?"}]
[6787,{"$f":"'Expenditures 16-24'!K7","v":0},null,"Error?"]
[6788,{"$f":"'Expenditures 16-24'!I8","v":0},null,"Error?"]
[6789,{"$f":"'Expenditures 16-24'!J8","v":0},null,"Error?"]
[6790,{"$f":"'Expenditures 16-24'!I9","v":0},null,"Error?"]
[6791,{"$f":"'Expenditures 16-24'!J9","v":0},null,"Error?"]
[6792,{"$f":"'Expenditures 16-24'!K9","v":0},null,"Error?"]
[6793,{"$f":"'Expenditures 16-24'!I10","v":0},null,"Error?"]
[6794,{"$f":"'Expenditures 16-24'!J10","v":0},null,"Error?"]
[6795,{"$f":"'Expenditures 16-24'!I11","v":0},null,"Error?"]
[6796,{"$f":"'Expenditures 16-24'!J11","v":0},null,"Error?"]
[6797,{"$f":"'Expenditures 16-24'!K11","v":0},null,"Error?"]
[6798,{"$f":"'Expenditures 16-24'!I12","v":0},null,"Error?"]
[6799,{"$f":"'Expenditures 16-24'!J12","v":0},null,"Error?"]
[6800,{"$f":"'Expenditures 16-24'!I13","v":0},null,"Error?"]
[6801,{"$f":"'Expenditures 16-24'!J13","v":0},null,"Error?"]
[6802,{"$f":"'Expenditures 16-24'!I14","v":0},null,"Error?"]
[6803,{"$f":"'Expenditures 16-24'!J14","v":0},null,"Error?"]
[6804,{"$f":"'Expenditures 16-24'!I15","v":0},null,"Error?"]
[6805,{"$f":"'Expenditures 16-24'!J15","v":0},null,"Error?"]
[6806,{"$f":"'Expenditures 16-24'!I16","v":0},null,"Error?"]
[6807,{"$f":"'Expenditures 16-24'!J16","v":0},null,"Error?"]
[6808,{"$f":"'Expenditures 16-24'!I17","v":0},null,"Error?"]
[6809,{"$f":"'Expenditures 16-24'!J17","v":0},null,"Error?"]
[6810,{"$f":"'Expenditures 16-24'!K17","v":0},null,"Error?"]
[6811,{"$f":"'Expenditures 16-24'!I18","v":0},null,"Error?"]
[6812,{"$f":"'Expenditures 16-24'!J18","v":0},null,"Error?"]
[6813,{"$f":"'Expenditures 16-24'!I19","v":0},null,"Error?"]
[6814,{"$f":"'Expenditures 16-24'!J19","v":0},null,"Error?"]
[6815,{"$f":"'Expenditures 16-24'!H20","v":0},null,"Error?"]
[6816,{"$f":"'Expenditures 16-24'!K20","v":0},null,"Error?"]
[6817,{"$f":"'Expenditures 16-24'!H21","v":0},null,"Error?"]
[6818,{"$f":"'Expenditures 16-24'!K21","v":0},null,"Error?"]
[6819,{"$f":"'Expenditures 16-24'!H22","v":0},null,"Error?"]
[6820,{"$f":"'Expenditures 16-24'!K22","v":0},null,"Error?"]
[6821,{"$f":"'Expenditures 16-24'!H23","v":0},null,"Error?"]
[6822,{"$f":"'Expenditures 16-24'!K23","v":0},null,"Error?"]
[6823,{"$f":"'Expenditures 16-24'!H24","v":0},null,"Error?"]
[6824,{"$f":"'Expenditures 16-24'!K24","v":0},null,"Error?"]
[6825,{"$f":"'Expenditures 16-24'!H25","v":0},null,"Error?"]
[6826,{"$f":"'Expenditures 16-24'!K25","v":0},null,"Error?"]
[6827,{"$f":"'Expenditures 16-24'!H26","v":0},null,"Error?"]
[6828,{"$f":"'Expenditures 16-24'!K26","v":0},null,"Error?"]
[6829,{"$f":"'Expenditures 16-24'!H27","v":0},null,"Error?"]
[6830,{"$f":"'Expenditures 16-24'!K27","v":0},null,"Error?"]
[6831,{"$f":"'Expenditures 16-24'!H28","v":0},null,"Error?"]
[6832,{"$f":"'Expenditures 16-24'!K28","v":0},null,"Error?"]
[6833,{"$f":"'Expenditures 16-24'!H29","v":0},null,"Error?"]
[6834,{"$f":"'Expenditures 16-24'!K29","v":0},null,"Error?"]
[6835,{"$f":"'Expenditures 16-24'!H30","v":0},null,"Error?"]
[6836,{"$f":"'Expenditures 16-24'!K30","v":0},null,"Error?"]
[6837,{"$f":"'Expenditures 16-24'!H31","v":0},null,"Error?"]
[6838,{"$f":"'Expenditures 16-24'!K31","v":0},null,"Error?"]
[6839,{"$f":"'Expenditures 16-24'!H32","v":0},null,"Error?"]
[6840,{"$f":"'Expenditures 16-24'!K32","v":0},null,"Error?"]
[6841,{"$f":"'Expenditures 16-24'!I34","v":0},null,"Error?"]
[6842,{"$f":"'Expenditures 16-24'!J34","v":0},null,"Error?"]
[6843,{"$f":"'Expenditures 16-24'!I38","v":0},null,"Error?"]
[6844,{"$f":"'Expenditures 16-24'!J38","v":0},null,"Error?"]
[6845,{"$f":"'Expenditures 16-24'!I39","v":0},null,"Error?"]
[6846,{"$f":"'Expenditures 16-24'!J39","v":0},null,"Error?"]
[6847,{"$f":"'Expenditures 16-24'!I40","v":0},null,"Error?"]
[6848,{"$f":"'Expenditures 16-24'!J40","v":0},null,"Error?"]
[6849,{"$f":"'Expenditures 16-24'!I41","v":0},null,"Error?"]
[6850,{"$f":"'Expenditures 16-24'!J41","v":0},null,{"$f":"IF(ISBLANK(B6909),\"OK\",IF(A6909-B6909=0,\"OK\",\"Error?\"))","v":"Error?"}]
[6851,{"$f":"'Expenditures 16-24'!I42","v":0},null,"Error?"]
[6852,{"$f":"'Expenditures 16-24'!J42","v":0},null,"Error?"]
[6853,{"$f":"'Expenditures 16-24'!I43","v":0},null,"Error?"]
[6854,{"$f":"'Expenditures 16-24'!J43","v":0},null,"Error?"]
[6855,{"$f":"'Expenditures 16-24'!I44","v":0},null,"Error?"]
[6856,{"$f":"'Expenditures 16-24'!J44","v":0},null,"Error?"]
[6857,{"$f":"'Expenditures 16-24'!I46","v":0},null,"Error?"]
[6858,{"$f":"'Expenditures 16-24'!J46","v":0},null,"Error?"]
[6859,{"$f":"'Expenditures 16-24'!I47","v":0},null,"Error?"]
[6860,{"$f":"'Expenditures 16-24'!J47","v":0},null,"Error?"]
[6861,{"$f":"'Expenditures 16-24'!I48","v":0},null,"Error?"]
[6862,{"$f":"'Expenditures 16-24'!J48","v":0},null,"Error?"]
[6863,{"$f":"'Expenditures 16-24'!I49","v":0},null,"Error?"]
[6864,{"$f":"'Expenditures 16-24'!J49","v":0},null,"Error?"]
[6865,{"$f":"'Expenditures 16-24'!I51","v":0},null,"Error?"]
[6866,{"$f":"'Expenditures 16-24'!J51","v":0},null,"Error?"]
[6867,{"$f":"'Expenditures 16-24'!I52","v":0},null,"Error?"]
[6868,{"$f":"'Expenditures 16-24'!J52","v":0},null,"Error?"]
[6869,{"$f":"'Expenditures 16-24'!I53","v":0},null,"Error?"]
[6870,{"$f":"'Expenditures 16-24'!J53","v":0},null,"Error?"]
[6871,{"$f":"'Expenditures 16-24'!C54","v":0},null,"Error?"]
[6872,{"$f":"'Expenditures 16-24'!D54","v":0},null,"Error?"]
[6873,{"$f":"'Expenditures 16-24'!E54","v":0},null,"Error?"]
[6874,{"$f":"'Expenditures 16-24'!F54","v":0},null,"Error?"]
[6875,{"$f":"'Expenditures 16-24'!G54","v":0},null,"Error?"]
[6876,{"$f":"'Expenditures 16-24'!H54","v":0},null,"Error?"]
[6877,{"$f":"'Expenditures 16-24'!I54","v":0},null,"Error?"]
[6878,{"$f":"'Expenditures 16-24'!J54","v":0},null,"Error?"]
[6879,{"$f":"'Expenditures 16-24'!K54","v":0},null,"Error?"]
[6880,null,null,"OK"]
[6881,{"$f":"'Expenditures 16-24'!I55","v":0},null,"Error?"]
[6882,{"$f":"'Expenditures 16-24'!J55","v":0},null,"Error?"]
[6883,{"$f":"'Expenditures 16-24'!I57","v":0},null,"Error?"]
[6884,{"$f":"'Expenditures 16-24'!J57","v":0},null,"Error?"]
[6885,{"$f":"'Expenditures 16-24'!I58","v":0},null,"Error?"]
[6886,{"$f":"'Expenditures 16-24'!J58","v":0},null,"Error?"]
[6887,{"$f":"'Expenditures 16-24'!I59","v":0},null,"Error?"]
[6888,{"$f":"'Expenditures 16-24'!J59","v":0},null,"Error?"]
[6889,{"$f":"'Expenditures 16-24'!I61","v":0},null,"Error?"]
[6890,{"$f":"'Expenditures 16-24'!J61","v":0},null,"Error?"]
[6891,{"$f":"'Expenditures 16-24'!I62","v":0},null,"Error?"]
[6892,{"$f":"'Expenditures 16-24'!J62","v":0},null,"Error?"]
[6893,{"$f":"'Expenditures 16-24'!I63","v":0},null,"Error?"]
[6894,{"$f":"'Expenditures 16-24'!J63","v":0},null,"Error?"]
[6895,{"$f":"'Expenditures 16-24'!I64","v":0},null,"Error?"]
[6896,{"$f":"'Expenditures 16-24'!J64","v":0},null,"Error?"]
[6897,{"$f":"'Expenditures 16-24'!I65","v":0},null,"Error?"]
[6898,{"$f":"'Expenditures 16-24'!J65","v":0},null,"Error?"]
[6899,{"$f":"'Expenditures 16-24'!J66","v":0},null,"Error?"]
[6900,{"$f":"'Expenditures 16-24'!I67","v":0},null,"Error?"]
[6901,{"$f":"'Expenditures 16-24'!J67","v":0},null,"Error?"]
[6902,{"$f":"'Expenditures 16-24'!I69","v":0},null,"Error?"]
[6903,{"$f":"'Expenditures 16-24'!J69","v":0},null,"Error?"]
[6904,{"$f":"'Expenditures 16-24'!I70","v":0},null,"Error?"]
[6905,{"$f":"'Expenditures 16-24'!J70","v":0},null,"Error?"]
[6906,{"$f":"'Expenditures 16-24'!I71","v":0},null,"Error?"]
[6907,{"$f":"'Expenditures 16-24'!J71","v":0},null,"Error?"]
[6908,{"$f":"'Expenditures 16-24'!I72","v":0},null,"Error?"]
[6909,{"$f":"'Expenditures 16-24'!J72","v":0},null,"Error?"]
[6910,{"$f":"'Expenditures 16-24'!I73","v":0},null,"Error?"]
[6911,{"$f":"'Expenditures 16-24'!J73","v":0},null,"Error?"]
[6912,{"$f":"'Expenditures 16-24'!I74","v":0},null,"Error?"]
[6913,{"$f":"'Expenditures 16-24'!J74","v":0},null,"Error?"]
[6914,{"$f":"'Expenditures 16-24'!I75","v":0},null,{"$f":"IF(ISBLANK(B6973),\"OK\",IF(A6973-B6973=0,\"OK\",\"Error?\"))","v":"Error?"}]
[6915,{"$f":"'Expenditures 16-24'!J75","v":0},null,"Error?"]
[6916,{"$f":"'Expenditures 16-24'!I76","v":0},null,"Error?"]
[6917,{"$f":"'Expenditures 16-24'!J76","v":0},null,"Error?"]
[6918,{"$f":"'Expenditures 16-24'!I77","v":0},null,"Error?"]
[6919,{"$f":"'Expenditures 16-24'!J77","v":0},null,"Error?"]
[6920,{"$f":"'Expenditures 16-24'!H87","v":0},null,"Error?"]
[6921,{"$f":"'Expenditures 16-24'!K87","v":0},null,"Error?"]
[6922,{"$f":"'Expenditures 16-24'!H88","v":0},null,"Error?"]
[6923,{"$f":"'Expenditures 16-24'!K88","v":0},null,"Error?"]
[6924,{"$f":"'Expenditures 16-24'!H89","v":0},null,"Error?"]
[6925,{"$f":"'Expenditures 16-24'!K89","v":0},null,"Error?"]
[6926,{"$f":"'Expenditures 16-24'!H90","v":0},null,"Error?"]
[6927,{"$f":"'Expenditures 16-24'!K90","v":0},null,"Error?"]
[6928,{"$f":"'Expenditures 16-24'!H91","v":0},null,"Error?"]
[6929,{"$f":"'Expenditures 16-24'!K91","v":0},null,"Error?"]
[6930,{"$f":"'Expenditures 16-24'!H92","v":0},null,"Error?"]
[6931,{"$f":"'Expenditures 16-24'!K92","v":0},null,"Error?"]
[6932,{"$f":"'Expenditures 16-24'!H93","v":0},null,"Error?"]
[6933,{"$f":"'Expenditures 16-24'!K93","v":0},null,"Error?"]
[6934,{"$f":"'Expenditures 16-24'!H94","v":0},null,"Error?"]
[6935,{"$f":"'Expenditures 16-24'!H95","v":0},null,"Error?"]
[6936,{"$f":"'Expenditures 16-24'!K95","v":0},null,"Error?"]
[6937,{"$f":"'Expenditures 16-24'!H96","v":0},null,"Error?"]
[6938,{"$f":"'Expenditures 16-24'!K96","v":0},null,"Error?"]
[6939,{"$f":"'Expenditures 16-24'!H97","v":0},null,"Error?"]
[6940,{"$f":"'Expenditures 16-24'!K97","v":0},null,"Error?"]
[6941,{"$f":"'Expenditures 16-24'!H98","v":0},null,"Error?"]
[6942,{"$f":"'Expenditures 16-24'!K98","v":0},null,"Error?"]
[6943,{"$f":"'Expenditures 16-24'!H99","v":0},null,"Error?"]
[6944,{"$f":"'Expenditures 16-24'!K99","v":0},null,"Error?"]
[6945,{"$f":"'Expenditures 16-24'!H100","v":0},null,"Error?"]
[6946,{"$f":"'Expenditures 16-24'!K100","v":0},null,"Error?"]
[6947,{"$f":"'Expenditures 16-24'!E101","v":0},null,"Error?"]
[6948,{"$f":"'Expenditures 16-24'!H101","v":0},null,"Error?"]
[6949,{"$f":"'Expenditures 16-24'!K101","v":0},null,"Error?"]
[6950,{"$f":"'Expenditures 16-24'!E102","v":0},null,"Error?"]
[6951,{"$f":"'Expenditures 16-24'!H102","v":0},null,"Error?"]
[6952,{"$f":"'Expenditures 16-24'!K102","v":0},null,"Error?"]
[6953,{"$f":"'Expenditures 16-24'!H103","v":0},null,"Error?"]
[6954,{"$f":"'Expenditures 16-24'!K103","v":0},null,"Error?"]
[6955,{"$f":"'Expenditures 16-24'!H113","v":0},null,"Error?"]
[6956,{"$f":"'Expenditures 16-24'!K113","v":0},null,"Error?"]
[6957,{"$f":"'Expenditures 16-24'!H114","v":0},null,"Error?"]
[6958,{"$f":"'Expenditures 16-24'!K114","v":0},null,"Error?"]
[6959,{"$f":"'Expenditures 16-24'!I116","v":0},null,"Error?"]
[6960,{"$f":"'Expenditures 16-24'!J116","v":0},null,"Error?"]
[6961,{"$f":"'Expenditures 16-24'!I124","v":0},null,"Error?"]
[6962,{"$f":"'Expenditures 16-24'!J124","v":0},null,"Error?"]
[6963,{"$f":"'Expenditures 16-24'!I126","v":0},null,"Error?"]
[6964,{"$f":"'Expenditures 16-24'!J126","v":0},null,"Error?"]
[6965,{"$f":"'Expenditures 16-24'!I127","v":0},null,"Error?"]
[6966,{"$f":"'Expenditures 16-24'!J127","v":0},null,"Error?"]
[6967,{"$f":"'Expenditures 16-24'!I128","v":0},null,"Error?"]
[6968,{"$f":"'Expenditures 16-24'!J128","v":0},null,"Error?"]
[6969,{"$f":"'Expenditures 16-24'!I129","v":0},null,"Error?"]
[6970,{"$f":"'Expenditures 16-24'!J129","v":0},null,"Error?"]
[6971,{"$f":"'Expenditures 16-24'!I130","v":0},null,"Error?"]
[6972,{"$f":"'Expenditures 16-24'!I131","v":0},null,"Error?"]
[6973,{"$f":"'Expenditures 16-24'!J131","v":0},null,"Error?"]
[6974,{"$f":"'Expenditures 16-24'!I132","v":0},null,"Error?"]
[6975,{"$f":"'Expenditures 16-24'!J132","v":0},null,"Error?"]
[6976,{"$f":"'Expenditures 16-24'!I133","v":0},null,"Error?"]
[6977,{"$f":"'Expenditures 16-24'!J133","v":0},null,"Error?"]
[6978,{"$f":"'Expenditures 16-24'!I134","v":0},null,{"$f":"IF(ISBLANK(B7037),\"OK\",IF(A7037-B7037=0,\"OK\",\"Error?\"))","v":"Error?"}]
[6979,{"$f":"'Expenditures 16-24'!J134","v":0},null,"Error?"]
[6980,{"$f":"'Revenues 10-15'!J268","v":0},null,"Error?"]
[6981,{"$f":"'Acct Summary 7-9'!J13","v":0},null,"Error?"]
[6982,{"$f":"'Revenues 10-15'!H9","v":0},null,"Error?"]
[6983,{"$f":"'Revenues 10-15'!D108","v":0},null,"Error?"]
[6984,{"$f":"'Revenues 10-15'!E108","v":0},null,"Error?"]
[6985,{"$f":"'Revenues 10-15'!F108","v":0},null,"Error?"]
[6986,{"$f":"'Expenditures 16-24'!H151","v":0},null,"Error?"]
[6987,{"$f":"'Expenditures 16-24'!K151","v":0},null,"Error?"]
[6988,{"$f":"'Expenditures 16-24'!H152","v":0},null,"Error?"]
[6989,{"$f":"'Expenditures 16-24'!K152","v":0},null,"Error?"]
[6990,{"$f":"'Expenditures 16-24'!I155","v":0},null,"Error?"]
[6991,{"$f":"'Expenditures 16-24'!J155","v":0},null,"Error?"]
[6992,{"$f":"'Expenditures 16-24'!H164","v":0},null,"Error?"]
[6993,{"$f":"'Revenues 10-15'!J269","v":0},null,"Error?","Open"]
[6994,{"$f":"'Revenues 10-15'!J270","v":0},null,"Error?","Open"]
[6995,null,null,"OK","Open"]
[6996,{"$f":"'Expenditures 16-24'!I184","v":0},null,"Error?"]
[6997,{"$f":"'Expenditures 16-24'!J184","v":0},null,"Error?"]
[6998,{"$f":"'Expenditures 16-24'!I186","v":0},null,"Error?"]
[6999,{"$f":"'Expenditures 16-24'!J186","v":0},null,"Error?"]
[7000,{"$f":"'Expenditures 16-24'!I187","v":0},null,"Error?"]
[7001,{"$f":"'Expenditures 16-24'!J187","v":0},null,"Error?"]
[7002,{"$f":"'Expenditures 16-24'!I188","v":0},null,"Error?"]
[7003,{"$f":"'Expenditures 16-24'!J188","v":0},null,"Error?"]
[7004,{"$f":"'Expenditures 16-24'!I189","v":0},null,"Error?"]
[7005,{"$f":"'Expenditures 16-24'!J189","v":0},null,"Error?"]
[7006,{"$f":"'Expenditures 16-24'!H209","v":0},null,"Error?"]
[7007,{"$f":"'Expenditures 16-24'!K209","v":0},null,"Error?"]
[7008,{"$f":"'Expenditures 16-24'!H211","v":0},null,"Error?"]
[7009,{"$f":"'Expenditures 16-24'!K211","v":0},null,"Error?"]
[7010,{"$f":"'Expenditures 16-24'!I214","v":0},null,"Error?"]
[7011,{"$f":"'Expenditures 16-24'!J214","v":0},null,"Error?"]
[7012,{"$f":"'Expenditures 16-24'!D220","v":0},null,"Error?"]
[7013,{"$f":"'Expenditures 16-24'!K220","v":0},null,"Error?"]
[7014,{"$f":"'Expenditures 16-24'!D222","v":0},null,"Error?"]
[7015,{"$f":"'Expenditures 16-24'!K222","v":0},null,"Error?"]
[7016,{"$f":"'Expenditures 16-24'!D224","v":0},null,"Error?"]
[7017,{"$f":"'Expenditures 16-24'!K224","v":0},null,"Error?"]
[7018,{"$f":"'Expenditures 16-24'!D230","v":0},null,"Error?"]
[7019,{"$f":"'Expenditures 16-24'!K230","v":0},null,"Error?"]
[7020,{"$f":"'Expenditures 16-24'!D252","v":0},null,"Error?"]
[7021,{"$f":"'Expenditures 16-24'!K252","v":0},null,"Error?"]
[7022,null,null,"OK","closed FY21 "]
[7023,null,null,"OK","closed FY21 "]
[7024,null,null,"OK","closed FY21 "]
[7025,null,null,"OK","closed FY21 "]
[7026,null,null,"OK","closed FY21 "]
[7027,null,null,"OK","closed FY21 "]
[7028,{"$f":"'Expenditures 16-24'!D253","v":0},null,"Error?"]
[7029,{"$f":"'Expenditures 16-24'!K253","v":0},null,"Error?"]
[7030,null,null,"OK","closed FY21 "]
[7031,null,null,"OK","closed FY21 "]
[7032,null,null,"OK","closed FY21 "]
[7033,null,null,"OK","closed FY21 "]
[7034,null,null,"OK","closed FY21 "]
[7035,null,null,"OK","closed FY21 "]
[7036,null,null,"OK","closed FY21 "]
[7037,null,null,"OK","closed FY21 "]
[7038,{"$f":"'Expenditures 16-24'!I298","v":0},null,"Error?"]
[7039,{"$f":"'Expenditures 16-24'!J298","v":0},null,"Error?"]
[7040,{"$f":"'Expenditures 16-24'!I299","v":0},null,"Error?"]
[7041,{"$f":"'Expenditures 16-24'!J299","v":0},null,"Error?"]
[7042,{"$f":"'Expenditures 16-24'!I300","v":0},null,{"$f":"IF(ISBLANK(B7101),\"OK\",IF(A7101-B7101=0,\"OK\",\"Error?\"))","v":"Error?"}]
[7043,{"$f":"'Expenditures 16-24'!J300","v":0},null,"Error?"]
[7044,{"$f":"'Expenditures 16-24'!E303","v":0},null,"Error?"]
[7045,{"$f":"'Expenditures 16-24'!H303","v":0},null,"Error?"]
[7046,{"$f":"'Expenditures 16-24'!K303","v":0},null,"Error?"]
[7047,{"$f":"'Expenditures 16-24'!E304","v":0},null,"Error?"]
[7048,{"$f":"'Expenditures 16-24'!H304","v":0},null,"Error?"]
[7049,{"$f":"'Expenditures 16-24'!E305","v":0},null,"Error?"]
[7050,{"$f":"'Expenditures 16-24'!H305","v":0},null,"Error?"]
[7051,{"$f":"'Expenditures 16-24'!E306","v":0},null,"Error?"]
[7052,{"$f":"'Expenditures 16-24'!H306","v":0},null,"Error?"]
[7053,{"$f":"'Expenditures 16-24'!E307","v":0},null,"Error?"]
[7054,{"$f":"'Expenditures 16-24'!H307","v":0},null,"Error?"]
[7055,{"$f":"'Expenditures 16-24'!I309","v":0},null,"Error?"]
[7056,{"$f":"'Expenditures 16-24'!J309","v":0},null,"Error?"]
[7057,{"$f":"'Expenditures 16-24'!C363","v":0},null,"Error?"]
[7058,{"$f":"'Expenditures 16-24'!D363","v":0},null,"Error?"]
[7059,{"$f":"'Expenditures 16-24'!E363","v":0},null,"Error?"]
[7060,{"$f":"'Expenditures 16-24'!F363","v":0},null,"Error?"]
[7061,{"$f":"'Expenditures 16-24'!G363","v":0},null,"Error?"]
[7062,{"$f":"'Expenditures 16-24'!H363","v":0},null,"Error?"]
[7063,{"$f":"'Expenditures 16-24'!I363","v":0},null,"Error?"]
[7064,{"$f":"'Expenditures 16-24'!J363","v":0},null,"Error?"]
[7065,{"$f":"'Expenditures 16-24'!K363","v":0},null,"Error?"]
[7066,null,null,"OK"]
[7067,null,null,"OK"]
[7068,null,null,"OK"]
[7069,null,null,"OK"]
[7070,null,null,"OK"]
[7071,null,null,"OK"]
[7072,null,null,"OK"]
[7073,null,null,"OK"]
[7074,null,null,"OK"]
[7075,null,null,"OK"]
[7076,null,null,"OK"]
[7077,null,null,"OK"]
[7078,null,null,"OK"]
[7079,null,null,"OK"]
[7080,null,null,"OK"]
[7081,null,null,"OK"]
[7082,null,null,"OK"]
[7083,null,null,"OK"]
[7084,null,null,"OK"]
[7085,null,null,"OK"]
[7086,null,null,"OK"]
[7087,null,null,"OK"]
[7088,null,null,"OK"]
[7089,null,null,"OK"]
[7090,null,null,"OK"]
[7091,null,null,"OK"]
[7092,null,null,"OK"]
[7093,{"$f":"'Expenditures 16-24'!C364","v":0},null,"Error?"]
[7094,{"$f":"'Expenditures 16-24'!D364","v":0},null,"Error?"]
[7095,{"$f":"'Expenditures 16-24'!E364","v":0},null,"Error?"]
[7096,{"$f":"'Expenditures 16-24'!F364","v":0},null,"Error?"]
[7097,{"$f":"'Expenditures 16-24'!G364","v":0},null,"Error?"]
[7098,{"$f":"'Expenditures 16-24'!H364","v":0},null,"Error?"]
[7099,{"$f":"'Expenditures 16-24'!I364","v":0},null,"Error?"]
[7100,{"$f":"'Expenditures 16-24'!J364","v":0},null,"Error?"]
[7101,{"$f":"'Expenditures 16-24'!K364","v":0},null,"Error?"]
[7102,null,null,"OK"]
[7103,null,null,"OK"]
[7104,null,null,"OK"]
[7105,null,null,"OK"]
[7106,null,null,{"$f":"IF(ISBLANK(B7165),\"OK\",IF(A7165-B7165=0,\"OK\",\"Error?\"))","v":"OK"}]
[7107,null,null,"OK"]
[7108,null,null,"OK"]
[7109,null,null,"OK"]
[7110,null,null,"OK"]
[7111,null,null,"OK"]
[7112,null,null,"OK"]
[7113,null,null,"OK"]
[7114,null,null,"OK"]
[7115,null,null,"OK"]
[7116,null,null,"OK"]
[7117,null,null,"OK"]
[7118,null,null,"OK"]
[7119,null,null,"OK"]
[7120,null,null,"OK"]
[7121,null,null,"OK"]
[7122,null,null,"OK"]
[7123,null,null,"OK"]
[7124,null,null,"OK"]
[7125,null,null,"OK"]
[7126,null,null,"OK"]
[7127,null,null,"OK"]
[7128,null,null,"OK"]
[7129,null,null,"OK"]
[7130,null,null,"OK"]
[7131,null,null,"OK"]
[7132,null,null,"OK"]
[7133,null,null,"OK"]
[7134,null,null,"OK"]
[7135,null,null,"OK"]
[7136,null,null,"OK"]
[7137,null,null,"OK"]
[7138,{"$f":"'Expenditures 16-24'!C365","v":0},null,"Error?"]
[7139,{"$f":"'Expenditures 16-24'!D365","v":0},null,"Error?"]
[7140,{"$f":"'Expenditures 16-24'!E365","v":0},null,"Error?"]
[7141,{"$f":"'Expenditures 16-24'!F365","v":0},null,"Error?"]
[7142,{"$f":"'Expenditures 16-24'!G365","v":0},null,"Error?"]
[7143,{"$f":"'Expenditures 16-24'!H365","v":0},null,"Error?"]
[7144,{"$f":"'Expenditures 16-24'!I365","v":0},null,"Error?"]
[7145,{"$f":"'Expenditures 16-24'!J365","v":0},null,"Error?"]
[7146,{"$f":"'Expenditures 16-24'!K365","v":0},null,"Error?"]
[7147,{"$f":"'Expenditures 16-24'!H418","v":0},null,"Error?"]
[7148,{"$f":"'Expenditures 16-24'!K418","v":0},null,"Error?"]
[7149,{"$f":"'Expenditures 16-24'!H420","v":0},null,"Error?"]
[7150,{"$f":"'Expenditures 16-24'!K420","v":0},null,"Error?"]
[7151,{"$f":"'Expenditures 16-24'!H422","v":0},null,"Error?"]
[7152,{"$f":"'Expenditures 16-24'!K422","v":0},null,"Error?"]
[7153,{"$f":"'Expenditures 16-24'!H423","v":0},null,"Error?"]
[7154,{"$f":"'Expenditures 16-24'!K423","v":0},null,"Error?"]
[7155,{"$f":"'Expenditures 16-24'!C429","v":0},null,"Error?"]
[7156,{"$f":"'Expenditures 16-24'!D429","v":0},null,"Error?"]
[7157,{"$f":"'Expenditures 16-24'!E429","v":0},null,"Error?"]
[7158,{"$f":"'Expenditures 16-24'!F429","v":0},null,"Error?"]
[7159,{"$f":"'Expenditures 16-24'!G429","v":0},null,"Error?"]
[7160,{"$f":"'Expenditures 16-24'!H429","v":0},null,"Error?"]
[7161,{"$f":"'Expenditures 16-24'!I429","v":0},null,"Error?"]
[7162,{"$f":"'Expenditures 16-24'!J429","v":0},null,"Error?"]
[7163,{"$f":"'Expenditures 16-24'!K429","v":0},null,"Error?"]
[7164,{"$f":"'Expenditures 16-24'!K430","v":0},null,"Error?"]
[7165,{"$f":"'Expenditures 16-24'!I435","v":0},null,"Error?"]
[7166,{"$f":"'Expenditures 16-24'!J435","v":0},null,"Error?"]
[7167,{"$f":"'Expenditures 16-24'!I436","v":0},null,"Error?"]
[7168,{"$f":"'Expenditures 16-24'!J436","v":0},null,"Error?"]
[7169,{"$f":"'Expenditures 16-24'!I437","v":0},null,"Error?"]
[7170,{"$f":"'Expenditures 16-24'!J437","v":0},null,{"$f":"IF(ISBLANK(B7229),\"OK\",IF(A7229-B7229=0,\"OK\",\"Error?\"))","v":"Error?"}]
[7171,{"$f":"'Expenditures 16-24'!I438","v":0},null,"Error?"]
[7172,{"$f":"'Expenditures 16-24'!J438","v":0},null,"Error?"]
[7173,{"$f":"'Expenditures 16-24'!I439","v":0},null,"Error?"]
[7174,{"$f":"'Expenditures 16-24'!J439","v":0},null,"Error?"]
[7175,{"$f":"'Expenditures 16-24'!H443","v":0},null,"Error?"]
[7176,{"$f":"'Expenditures 16-24'!H444","v":0},null,"Error?"]
[7177,{"$f":"'Expenditures 16-24'!H448","v":0},null,"Error?"]
[7178,{"$f":"'Expenditures 16-24'!K448","v":0},null,"Error?"]
[7179,{"$f":"'Expenditures 16-24'!H450","v":0},null,"Error?"]
[7180,{"$f":"'Expenditures 16-24'!K450","v":0},null,"Error?"]
[7181,{"$f":"'Expenditures 16-24'!H452","v":0},null,"Error?"]
[7182,{"$f":"'Expenditures 16-24'!K452","v":0},null,"Error?"]
[7183,{"$f":"'Expenditures 16-24'!I454","v":0},null,"Error?"]
[{"$f":"A7242+1","v":7184},{"$f":"'Expenditures 16-24'!J454","v":0},null,"Error?"]
[{"$f":"A7243+1","v":7185},{"$f":"'Expenditures 16-24'!D7","v":0},null,"Error?"]
[7186,{"$f":"'Expenditures 16-24'!E7","v":0},null,"Error?"]
[7187,{"$f":"'Expenditures 16-24'!F7","v":0},null,"Error?"]
[7188,{"$f":"'Expenditures 16-24'!G7","v":0},null,"Error?"]
[7189,{"$f":"'Expenditures 16-24'!H7","v":0},null,"Error?"]
[7190,{"$f":"'Expenditures 16-24'!C9","v":0},null,"Error?"]
[7191,{"$f":"'Expenditures 16-24'!D9","v":0},null,"Error?"]
[7192,{"$f":"'Expenditures 16-24'!E9","v":0},null,"Error?"]
[7193,{"$f":"'Expenditures 16-24'!F9","v":0},null,"Error?"]
[7194,{"$f":"'Expenditures 16-24'!G9","v":0},null,"Error?"]
[7195,{"$f":"'Expenditures 16-24'!H9","v":0},null,"Error?"]
[7196,{"$f":"'Expenditures 16-24'!C11","v":0},null,"Error?"]
[7197,{"$f":"'Expenditures 16-24'!D11","v":0},null,"Error?"]
[7198,{"$f":"'Expenditures 16-24'!E11","v":0},null,"Error?"]
[7199,{"$f":"'Expenditures 16-24'!F11","v":0},null,"Error?"]
[7200,{"$f":"'Expenditures 16-24'!G11","v":0},null,"Error?"]
[7201,{"$f":"'Expenditures 16-24'!H11","v":0},null,"Error?"]
[7202,{"$f":"'Expenditures 16-24'!C17","v":0},null,"Error?"]
[7203,{"$f":"'Expenditures 16-24'!D17","v":0},null,"Error?"]
[7204,{"$f":"'Expenditures 16-24'!E17","v":0},null,"Error?"]
[7205,{"$f":"'Expenditures 16-24'!F17","v":0},null,"Error?"]
[7206,{"$f":"'Expenditures 16-24'!G17","v":0},null,"Error?"]
[7207,{"$f":"'Expenditures 16-24'!H17","v":0},null,"Error?"]
[7208,null,null,"OK","ARRA Schedule"]
[7209,null,null,"OK","ARRA Schedule"]
[7210,null,null,"OK","ARRA Schedule"]
[7211,null,null,"OK","ARRA Schedule"]
[7212,null,null,"OK","ARRA Schedule"]
[7213,null,null,"OK","ARRA Schedule"]
[7214,null,null,"OK","ARRA Schedule"]
[7215,null,null,"OK","ARRA Schedule"]
[7216,null,null,"OK","ARRA Schedule"]
[7217,null,null,"OK","ARRA Schedule"]
[7218,null,null,"OK","ARRA Schedule"]
[7219,null,null,"OK","ARRA Schedule"]
[7220,null,null,"OK","ARRA Schedule"]
[7221,null,null,"OK","ARRA Schedule"]
[7222,null,null,"OK","ARRA Schedule"]
[7223,null,null,"OK","ARRA Schedule"]
[7224,null,null,"OK","ARRA Schedule"]
[7225,null,null,"OK","ARRA Schedule"]
[7226,null,null,"OK","ARRA Schedule"]
[7227,null,null,"OK","ARRA Schedule"]
[7228,null,null,"OK","ARRA Schedule"]
[7229,null,null,"OK","ARRA Schedule"]
[7230,null,null,"OK","ARRA Schedule"]
[7231,null,null,"OK","ARRA Schedule"]
[7232,null,null,"OK","ARRA Schedule"]
[7233,null,null,"OK","ARRA Schedule"]
[7234,null,null,{"$f":"IF(ISBLANK(B7293),\"OK\",IF(A7293-B7293=0,\"OK\",\"Error?\"))","v":"OK"},"ARRA Schedule"]
[7235,null,null,"OK","ARRA Schedule"]
[7236,null,null,"OK","ARRA Schedule"]
[7237,null,null,"OK","ARRA Schedule"]
[7238,null,null,"OK","ARRA Schedule"]
[7239,null,null,"OK","ARRA Schedule"]
[7240,null,null,"OK","ARRA Schedule"]
[7241,null,null,"OK","ARRA Schedule"]
[7242,null,null,"OK","ARRA Schedule"]
[7243,null,null,"OK","ARRA Schedule"]
[7244,null,null,"OK","ARRA Schedule"]
[7245,null,null,"OK","ARRA Schedule"]
[7246,null,null,"OK","ARRA Schedule"]
[7247,null,null,"OK","ARRA Schedule"]
[7248,null,null,"OK","ARRA Schedule"]
[{"$f":"A7307+1","v":7249},null,null,"OK","ARRA Schedule"]
[7250,null,null,"OK","ARRA Schedule"]
[7251,null,null,"OK","ARRA Schedule"]
[7252,null,null,"OK","ARRA Schedule"]
[7253,null,null,"OK","ARRA Schedule"]
[7254,null,null,"OK","ARRA Schedule"]
[7255,null,null,"OK","ARRA Schedule"]
[7256,null,null,"OK","ARRA Schedule"]
[7257,null,null,"OK","ARRA Schedule"]
[7258,null,null,"OK","ARRA Schedule"]
[7259,null,null,"OK","ARRA Schedule"]
[7260,null,null,"OK","ARRA Schedule"]
[7261,null,null,"OK","ARRA Schedule"]
[7262,null,null,"OK","ARRA Schedule"]
[7263,null,null,"OK","ARRA Schedule"]
[7264,null,null,"OK","ARRA Schedule"]
[7265,null,null,"OK","ARRA Schedule"]
[7266,null,null,"OK","ARRA Schedule"]
[7267,null,null,"OK","ARRA Schedule"]
[7268,null,null,"OK","ARRA Schedule"]
[7269,null,null,"OK","ARRA Schedule"]
[7270,null,null,"OK","ARRA Schedule"]
[7271,null,null,"OK","ARRA Schedule"]
[7272,null,null,"OK","ARRA Schedule"]
[7273,null,null,"OK","ARRA Schedule"]
[7274,null,null,"OK","ARRA Schedule"]
[7275,null,null,"OK","ARRA Schedule"]
[7276,null,null,"OK","ARRA Schedule"]
[7277,null,null,"OK","ARRA Schedule"]
[7278,null,null,"OK","ARRA Schedule"]
[7279,null,null,"OK","ARRA Schedule"]
[7280,null,null,"OK","ARRA Schedule"]
[7281,null,null,"OK","ARRA Schedule"]
[7282,null,null,"OK","ARRA Schedule"]
[7283,null,null,"OK","ARRA Schedule"]
[7284,null,null,"OK","ARRA Schedule"]
[7285,null,null,"OK","ARRA Schedule"]
[7286,null,null,"OK","ARRA Schedule"]
[7287,null,null,"OK","ARRA Schedule"]
[7288,null,null,"OK","ARRA Schedule"]
[7289,null,null,"OK","ARRA Schedule"]
[7290,null,null,"OK","ARRA Schedule"]
[7291,null,null,"OK","ARRA Schedule"]
[7292,null,null,"OK","ARRA Schedule"]
[7293,null,null,"OK","ARRA Schedule"]
[7294,null,null,"OK","ARRA Schedule"]
[7295,null,null,"OK","ARRA Schedule"]
[7296,null,null,"OK","ARRA Schedule"]
[7297,null,null,"OK","ARRA Schedule"]
[7298,null,null,{"$f":"IF(ISBLANK(B7357),\"OK\",IF(A7357-B7357=0,\"OK\",\"Error?\"))","v":"OK"},"ARRA Schedule"]
[7299,null,null,"OK","ARRA Schedule"]
[7300,null,null,"OK","ARRA Schedule"]
[7301,null,null,"OK","ARRA Schedule"]
[7302,null,null,"OK","ARRA Schedule"]
[7303,null,null,"OK","ARRA Schedule"]
[7304,null,null,"OK","ARRA Schedule"]
[7305,null,null,"OK","ARRA Schedule"]
[7306,null,null,"OK","ARRA Schedule"]
[7307,null,null,"OK","ARRA Schedule"]
[7308,null,null,"OK","ARRA Schedule"]
[7309,null,null,"OK","ARRA Schedule"]
[7310,null,null,"OK","ARRA Schedule"]
[7311,null,null,"OK","ARRA Schedule"]
[7312,null,null,"OK","ARRA Schedule"]
[{"$f":"A7371+1","v":7313},null,null,"OK","ARRA Schedule"]
[7314,null,null,"OK","ARRA Schedule"]
[7315,null,null,"OK","ARRA Schedule"]
[7316,null,null,"OK","ARRA Schedule"]
[7317,null,null,"OK","ARRA Schedule"]
[7318,null,null,"OK","ARRA Schedule"]
[7319,null,null,"OK","ARRA Schedule"]
[7320,null,null,"OK","ARRA Schedule"]
[7321,null,null,"OK","ARRA Schedule"]
[7322,null,null,"OK","ARRA Schedule"]
[7323,null,null,"OK","ARRA Schedule"]
[7324,null,null,"OK","ARRA Schedule"]
[7325,null,null,"OK","ARRA Schedule"]
[7326,null,null,"OK","ARRA Schedule"]
[7327,null,null,"OK","ARRA Schedule"]
[7328,null,null,"OK","ARRA Schedule"]
[7329,null,null,"OK","ARRA Schedule"]
[7330,null,null,"OK","ARRA Schedule"]
[7331,null,null,"OK","ARRA Schedule"]
[7332,null,null,"OK","ARRA Schedule"]
[7333,null,null,"OK","ARRA Schedule"]
[7334,null,null,"OK","ARRA Schedule"]
[7335,null,null,"OK","ARRA Schedule"]
[7336,null,null,"OK","ARRA Schedule"]
[7337,null,null,"OK","ARRA Schedule"]
[7338,null,null,"OK","ARRA Schedule"]
[7339,null,null,"OK","ARRA Schedule"]
[7340,null,null,"OK","ARRA Schedule"]
[7341,null,null,"OK","ARRA Schedule"]
[7342,null,null,"OK","ARRA Schedule"]
[7343,null,null,"OK","ARRA Schedule"]
[7344,null,null,"OK","ARRA Schedule"]
[7345,null,null,"OK","ARRA Schedule"]
[7346,null,null,"OK","ARRA Schedule"]
[7347,null,null,"OK","ARRA Schedule"]
[7348,null,null,"OK","ARRA Schedule"]
[7349,null,null,"OK","ARRA Schedule"]
[7350,null,null,"OK","ARRA Schedule"]
[7351,null,null,"OK","ARRA Schedule"]
[7352,null,null,"OK","ARRA Schedule"]
[7353,null,null,"OK","ARRA Schedule"]
[7354,null,null,"OK","ARRA Schedule"]
[7355,null,null,"OK","ARRA Schedule"]
[7356,null,null,"OK","ARRA Schedule"]
[7357,null,null,"OK","ARRA Schedule"]
[7358,null,null,"OK","ARRA Schedule"]
[7359,null,null,"OK","ARRA Schedule"]
[7360,null,null,"OK","ARRA Schedule"]
[7361,null,null,"OK","ARRA Schedule"]
[7362,null,null,{"$f":"IF(ISBLANK(B7421),\"OK\",IF(A7421-B7421=0,\"OK\",\"Error?\"))","v":"OK"},"ARRA Schedule"]
[7363,null,null,"OK","ARRA Schedule"]
[7364,null,null,"OK","ARRA Schedule"]
[7365,null,null,"OK","ARRA Schedule"]
[7366,null,null,"OK","ARRA Schedule"]
[7367,null,null,"OK","ARRA Schedule"]
[7368,null,null,"OK","ARRA Schedule"]
[7369,null,null,"OK","ARRA Schedule"]
[7370,null,null,"OK","ARRA Schedule"]
[7371,null,null,"OK","ARRA Schedule"]
[7372,null,null,"OK","ARRA Schedule"]
[7373,null,null,"OK","ARRA Schedule"]
[7374,null,null,"OK","ARRA Schedule"]
[7375,null,null,"OK","ARRA Schedule"]
[7376,null,null,"OK","ARRA Schedule"]
[{"$f":"A7435+1","v":7377},null,null,"OK","ARRA Schedule"]
[7378,null,null,"OK","ARRA Schedule"]
[7379,null,null,"OK","ARRA Schedule"]
[7380,null,null,"OK","ARRA Schedule"]
[7381,null,null,"OK","ARRA Schedule"]
[7382,null,null,"OK","ARRA Schedule"]
[7383,null,null,"OK","ARRA Schedule"]
[7384,null,null,"OK","ARRA Schedule"]
[7385,null,null,"OK","ARRA Schedule"]
[7386,null,null,"OK","ARRA Schedule"]
[7387,null,null,"OK","ARRA Schedule"]
[7388,null,null,"OK","ARRA Schedule"]
[7389,null,null,"OK","ARRA Schedule"]
[7390,null,null,"OK","ARRA Schedule"]
[7391,null,null,"OK","ARRA Schedule"]
[7392,null,null,"OK","ARRA Schedule"]
[7393,null,null,"OK","ARRA Schedule"]
[7394,null,null,"OK","ARRA Schedule"]
[7395,null,null,"OK","ARRA Schedule"]
[7396,null,null,"OK","ARRA Schedule"]
[7397,null,null,"OK","ARRA Schedule"]
[7398,null,null,"OK","ARRA Schedule"]
[7399,null,null,"OK","ARRA Schedule"]
[7400,null,null,"OK","ARRA Schedule"]
[7401,null,null,"OK","ARRA Schedule"]
[7402,null,null,"OK","ARRA Schedule"]
[7403,null,null,"OK","ARRA Schedule"]
[7404,null,null,"OK","ARRA Schedule"]
[7405,null,null,"OK","ARRA Schedule"]
[7406,null,null,"OK","ARRA Schedule"]
[7407,null,null,"OK","ARRA Schedule"]
[7408,null,null,"OK","ARRA Schedule"]
[7409,null,null,"OK","ARRA Schedule"]
[7410,null,null,"OK","ARRA Schedule"]
[7411,null,null,"OK","ARRA Schedule"]
[7412,null,null,"OK","ARRA Schedule"]
[7413,null,null,"OK","ARRA Schedule"]
[7414,null,null,"OK","ARRA Schedule"]
[7415,null,null,"OK","ARRA Schedule"]
[7416,null,null,"OK","ARRA Schedule"]
[7417,null,null,"OK","ARRA Schedule"]
[7418,null,null,"OK","ARRA Schedule"]
[7419,null,null,"OK","ARRA Schedule"]
[7420,null,null,"OK","ARRA Schedule"]
[7421,null,null,"OK","ARRA Schedule"]
[7422,null,null,"OK","ARRA Schedule"]
[7423,null,null,"OK","ARRA Schedule"]
[7424,null,null,"OK","ARRA Schedule"]
[7425,null,null,"OK","ARRA Schedule"]
[7426,null,null,{"$f":"IF(ISBLANK(B7485),\"OK\",IF(A7485-B7485=0,\"OK\",\"Error?\"))","v":"OK"},"ARRA Schedule"]
[7427,null,null,"OK","ARRA Schedule"]
[7428,null,null,"OK","ARRA Schedule"]
[7429,null,null,"OK","ARRA Schedule"]
[7430,null,null,"OK","ARRA Schedule"]
[7431,null,null,"OK","ARRA Schedule"]
[7432,null,null,"OK","ARRA Schedule"]
[7433,null,null,"OK","ARRA Schedule"]
[7434,null,null,"OK","ARRA Schedule"]
[7435,null,null,"OK","ARRA Schedule"]
[7436,null,null,"OK","ARRA Schedule"]
[7437,null,null,"OK","ARRA Schedule"]
[7438,null,null,"OK","ARRA Schedule"]
[7439,null,null,"OK","ARRA Schedule"]
[7440,null,null,"OK","ARRA Schedule"]
[{"$f":"A7499+1","v":7441},null,null,"OK","ARRA Schedule"]
[7442,null,null,"OK","ARRA Schedule"]
[7443,null,null,"OK","ARRA Schedule"]
[7444,null,null,"OK","ARRA Schedule"]
[7445,null,null,"OK","ARRA Schedule"]
[7446,null,null,"OK","ARRA Schedule"]
[7447,null,null,"OK","ARRA Schedule"]
[7448,null,null,"OK","ARRA Schedule"]
[7449,null,null,"OK","ARRA Schedule"]
[7450,null,null,"OK","ARRA Schedule"]
[7451,null,null,"OK","ARRA Schedule"]
[7452,null,null,"OK","ARRA Schedule"]
[7453,null,null,"OK","ARRA Schedule"]
[7454,null,null,"OK","ARRA Schedule"]
[7455,null,null,"OK","ARRA Schedule"]
[7456,null,null,"OK","ARRA Schedule"]
[7457,null,null,"OK","ARRA Schedule"]
[7458,null,null,"OK","ARRA Schedule"]
[7459,null,null,"OK","ARRA Schedule"]
[7460,null,null,"OK","ARRA Schedule"]
[7461,null,null,"OK","ARRA Schedule"]
[7462,null,null,"OK","ARRA Schedule"]
[7463,null,null,"OK","ARRA Schedule"]
[7464,null,null,"OK","ARRA Schedule"]
[7465,null,null,"OK","ARRA Schedule"]
[7466,null,null,"OK","ARRA Schedule"]
[7467,null,null,"OK","ARRA Schedule"]
[7468,null,null,"OK","ARRA Schedule"]
[7469,null,null,"OK","ARRA Schedule"]
[7470,null,null,"OK","ARRA Schedule"]
[7471,null,null,"OK","ARRA Schedule"]
[7472,null,null,"OK","ARRA Schedule"]
[7473,null,null,"OK","ARRA Schedule"]
[7474,null,null,"OK","ARRA Schedule"]
[7475,null,null,"OK","ARRA Schedule"]
[7476,null,null,"OK","ARRA Schedule"]
[7477,null,null,"OK","ARRA Schedule"]
[7478,null,null,"OK","ARRA Schedule"]
[7479,null,null,"OK","ARRA Schedule"]
[7480,null,null,"OK","ARRA Schedule"]
[7481,null,null,"OK","ARRA Schedule"]
[7482,null,null,"OK","ARRA Schedule"]
[7483,null,null,"OK","ARRA Schedule"]
[7484,null,null,"OK","ARRA Schedule"]
[7485,null,null,"OK","ARRA Schedule"]
[7486,null,null,"OK","ARRA Schedule"]
[7487,null,null,"OK","ARRA Schedule"]
[7488,null,null,"OK","ARRA Schedule"]
[7489,null,null,"OK","ARRA Schedule"]
[7490,null,null,{"$f":"IF(ISBLANK(B7549),\"OK\",IF(A7549-B7549=0,\"OK\",\"Error?\"))","v":"OK"},"ARRA Schedule"]
[7491,null,null,"OK","ARRA Schedule"]
[7492,null,null,"OK","ARRA Schedule"]
[7493,null,null,"OK","ARRA Schedule"]
[7494,null,null,"OK","ARRA Schedule"]
[7495,null,null,"OK","ARRA Schedule"]
[7496,null,null,"OK","ARRA Schedule"]
[7497,null,null,"OK","ARRA Schedule"]
[7498,null,null,"OK","ARRA Schedule"]
[7499,null,null,"OK","ARRA Schedule"]
[7500,null,null,"OK","ARRA Schedule"]
[7501,null,null,"OK","ARRA Schedule"]
[7502,null,null,"OK","ARRA Schedule"]
[7503,null,null,"OK","ARRA Schedule"]
[7504,null,null,"OK","ARRA Schedule"]
[{"$f":"A7563+1","v":7505},null,null,"OK","ARRA Schedule"]
[7506,null,null,"OK","ARRA Schedule"]
[7507,null,null,"OK","ARRA Schedule"]
[7508,null,null,"OK","ARRA Schedule"]
[7509,null,null,"OK","ARRA Schedule"]
[7510,null,null,"OK","ARRA Schedule"]
[7511,null,null,"OK","ARRA Schedule"]
[7512,null,null,"OK","ARRA Schedule"]
[7513,null,null,"OK","ARRA Schedule"]
[7514,null,null,"OK","ARRA Schedule"]
[7515,null,null,"OK","ARRA Schedule"]
[7516,null,null,"OK","ARRA Schedule"]
[7517,null,null,"OK","ARRA Schedule"]
[7518,null,null,"OK","ARRA Schedule"]
[7519,null,null,"OK","ARRA Schedule"]
[7520,null,null,"OK","ARRA Schedule"]
[7521,null,null,"OK","ARRA Schedule"]
[7522,null,null,"OK","ARRA Schedule"]
[7523,null,null,"OK","ARRA Schedule"]
[7524,null,null,"OK","ARRA Schedule"]
[7525,null,null,"OK","ARRA Schedule"]
[7526,null,null,"OK","ARRA Schedule"]
[7527,null,null,"OK","ARRA Schedule"]
[7528,null,null,"OK","ARRA Schedule"]
[7529,{"$f":"'Cap Outlay Deprec 36'!E3","v":0},null,"Error?","Cap Outlay Deprec"]
[7530,{"$f":"'Cap Outlay Deprec 36'!F3","v":0},null,"Error?","Cap Outlay Deprec"]
[7531,{"$f":"'Cap Outlay Deprec 36'!H3","v":0},null,"Error?","Cap Outlay Deprec"]
[7532,{"$f":"'Cap Outlay Deprec 36'!I3","v":0},null,"Error?","Cap Outlay Deprec"]
[7533,{"$f":"'Cap Outlay Deprec 36'!J3","v":0},null,"Error?","Cap Outlay Deprec"]
[7534,{"$f":"'Cap Outlay Deprec 36'!K3","v":0},null,"Error?","Cap Outlay Deprec"]
[7535,{"$f":"'Cap Outlay Deprec 36'!L3","v":0},null,"Error?","Cap Outlay Deprec"]
[7536,{"$f":"'Cap Outlay Deprec 36'!C6","v":0},null,"Error?","Cap Outlay Deprec"]
[7537,{"$f":"'Cap Outlay Deprec 36'!D6","v":0},null,"Error?","Cap Outlay Deprec"]
[7538,{"$f":"'Cap Outlay Deprec 36'!E6","v":0},null,"Error?","Cap Outlay Deprec"]
[7539,{"$f":"'Cap Outlay Deprec 36'!F6","v":0},null,"Error?","Cap Outlay Deprec"]
[7540,{"$f":"'Cap Outlay Deprec 36'!H6","v":0},null,"Error?","Cap Outlay Deprec"]
[7541,{"$f":"'Cap Outlay Deprec 36'!I6","v":0},null,"Error?","Cap Outlay Deprec"]
[7542,{"$f":"'Cap Outlay Deprec 36'!J6","v":0},null,"Error?","Cap Outlay Deprec"]
[7543,{"$f":"'Cap Outlay Deprec 36'!K6","v":0},null,"Error?","Cap Outlay Deprec"]
[7544,{"$f":"'Cap Outlay Deprec 36'!L6","v":0},null,"Error?","Cap Outlay Deprec"]
[7545,{"$f":"'Cap Outlay Deprec 36'!C9","v":0},null,"Error?","Cap Outlay Deprec"]
[7546,{"$f":"'Cap Outlay Deprec 36'!D9","v":0},null,"Error?","Cap Outlay Deprec"]
[7547,{"$f":"'Cap Outlay Deprec 36'!E9","v":0},null,"Error?","Cap Outlay Deprec"]
[7548,{"$f":"'Cap Outlay Deprec 36'!F9","v":0},null,"Error?","Cap Outlay Deprec"]
[7549,{"$f":"'Cap Outlay Deprec 36'!H9","v":0},null,"Error?","Cap Outlay Deprec"]
[7550,{"$f":"'Cap Outlay Deprec 36'!I9","v":0},null,"Error?","Cap Outlay Deprec"]
[7551,{"$f":"'Cap Outlay Deprec 36'!J9","v":0},null,"Error?","Cap Outlay Deprec"]
[7552,{"$f":"'Cap Outlay Deprec 36'!K9","v":0},null,"Error?","Cap Outlay Deprec"]
[7553,{"$f":"'Cap Outlay Deprec 36'!L9","v":0},null,"Error?","Cap Outlay Deprec"]
[7554,{"$f":"'Cap Outlay Deprec 36'!C14","v":0},null,{"$f":"IF(ISBLANK(B7613),\"OK\",IF(A7613-B7613=0,\"OK\",\"Error?\"))","v":"Error?"},"Cap Outlay Deprec"]
[7555,{"$f":"'Cap Outlay Deprec 36'!D14","v":0},null,"Error?","Cap Outlay Deprec"]
[7556,{"$f":"'Cap Outlay Deprec 36'!E14","v":0},null,"Error?","Cap Outlay Deprec"]
[7557,{"$f":"'Cap Outlay Deprec 36'!F14","v":0},null,"Error?","Cap Outlay Deprec"]
[7558,{"$f":"'Cap Outlay Deprec 36'!H14","v":0},null,"Error?","Cap Outlay Deprec"]
[7559,{"$f":"'Cap Outlay Deprec 36'!I14","v":0},null,"Error?","Cap Outlay Deprec"]
[7560,{"$f":"'Cap Outlay Deprec 36'!J14","v":0},null,"Error?","Cap Outlay Deprec"]
[7561,{"$f":"'Cap Outlay Deprec 36'!K14","v":0},null,"Error?","Cap Outlay Deprec"]
[7562,{"$f":"'Cap Outlay Deprec 36'!L14","v":0},null,"Error?","Cap Outlay Deprec"]
[7563,{"$f":"'Cap Outlay Deprec 36'!F17","v":0},null,"Error?","Cap Outlay Deprec"]
[7564,{"$f":"'Cap Outlay Deprec 36'!I17","v":0},null,"Error?","Cap Outlay Deprec"]
[7565,null,null,"OK","Closed 2011"]
[7566,null,null,"OK","Closed 2011"]
[7567,null,null,"OK","Cap Outlay Deprec"]
[7568,null,null,"OK","Closed 2011"]
[{"$f":"A7627+1","v":7569},null,null,"OK","Closed 2011"]
[7570,{"$f":"'Cap Outlay Deprec 36'!I18","v":0},null,"Error?","Cap Outlay Deprec"]
[7571,null,null,"OK","Cap Outlay Deprec"]
[7572,null,null,"OK","Closed 2011"]
[7573,null,null,"OK","Closed 2011"]
[7574,null,null,"OK","ARRA Schedule, closed"]
[7575,{"$f":"'Revenues 10-15'!G108","v":0},null,"Error?","Revenue"]
[7576,{"$f":"'Revenues 10-15'!H108","v":0},null,"Error?","Revenue"]
[7577,{"$f":"'Revenues 10-15'!J108","v":0},null,"Error?","Revenue"]
[7578,{"$f":"'Revenues 10-15'!K108","v":0},null,"Error?","Revenue"]
[7579,null,null,"OK","ARRA Schedule, closed"]
[7580,null,null,"OK","ARRA Schedule, closed"]
[7581,null,null,"OK","ARRA Schedule, closed"]
[7582,null,null,"OK","ARRA Schedule, closed"]
[7583,null,null,"OK","ARRA Schedule, closed"]
[7584,null,null,"OK","ARRA Schedule, closed"]
[7585,null,null,"OK","ARRA Schedule, closed"]
[7586,null,null,"OK","ARRA Schedule, closed"]
[7587,null,null,"OK","ARRA Schedule, closed"]
[7588,null,null,"OK","ARRA Schedule, closed"]
[7589,null,null,"OK","ARRA Schedule, closed"]
[7590,{"$f":"'Acct Summary 7-9'!C55","v":0},null,"Error?","New 2010"]
[7591,{"$f":"'Acct Summary 7-9'!D55","v":0},null,"Error?","New 2010"]
[7592,{"$f":"'Acct Summary 7-9'!H55","v":0},null,"Error?","New 2010"]
[7593,{"$f":"'Acct Summary 7-9'!C56","v":0},null,"Error?","New 2010"]
[7594,{"$f":"'Acct Summary 7-9'!D56","v":0},null,"Error?","New 2010"]
[7595,{"$f":"'Acct Summary 7-9'!H56","v":0},null,"Error?","New 2010"]
[7596,{"$f":"'Acct Summary 7-9'!C57","v":0},null,"Error?","New 2010"]
[7597,{"$f":"'Acct Summary 7-9'!D57","v":0},null,"Error?","New 2010"]
[7598,{"$f":"'Acct Summary 7-9'!H57","v":0},null,"Error?","New 2010"]
[7599,{"$f":"'Acct Summary 7-9'!C59","v":0},null,"Error?","New 2010"]
[7600,{"$f":"'Acct Summary 7-9'!D59","v":0},null,"Error?","New 2010"]
[7601,{"$f":"'Acct Summary 7-9'!H59","v":0},null,"Error?","New 2010"]
[7602,{"$f":"'Acct Summary 7-9'!C60","v":0},null,"Error?","New 2010"]
[7603,{"$f":"'Acct Summary 7-9'!D60","v":0},null,"Error?","New 2010"]
[7604,{"$f":"'Acct Summary 7-9'!H60","v":0},null,"Error?","New 2010"]
[7605,{"$f":"'Acct Summary 7-9'!C61","v":0},null,"Error?","New 2010"]
[7606,{"$f":"'Acct Summary 7-9'!D61","v":0},null,"Error?","New 2010"]
[7607,{"$f":"'Acct Summary 7-9'!H61","v":0},null,"Error?","New 2010"]
[7608,{"$f":"'Acct Summary 7-9'!C63","v":0},null,"Error?","New 2010"]
[7609,{"$f":"'Acct Summary 7-9'!D63","v":0},null,"Error?","New 2010"]
[7610,{"$f":"'Acct Summary 7-9'!C64","v":0},null,"Error?","New 2010"]
[7611,{"$f":"'Acct Summary 7-9'!D64","v":0},null,"Error?","New 2010"]
[7612,{"$f":"'Acct Summary 7-9'!C65","v":0},null,"Error?","New 2010"]
[7613,{"$f":"'Acct Summary 7-9'!D65","v":0},null,"Error?","New 2010"]
[7614,{"$f":"'Acct Summary 7-9'!C67","v":0},null,"Error?","New 2010"]
[7615,{"$f":"'Acct Summary 7-9'!D67","v":0},null,"Error?","New 2010"]
[7616,{"$f":"'Acct Summary 7-9'!C68","v":0},null,"Error?","New 2010"]
[7617,{"$f":"'Acct Summary 7-9'!D68","v":0},null,"Error?","New 2010"]
[7618,{"$f":"'Acct Summary 7-9'!C69","v":0},null,{"$f":"IF(ISBLANK(B7677),\"OK\",IF(A7677-B7677=0,\"OK\",\"Error?\"))","v":"Error?"},"New 2010"]
[7619,{"$f":"'Acct Summary 7-9'!D69","v":0},null,"Error?","New 2010"]
[7620,{"$f":"'Acct Summary 7-9'!C71","v":0},null,"Error?","New 2010"]
[7621,{"$f":"'Acct Summary 7-9'!D71","v":0},null,"Error?","New 2010"]
[7622,{"$f":"'Acct Summary 7-9'!C72","v":0},null,"Error?","New 2010"]
[7623,{"$f":"'Acct Summary 7-9'!D72","v":0},null,"Error?","New 2010"]
[7624,{"$f":"'Acct Summary 7-9'!C73","v":0},null,"Error?","New 2010"]
[7625,{"$f":"'Acct Summary 7-9'!D73","v":0},null,"Error?","New 2010"]
[7626,{"$f":"'Revenues 10-15'!C198","v":0},null,"Error?","New 2010"]
[7627,null,null,"OK","New 2010"]
[7628,null,null,"OK","New 2010"]
[7629,null,null,"OK","New 2010"]
[7630,null,null,"OK","New 2010"]
[7631,null,null,"OK","New 2010"]
[7632,null,null,"OK","New 2010"]
[7633,null,null,"OK","New 2010"]
[7634,null,null,"OK","New 2010"]
[7635,null,null,"OK","New 2010"]
[7636,null,null,"OK","New 2010"]
[7637,null,null,"OK","New 2010"]
[7638,null,null,"OK","New 2010"]
[7639,null,null,"OK","New 2010"]
[7640,null,null,"OK","New 2010"]
[7641,null,null,"OK","New 2010"]
[7642,null,null,"OK","New 2010"]
[7643,null,null,"OK","New 2010"]
[7644,null,null,"OK","New 2010"]
[7645,{"$f":"'Revenues 10-15'!H169","v":0},null,"Error?","New 2010"]
[7646,{"$f":"'Expenditures 16-24'!I66","v":0},null,"Error?","New 2010"]
[7647,{"$f":"'Rest Tax Levies-Tort Im 27'!J3","v":0},null,"Error?","New 2010"]
[7648,{"$f":"'Rest Tax Levies-Tort Im 27'!K3","v":0},null,"Error?","New 2010"]
[7649,{"$f":"'Rest Tax Levies-Tort Im 27'!J6","v":0},null,"Error?","New 2010"]
[7650,{"$f":"'Rest Tax Levies-Tort Im 27'!K6","v":0},null,"Error?","New 2010"]
[7651,{"$f":"'Rest Tax Levies-Tort Im 27'!K7","v":0},null,"Error?","New 2010"]
[7652,{"$f":"'Rest Tax Levies-Tort Im 27'!J8","v":0},null,"Error?","New 2010"]
[7653,{"$f":"'Rest Tax Levies-Tort Im 27'!K9","v":0},null,"Error?","New 2010"]
[7654,{"$f":"'Rest Tax Levies-Tort Im 27'!J10","v":0},null,"Error?","New 2010"]
[7655,{"$f":"'Rest Tax Levies-Tort Im 27'!K10","v":0},null,"Error?","New 2010"]
[7656,{"$f":"'Rest Tax Levies-Tort Im 27'!J11","v":0},null,"Error?","New 2010"]
[7657,{"$f":"'Rest Tax Levies-Tort Im 27'!J12","v":0},null,"Error?","New 2010"]
[7658,{"$f":"'Rest Tax Levies-Tort Im 27'!K12","v":0},null,"Error?","New 2010"]
[7659,{"$f":"'Rest Tax Levies-Tort Im 27'!H14","v":0},null,"Error?","New 2010"]
[7660,{"$f":"'Rest Tax Levies-Tort Im 27'!K14","v":0},null,"Error?","New 2010"]
[7661,{"$f":"'Rest Tax Levies-Tort Im 27'!J15","v":0},null,"Error?","New 2010"]
[7662,{"$f":"'Rest Tax Levies-Tort Im 27'!K15","v":0},null,"Error?","New 2010"]
[7663,{"$f":"'Rest Tax Levies-Tort Im 27'!J18","v":0},null,"Error?","New 2010"]
[7664,{"$f":"'Rest Tax Levies-Tort Im 27'!J19","v":0},null,"Error?","New 2010"]
[7665,{"$f":"'Rest Tax Levies-Tort Im 27'!J20","v":0},null,"Error?","New 2010"]
[7666,{"$f":"'Rest Tax Levies-Tort Im 27'!J21","v":0},null,"Error?","New 2010"]
[7667,{"$f":"'Revenues 10-15'!E105","v":0},null,"Error?","New 2010"]
[7668,{"$f":"'Rest Tax Levies-Tort Im 27'!K22","v":0},null,"Error?","New 2010"]
[7669,{"$f":"'Rest Tax Levies-Tort Im 27'!J23","v":0},null,"Error?","New 2010"]
[7670,{"$f":"'Revenues 10-15'!H105","v":0},null,"Error?","New 2010"]
[7671,{"$f":"'Rest Tax Levies-Tort Im 27'!J24","v":0},null,"Error?","New 2010"]
[7672,{"$f":"'Rest Tax Levies-Tort Im 27'!K24","v":0},null,"Error?","New 2010"]
[7673,{"$f":"'Rest Tax Levies-Tort Im 27'!G25","v":0},null,"Error?","New 2010"]
[7674,{"$f":"'Rest Tax Levies-Tort Im 27'!H25","v":0},null,"Error?","New 2010"]
[7675,{"$f":"'Rest Tax Levies-Tort Im 27'!I25","v":0},null,"Error?","New 2010"]
[7676,{"$f":"'Rest Tax Levies-Tort Im 27'!J25","v":0},null,"Error?","New 2010"]
[7677,{"$f":"'Rest Tax Levies-Tort Im 27'!K25","v":0},null,"Error?","New 2010"]
[7678,{"$f":"'Rest Tax Levies-Tort Im 27'!G26","v":0},null,"Error?","New 2010"]
[7679,{"$f":"'Rest Tax Levies-Tort Im 27'!H26","v":0},null,"Error?","New 2010"]
[7680,{"$f":"'Rest Tax Levies-Tort Im 27'!I26","v":0},null,"Error?","New 2010"]
[7681,{"$f":"'Rest Tax Levies-Tort Im 27'!J26","v":0},null,"Error?","New 2010"]
[7682,{"$f":"'Rest Tax Levies-Tort Im 27'!K26","v":0},null,{"$f":"IF(ISBLANK(B7741),\"OK\",IF(A7741-B7741=0,\"OK\",\"Error?\"))","v":"Error?"},"New 2010"]
[7683,null,null,"OK","Closed 2011"]
[7684,{"$f":"'Expenditures 16-24'!H451","v":0},null,"Error?","New 2010"]
[7685,{"$f":"'Expenditures 16-24'!K451","v":0},null,"Error?","New 2010"]
[7686,{"$f":"'Revenues 10-15'!E268","v":0},null,"Error?","New 2010"]
[7687,{"$f":"'Acct Summary 7-9'!C25","v":0},null,"Error?","New 2011"]
[7688,{"$f":"'Acct Summary 7-9'!D25","v":0},null,"Error?","New 2011","Last new cells for fy2010"]
[7689,{"$f":"'Acct Summary 7-9'!E25","v":0},null,"Error?","New 2011"]
[7690,{"$f":"'Acct Summary 7-9'!F25","v":0},null,"Error?","New 2011"]
[7691,{"$f":"'Acct Summary 7-9'!G25","v":0},null,"Error?","New 2011"]
[7692,{"$f":"'Acct Summary 7-9'!H25","v":0},null,"Error?","New 2011"]
[7693,{"$f":"'Acct Summary 7-9'!J25","v":0},null,"Error?","New 2011"]
[7694,{"$f":"'Acct Summary 7-9'!K25","v":0},null,"Error?","New 2011"]
[7695,null,null,"OK","New 2011"]
[7696,null,null,"OK","New 2011"]
[7697,{"$f":"'Aud Quest 2'!J83","v":0},null,"Error?","New 2011","closed"]
[7698,{"$f":"'Aud Quest 2'!J86","v":0},null,"Error?","New 2011","closed"]
[7699,{"$f":"'Aud Quest 2'!J88","v":0},null,"Error?","New 2011"]
[7700,{"$f":"'Revenues 10-15'!C255","v":0},null,"Error?","New 2013 Race to Top"]
[7701,{"$f":"'Expenditures 16-24'!E6","v":0},null,"Error?","New 2014 Charter School Tuition Payment"]
[7702,{"$f":"'Expenditures 16-24'!K6","v":0},null,"Error?"]
[7703,{"$f":"'Revenues 10-15'!F58","v":0},null,"Error?","To correct error in 6076 (line 58 1444 rev)"]
[7704,{"$f":"'Revenues 10-15'!C256","v":0},null,"Error?","New 2015 Race to the Top - Preschool Expansion Grant #4902"]
[7705,{"$f":"'Revenues 10-15'!D256","v":0},null,"Error?","New 2015 Race to the Top - Preschool Expansion Grant #4902"]
[7706,null,null,"OK"]
[7707,{"$f":"'Revenues 10-15'!F256","v":0},null,"Error?","New 2015 Race to the Top - Preschool Expansion Grant #4902"]
[7708,{"$f":"'Revenues 10-15'!G256","v":0},null,"Error?","New 2015 Race to the Top - Preschool Expansion Grant #4902"]
[7709,null,null,"OK"]
[7710,null,null,"OK"]
[7711,null,null,"OK","End 2015"]
[7712,{"$f":"'Rest Tax Levies-Tort Im 27'!J22","v":0},null,"Error?","End 2016"]
[7713,{"$f":"'Expenditures 16-24'!E137","v":0},null,"Error?","Added 4000 accounts to all funds in 2018"]
[7714,{"$f":"'Expenditures 16-24'!H137","v":0},null,"Error?","Added 4000 accounts to all funds in 2018"]
[7715,{"$f":"'Expenditures 16-24'!K137","v":0},null,"Error?","Added 4000 accounts to all funds in 2018"]
[7716,{"$f":"'Expenditures 16-24'!H161","v":0},null,"Error?","Added 4000 accounts to all funds in 2018"]
[7717,{"$f":"'Expenditures 16-24'!K161","v":0},null,"Error?","Added 4000 accounts to all funds in 2018"]
[7718,{"$f":"'Expenditures 16-24'!H162","v":0},null,"Error?","Added 4000 accounts to all funds in 2018"]
[7719,{"$f":"'Expenditures 16-24'!K162","v":0},null,"Error?","Added 4000 accounts to all funds in 2018"]
[7720,{"$f":"'Expenditures 16-24'!H163","v":0},null,"Error?","Added 4000 accounts to all funds in 2018"]
[7721,{"$f":"'Expenditures 16-24'!K163","v":0},null,"Error?","Added 4000 accounts to all funds in 2018"]
[7722,{"$f":"'Expenditures 16-24'!D279","v":0},null,"Error?","Added 4000 accounts to all funds in 2018"]
[7723,{"$f":"'Expenditures 16-24'!K279","v":0},null,"Error?","Added 4000 accounts to all funds in 2018"]
[7724,{"$f":"'Expenditures 16-24'!H391","v":0},null,"Error?","Added 4000 accounts to all funds in 2018"]
[7725,{"$f":"'Expenditures 16-24'!K391","v":0},null,"Error?","Added 4000 accounts to all funds in 2018"]
[7726,{"$f":"'Expenditures 16-24'!H392","v":0},null,"Error?","Added 4000 accounts to all funds in 2018"]
[7727,{"$f":"'Expenditures 16-24'!K392","v":0},null,"Error?","Added 4000 accounts to all funds in 2018"]
[7728,{"$f":"'Expenditures 16-24'!H415","v":0},null,"Error?","Added 4000 accounts to all funds in 2018"]
[7729,{"$f":"'Expenditures 16-24'!K415","v":0},null,"Error?","Added 4000 accounts to all funds in 2018"]
[7730,{"$f":"'Expenditures 16-24'!H441","v":0},null,"Error?","Added 4000 accounts to all funds in 2018"]
[7731,{"$f":"'Expenditures 16-24'!K441","v":0},null,"Error?","Added 4000 accounts to all funds in 2018"]
[7732,{"$f":"'Expenditures 16-24'!H442","v":0},null,"Error?","Added 4000 accounts to all funds in 2018"]
[7733,{"$f":"'Expenditures 16-24'!K442","v":0},null,"Error?","Added 4000 accounts to all funds in 2018"]
[7734,{"$f":"'Expenditures 16-24'!E142","v":0},null,"Error?","Added 4000 accounts to all funds in 2018"]
[7735,{"$f":"'Acct Summary 7-9'!J15","v":0},null,"Error?","Added 4000 accounts to all funds in 2018"]
[7736,null,null,"OK","To add contracts paid in cy AFR18, deleted AFR20"]
[7737,null,null,"OK","To add contracts paid in cy AFR18, deleted AFR20"]
[7738,null,null,"OK","To add contracts paid in cy AFR18, deleted AFR20"]
[7739,{"$f":"'Rest Tax Levies-Tort Im 27'!K23","v":0},null,"Error?","new 2019"]
[7740,{"$f":"'Revenues 10-15'!C122","v":0},null,"Error?","To add function 3030 to revenue to AFR 2019"]
[7741,{"$f":"'Revenues 10-15'!D122","v":0},null,"Error?","To add function 3030 to revenue to AFR 2019"]
[7742,{"$f":"'Revenues 10-15'!E122","v":0},null,"Error?","To add function 3030 to revenue to AFR 2019"]
[7743,{"$f":"'Revenues 10-15'!F122","v":0},null,"Error?","To add function 3030 to revenue to AFR 2019"]
[7744,{"$f":"'Revenues 10-15'!G122","v":0},null,"Error?","To add function 3030 to revenue to AFR 2019"]
[7745,{"$f":"'Revenues 10-15'!H122","v":0},null,"Error?","To add function 3030 to revenue to AFR 2019"]
[7746,{"$f":"'Revenues 10-15'!J122","v":0},null,{"$f":"IF(ISBLANK(B7805),\"OK\",IF(A7805-B7805=0,\"OK\",\"Error?\"))","v":"Error?"},"To add function 3030 to revenue to AFR 2019"]
[7747,{"$f":"'Revenues 10-15'!K122","v":0},null,"Error?","To add function 3030 to revenue to AFR 2019"]
[7748,{"$f":"'Revenues 10-15'!C263","v":0},null,"Error?","To add function 4981 to revenue to AFR 2019"]
[7749,{"$f":"'Revenues 10-15'!D263","v":0},null,"Error?","To add function 4981 to revenue to AFR 2019"]
[7750,{"$f":"'Revenues 10-15'!F263","v":0},null,"Error?","To add function 4981 to revenue to AFR 2019"]
[7751,{"$f":"'Revenues 10-15'!G263","v":0},null,"Error?","To add function 4981 to revenue to AFR 2019"]
[7752,{"$f":"'Revenues 10-15'!C264","v":0},null,"Error?","To add function 4982 to revenue to AFR 2019"]
[7753,{"$f":"'Revenues 10-15'!D264","v":0},null,"Error?","To add function 4982 to revenue to AFR 2019"]
[7754,{"$f":"'Revenues 10-15'!F264","v":0},null,"Error?","To add function 4982 to revenue to AFR 2019"]
[7755,{"$f":"'Revenues 10-15'!G264","v":0},null,"Error?","To add function 4982 to revenue to AFR 2019"]
[7756,{"$f":"'Short-Term Long-Term Debt 26'!C49","v":0},null,"Error?","new 2019"]
[7757,{"$f":"'PCTC-OEPP 37-39'!F192","v":0},null,"Error?","PCTC tab "]
[7758,{"$f":"'PCTC-OEPP 37-39'!F193","v":0},null,"Error?","PCTC tab "]
[7759,{"$f":"'ICR Computation 41'!E40","v":0},null,"Error?"]
[7760,{"$f":"'ICR Computation 41'!G40","v":0},null,"Error?"]
[7761,{"$f":"'PCTC-OEPP 37-39'!F14","v":0},null,"Error?","PCTC OEPP tab 2020"]
[7762,{"$f":"'PCTC-OEPP 37-39'!F30","v":0},null,"Error?","PCTC OEPP tab 2020"]
[7763,{"$f":"'PCTC-OEPP 37-39'!F31","v":0},null,"Error?","PCTC OEPP tab 2020"]
[7764,{"$f":"'PCTC-OEPP 37-39'!F32","v":0},null,"Error?","PCTC OEPP tab 2020"]
[7765,{"$f":"'PCTC-OEPP 37-39'!F34","v":0},null,"Error?","PCTC OEPP tab 2020"]
[7766,{"$f":"'PCTC-OEPP 37-39'!F35","v":0},null,"Error?","PCTC OEPP tab 2020"]
[7767,{"$f":"'PCTC-OEPP 37-39'!F36","v":0},null,"Error?","PCTC OEPP tab 2020"]
[7768,{"$f":"'PCTC-OEPP 37-39'!F37","v":0},null,"Error?","PCTC OEPP tab 2020"]
[7769,{"$f":"'PCTC-OEPP 37-39'!F38","v":0},null,"Error?","PCTC OEPP tab 2020"]
[7770,{"$f":"'PCTC-OEPP 37-39'!F52","v":0},null,"Error?","PCTC OEPP tab 2020"]
[7771,{"$f":"'PCTC-OEPP 37-39'!F56","v":0},null,"Error?","PCTC OEPP tab 2020"]
[7772,{"$f":"'PCTC-OEPP 37-39'!F62","v":0},null,"Error?","PCTC OEPP tab 2020"]
[7773,{"$f":"'PCTC-OEPP 37-39'!F96","v":0},null,"Error?","PCTC OEPP tab 2020"]
[7774,{"$f":"'PCTC-OEPP 37-39'!F97","v":0},null,"Error?","PCTC OEPP tab 2020"]
[7775,null,null,"OK","PCTC OEPP tab 2020, closed 2020"]
[7776,{"$f":"'PCTC-OEPP 37-39'!F99","v":" Complete Line 98"},null,{"$error":"#VALUE!"},"PCTC OEPP tab 2020"]
[7777,{"$f":"'PCTC-OEPP 37-39'!F115","v":0},null,"Error?","PCTC OEPP tab 2020"]
[7778,{"$f":"'PCTC-OEPP 37-39'!F121","v":0},null,"Error?","PCTC OEPP tab 2020"]
[7779,{"$f":"'PCTC-OEPP 37-39'!F122","v":0},null,"Error?","PCTC OEPP tab 2020"]
[7780,{"$f":"'PCTC-OEPP 37-39'!F123","v":0},null,"Error?","PCTC OEPP tab 2020"]
[7781,{"$f":"'PCTC-OEPP 37-39'!F125","v":0},null,"Error?","PCTC OEPP tab 2020"]
[7782,{"$f":"'PCTC-OEPP 37-39'!F126","v":0},null,"Error?","PCTC OEPP tab 2020"]
[7783,{"$f":"'PCTC-OEPP 37-39'!F127","v":0},null,"Error?","PCTC OEPP tab 2020"]
[7784,{"$f":"'PCTC-OEPP 37-39'!F129","v":0},null,"Error?","PCTC OEPP tab 2020"]
[7785,{"$f":"'PCTC-OEPP 37-39'!F130","v":0},null,"Error?","PCTC OEPP tab 2020"]
[7786,{"$f":"'PCTC-OEPP 37-39'!F131","v":0},null,"Error?","PCTC OEPP tab 2020"]
[7787,{"$f":"'PCTC-OEPP 37-39'!F133","v":0},null,"Error?","PCTC OEPP tab 2020"]
[7788,{"$f":"'PCTC-OEPP 37-39'!F134","v":0},null,"Error?","PCTC OEPP tab 2020"]
[7789,{"$f":"'PCTC-OEPP 37-39'!F135","v":0},null,"Error?","PCTC OEPP tab 2020"]
[7790,{"$f":"'PCTC-OEPP 37-39'!F136","v":0},null,"Error?","PCTC OEPP tab 2020"]
[7791,{"$f":"'PCTC-OEPP 37-39'!F137","v":0},null,"Error?","PCTC OEPP tab 2020"]
[7792,{"$f":"'PCTC-OEPP 37-39'!F138","v":0},null,"Error?","PCTC OEPP tab 2020"]
[7793,{"$f":"'PCTC-OEPP 37-39'!F139","v":0},null,"Error?","PCTC OEPP tab 2020"]
[7794,{"$f":"'PCTC-OEPP 37-39'!F141","v":0},null,"Error?","PCTC OEPP tab 2020"]
[7795,{"$f":"'PCTC-OEPP 37-39'!F143","v":0},null,"Error?","PCTC OEPP tab 2020"]
[7796,{"$f":"'PCTC-OEPP 37-39'!F144","v":0},null,"Error?","PCTC OEPP tab 2020"]
[7797,{"$f":"'PCTC-OEPP 37-39'!F145","v":0},null,"Error?","PCTC OEPP tab 2020"]
[7798,{"$f":"'PCTC-OEPP 37-39'!F146","v":0},null,"Error?","PCTC OEPP tab 2020"]
[7799,{"$f":"'PCTC-OEPP 37-39'!F147","v":0},null,"Error?","PCTC OEPP tab 2020"]
[7800,{"$f":"'PCTC-OEPP 37-39'!F148","v":0},null,"Error?","PCTC OEPP tab 2020"]
[7801,{"$f":"'PCTC-OEPP 37-39'!F149","v":0},null,"Error?","PCTC OEPP tab 2020"]
[7802,{"$f":"'PCTC-OEPP 37-39'!F150","v":0},null,"Error?","PCTC OEPP tab 2020"]
[7803,{"$f":"'PCTC-OEPP 37-39'!F151","v":0},null,"Error?","PCTC OEPP tab 2020"]
[7804,{"$f":"'PCTC-OEPP 37-39'!F152","v":0},null,"Error?","PCTC OEPP tab 2020"]
[7805,{"$f":"'PCTC-OEPP 37-39'!F177","v":0},null,"Error?","PCTC OEPP tab 2020"]
[7806,{"$f":"'PCTC-OEPP 37-39'!F179","v":0},null,"Error?","PCTC OEPP tab 2020"]
[7807,{"$f":"'PCTC-OEPP 37-39'!F180","v":0},null,"Error?","PCTC OEPP tab 2020"]
[7808,{"$f":"'PCTC-OEPP 37-39'!F181","v":0},null,"Error?","PCTC OEPP tab 2020"]
[7809,{"$f":"'PCTC-OEPP 37-39'!F182","v":0},null,"Error?","PCTC OEPP tab 2020"]
[7810,{"$f":"'PCTC-OEPP 37-39'!F183","v":0},null,{"$f":"IF(ISBLANK(B7869),\"OK\",IF(A7869-B7869=0,\"OK\",\"Error?\"))","v":"Error?"},"PCTC OEPP tab 2020"]
[7811,{"$f":"'PCTC-OEPP 37-39'!F184","v":0},null,"Error?","PCTC OEPP tab 2020"]
[7812,{"$f":"'PCTC-OEPP 37-39'!F185","v":0},null,"Error?","PCTC OEPP tab 2020"]
[7813,{"$f":"'PCTC-OEPP 37-39'!F188","v":0},null,"Error?","PCTC OEPP tab 2020"]
[7814,{"$f":"'PCTC-OEPP 37-39'!F189","v":0},null,"Error?","PCTC OEPP tab 2020"]
[7815,{"$f":"'PCTC-OEPP 37-39'!F190","v":0},null,"Error?","PCTC OEPP tab 2020"]
[7816,{"$f":"'PCTC-OEPP 37-39'!F195","v":0},null,"Error?","PCTC OEPP tab 2020"]
[7817,{"$f":"'PCTC-OEPP 37-39'!F196","v":0},null,"Error?","PCTC OEPP tab 2020"]
[7818,{"$f":"'PCTC-OEPP 37-39'!F198","v":0},null,"Error?","PCTC OEPP tab 2020"]
[7819,{"$f":"'PCTC-OEPP 37-39'!F200","v":{"$error":"#DIV/0!"}},null,{"$error":"#DIV/0!"},"PCTC OEPP tab 2020"]
[7820,{"$f":"'PCTC-OEPP 37-39'!F29","v":0},null,"Error?","PCTC OEPP tab 2020"]
[7821,{"$f":"'Revenues 10-15'!H120","v":0},null,"Error?","Revenue 2020"]
[7822,null,null,"OK","Revenue 2020"]
[7823,{"$f":"'Revenues 10-15'!H121","v":0},null,"Error?","Revenue 2020"]
[7824,{"$f":"'Revenues 10-15'!H123","v":0},null,"Error?","Revenue 2020"]
[7825,{"$f":"'PCTC-OEPP 37-39'!F94","v":0},null,"Error?","PCTC OEPP tab 2020"]
[7826,{"$f":"'PCTC-OEPP 37-39'!F95","v":0},null,"Error?","PCTC OEPP tab 2020"]
[7827,{"$f":"'Assets-Liab 5-6'!C45","v":0},null,"Error?","Assest - Liab 2021"]
[7828,{"$f":"'Assets-Liab 5-6'!C46","v":0},null,"Error?","Assest - Liab 2021"]
[7829,{"$f":"'Assets-Liab 5-6'!C53","v":0},null,"Error?","Assest - Liab 2021"]
[7830,{"$f":"'Assets-Liab 5-6'!D53","v":0},null,"Error?","Assest - Liab 2021"]
[7831,{"$f":"'Assets-Liab 5-6'!E53","v":0},null,"Error?","Assest - Liab 2021"]
[7832,{"$f":"'Assets-Liab 5-6'!F53","v":0},null,"Error?","Assest - Liab 2021"]
[7833,{"$f":"'Assets-Liab 5-6'!G53","v":0},null,"Error?","Assest - Liab 2021"]
[7834,{"$f":"'Assets-Liab 5-6'!H53","v":0},null,"Error?","Assest - Liab 2021"]
[7835,{"$f":"'Assets-Liab 5-6'!I53","v":0},null,"Error?","Assest - Liab 2021"]
[7836,{"$f":"'Assets-Liab 5-6'!J53","v":0},null,"Error?","Assest - Liab 2021"]
[7837,{"$f":"'Assets-Liab 5-6'!K53","v":0},null,"Error?","Assest - Liab 2021"]
[7838,{"$f":"'Assets-Liab 5-6'!L53","v":0},null,"Error?","Assest - Liab 2021"]
[7839,{"$f":"'Assets-Liab 5-6'!M54","v":0},null,"Error?","Assest - Liab 2021"]
[7840,{"$f":"'Assets-Liab 5-6'!N54","v":0},null,"Error?","Assest - Liab 2021"]
[7841,{"$f":"'Assets-Liab 5-6'!C56","v":0},null,"Error?","Assest - Liab 2021"]
[7842,{"$f":"'Assets-Liab 5-6'!D56","v":0},null,"Error?","Assest - Liab 2021"]
[7843,{"$f":"'Assets-Liab 5-6'!E56","v":0},null,"Error?","Assest - Liab 2021"]
[7844,{"$f":"'Assets-Liab 5-6'!F56","v":0},null,"Error?","Assest - Liab 2021"]
[7845,{"$f":"'Assets-Liab 5-6'!G56","v":0},null,"Error?","Assest - Liab 2021"]
[7846,{"$f":"'Assets-Liab 5-6'!H56","v":0},null,"Error?","Assest - Liab 2021"]
[7847,{"$f":"'Assets-Liab 5-6'!I56","v":0},null,"Error?","Assest - Liab 2021"]
[7848,{"$f":"'Assets-Liab 5-6'!J56","v":0},null,"Error?","Assest - Liab 2021"]
[7849,{"$f":"'Assets-Liab 5-6'!K56","v":0},null,"Error?","Assest - Liab 2021"]
[7850,{"$f":"'Assets-Liab 5-6'!L56","v":0},null,"Error?","Assest - Liab 2021"]
[7851,{"$f":"'Assets-Liab 5-6'!N58","v":0},null,"Error?","Assest - Liab 2021"]
[7852,{"$f":"'Assets-Liab 5-6'!C59","v":0},null,"Error?","Assest - Liab 2021"]
[7853,{"$f":"'Assets-Liab 5-6'!D59","v":0},null,"Error?","Assest - Liab 2021"]
[7854,{"$f":"'Assets-Liab 5-6'!E59","v":0},null,"Error?","Assest - Liab 2021"]
[7855,{"$f":"'Assets-Liab 5-6'!F59","v":0},null,"Error?","Assest - Liab 2021"]
[7856,{"$f":"'Assets-Liab 5-6'!G59","v":0},null,"Error?","Assest - Liab 2021"]
[7857,{"$f":"'Assets-Liab 5-6'!H59","v":0},null,"Error?","Assest - Liab 2021"]
[7858,{"$f":"'Assets-Liab 5-6'!I59","v":0},null,"Error?","Assest - Liab 2021"]
[7859,{"$f":"'Assets-Liab 5-6'!J59","v":0},null,"Error?","Assest - Liab 2021"]
[7860,{"$f":"'Assets-Liab 5-6'!K59","v":0},null,"Error?","Assest - Liab 2021"]
[7861,{"$f":"'Assets-Liab 5-6'!L59","v":0},null,"Error?","Assest - Liab 2021"]
[7862,{"$f":"'Assets-Liab 5-6'!C60","v":0},null,"Error?","Assest - Liab 2021"]
[7863,{"$f":"'Assets-Liab 5-6'!D60","v":0},null,"Error?","Assest - Liab 2021"]
[7864,{"$f":"'Assets-Liab 5-6'!E60","v":0},null,"Error?","Assest - Liab 2021"]
[7865,{"$f":"'Assets-Liab 5-6'!F60","v":0},null,"Error?","Assest - Liab 2021"]
[7866,{"$f":"'Assets-Liab 5-6'!G60","v":0},null,"Error?","Assest - Liab 2021"]
[7867,{"$f":"'Assets-Liab 5-6'!H60","v":0},null,"Error?","Assest - Liab 2021"]
[7868,{"$f":"'Assets-Liab 5-6'!I60","v":0},null,"Error?","Assest - Liab 2021"]
[7869,{"$f":"'Assets-Liab 5-6'!J60","v":0},null,"Error?","Assest - Liab 2021"]
[7870,{"$f":"'Assets-Liab 5-6'!K60","v":0},null,"Error?","Assest - Liab 2021"]
[7871,{"$f":"'Assets-Liab 5-6'!L60","v":0},null,"Error?","Assest - Liab 2021"]
[7872,{"$f":"'Assets-Liab 5-6'!C62","v":0},null,"Error?","Assest - Liab 2021"]
[7873,{"$f":"'Assets-Liab 5-6'!D62","v":0},null,"Error?","Assest - Liab 2021"]
[7874,{"$f":"'Assets-Liab 5-6'!E62","v":0},null,{"$f":"IF(ISBLANK(B7933),\"OK\",IF(A7933-B7933=0,\"OK\",\"Error?\"))","v":"Error?"},"Assest - Liab 2021"]
[7875,{"$f":"'Assets-Liab 5-6'!F62","v":0},null,"Error?","Assest - Liab 2021"]
[7876,{"$f":"'Assets-Liab 5-6'!G62","v":0},null,"Error?","Assest - Liab 2021"]
[7877,{"$f":"'Assets-Liab 5-6'!H62","v":0},null,"Error?","Assest - Liab 2021"]
[7878,{"$f":"'Assets-Liab 5-6'!I62","v":0},null,"Error?","Assest - Liab 2021"]
[7879,{"$f":"'Assets-Liab 5-6'!J62","v":0},null,"Error?","Assest - Liab 2021"]
[7880,{"$f":"'Assets-Liab 5-6'!K62","v":0},null,"Error?","Assest - Liab 2021"]
[7881,{"$f":"'Assets-Liab 5-6'!L62","v":0},null,"Error?","Assest - Liab 2021"]
[7882,{"$f":"'Assets-Liab 5-6'!M62","v":0},null,"Error?","Assest - Liab 2021"]
[7883,{"$f":"'Assets-Liab 5-6'!N62","v":0},null,"Error?","Assest - Liab 2021"]
[7884,{"$f":"'Acct Summary 7-9'!C85","v":0},null,"Error?","Acct Sum 2021"]
[7885,{"$f":"'Acct Summary 7-9'!C87","v":0},null,"Error?","Acct Sum 2021"]
[7886,{"$f":"'Acct Summary 7-9'!C89","v":0},null,"Error?","Acct Sum 2021"]
[7887,{"$f":"'Acct Summary 7-9'!C90","v":0},null,"Error?","Acct Sum 2021"]
[7888,{"$f":"'Acct Summary 7-9'!C91","v":0},null,"Error?","Acct Sum 2021"]
[7889,{"$f":"'Acct Summary 7-9'!C94","v":0},null,"Error?","Acct Sum 2021"]
[7890,{"$f":"'Acct Summary 7-9'!C95","v":0},null,"Error?","Acct Sum 2021"]
[7891,{"$f":"'Acct Summary 7-9'!C96","v":0},null,"Error?","Acct Sum 2021"]
[7892,{"$f":"'Acct Summary 7-9'!C97","v":0},null,"Error?","Acct Sum 2021"]
[7893,{"$f":"'Acct Summary 7-9'!C98","v":0},null,"Error?","Acct Sum 2021"]
[7894,{"$f":"'Acct Summary 7-9'!C99","v":0},null,"Error?","Acct Sum 2021"]
[7895,{"$f":"'Acct Summary 7-9'!C100","v":0},null,"Error?","Acct Sum 2021"]
[7896,{"$f":"'Acct Summary 7-9'!C102","v":0},null,"Error?","Acct Sum 2021"]
[7897,{"$f":"'Acct Summary 7-9'!C103","v":0},null,"Error?","Acct Sum 2021"]
[7898,{"$f":"'Acct Summary 7-9'!C104","v":0},null,"Error?","Acct Sum 2021"]
[7899,{"$f":"'Acct Summary 7-9'!C105","v":0},null,"Error?","Acct Sum 2021"]
[7900,{"$f":"'Acct Summary 7-9'!C106","v":0},null,"Error?","Acct Sum 2021"]
[7901,{"$f":"'Acct Summary 7-9'!C107","v":0},null,"Error?","Acct Sum 2021"]
[7902,{"$f":"'Acct Summary 7-9'!C108","v":0},null,"Error?","Acct Sum 2021"]
[7903,{"$f":"'Acct Summary 7-9'!C109","v":0},null,"Error?","Acct Sum 2021"]
[7904,{"$f":"'Acct Summary 7-9'!C110","v":0},null,"Error?","Acct Sum 2021"]
[7905,{"$f":"'Acct Summary 7-9'!C113","v":0},null,"Error?","Acct Sum 2021"]
[7906,{"$f":"'Acct Summary 7-9'!C115","v":0},null,"Error?","Acct Sum 2021"]
[7907,{"$f":"'Acct Summary 7-9'!C116","v":0},null,"Error?","Acct Sum 2021"]
[7908,{"$f":"'Acct Summary 7-9'!C117","v":0},null,"Error?","Acct Sum 2021"]
[7909,{"$f":"'Acct Summary 7-9'!D94","v":0},null,"Error?","Acct Sum 2021"]
[7910,{"$f":"'Acct Summary 7-9'!D95","v":0},null,"Error?","Acct Sum 2021"]
[7911,{"$f":"'Acct Summary 7-9'!D96","v":0},null,"Error?","Acct Sum 2021"]
[7912,{"$f":"'Acct Summary 7-9'!D97","v":0},null,"Error?","Acct Sum 2021"]
[7913,{"$f":"'Acct Summary 7-9'!D98","v":0},null,"Error?","Acct Sum 2021"]
[7914,{"$f":"'Acct Summary 7-9'!D99","v":0},null,"Error?","Acct Sum 2021"]
[7915,{"$f":"'Acct Summary 7-9'!D100","v":0},null,"Error?","Acct Sum 2021"]
[7916,{"$f":"'Acct Summary 7-9'!D103","v":0},null,"Error?","Acct Sum 2021"]
[7917,{"$f":"'Acct Summary 7-9'!D104","v":0},null,"Error?","Acct Sum 2021"]
[7918,{"$f":"'Acct Summary 7-9'!D105","v":0},null,"Error?","Acct Sum 2021"]
[7919,{"$f":"'Acct Summary 7-9'!D106","v":0},null,"Error?","Acct Sum 2021"]
[7920,{"$f":"'Acct Summary 7-9'!D107","v":0},null,"Error?","Acct Sum 2021"]
[7921,{"$f":"'Acct Summary 7-9'!D108","v":0},null,"Error?","Acct Sum 2021"]
[7922,{"$f":"'Acct Summary 7-9'!D109","v":0},null,"Error?","Acct Sum 2021"]
[7923,{"$f":"'Acct Summary 7-9'!D110","v":0},null,"Error?","Acct Sum 2021"]
[7924,{"$f":"'Acct Summary 7-9'!D113","v":0},null,"Error?","Acct Sum 2021"]
[7925,{"$f":"'Acct Summary 7-9'!D115","v":0},null,"Error?","Acct Sum 2021"]
[7926,{"$f":"'Acct Summary 7-9'!D116","v":0},null,"Error?","Acct Sum 2021"]
[7927,{"$f":"'Acct Summary 7-9'!D117","v":0},null,"Error?","Acct Sum 2021"]
[7928,{"$f":"'Acct Summary 7-9'!E94","v":0},null,"Error?","Acct Sum 2021"]
[7929,{"$f":"'Acct Summary 7-9'!E96","v":0},null,"Error?","Acct Sum 2021"]
[7930,{"$f":"'Acct Summary 7-9'!E97","v":0},null,"Error?","Acct Sum 2021"]
[7931,{"$f":"'Acct Summary 7-9'!E98","v":0},null,"Error?","Acct Sum 2021"]
[7932,{"$f":"'Acct Summary 7-9'!E99","v":0},null,"Error?","Acct Sum 2021"]
[7933,{"$f":"'Acct Summary 7-9'!E100","v":0},null,"Error?","Acct Sum 2021"]
[7934,{"$f":"'Acct Summary 7-9'!E105","v":0},null,"Error?","Acct Sum 2021"]
[7935,{"$f":"'Acct Summary 7-9'!E106","v":0},null,"Error?","Acct Sum 2021"]
[7936,{"$f":"'Acct Summary 7-9'!E107","v":0},null,"Error?","Acct Sum 2021"]
[7937,{"$f":"'Acct Summary 7-9'!E108","v":0},null,"Error?","Acct Sum 2021"]
[7938,{"$f":"'Acct Summary 7-9'!E109","v":0},null,{"$f":"IF(ISBLANK(B7997),\"OK\",IF(A7997-B7997=0,\"OK\",\"Error?\"))","v":"Error?"},"Acct Sum 2021"]
[7939,{"$f":"'Acct Summary 7-9'!E110","v":0},null,"Error?","Acct Sum 2021"]
[7940,{"$f":"'Acct Summary 7-9'!E113","v":0},null,"Error?","Acct Sum 2021"]
[7941,{"$f":"'Acct Summary 7-9'!E115","v":0},null,"Error?","Acct Sum 2021"]
[7942,{"$f":"'Acct Summary 7-9'!E116","v":0},null,"Error?","Acct Sum 2021"]
[7943,{"$f":"'Acct Summary 7-9'!E117","v":0},null,"Error?","Acct Sum 2021"]
[7944,{"$f":"'Acct Summary 7-9'!F94","v":0},null,"Error?","Acct Sum 2021"]
[7945,{"$f":"'Acct Summary 7-9'!F95","v":0},null,"Error?","Acct Sum 2021"]
[7946,{"$f":"'Acct Summary 7-9'!F96","v":0},null,"Error?","Acct Sum 2021"]
[7947,{"$f":"'Acct Summary 7-9'!F97","v":0},null,"Error?","Acct Sum 2021"]
[7948,{"$f":"'Acct Summary 7-9'!F98","v":0},null,"Error?","Acct Sum 2021"]
[7949,{"$f":"'Acct Summary 7-9'!F99","v":0},null,"Error?","Acct Sum 2021"]
[7950,{"$f":"'Acct Summary 7-9'!F100","v":0},null,"Error?","Acct Sum 2021"]
[7951,{"$f":"'Acct Summary 7-9'!F103","v":0},null,"Error?","Acct Sum 2021"]
[7952,{"$f":"'Acct Summary 7-9'!F104","v":0},null,"Error?","Acct Sum 2021"]
[7953,{"$f":"'Acct Summary 7-9'!F105","v":0},null,"Error?","Acct Sum 2021"]
[7954,{"$f":"'Acct Summary 7-9'!F106","v":0},null,"Error?","Acct Sum 2021"]
[7955,{"$f":"'Acct Summary 7-9'!F107","v":0},null,"Error?","Acct Sum 2021"]
[7956,{"$f":"'Acct Summary 7-9'!F108","v":0},null,"Error?","Acct Sum 2021"]
[7957,{"$f":"'Acct Summary 7-9'!F109","v":0},null,"Error?","Acct Sum 2021"]
[7958,{"$f":"'Acct Summary 7-9'!F110","v":0},null,"Error?","Acct Sum 2021"]
[7959,{"$f":"'Acct Summary 7-9'!F113","v":0},null,"Error?","Acct Sum 2021"]
[7960,{"$f":"'Acct Summary 7-9'!F115","v":0},null,"Error?","Acct Sum 2021"]
[7961,{"$f":"'Acct Summary 7-9'!F116","v":0},null,"Error?","Acct Sum 2021"]
[7962,{"$f":"'Acct Summary 7-9'!F117","v":0},null,"Error?","Acct Sum 2021"]
[7963,{"$f":"'Acct Summary 7-9'!G94","v":0},null,"Error?","Acct Sum 2021"]
[7964,{"$f":"'Acct Summary 7-9'!G95","v":0},null,"Error?","Acct Sum 2021"]
[7965,{"$f":"'Acct Summary 7-9'!G96","v":0},null,"Error?","Acct Sum 2021"]
[7966,{"$f":"'Acct Summary 7-9'!G97","v":0},null,"Error?","Acct Sum 2021"]
[7967,{"$f":"'Acct Summary 7-9'!G98","v":0},null,"Error?","Acct Sum 2021"]
[7968,{"$f":"'Acct Summary 7-9'!G99","v":0},null,"Error?","Acct Sum 2021"]
[7969,{"$f":"'Acct Summary 7-9'!G100","v":0},null,"Error?","Acct Sum 2021"]
[7970,{"$f":"'Acct Summary 7-9'!G102","v":0},null,"Error?","Acct Sum 2021"]
[7971,{"$f":"'Acct Summary 7-9'!G103","v":0},null,"Error?","Acct Sum 2021"]
[7972,{"$f":"'Acct Summary 7-9'!G104","v":0},null,"Error?","Acct Sum 2021"]
[7973,{"$f":"'Acct Summary 7-9'!G105","v":0},null,"Error?","Acct Sum 2021"]
[7974,{"$f":"'Acct Summary 7-9'!G106","v":0},null,"Error?","Acct Sum 2021"]
[7975,{"$f":"'Acct Summary 7-9'!G107","v":0},null,"Error?","Acct Sum 2021"]
[7976,{"$f":"'Acct Summary 7-9'!G108","v":0},null,"Error?","Acct Sum 2021"]
[7977,{"$f":"'Acct Summary 7-9'!G109","v":0},null,"Error?","Acct Sum 2021"]
[7978,{"$f":"'Acct Summary 7-9'!G110","v":0},null,"Error?","Acct Sum 2021"]
[7979,{"$f":"'Acct Summary 7-9'!G113","v":0},null,"Error?","Acct Sum 2021"]
[7980,{"$f":"'Acct Summary 7-9'!G115","v":0},null,"Error?","Acct Sum 2021"]
[7981,{"$f":"'Acct Summary 7-9'!G116","v":0},null,"Error?","Acct Sum 2021"]
[7982,{"$f":"'Acct Summary 7-9'!G117","v":0},null,"Error?","Acct Sum 2021"]
[7983,{"$f":"'Acct Summary 7-9'!H94","v":0},null,"Error?","Acct Sum 2021"]
[7984,{"$f":"'Acct Summary 7-9'!H96","v":0},null,"Error?","Acct Sum 2021"]
[7985,{"$f":"'Acct Summary 7-9'!H97","v":0},null,"Error?","Acct Sum 2021"]
[7986,{"$f":"'Acct Summary 7-9'!H98","v":0},null,"Error?","Acct Sum 2021"]
[7987,{"$f":"'Acct Summary 7-9'!H99","v":0},null,"Error?","Acct Sum 2021"]
[7988,{"$f":"'Acct Summary 7-9'!H100","v":0},null,"Error?","Acct Sum 2021"]
[7989,{"$f":"'Acct Summary 7-9'!H103","v":0},null,"Error?","Acct Sum 2021"]
[7990,{"$f":"'Acct Summary 7-9'!H105","v":0},null,"Error?","Acct Sum 2021"]
[7991,{"$f":"'Acct Summary 7-9'!H107","v":0},null,"Error?","Acct Sum 2021"]
[7992,{"$f":"'Acct Summary 7-9'!H108","v":0},null,"Error?","Acct Sum 2021"]
[7993,{"$f":"'Acct Summary 7-9'!H109","v":0},null,"Error?","Acct Sum 2021"]
[7994,{"$f":"'Acct Summary 7-9'!H110","v":0},null,"Error?","Acct Sum 2021"]
[7995,{"$f":"'Acct Summary 7-9'!H113","v":0},null,"Error?","Acct Sum 2021"]
[7996,{"$f":"'Acct Summary 7-9'!H115","v":0},null,"Error?","Acct Sum 2021"]
[7997,{"$f":"'Acct Summary 7-9'!H116","v":0},null,"Error?","Acct Sum 2021"]
[7998,{"$f":"'Acct Summary 7-9'!H117","v":0},null,"Error?","Acct Sum 2021"]
[7999,{"$f":"'Acct Summary 7-9'!I94","v":0},null,"Error?","Acct Sum 2021"]
[8000,{"$f":"'Acct Summary 7-9'!I96","v":0},null,"Error?","Acct Sum 2021"]
[8001,{"$f":"'Acct Summary 7-9'!I97","v":0},null,"Error?","Acct Sum 2021"]
[8002,{"$f":"'Acct Summary 7-9'!I98","v":0},null,{"$f":"IF(ISBLANK(B8061),\"OK\",IF(A8061-B8061=0,\"OK\",\"Error?\"))","v":"Error?"},"Acct Sum 2021"]
[8003,{"$f":"'Acct Summary 7-9'!I100","v":0},null,"Error?","Acct Sum 2021"]
[8004,{"$f":"'Acct Summary 7-9'!I110","v":0},null,"Error?","Acct Sum 2021"]
[8005,{"$f":"'Acct Summary 7-9'!I113","v":0},null,"Error?","Acct Sum 2021"]
[8006,{"$f":"'Acct Summary 7-9'!I115","v":0},null,"Error?","Acct Sum 2021"]
[8007,{"$f":"'Acct Summary 7-9'!I116","v":0},null,"Error?","Acct Sum 2021"]
[8008,{"$f":"'Acct Summary 7-9'!I117","v":0},null,"Error?","Acct Sum 2021"]
[8009,{"$f":"'Acct Summary 7-9'!J94","v":0},null,"Error?","Acct Sum 2021"]
[8010,{"$f":"'Acct Summary 7-9'!J96","v":0},null,"Error?","Acct Sum 2021"]
[8011,{"$f":"'Acct Summary 7-9'!J97","v":0},null,"Error?","Acct Sum 2021"]
[8012,{"$f":"'Acct Summary 7-9'!J98","v":0},null,"Error?","Acct Sum 2021"]
[8013,{"$f":"'Acct Summary 7-9'!J99","v":0},null,"Error?","Acct Sum 2021"]
[8014,{"$f":"'Acct Summary 7-9'!J100","v":0},null,"Error?","Acct Sum 2021"]
[8015,{"$f":"'Acct Summary 7-9'!J103","v":0},null,"Error?","Acct Sum 2021"]
[8016,{"$f":"'Acct Summary 7-9'!J105","v":0},null,"Error?","Acct Sum 2021"]
[8017,{"$f":"'Acct Summary 7-9'!J106","v":0},null,"Error?","Acct Sum 2021"]
[8018,{"$f":"'Acct Summary 7-9'!J107","v":0},null,"Error?","Acct Sum 2021"]
[8019,{"$f":"'Acct Summary 7-9'!J108","v":0},null,"Error?","Acct Sum 2021"]
[8020,{"$f":"'Acct Summary 7-9'!J109","v":0},null,"Error?","Acct Sum 2021"]
[8021,{"$f":"'Acct Summary 7-9'!J110","v":0},null,"Error?","Acct Sum 2021"]
[8022,{"$f":"'Acct Summary 7-9'!J113","v":0},null,"Error?","Acct Sum 2021"]
[8023,{"$f":"'Acct Summary 7-9'!J115","v":0},null,"Error?","Acct Sum 2021"]
[8024,{"$f":"'Acct Summary 7-9'!J116","v":0},null,"Error?","Acct Sum 2021"]
[8025,{"$f":"'Acct Summary 7-9'!J117","v":0},null,"Error?","Acct Sum 2021"]
[8026,{"$f":"'Acct Summary 7-9'!K94","v":0},null,"Error?","Acct Sum 2021"]
[8027,{"$f":"'Acct Summary 7-9'!K96","v":0},null,"Error?","Acct Sum 2021"]
[8028,{"$f":"'Acct Summary 7-9'!K97","v":0},null,"Error?","Acct Sum 2021"]
[8029,{"$f":"'Acct Summary 7-9'!K98","v":0},null,"Error?","Acct Sum 2021"]
[8030,{"$f":"'Acct Summary 7-9'!K99","v":0},null,"Error?","Acct Sum 2021"]
[8031,{"$f":"'Acct Summary 7-9'!K100","v":0},null,"Error?","Acct Sum 2021"]
[8032,{"$f":"'Acct Summary 7-9'!K103","v":0},null,"Error?","Acct Sum 2021"]
[8033,{"$f":"'Acct Summary 7-9'!K105","v":0},null,"Error?","Acct Sum 2021"]
[8034,{"$f":"'Acct Summary 7-9'!K106","v":0},null,"Error?","Acct Sum 2021"]
[8035,{"$f":"'Acct Summary 7-9'!K107","v":0},null,"Error?","Acct Sum 2021"]
[8036,{"$f":"'Acct Summary 7-9'!K108","v":0},null,"Error?","Acct Sum 2021"]
[8037,{"$f":"'Acct Summary 7-9'!K109","v":0},null,"Error?","Acct Sum 2021"]
[8038,{"$f":"'Acct Summary 7-9'!K110","v":0},null,"Error?","Acct Sum 2021"]
[8039,{"$f":"'Acct Summary 7-9'!K113","v":0},null,"Error?","Acct Sum 2021"]
[8040,{"$f":"'Acct Summary 7-9'!K115","v":0},null,"Error?","Acct Sum 2021"]
[8041,{"$f":"'Acct Summary 7-9'!K116","v":0},null,"Error?","Acct Sum 2021"]
[8042,{"$f":"'Acct Summary 7-9'!K117","v":0},null,"Error?","Acct Sum 2021"]
[8043,{"$f":"'Revenues 10-15'!C82","v":0},null,"Error?","Rev 2021"]
[8044,{"$f":"'Revenues 10-15'!C84","v":0},null,"Error?","Rev 2021"]
[8045,{"$f":"'Revenues 10-15'!C112","v":0},null,"Error?","Rev 2021"]
[8046,{"$f":"'Revenues 10-15'!C271","v":0},null,"Error?","Rev 2021"]
[8047,{"$f":"'Revenues 10-15'!D271","v":0},null,"Error?","Rev 2021"]
[8048,{"$f":"'Revenues 10-15'!E271","v":0},null,"Error?","Rev 2021"]
[8049,{"$f":"'Revenues 10-15'!F271","v":0},null,"Error?","Rev 2021"]
[8050,{"$f":"'Revenues 10-15'!G271","v":0},null,"Error?","Rev 2021"]
[8051,{"$f":"'Revenues 10-15'!H271","v":0},null,"Error?","Rev 2021"]
[8052,{"$f":"'Revenues 10-15'!I271","v":0},null,"Error?","Rev 2021"]
[8053,{"$f":"'Revenues 10-15'!J271","v":0},null,"Error?","Rev 2021"]
[8054,{"$f":"'Revenues 10-15'!K271","v":0},null,"Error?","Rev 2021"]
[8055,{"$f":"'Expenditures 16-24'!H33","v":0},null,"Error?","Exp 2021"]
[8056,{"$f":"'Expenditures 16-24'!K33","v":0},null,"Error?","Exp 2021"]
[8057,{"$f":"'Expenditures 16-24'!C35","v":0},null,"Error?","Exp 2021"]
[8058,{"$f":"'Expenditures 16-24'!D35","v":0},null,"Error?","Exp 2021"]
[8059,{"$f":"'Expenditures 16-24'!E35","v":0},null,"Error?","Exp 2021"]
[8060,{"$f":"'Expenditures 16-24'!F35","v":0},null,"Error?","Exp 2021"]
[8061,{"$f":"'Expenditures 16-24'!G35","v":0},null,"Error?","Exp 2021"]
[8062,{"$f":"'Expenditures 16-24'!H35","v":0},null,"Error?","Exp 2021"]
[8063,{"$f":"'Expenditures 16-24'!I35","v":0},null,"Error?","Exp 2021"]
[8064,{"$f":"'Expenditures 16-24'!J35","v":0},null,"Error?","Exp 2021"]
[8065,{"$f":"'Expenditures 16-24'!K35","v":0},null,"Error?","Exp 2021"]
[8066,null,null,{"$f":"IF(ISBLANK(B8125),\"OK\",IF(A8125-B8125=0,\"OK\",\"Error?\"))","v":"OK"},"Exp 2021"]
[8067,{"$f":"'Expenditures 16-24'!C117","v":0},null,"Error?","Exp 2021"]
[8068,{"$f":"'Expenditures 16-24'!D117","v":0},null,"Error?","Exp 2021"]
[8069,{"$f":"'Expenditures 16-24'!E117","v":0},null,"Error?","Exp 2021"]
[8070,{"$f":"'Expenditures 16-24'!F117","v":0},null,"Error?","Exp 2021"]
[8071,{"$f":"'Expenditures 16-24'!G117","v":0},null,"Error?","Exp 2021"]
[8072,{"$f":"'Expenditures 16-24'!H117","v":0},null,"Error?","Exp 2021"]
[8073,{"$f":"'Expenditures 16-24'!I117","v":0},null,"Error?","Exp 2021"]
[8074,{"$f":"'Expenditures 16-24'!J117","v":0},null,"Error?","Exp 2021"]
[8075,{"$f":"'Expenditures 16-24'!K117","v":0},null,"Error?","Exp 2021"]
[8076,{"$f":"'Expenditures 16-24'!L117","v":0},null,"Error?","Exp 2021"]
[8077,{"$f":"'Expenditures 16-24'!K119","v":0},null,"Error?","Exp 2021"]
[8078,{"$f":"'Expenditures 16-24'!C316","v":0},null,"Error?","Exp 2021"]
[8079,{"$f":"'Expenditures 16-24'!C318","v":0},null,"Error?","Exp 2021"]
[8080,{"$f":"'Expenditures 16-24'!C319","v":0},null,"Error?","Exp 2021"]
[8081,{"$f":"'Expenditures 16-24'!C320","v":0},null,"Error?","Exp 2021"]
[8082,{"$f":"'Expenditures 16-24'!C321","v":0},null,"Error?","Exp 2021"]
[8083,{"$f":"'Expenditures 16-24'!C322","v":0},null,"Error?","Exp 2021"]
[8084,{"$f":"'Expenditures 16-24'!C323","v":0},null,"Error?","Exp 2021"]
[8085,{"$f":"'Expenditures 16-24'!C324","v":0},null,"Error?","Exp 2021"]
[8086,{"$f":"'Expenditures 16-24'!C325","v":0},null,"Error?","Exp 2021"]
[8087,{"$f":"'Expenditures 16-24'!C326","v":0},null,"Error?","Exp 2021"]
[8088,{"$f":"'Expenditures 16-24'!C327","v":0},null,"Error?","Exp 2021"]
[8089,{"$f":"'Expenditures 16-24'!C328","v":0},null,"Error?","Exp 2021"]
[8090,{"$f":"'Expenditures 16-24'!C329","v":0},null,"Error?","Exp 2021"]
[8091,{"$f":"'Expenditures 16-24'!C330","v":0},null,"Error?","Exp 2021"]
[8092,{"$f":"'Expenditures 16-24'!C344","v":0},null,"Error?","Exp 2021"]
[8093,{"$f":"'Expenditures 16-24'!C347","v":0},null,"Error?","Exp 2021"]
[8094,{"$f":"'Expenditures 16-24'!C348","v":0},null,"Error?","Exp 2021"]
[8095,{"$f":"'Expenditures 16-24'!C349","v":0},null,"Error?","Exp 2021"]
[8096,{"$f":"'Expenditures 16-24'!C350","v":0},null,"Error?","Exp 2021"]
[8097,{"$f":"'Expenditures 16-24'!C351","v":0},null,"Error?","Exp 2021"]
[8098,{"$f":"'Expenditures 16-24'!C352","v":0},null,"Error?","Exp 2021"]
[8099,{"$f":"'Expenditures 16-24'!C353","v":0},null,"Error?","Exp 2021"]
[8100,{"$f":"'Expenditures 16-24'!C355","v":0},null,"Error?","Exp 2021"]
[8101,{"$f":"'Expenditures 16-24'!C356","v":0},null,"Error?","Exp 2021"]
[8102,{"$f":"'Expenditures 16-24'!C357","v":0},null,"Error?","Exp 2021"]
[8103,{"$f":"'Expenditures 16-24'!C358","v":0},null,"Error?","Exp 2021"]
[8104,{"$f":"'Expenditures 16-24'!C360","v":0},null,"Error?","Exp 2021"]
[8105,{"$f":"'Expenditures 16-24'!C361","v":0},null,"Error?","Exp 2021"]
[8106,{"$f":"'Expenditures 16-24'!C362","v":0},null,"Error?","Exp 2021"]
[8107,null,null,"OK","Exp 2021"]
[8108,null,null,"OK","Exp 2021"]
[8109,null,null,"OK","Exp 2021"]
[8110,{"$f":"'Expenditures 16-24'!C367","v":0},null,"Error?","Exp 2021"]
[8111,{"$f":"'Expenditures 16-24'!C368","v":0},null,"Error?","Exp 2021"]
[8112,{"$f":"'Expenditures 16-24'!C369","v":0},null,"Error?","Exp 2021"]
[8113,{"$f":"'Expenditures 16-24'!C371","v":0},null,"Error?","Exp 2021"]
[8114,{"$f":"'Expenditures 16-24'!C372","v":0},null,"Error?","Exp 2021"]
[8115,{"$f":"'Expenditures 16-24'!C374","v":0},null,"Error?","Exp 2021"]
[8116,{"$f":"'Expenditures 16-24'!C375","v":0},null,"Error?","Exp 2021"]
[8117,{"$f":"'Expenditures 16-24'!C376","v":0},null,"Error?","Exp 2021"]
[8118,{"$f":"'Expenditures 16-24'!C377","v":0},null,"Error?","Exp 2021"]
[8119,{"$f":"'Expenditures 16-24'!C378","v":0},null,"Error?","Exp 2021"]
[8120,{"$f":"'Expenditures 16-24'!C380","v":0},null,"Error?","Exp 2021"]
[8121,{"$f":"'Expenditures 16-24'!C381","v":0},null,"Error?","Exp 2021"]
[8122,{"$f":"'Expenditures 16-24'!C382","v":0},null,"Error?","Exp 2021"]
[8123,{"$f":"'Expenditures 16-24'!C383","v":0},null,"Error?","Exp 2021"]
[8124,{"$f":"'Expenditures 16-24'!C384","v":0},null,"Error?","Exp 2021"]
[8125,{"$f":"'Expenditures 16-24'!C385","v":0},null,"Error?","Exp 2021"]
[8126,{"$f":"'Expenditures 16-24'!C386","v":0},null,"Error?","Exp 2021"]
[8127,{"$f":"'Expenditures 16-24'!C387","v":0},null,"Error?","Exp 2021"]
[8128,{"$f":"'Expenditures 16-24'!C388","v":0},null,"Error?","Exp 2021"]
[8129,{"$f":"'Expenditures 16-24'!D316","v":0},null,"Error?","Exp 2021"]
[8130,{"$f":"'Expenditures 16-24'!D318","v":0},null,{"$f":"IF(ISBLANK(B8189),\"OK\",IF(A8189-B8189=0,\"OK\",\"Error?\"))","v":"Error?"},"Exp 2021"]
[8131,{"$f":"'Expenditures 16-24'!D319","v":0},null,"Error?","Exp 2021"]
[8132,{"$f":"'Expenditures 16-24'!D320","v":0},null,"Error?","Exp 2021"]
[8133,{"$f":"'Expenditures 16-24'!D321","v":0},null,"Error?","Exp 2021"]
[8134,{"$f":"'Expenditures 16-24'!D322","v":0},null,"Error?","Exp 2021"]
[8135,{"$f":"'Expenditures 16-24'!D323","v":0},null,"Error?","Exp 2021"]
[8136,{"$f":"'Expenditures 16-24'!D324","v":0},null,"Error?","Exp 2021"]
[8137,{"$f":"'Expenditures 16-24'!D325","v":0},null,"Error?","Exp 2021"]
[8138,{"$f":"'Expenditures 16-24'!D326","v":0},null,"Error?","Exp 2021"]
[8139,{"$f":"'Expenditures 16-24'!D327","v":0},null,"Error?","Exp 2021"]
[8140,{"$f":"'Expenditures 16-24'!D328","v":0},null,"Error?","Exp 2021"]
[8141,{"$f":"'Expenditures 16-24'!D329","v":0},null,"Error?","Exp 2021"]
[8142,{"$f":"'Expenditures 16-24'!D330","v":0},null,"Error?","Exp 2021"]
[8143,{"$f":"'Expenditures 16-24'!D344","v":0},null,"Error?","Exp 2021"]
[8144,{"$f":"'Expenditures 16-24'!D347","v":0},null,"Error?","Exp 2021"]
[8145,{"$f":"'Expenditures 16-24'!D348","v":0},null,"Error?","Exp 2021"]
[8146,{"$f":"'Expenditures 16-24'!D349","v":0},null,"Error?","Exp 2021"]
[8147,{"$f":"'Expenditures 16-24'!D350","v":0},null,"Error?","Exp 2021"]
[8148,{"$f":"'Expenditures 16-24'!D351","v":0},null,"Error?","Exp 2021"]
[8149,{"$f":"'Expenditures 16-24'!D352","v":0},null,"Error?","Exp 2021"]
[8150,{"$f":"'Expenditures 16-24'!D353","v":0},null,"Error?","Exp 2021"]
[8151,{"$f":"'Expenditures 16-24'!D355","v":0},null,"Error?","Exp 2021"]
[8152,{"$f":"'Expenditures 16-24'!D356","v":0},null,"Error?","Exp 2021"]
[8153,{"$f":"'Expenditures 16-24'!D357","v":0},null,"Error?","Exp 2021"]
[8154,{"$f":"'Expenditures 16-24'!D358","v":0},null,"Error?","Exp 2021"]
[8155,{"$f":"'Expenditures 16-24'!D360","v":0},null,"Error?","Exp 2021"]
[8156,{"$f":"'Expenditures 16-24'!D361","v":0},null,"Error?","Exp 2021"]
[8157,{"$f":"'Expenditures 16-24'!D362","v":0},null,"Error?","Exp 2021"]
[8158,null,null,"OK","Exp 2021"]
[8159,null,null,"OK","Exp 2021"]
[8160,null,null,"OK","Exp 2021"]
[8161,{"$f":"'Expenditures 16-24'!D367","v":0},null,"Error?","Exp 2021"]
[8162,{"$f":"'Expenditures 16-24'!D368","v":0},null,"Error?","Exp 2021"]
[8163,{"$f":"'Expenditures 16-24'!D369","v":0},null,"Error?","Exp 2021"]
[8164,{"$f":"'Expenditures 16-24'!D371","v":0},null,"Error?","Exp 2021"]
[8165,{"$f":"'Expenditures 16-24'!D372","v":0},null,"Error?","Exp 2021"]
[8166,{"$f":"'Expenditures 16-24'!D374","v":0},null,"Error?","Exp 2021"]
[8167,{"$f":"'Expenditures 16-24'!D375","v":0},null,"Error?","Exp 2021"]
[8168,{"$f":"'Expenditures 16-24'!D376","v":0},null,"Error?","Exp 2021"]
[8169,{"$f":"'Expenditures 16-24'!D377","v":0},null,"Error?","Exp 2021"]
[8170,{"$f":"'Expenditures 16-24'!D378","v":0},null,"Error?","Exp 2021"]
[8171,{"$f":"'Expenditures 16-24'!D380","v":0},null,"Error?","Exp 2021"]
[8172,{"$f":"'Expenditures 16-24'!D381","v":0},null,"Error?","Exp 2021"]
[8173,{"$f":"'Expenditures 16-24'!D382","v":0},null,"Error?","Exp 2021"]
[8174,{"$f":"'Expenditures 16-24'!D383","v":0},null,"Error?","Exp 2021"]
[8175,{"$f":"'Expenditures 16-24'!D384","v":0},null,"Error?","Exp 2021"]
[8176,{"$f":"'Expenditures 16-24'!D385","v":0},null,"Error?","Exp 2021"]
[8177,{"$f":"'Expenditures 16-24'!D386","v":0},null,"Error?","Exp 2021"]
[8178,{"$f":"'Expenditures 16-24'!D387","v":0},null,"Error?","Exp 2021"]
[8179,{"$f":"'Expenditures 16-24'!D388","v":0},null,"Error?","Exp 2021"]
[8180,{"$f":"'Expenditures 16-24'!E316","v":0},null,"Error?","Exp 2021"]
[8181,{"$f":"'Expenditures 16-24'!E317","v":0},null,"Error?","Exp 2021"]
[8182,{"$f":"'Expenditures 16-24'!E318","v":0},null,"Error?","Exp 2021"]
[8183,{"$f":"'Expenditures 16-24'!E319","v":0},null,"Error?","Exp 2021"]
[8184,{"$f":"'Expenditures 16-24'!E320","v":0},null,"Error?","Exp 2021"]
[8185,{"$f":"'Expenditures 16-24'!E321","v":0},null,"Error?","Exp 2021"]
[8186,{"$f":"'Expenditures 16-24'!E322","v":0},null,"Error?","Exp 2021"]
[8187,{"$f":"'Expenditures 16-24'!E323","v":0},null,"Error?","Exp 2021"]
[8188,{"$f":"'Expenditures 16-24'!E324","v":0},null,"Error?","Exp 2021"]
[8189,{"$f":"'Expenditures 16-24'!E325","v":0},null,"Error?","Exp 2021"]
[8190,{"$f":"'Expenditures 16-24'!E326","v":0},null,"Error?","Exp 2021"]
[8191,{"$f":"'Expenditures 16-24'!E327","v":0},null,"Error?","Exp 2021"]
[8192,{"$f":"'Expenditures 16-24'!E328","v":0},null,"Error?","Exp 2021"]
[8193,{"$f":"'Expenditures 16-24'!E329","v":0},null,"Error?","Exp 2021"]
[8194,{"$f":"'Expenditures 16-24'!E330","v":0},null,{"$f":"IF(ISBLANK(B8253),\"OK\",IF(A8253-B8253=0,\"OK\",\"Error?\"))","v":"Error?"},"Exp 2021"]
[8195,{"$f":"'Expenditures 16-24'!E344","v":0},null,"Error?","Exp 2021"]
[8196,{"$f":"'Expenditures 16-24'!E347","v":0},null,"Error?","Exp 2021"]
[8197,{"$f":"'Expenditures 16-24'!E348","v":0},null,"Error?","Exp 2021"]
[8198,{"$f":"'Expenditures 16-24'!E349","v":0},null,"Error?","Exp 2021"]
[8199,{"$f":"'Expenditures 16-24'!E350","v":0},null,"Error?","Exp 2021"]
[8200,{"$f":"'Expenditures 16-24'!E351","v":0},null,"Error?","Exp 2021"]
[8201,{"$f":"'Expenditures 16-24'!E352","v":0},null,"Error?","Exp 2021"]
[8202,{"$f":"'Expenditures 16-24'!E353","v":0},null,"Error?","Exp 2021"]
[8203,{"$f":"'Expenditures 16-24'!E355","v":0},null,"Error?","Exp 2021"]
[8204,{"$f":"'Expenditures 16-24'!E356","v":0},null,"Error?","Exp 2021"]
[8205,{"$f":"'Expenditures 16-24'!E357","v":0},null,"Error?","Exp 2021"]
[8206,{"$f":"'Expenditures 16-24'!E358","v":0},null,"Error?","Exp 2021"]
[8207,{"$f":"'Expenditures 16-24'!E360","v":0},null,"Error?","Exp 2021"]
[8208,{"$f":"'Expenditures 16-24'!E361","v":0},null,"Error?","Exp 2021"]
[8209,{"$f":"'Expenditures 16-24'!E362","v":0},null,"Error?","Exp 2021"]
[8210,null,null,"OK","Exp 2021"]
[8211,null,null,"OK","Exp 2021"]
[8212,{"$f":"'Expenditures 16-24'!E367","v":0},null,"Error?","Exp 2021"]
[8213,{"$f":"'Expenditures 16-24'!E368","v":0},null,"Error?","Exp 2021"]
[8214,{"$f":"'Expenditures 16-24'!E369","v":0},null,"Error?","Exp 2021"]
[8215,{"$f":"'Expenditures 16-24'!E371","v":0},null,"Error?","Exp 2021"]
[8216,{"$f":"'Expenditures 16-24'!E372","v":0},null,"Error?","Exp 2021"]
[8217,{"$f":"'Expenditures 16-24'!E374","v":0},null,"Error?","Exp 2021"]
[8218,{"$f":"'Expenditures 16-24'!E375","v":0},null,"Error?","Exp 2021"]
[8219,{"$f":"'Expenditures 16-24'!E376","v":0},null,"Error?","Exp 2021"]
[8220,{"$f":"'Expenditures 16-24'!E377","v":0},null,"Error?","Exp 2021"]
[8221,{"$f":"'Expenditures 16-24'!E378","v":0},null,"Error?","Exp 2021"]
[8222,{"$f":"'Expenditures 16-24'!E380","v":0},null,"Error?","Exp 2021"]
[8223,{"$f":"'Expenditures 16-24'!E381","v":0},null,"Error?","Exp 2021"]
[8224,{"$f":"'Expenditures 16-24'!E382","v":0},null,"Error?","Exp 2021"]
[8225,{"$f":"'Expenditures 16-24'!E383","v":0},null,"Error?","Exp 2021"]
[8226,{"$f":"'Expenditures 16-24'!E384","v":0},null,"Error?","Exp 2021"]
[8227,{"$f":"'Expenditures 16-24'!E385","v":0},null,"Error?","Exp 2021"]
[8228,{"$f":"'Expenditures 16-24'!E386","v":0},null,"Error?","Exp 2021"]
[8229,{"$f":"'Expenditures 16-24'!E387","v":0},null,"Error?","Exp 2021"]
[8230,{"$f":"'Expenditures 16-24'!E388","v":0},null,"Error?","Exp 2021"]
[8231,{"$f":"'Expenditures 16-24'!E393","v":0},null,"Error?","Exp 2021"]
[8232,{"$f":"'Expenditures 16-24'!E394","v":0},null,"Error?","Exp 2021"]
[8233,{"$f":"'Expenditures 16-24'!E395","v":0},null,"Error?","Exp 2021"]
[8234,{"$f":"'Expenditures 16-24'!E396","v":0},null,"Error?","Exp 2021"]
[8235,{"$f":"'Expenditures 16-24'!E397","v":0},null,"Error?","Exp 2021"]
[8236,{"$f":"'Expenditures 16-24'!E412","v":0},null,"Error?","Exp 2021"]
[8237,{"$f":"'Expenditures 16-24'!E413","v":0},null,"Error?","Exp 2021"]
[8238,{"$f":"'Expenditures 16-24'!E414","v":0},null,"Error?","Exp 2021"]
[8239,{"$f":"'Expenditures 16-24'!F316","v":0},null,"Error?","Exp 2021"]
[8240,{"$f":"'Expenditures 16-24'!F318","v":0},null,"Error?","Exp 2021"]
[8241,{"$f":"'Expenditures 16-24'!F319","v":0},null,"Error?","Exp 2021"]
[8242,{"$f":"'Expenditures 16-24'!F320","v":0},null,"Error?","Exp 2021"]
[8243,{"$f":"'Expenditures 16-24'!F321","v":0},null,"Error?","Exp 2021"]
[8244,{"$f":"'Expenditures 16-24'!F322","v":0},null,"Error?","Exp 2021"]
[8245,{"$f":"'Expenditures 16-24'!F323","v":0},null,"Error?","Exp 2021"]
[8246,{"$f":"'Expenditures 16-24'!F324","v":0},null,"Error?","Exp 2021"]
[8247,{"$f":"'Expenditures 16-24'!F325","v":0},null,"Error?","Exp 2021"]
[8248,{"$f":"'Expenditures 16-24'!F326","v":0},null,"Error?","Exp 2021"]
[8249,{"$f":"'Expenditures 16-24'!F327","v":0},null,"Error?","Exp 2021"]
[8250,{"$f":"'Expenditures 16-24'!F328","v":0},null,"Error?","Exp 2021"]
[8251,{"$f":"'Expenditures 16-24'!F329","v":0},null,"Error?","Exp 2021"]
[8252,{"$f":"'Expenditures 16-24'!F330","v":0},null,"Error?","Exp 2021"]
[8253,{"$f":"'Expenditures 16-24'!F344","v":0},null,"Error?","Exp 2021"]
[8254,{"$f":"'Expenditures 16-24'!F347","v":0},null,"Error?","Exp 2021"]
[8255,{"$f":"'Expenditures 16-24'!F348","v":0},null,"Error?","Exp 2021"]
[8256,{"$f":"'Expenditures 16-24'!F349","v":0},null,"Error?","Exp 2021"]
[8257,{"$f":"'Expenditures 16-24'!F350","v":0},null,"Error?","Exp 2021"]
[8258,{"$f":"'Expenditures 16-24'!F351","v":0},null,{"$f":"IF(ISBLANK(B8317),\"OK\",IF(A8317-B8317=0,\"OK\",\"Error?\"))","v":"Error?"},"Exp 2021"]
[8259,{"$f":"'Expenditures 16-24'!F352","v":0},null,"Error?","Exp 2021"]
[8260,{"$f":"'Expenditures 16-24'!F353","v":0},null,"Error?","Exp 2021"]
[8261,{"$f":"'Expenditures 16-24'!F355","v":0},null,"Error?","Exp 2021"]
[8262,{"$f":"'Expenditures 16-24'!F356","v":0},null,"Error?","Exp 2021"]
[8263,{"$f":"'Expenditures 16-24'!F357","v":0},null,"Error?","Exp 2021"]
[8264,{"$f":"'Expenditures 16-24'!F358","v":0},null,"Error?","Exp 2021"]
[8265,{"$f":"'Expenditures 16-24'!F360","v":0},null,"Error?","Exp 2021"]
[8266,{"$f":"'Expenditures 16-24'!F361","v":0},null,"Error?","Exp 2021"]
[8267,{"$f":"'Expenditures 16-24'!F362","v":0},null,"Error?","Exp 2021"]
[8268,null,null,"OK","Exp 2021"]
[8269,null,null,"OK","Exp 2021"]
[8270,{"$f":"'Expenditures 16-24'!F367","v":0},null,"Error?","Exp 2021"]
[8271,{"$f":"'Expenditures 16-24'!F368","v":0},null,"Error?","Exp 2021"]
[8272,{"$f":"'Expenditures 16-24'!F371","v":0},null,"Error?","Exp 2021"]
[8273,{"$f":"'Expenditures 16-24'!F372","v":0},null,"Error?","Exp 2021"]
[8274,{"$f":"'Expenditures 16-24'!F374","v":0},null,"Error?","Exp 2021"]
[8275,{"$f":"'Expenditures 16-24'!F375","v":0},null,"Error?","Exp 2021"]
[8276,{"$f":"'Expenditures 16-24'!F376","v":0},null,"Error?","Exp 2021"]
[8277,{"$f":"'Expenditures 16-24'!F377","v":0},null,"Error?","Exp 2021"]
[8278,{"$f":"'Expenditures 16-24'!F378","v":0},null,"Error?","Exp 2021"]
[8279,{"$f":"'Expenditures 16-24'!F380","v":0},null,"Error?","Exp 2021"]
[8280,{"$f":"'Expenditures 16-24'!F381","v":0},null,"Error?","Exp 2021"]
[8281,{"$f":"'Expenditures 16-24'!F382","v":0},null,"Error?","Exp 2021"]
[8282,{"$f":"'Expenditures 16-24'!F383","v":0},null,"Error?","Exp 2021"]
[8283,{"$f":"'Expenditures 16-24'!F384","v":0},null,"Error?","Exp 2021"]
[8284,{"$f":"'Expenditures 16-24'!F385","v":0},null,"Error?","Exp 2021"]
[8285,{"$f":"'Expenditures 16-24'!F386","v":0},null,"Error?","Exp 2021"]
[8286,{"$f":"'Expenditures 16-24'!F387","v":0},null,"Error?","Exp 2021"]
[8287,{"$f":"'Expenditures 16-24'!F388","v":0},null,"Error?","Exp 2021"]
[8288,{"$f":"'Expenditures 16-24'!F369","v":0},null,"Error?","Exp 2021"]
[8289,{"$f":"'Expenditures 16-24'!G316","v":0},null,"Error?","Exp 2021"]
[8290,{"$f":"'Expenditures 16-24'!G318","v":0},null,"Error?","Exp 2021"]
[8291,{"$f":"'Expenditures 16-24'!G319","v":0},null,"Error?","Exp 2021"]
[8292,{"$f":"'Expenditures 16-24'!G320","v":0},null,"Error?","Exp 2021"]
[8293,{"$f":"'Expenditures 16-24'!G321","v":0},null,"Error?","Exp 2021"]
[8294,{"$f":"'Expenditures 16-24'!G322","v":0},null,"Error?","Exp 2021"]
[8295,{"$f":"'Expenditures 16-24'!G323","v":0},null,"Error?","Exp 2021"]
[8296,{"$f":"'Expenditures 16-24'!G324","v":0},null,"Error?","Exp 2021"]
[8297,{"$f":"'Expenditures 16-24'!G325","v":0},null,"Error?","Exp 2021"]
[8298,{"$f":"'Expenditures 16-24'!G326","v":0},null,"Error?","Exp 2021"]
[8299,{"$f":"'Expenditures 16-24'!G327","v":0},null,"Error?","Exp 2021"]
[8300,{"$f":"'Expenditures 16-24'!G328","v":0},null,"Error?","Exp 2021"]
[8301,{"$f":"'Expenditures 16-24'!G329","v":0},null,"Error?","Exp 2021"]
[8302,{"$f":"'Expenditures 16-24'!G330","v":0},null,"Error?","Exp 2021"]
[8303,{"$f":"'Expenditures 16-24'!G344","v":0},null,"Error?","Exp 2021"]
[8304,{"$f":"'Expenditures 16-24'!G347","v":0},null,"Error?","Exp 2021"]
[8305,{"$f":"'Expenditures 16-24'!G348","v":0},null,"Error?","Exp 2021"]
[8306,{"$f":"'Expenditures 16-24'!G349","v":0},null,"Error?","Exp 2021"]
[8307,{"$f":"'Expenditures 16-24'!G350","v":0},null,"Error?","Exp 2021"]
[8308,{"$f":"'Expenditures 16-24'!G351","v":0},null,"Error?","Exp 2021"]
[8309,{"$f":"'Expenditures 16-24'!G352","v":0},null,"Error?","Exp 2021"]
[8310,{"$f":"'Expenditures 16-24'!G353","v":0},null,"Error?","Exp 2021"]
[8311,{"$f":"'Expenditures 16-24'!G355","v":0},null,"Error?","Exp 2021"]
[8312,{"$f":"'Expenditures 16-24'!G356","v":0},null,"Error?","Exp 2021"]
[8313,{"$f":"'Expenditures 16-24'!G357","v":0},null,"Error?","Exp 2021"]
[8314,{"$f":"'Expenditures 16-24'!G358","v":0},null,"Error?","Exp 2021"]
[8315,{"$f":"'Expenditures 16-24'!G360","v":0},null,"Error?","Exp 2021"]
[8316,{"$f":"'Expenditures 16-24'!G361","v":0},null,"Error?","Exp 2021"]
[8317,{"$f":"'Expenditures 16-24'!G362","v":0},null,"Error?","Exp 2021"]
[8318,null,null,"OK","Exp 2021"]
[8319,null,null,"OK","Exp 2021"]
[8320,{"$f":"'Expenditures 16-24'!G367","v":0},null,"Error?","Exp 2021"]
[8321,{"$f":"'Expenditures 16-24'!G368","v":0},null,"Error?","Exp 2021"]
[8322,{"$f":"'Expenditures 16-24'!G369","v":0},null,{"$f":"IF(ISBLANK(B8381),\"OK\",IF(A8381-B8381=0,\"OK\",\"Error?\"))","v":"Error?"},"Exp 2021"]
[8323,{"$f":"'Expenditures 16-24'!G371","v":0},null,"Error?","Exp 2021"]
[8324,{"$f":"'Expenditures 16-24'!G372","v":0},null,"Error?","Exp 2021"]
[8325,{"$f":"'Expenditures 16-24'!G374","v":0},null,"Error?","Exp 2021"]
[8326,{"$f":"'Expenditures 16-24'!G375","v":0},null,"Error?","Exp 2021"]
[8327,{"$f":"'Expenditures 16-24'!G376","v":0},null,"Error?","Exp 2021"]
[8328,{"$f":"'Expenditures 16-24'!G377","v":0},null,"Error?","Exp 2021"]
[8329,{"$f":"'Expenditures 16-24'!G378","v":0},null,"Error?","Exp 2021"]
[8330,{"$f":"'Expenditures 16-24'!G380","v":0},null,"Error?","Exp 2021"]
[8331,{"$f":"'Expenditures 16-24'!G381","v":0},null,"Error?","Exp 2021"]
[8332,{"$f":"'Expenditures 16-24'!G382","v":0},null,"Error?","Exp 2021"]
[8333,{"$f":"'Expenditures 16-24'!G383","v":0},null,"Error?","Exp 2021"]
[8334,{"$f":"'Expenditures 16-24'!G384","v":0},null,"Error?","Exp 2021"]
[8335,{"$f":"'Expenditures 16-24'!G385","v":0},null,"Error?","Exp 2021"]
[8336,{"$f":"'Expenditures 16-24'!G386","v":0},null,"Error?","Exp 2021"]
[8337,{"$f":"'Expenditures 16-24'!G387","v":0},null,"Error?","Exp 2021"]
[8338,{"$f":"'Expenditures 16-24'!G388","v":0},null,"Error?","Exp 2021"]
[8339,{"$f":"'Expenditures 16-24'!H316","v":0},null,"Error?","Exp 2021"]
[8340,{"$f":"'Expenditures 16-24'!H318","v":0},null,"Error?","Exp 2021"]
[8341,{"$f":"'Expenditures 16-24'!H319","v":0},null,"Error?","Exp 2021"]
[8342,{"$f":"'Expenditures 16-24'!H320","v":0},null,"Error?","Exp 2021"]
[8343,{"$f":"'Expenditures 16-24'!H321","v":0},null,"Error?","Exp 2021"]
[8344,{"$f":"'Expenditures 16-24'!H322","v":0},null,"Error?","Exp 2021"]
[8345,{"$f":"'Expenditures 16-24'!H323","v":0},null,"Error?","Exp 2021"]
[8346,{"$f":"'Expenditures 16-24'!H324","v":0},null,"Error?","Exp 2021"]
[8347,{"$f":"'Expenditures 16-24'!H325","v":0},null,"Error?","Exp 2021"]
[8348,{"$f":"'Expenditures 16-24'!H326","v":0},null,"Error?","Exp 2021"]
[8349,{"$f":"'Expenditures 16-24'!H327","v":0},null,"Error?","Exp 2021"]
[8350,{"$f":"'Expenditures 16-24'!H328","v":0},null,"Error?","Exp 2021"]
[8351,{"$f":"'Expenditures 16-24'!H329","v":0},null,"Error?","Exp 2021"]
[8352,{"$f":"'Expenditures 16-24'!H330","v":0},null,"Error?","Exp 2021"]
[8353,{"$f":"'Expenditures 16-24'!H331","v":0},null,"Error?","Exp 2021"]
[8354,{"$f":"'Expenditures 16-24'!H332","v":0},null,"Error?","Exp 2021"]
[8355,{"$f":"'Expenditures 16-24'!H333","v":0},null,"Error?","Exp 2021"]
[8356,{"$f":"'Expenditures 16-24'!H334","v":0},null,"Error?","Exp 2021"]
[8357,{"$f":"'Expenditures 16-24'!H335","v":0},null,"Error?","Exp 2021"]
[8358,{"$f":"'Expenditures 16-24'!H336","v":0},null,"Error?","Exp 2021"]
[8359,{"$f":"'Expenditures 16-24'!H337","v":0},null,"Error?","Exp 2021"]
[8360,{"$f":"'Expenditures 16-24'!H338","v":0},null,"Error?","Exp 2021"]
[8361,{"$f":"'Expenditures 16-24'!H339","v":0},null,"Error?","Exp 2021"]
[8362,{"$f":"'Expenditures 16-24'!H340","v":0},null,"Error?","Exp 2021"]
[8363,{"$f":"'Expenditures 16-24'!H341","v":0},null,"Error?","Exp 2021"]
[8364,{"$f":"'Expenditures 16-24'!H342","v":0},null,"Error?","Exp 2021"]
[8365,{"$f":"'Expenditures 16-24'!H343","v":0},null,"Error?","Exp 2021"]
[8366,{"$f":"'Expenditures 16-24'!H344","v":0},null,"Error?","Exp 2021"]
[8367,{"$f":"'Expenditures 16-24'!H347","v":0},null,"Error?","Exp 2021"]
[8368,{"$f":"'Expenditures 16-24'!H348","v":0},null,"Error?","Exp 2021"]
[8369,{"$f":"'Expenditures 16-24'!H349","v":0},null,"Error?","Exp 2021"]
[8370,{"$f":"'Expenditures 16-24'!H350","v":0},null,"Error?","Exp 2021"]
[8371,{"$f":"'Expenditures 16-24'!H351","v":0},null,"Error?","Exp 2021"]
[8372,{"$f":"'Expenditures 16-24'!H352","v":0},null,"Error?","Exp 2021"]
[8373,{"$f":"'Expenditures 16-24'!H353","v":0},null,"Error?","Exp 2021"]
[8374,{"$f":"'Expenditures 16-24'!H355","v":0},null,"Error?","Exp 2021"]
[8375,{"$f":"'Expenditures 16-24'!H356","v":0},null,"Error?","Exp 2021"]
[8376,{"$f":"'Expenditures 16-24'!H357","v":0},null,"Error?","Exp 2021"]
[8377,{"$f":"'Expenditures 16-24'!H358","v":0},null,"Error?","Exp 2021"]
[8378,{"$f":"'Expenditures 16-24'!H360","v":0},null,"Error?","Exp 2021"]
[8379,{"$f":"'Expenditures 16-24'!H361","v":0},null,"Error?","Exp 2021"]
[8380,{"$f":"'Expenditures 16-24'!H362","v":0},null,"Error?","Exp 2021"]
[8381,null,null,"OK","Exp 2021"]
[8382,null,null,"OK","Exp 2021"]
[8383,{"$f":"'Expenditures 16-24'!H367","v":0},null,"Error?","Exp 2021"]
[8384,{"$f":"'Expenditures 16-24'!H368","v":0},null,"Error?","Exp 2021"]
[8385,{"$f":"'Expenditures 16-24'!H369","v":0},null,"Error?","Exp 2021"]
[8386,{"$f":"'Expenditures 16-24'!H371","v":0},null,{"$f":"IF(ISBLANK(B8445),\"OK\",IF(A8445-B8445=0,\"OK\",\"Error?\"))","v":"Error?"},"Exp 2021"]
[8387,{"$f":"'Expenditures 16-24'!H372","v":0},null,"Error?","Exp 2021"]
[8388,{"$f":"'Expenditures 16-24'!H374","v":0},null,"Error?","Exp 2021"]
[8389,{"$f":"'Expenditures 16-24'!H375","v":0},null,"Error?","Exp 2021"]
[8390,{"$f":"'Expenditures 16-24'!H376","v":0},null,"Error?","Exp 2021"]
[8391,{"$f":"'Expenditures 16-24'!H377","v":0},null,"Error?","Exp 2021"]
[8392,{"$f":"'Expenditures 16-24'!H378","v":0},null,"Error?","Exp 2021"]
[8393,{"$f":"'Expenditures 16-24'!H380","v":0},null,"Error?","Exp 2021"]
[8394,{"$f":"'Expenditures 16-24'!H381","v":0},null,"Error?","Exp 2021"]
[8395,{"$f":"'Expenditures 16-24'!H382","v":0},null,"Error?","Exp 2021"]
[8396,{"$f":"'Expenditures 16-24'!H383","v":0},null,"Error?","Exp 2021"]
[8397,{"$f":"'Expenditures 16-24'!H384","v":0},null,"Error?","Exp 2021"]
[8398,{"$f":"'Expenditures 16-24'!H385","v":0},null,"Error?","Exp 2021"]
[8399,{"$f":"'Expenditures 16-24'!H386","v":0},null,"Error?","Exp 2021"]
[8400,{"$f":"'Expenditures 16-24'!H387","v":0},null,"Error?","Exp 2021"]
[8401,{"$f":"'Expenditures 16-24'!H388","v":0},null,"Error?","Exp 2021"]
[8402,null,null,"OK","Exp 2021"]
[8403,null,null,"OK","Exp 2021"]
[8404,{"$f":"'Expenditures 16-24'!H393","v":0},null,"Error?","Exp 2021"]
[8405,{"$f":"'Expenditures 16-24'!H394","v":0},null,"Error?","Exp 2021"]
[8406,{"$f":"'Expenditures 16-24'!H395","v":0},null,"Error?","Exp 2021"]
[8407,{"$f":"'Expenditures 16-24'!H396","v":0},null,"Error?","Exp 2021"]
[8408,null,null,"OK","Exp 2021"]
[8409,{"$f":"'Expenditures 16-24'!H398","v":0},null,"Error?","Exp 2021"]
[8410,{"$f":"'Expenditures 16-24'!H399","v":0},null,"Error?","Exp 2021"]
[8411,{"$f":"'Expenditures 16-24'!H400","v":0},null,"Error?","Exp 2021"]
[8412,{"$f":"'Expenditures 16-24'!H401","v":0},null,"Error?","Exp 2021"]
[8413,{"$f":"'Expenditures 16-24'!H402","v":0},null,"Error?","Exp 2021"]
[8414,{"$f":"'Expenditures 16-24'!H403","v":0},null,"Error?","Exp 2021"]
[8415,{"$f":"'Expenditures 16-24'!H404","v":0},null,"Error?","Exp 2021"]
[8416,{"$f":"'Expenditures 16-24'!H405","v":0},null,"Error?","Exp 2021"]
[8417,{"$f":"'Expenditures 16-24'!H406","v":0},null,"Error?","Exp 2021"]
[8418,{"$f":"'Expenditures 16-24'!H407","v":0},null,"Error?","Exp 2021"]
[8419,{"$f":"'Expenditures 16-24'!H408","v":0},null,"Error?","Exp 2021"]
[8420,{"$f":"'Expenditures 16-24'!H409","v":0},null,"Error?","Exp 2021"]
[8421,{"$f":"'Expenditures 16-24'!H410","v":0},null,"Error?","Exp 2021"]
[8422,{"$f":"'Expenditures 16-24'!H411","v":0},null,"Error?","Exp 2021"]
[8423,{"$f":"'Expenditures 16-24'!H412","v":0},null,"Error?","Exp 2021"]
[8424,{"$f":"'Expenditures 16-24'!H413","v":0},null,"Error?","Exp 2021"]
[8425,{"$f":"'Expenditures 16-24'!H414","v":0},null,"Error?","Exp 2021"]
[8426,null,null,"OK","Exp 2021"]
[8427,null,null,"OK","Exp 2021"]
[8428,null,null,"OK","Exp 2021"]
[8429,{"$f":"'Expenditures 16-24'!I316","v":0},null,"Error?","Exp 2021"]
[8430,{"$f":"'Expenditures 16-24'!I318","v":0},null,"Error?","Exp 2021"]
[8431,{"$f":"'Expenditures 16-24'!I319","v":0},null,"Error?","Exp 2021"]
[8432,{"$f":"'Expenditures 16-24'!I320","v":0},null,"Error?","Exp 2021"]
[8433,{"$f":"'Expenditures 16-24'!I321","v":0},null,"Error?","Exp 2021"]
[8434,{"$f":"'Expenditures 16-24'!I322","v":0},null,"Error?","Exp 2021"]
[8435,{"$f":"'Expenditures 16-24'!I323","v":0},null,"Error?","Exp 2021"]
[8436,{"$f":"'Expenditures 16-24'!I324","v":0},null,"Error?","Exp 2021"]
[8437,{"$f":"'Expenditures 16-24'!I325","v":0},null,"Error?","Exp 2021"]
[8438,{"$f":"'Expenditures 16-24'!I326","v":0},null,"Error?","Exp 2021"]
[8439,{"$f":"'Expenditures 16-24'!I327","v":0},null,"Error?","Exp 2021"]
[8440,{"$f":"'Expenditures 16-24'!I328","v":0},null,"Error?","Exp 2021"]
[8441,{"$f":"'Expenditures 16-24'!I329","v":0},null,"Error?","Exp 2021"]
[8442,{"$f":"'Expenditures 16-24'!I330","v":0},null,"Error?","Exp 2021"]
[8443,{"$f":"'Expenditures 16-24'!I344","v":0},null,"Error?","Exp 2021"]
[8444,{"$f":"'Expenditures 16-24'!I347","v":0},null,"Error?","Exp 2021"]
[8445,{"$f":"'Expenditures 16-24'!I348","v":0},null,"Error?","Exp 2021"]
[8446,{"$f":"'Expenditures 16-24'!I349","v":0},null,"Error?","Exp 2021"]
[8447,{"$f":"'Expenditures 16-24'!I350","v":0},null,"Error?","Exp 2021"]
[8448,{"$f":"'Expenditures 16-24'!I351","v":0},null,"Error?","Exp 2021"]
[8449,{"$f":"'Expenditures 16-24'!I352","v":0},null,"Error?","Exp 2021"]
[8450,{"$f":"'Expenditures 16-24'!I353","v":0},null,{"$f":"IF(ISBLANK(B8509),\"OK\",IF(A8509-B8509=0,\"OK\",\"Error?\"))","v":"Error?"},"Exp 2021"]
[8451,{"$f":"'Expenditures 16-24'!I355","v":0},null,"Error?","Exp 2021"]
[8452,{"$f":"'Expenditures 16-24'!I356","v":0},null,"Error?","Exp 2021"]
[8453,{"$f":"'Expenditures 16-24'!I357","v":0},null,"Error?","Exp 2021"]
[8454,{"$f":"'Expenditures 16-24'!I358","v":0},null,"Error?","Exp 2021"]
[8455,{"$f":"'Expenditures 16-24'!I360","v":0},null,"Error?","Exp 2021"]
[8456,{"$f":"'Expenditures 16-24'!I361","v":0},null,"Error?","Exp 2021"]
[8457,{"$f":"'Expenditures 16-24'!I362","v":0},null,"Error?","Exp 2021"]
[8458,{"$f":"'Expenditures 16-24'!I367","v":0},null,"Error?","Exp 2021"]
[8459,{"$f":"'Expenditures 16-24'!I368","v":0},null,"Error?","Exp 2021"]
[8460,{"$f":"'Expenditures 16-24'!I369","v":0},null,"Error?","Exp 2021"]
[8461,{"$f":"'Expenditures 16-24'!I371","v":0},null,"Error?","Exp 2021"]
[8462,{"$f":"'Expenditures 16-24'!I372","v":0},null,"Error?","Exp 2021"]
[8463,{"$f":"'Expenditures 16-24'!I374","v":0},null,"Error?","Exp 2021"]
[8464,{"$f":"'Expenditures 16-24'!I375","v":0},null,"Error?","Exp 2021"]
[8465,{"$f":"'Expenditures 16-24'!I376","v":0},null,"Error?","Exp 2021"]
[8466,{"$f":"'Expenditures 16-24'!I377","v":0},null,"Error?","Exp 2021"]
[8467,{"$f":"'Expenditures 16-24'!I378","v":0},null,"Error?","Exp 2021"]
[8468,{"$f":"'Expenditures 16-24'!I380","v":0},null,"Error?","Exp 2021"]
[8469,{"$f":"'Expenditures 16-24'!I381","v":0},null,"Error?","Exp 2021"]
[8470,{"$f":"'Expenditures 16-24'!I382","v":0},null,"Error?","Exp 2021"]
[8471,{"$f":"'Expenditures 16-24'!I383","v":0},null,"Error?","Exp 2021"]
[8472,{"$f":"'Expenditures 16-24'!I384","v":0},null,"Error?","Exp 2021"]
[8473,{"$f":"'Expenditures 16-24'!I385","v":0},null,"Error?","Exp 2021"]
[8474,{"$f":"'Expenditures 16-24'!I386","v":0},null,"Error?","Exp 2021"]
[8475,{"$f":"'Expenditures 16-24'!I387","v":0},null,"Error?","Exp 2021"]
[8476,{"$f":"'Expenditures 16-24'!I388","v":0},null,"Error?","Exp 2021"]
[8477,{"$f":"'Expenditures 16-24'!J316","v":0},null,"Error?","Exp 2021"]
[8478,{"$f":"'Expenditures 16-24'!J318","v":0},null,"Error?","Exp 2021"]
[8479,{"$f":"'Expenditures 16-24'!J319","v":0},null,"Error?","Exp 2021"]
[8480,{"$f":"'Expenditures 16-24'!J320","v":0},null,"Error?","Exp 2021"]
[8481,{"$f":"'Expenditures 16-24'!J321","v":0},null,"Error?","Exp 2021"]
[8482,{"$f":"'Expenditures 16-24'!J322","v":0},null,"Error?","Exp 2021"]
[8483,{"$f":"'Expenditures 16-24'!J323","v":0},null,"Error?","Exp 2021"]
[8484,{"$f":"'Expenditures 16-24'!J324","v":0},null,"Error?","Exp 2021"]
[8485,{"$f":"'Expenditures 16-24'!J325","v":0},null,"Error?","Exp 2021"]
[8486,{"$f":"'Expenditures 16-24'!J326","v":0},null,"Error?","Exp 2021"]
[8487,{"$f":"'Expenditures 16-24'!J327","v":0},null,"Error?","Exp 2021"]
[8488,{"$f":"'Expenditures 16-24'!J328","v":0},null,"Error?","Exp 2021"]
[8489,{"$f":"'Expenditures 16-24'!J329","v":0},null,"Error?","Exp 2021"]
[8490,{"$f":"'Expenditures 16-24'!J330","v":0},null,"Error?","Exp 2021"]
[8491,{"$f":"'Expenditures 16-24'!J344","v":0},null,"Error?","Exp 2021"]
[8492,{"$f":"'Expenditures 16-24'!J347","v":0},null,"Error?","Exp 2021"]
[8493,{"$f":"'Expenditures 16-24'!J348","v":0},null,"Error?","Exp 2021"]
[8494,{"$f":"'Expenditures 16-24'!J349","v":0},null,"Error?","Exp 2021"]
[8495,{"$f":"'Expenditures 16-24'!J350","v":0},null,"Error?","Exp 2021"]
[8496,{"$f":"'Expenditures 16-24'!J351","v":0},null,"Error?","Exp 2021"]
[8497,{"$f":"'Expenditures 16-24'!J352","v":0},null,"Error?","Exp 2021"]
[8498,{"$f":"'Expenditures 16-24'!J353","v":0},null,"Error?","Exp 2021"]
[8499,{"$f":"'Expenditures 16-24'!J355","v":0},null,"Error?","Exp 2021"]
[8500,{"$f":"'Expenditures 16-24'!J356","v":0},null,"Error?","Exp 2021"]
[8501,{"$f":"'Expenditures 16-24'!J357","v":0},null,"Error?","Exp 2021"]
[8502,{"$f":"'Expenditures 16-24'!J358","v":0},null,"Error?","Exp 2021"]
[8503,{"$f":"'Expenditures 16-24'!J360","v":0},null,"Error?","Exp 2021"]
[8504,{"$f":"'Expenditures 16-24'!J361","v":0},null,"Error?","Exp 2021"]
[8505,{"$f":"'Expenditures 16-24'!J362","v":0},null,"Error?","Exp 2021"]
[8506,{"$f":"'Expenditures 16-24'!J367","v":0},null,"Error?","Exp 2021"]
[8507,{"$f":"'Expenditures 16-24'!J368","v":0},null,"Error?","Exp 2021"]
[8508,{"$f":"'Expenditures 16-24'!J369","v":0},null,"Error?","Exp 2021"]
[8509,{"$f":"'Expenditures 16-24'!J371","v":0},null,"Error?","Exp 2021"]
[8510,{"$f":"'Expenditures 16-24'!J372","v":0},null,"Error?","Exp 2021"]
[8511,{"$f":"'Expenditures 16-24'!J374","v":0},null,"Error?","Exp 2021"]
[8512,{"$f":"'Expenditures 16-24'!J375","v":0},null,"Error?","Exp 2021"]
[8513,{"$f":"'Expenditures 16-24'!J376","v":0},null,"Error?","Exp 2021"]
[8514,{"$f":"'Expenditures 16-24'!J377","v":0},null,{"$f":"IF(ISBLANK(B8573),\"OK\",IF(A8573-B8573=0,\"OK\",\"Error?\"))","v":"Error?"},"Exp 2021"]
[8515,{"$f":"'Expenditures 16-24'!J378","v":0},null,"Error?","Exp 2021"]
[8516,{"$f":"'Expenditures 16-24'!J380","v":0},null,"Error?","Exp 2021"]
[8517,{"$f":"'Expenditures 16-24'!J381","v":0},null,"Error?","Exp 2021"]
[8518,{"$f":"'Expenditures 16-24'!J382","v":0},null,"Error?","Exp 2021"]
[8519,{"$f":"'Expenditures 16-24'!J383","v":0},null,"Error?","Exp 2021"]
[8520,{"$f":"'Expenditures 16-24'!J384","v":0},null,"Error?","Exp 2021"]
[8521,{"$f":"'Expenditures 16-24'!J385","v":0},null,"Error?","Exp 2021"]
[8522,{"$f":"'Expenditures 16-24'!J386","v":0},null,"Error?","Exp 2021"]
[8523,{"$f":"'Expenditures 16-24'!J387","v":0},null,"Error?","Exp 2021"]
[8524,{"$f":"'Expenditures 16-24'!J388","v":0},null,"Error?","Exp 2021"]
[8525,{"$f":"'Expenditures 16-24'!K316","v":0},null,"Error?","Exp 2021"]
[8526,{"$f":"'Expenditures 16-24'!K317","v":0},null,"Error?","Exp 2021"]
[8527,{"$f":"'Expenditures 16-24'!K318","v":0},null,"Error?","Exp 2021"]
[8528,{"$f":"'Expenditures 16-24'!K319","v":0},null,"Error?","Exp 2021"]
[8529,{"$f":"'Expenditures 16-24'!K320","v":0},null,"Error?","Exp 2021"]
[8530,{"$f":"'Expenditures 16-24'!K321","v":0},null,"Error?","Exp 2021"]
[8531,{"$f":"'Expenditures 16-24'!K322","v":0},null,"Error?","Exp 2021"]
[8532,{"$f":"'Expenditures 16-24'!K323","v":0},null,"Error?","Exp 2021"]
[8533,{"$f":"'Expenditures 16-24'!K324","v":0},null,"Error?","Exp 2021"]
[8534,{"$f":"'Expenditures 16-24'!K325","v":0},null,"Error?","Exp 2021"]
[8535,{"$f":"'Expenditures 16-24'!K326","v":0},null,"Error?","Exp 2021"]
[8536,{"$f":"'Expenditures 16-24'!K327","v":0},null,"Error?","Exp 2021"]
[8537,{"$f":"'Expenditures 16-24'!K328","v":0},null,"Error?","Exp 2021"]
[8538,{"$f":"'Expenditures 16-24'!K329","v":0},null,"Error?","Exp 2021"]
[8539,{"$f":"'Expenditures 16-24'!K330","v":0},null,"Error?","Exp 2021"]
[8540,{"$f":"'Expenditures 16-24'!K331","v":0},null,"Error?","Exp 2021"]
[8541,{"$f":"'Expenditures 16-24'!K332","v":0},null,"Error?","Exp 2021"]
[8542,{"$f":"'Expenditures 16-24'!K333","v":0},null,"Error?","Exp 2021"]
[8543,{"$f":"'Expenditures 16-24'!K334","v":0},null,"Error?","Exp 2021"]
[8544,{"$f":"'Expenditures 16-24'!K335","v":0},null,"Error?","Exp 2021"]
[8545,{"$f":"'Expenditures 16-24'!K336","v":0},null,"Error?","Exp 2021"]
[8546,{"$f":"'Expenditures 16-24'!K337","v":0},null,"Error?","Exp 2021"]
[8547,{"$f":"'Expenditures 16-24'!K338","v":0},null,"Error?","Exp 2021"]
[8548,{"$f":"'Expenditures 16-24'!K339","v":0},null,"Error?","Exp 2021"]
[8549,{"$f":"'Expenditures 16-24'!K340","v":0},null,"Error?","Exp 2021"]
[8550,{"$f":"'Expenditures 16-24'!K341","v":0},null,"Error?","Exp 2021"]
[8551,{"$f":"'Expenditures 16-24'!K342","v":0},null,"Error?","Exp 2021"]
[8552,{"$f":"'Expenditures 16-24'!K343","v":0},null,"Error?","Exp 2021"]
[8553,{"$f":"'Expenditures 16-24'!K344","v":0},null,"Error?","Exp 2021"]
[8554,{"$f":"'Expenditures 16-24'!K347","v":0},null,"Error?","Exp 2021"]
[8555,{"$f":"'Expenditures 16-24'!K348","v":0},null,"Error?","Exp 2021"]
[8556,{"$f":"'Expenditures 16-24'!K349","v":0},null,"Error?","Exp 2021"]
[8557,{"$f":"'Expenditures 16-24'!K350","v":0},null,"Error?","Exp 2021"]
[8558,{"$f":"'Expenditures 16-24'!K351","v":0},null,"Error?","Exp 2021"]
[8559,{"$f":"'Expenditures 16-24'!K352","v":0},null,"Error?","Exp 2021"]
[8560,{"$f":"'Expenditures 16-24'!K353","v":0},null,"Error?","Exp 2021"]
[8561,{"$f":"'Expenditures 16-24'!K355","v":0},null,"Error?","Exp 2021"]
[8562,{"$f":"'Expenditures 16-24'!K356","v":0},null,"Error?","Exp 2021"]
[8563,{"$f":"'Expenditures 16-24'!K357","v":0},null,"Error?","Exp 2021"]
[8564,{"$f":"'Expenditures 16-24'!K358","v":0},null,"Error?","Exp 2021"]
[8565,{"$f":"'Expenditures 16-24'!K360","v":0},null,"Error?","Exp 2021"]
[8566,{"$f":"'Expenditures 16-24'!K361","v":0},null,"Error?","Exp 2021"]
[8567,{"$f":"'Expenditures 16-24'!K362","v":0},null,"Error?","Exp 2021"]
[8568,{"$f":"'Expenditures 16-24'!K367","v":0},null,"Error?","Exp 2021"]
[8569,{"$f":"'Expenditures 16-24'!K368","v":0},null,"Error?","Exp 2021"]
[8570,{"$f":"'Expenditures 16-24'!K369","v":0},null,"Error?","Exp 2021"]
[8571,{"$f":"'Expenditures 16-24'!K371","v":0},null,"Error?","Exp 2021"]
[8572,{"$f":"'Expenditures 16-24'!K372","v":0},null,"Error?","Exp 2021"]
[8573,{"$f":"'Expenditures 16-24'!K374","v":0},null,"Error?","Exp 2021"]
[8574,{"$f":"'Expenditures 16-24'!K375","v":0},null,"Error?","Exp 2021"]
[8575,{"$f":"'Expenditures 16-24'!K376","v":0},null,"Error?","Exp 2021"]
[8576,{"$f":"'Expenditures 16-24'!K377","v":0},null,"Error?","Exp 2021"]
[8577,{"$f":"'Expenditures 16-24'!K378","v":0},null,"Error?","Exp 2021"]
[8578,{"$f":"'Expenditures 16-24'!K380","v":0},null,{"$f":"IF(ISBLANK(B8637),\"OK\",IF(A8637-B8637=0,\"OK\",\"Error?\"))","v":"Error?"},"Exp 2021"]
[8579,{"$f":"'Expenditures 16-24'!K381","v":0},null,"Error?","Exp 2021"]
[8580,{"$f":"'Expenditures 16-24'!K382","v":0},null,"Error?","Exp 2021"]
[8581,{"$f":"'Expenditures 16-24'!K383","v":0},null,"Error?","Exp 2021"]
[8582,{"$f":"'Expenditures 16-24'!K384","v":0},null,"Error?","Exp 2021"]
[8583,{"$f":"'Expenditures 16-24'!K385","v":0},null,"Error?","Exp 2021"]
[8584,{"$f":"'Expenditures 16-24'!K386","v":0},null,"Error?","Exp 2021"]
[8585,{"$f":"'Expenditures 16-24'!K387","v":0},null,"Error?","Exp 2021"]
[8586,{"$f":"'Expenditures 16-24'!K388","v":0},null,"Error?","Exp 2021"]
[8587,{"$f":"'Expenditures 16-24'!K393","v":0},null,"Error?","Exp 2021"]
[8588,{"$f":"'Expenditures 16-24'!K394","v":0},null,"Error?","Exp 2021"]
[8589,{"$f":"'Expenditures 16-24'!K395","v":0},null,"Error?","Exp 2021"]
[8590,{"$f":"'Expenditures 16-24'!K396","v":0},null,"Error?","Exp 2021"]
[8591,{"$f":"'Expenditures 16-24'!K398","v":0},null,"Error?","Exp 2021"]
[8592,{"$f":"'Expenditures 16-24'!K399","v":0},null,"Error?","Exp 2021"]
[8593,{"$f":"'Expenditures 16-24'!K400","v":0},null,"Error?","Exp 2021"]
[8594,{"$f":"'Expenditures 16-24'!K401","v":0},null,"Error?","Exp 2021"]
[8595,{"$f":"'Expenditures 16-24'!K402","v":0},null,"Error?","Exp 2021"]
[8596,{"$f":"'Expenditures 16-24'!K403","v":0},null,"Error?","Exp 2021"]
[8597,{"$f":"'Expenditures 16-24'!K404","v":0},null,"Error?","Exp 2021"]
[8598,{"$f":"'Expenditures 16-24'!K405","v":0},null,"Error?","Exp 2021"]
[8599,{"$f":"'Expenditures 16-24'!K406","v":0},null,"Error?","Exp 2021"]
[8600,{"$f":"'Expenditures 16-24'!K407","v":0},null,"Error?","Exp 2021"]
[8601,{"$f":"'Expenditures 16-24'!K408","v":0},null,"Error?","Exp 2021"]
[8602,{"$f":"'Expenditures 16-24'!K409","v":0},null,"Error?","Exp 2021"]
[8603,{"$f":"'Expenditures 16-24'!K410","v":0},null,"Error?","Exp 2021"]
[8604,{"$f":"'Expenditures 16-24'!K411","v":0},null,"Error?","Exp 2021"]
[8605,{"$f":"'Expenditures 16-24'!K412","v":0},null,"Error?","Exp 2021"]
[8606,{"$f":"'Expenditures 16-24'!K413","v":0},null,"Error?","Exp 2021"]
[8607,{"$f":"'Expenditures 16-24'!K414","v":0},null,"Error?","Exp 2021"]
[8608,{"$f":"'PCTC-OEPP 37-39'!F74","v":0},null,"Error?","PCTC OEPP 2021"]
[8609,{"$f":"'PCTC-OEPP 37-39'!F75","v":0},null,"Error?","PCTC OEPP 2021"]
[8610,{"$f":"'PCTC-OEPP 37-39'!F76","v":0},null,"Error?","PCTC OEPP 2021"]
[8611,{"$f":"'PCTC-OEPP 37-39'!F77","v":0},null,"Error?","PCTC OEPP 2021"]
[8612,{"$f":"'PCTC-OEPP 37-39'!F78","v":0},null,"Error?","PCTC OEPP 2021"]
[8613,{"$f":"'PCTC-OEPP 37-39'!F79","v":0},null,"Error?","PCTC OEPP 2021"]
[8614,{"$f":"'PCTC-OEPP 37-39'!F80","v":0},null,"Error?","PCTC OEPP 2021"]
[8615,{"$f":"'PCTC-OEPP 37-39'!F81","v":0},null,"Error?","PCTC OEPP 2021"]
[8616,{"$f":"'PCTC-OEPP 37-39'!F82","v":0},null,"Error?","PCTC OEPP 2021"]
[8617,{"$f":"'PCTC-OEPP 37-39'!F83","v":0},null,"Error?","PCTC OEPP 2021"]
[8618,{"$f":"'PCTC-OEPP 37-39'!F84","v":0},null,"Error?","PCTC OEPP 2021"]
[8619,{"$f":"'PCTC-OEPP 37-39'!F85","v":0},null,"Error?","PCTC OEPP 2021"]
[8620,{"$f":"'PCTC-OEPP 37-39'!F86","v":0},null,"Error?","PCTC OEPP 2021"]
[8621,{"$f":"'PCTC-OEPP 37-39'!F87","v":0},null,"Error?","PCTC OEPP 2021"]
[8622,{"$f":"'PCTC-OEPP 37-39'!F88","v":0},null,"Error?","PCTC OEPP 2021"]
[8623,{"$f":"'PCTC-OEPP 37-39'!F89","v":0},null,"Error?","PCTC OEPP 2021"]
[8624,{"$f":"'PCTC-OEPP 37-39'!F90","v":0},null,"Error?","PCTC OEPP 2021"]
[8625,{"$f":"'PCTC-OEPP 37-39'!F91","v":0},null,"Error?","PCTC OEPP 2021"]
[8626,{"$f":"'PCTC-OEPP 37-39'!F92","v":0},null,"Error?","PCTC OEPP 2021"]
[8627,{"$f":"'PCTC-OEPP 37-39'!F186","v":0},null,"Error?","PCTC OEPP 2021"]
[8628,{"$f":"'PCTC-OEPP 37-39'!F187","v":0},null,"Error?","PCTC OEPP 2021"]
[8629,{"$f":"'Assets-Liab 5-6'!C48","v":0},null,"Error?","Assets-Liab 2021"]
[8630,{"$f":"'Assets-Liab 5-6'!C49","v":0},null,"Error?","Assets-Liab 2021"]
[8631,{"$f":"'Assets-Liab 5-6'!C50","v":0},null,"Error?","Assets-Liab 2021"]
[8632,{"$f":"'Assets-Liab 5-6'!M61","v":0},null,"Error?","Assets-Liab 2021"]
[8633,{"$f":"'PCTC-OEPP 37-39'!F191","v":0},null,"Error?","PCTC OEPP 2021"]
[8634,{"$f":"'CARES CRRSA ARP 28-35'!C12","v":0},null,"Error?","CARES CRRSA 2021"]
[8635,{"$f":"'CARES CRRSA ARP 28-35'!C13","v":0},null,"Error?","CARES CRRSA 2021"]
[8636,{"$f":"'CARES CRRSA ARP 28-35'!C14","v":0},null,"Error?","CARES CRRSA 2021"]
[8637,null,null,"OK","CARES CRRSA 2021","closed FY22"]
[8638,{"$f":"'CARES CRRSA ARP 28-35'!C18","v":0},null,"Error?","CARES CRRSA 2021"]
[8639,{"$f":"'CARES CRRSA ARP 28-35'!C23","v":0},null,"Error?","CARES CRRSA 2021"]
[8640,null,null,"OK","CARES CRRSA 2021","closed FY22"]
[8641,{"$f":"'CARES CRRSA ARP 28-35'!C24","v":0},null,"Error?","CARES CRRSA 2021"]
[8642,{"$f":"'CARES CRRSA ARP 28-35'!C25","v":0},null,{"$f":"IF(ISBLANK(B8701),\"OK\",IF(A8701-B8701=0,\"OK\",\"Error?\"))","v":"Error?"},"CARES CRRSA 2021"]
[8643,null,null,"OK","CARES CRRSA 2021","closed FY22"]
[8644,{"$f":"'CARES CRRSA ARP 28-35'!C36","v":0},null,"Error?","CARES CRRSA 2021"]
[8645,{"$f":"'CARES CRRSA ARP 28-35'!C37","v":0},null,"Error?","CARES CRRSA 2021"]
[8646,{"$f":"'CARES CRRSA ARP 28-35'!C39","v":0},null,"Error?","CARES CRRSA 2021"]
[8647,{"$f":"'CARES CRRSA ARP 28-35'!C40","v":0},null,"Error?","CARES CRRSA 2021"]
[8648,{"$f":"'CARES CRRSA ARP 28-35'!C41","v":0},null,"Error?","CARES CRRSA 2021"]
[8649,{"$f":"'CARES CRRSA ARP 28-35'!D12","v":0},null,"Error?","CARES CRRSA 2021"]
[8650,{"$f":"'CARES CRRSA ARP 28-35'!D13","v":0},null,"Error?","CARES CRRSA 2021"]
[8651,{"$f":"'CARES CRRSA ARP 28-35'!D14","v":0},null,"Error?","CARES CRRSA 2021"]
[8652,null,null,"OK","CARES CRRSA 2021","closed FY22"]
[8653,{"$f":"'CARES CRRSA ARP 28-35'!D18","v":0},null,"Error?","CARES CRRSA 2021"]
[8654,{"$f":"'CARES CRRSA ARP 28-35'!D23","v":0},null,"Error?","CARES CRRSA 2021"]
[8655,null,null,"OK","CARES CRRSA 2021","closed FY22"]
[8656,{"$f":"'CARES CRRSA ARP 28-35'!D24","v":0},null,"Error?","CARES CRRSA 2021"]
[8657,{"$f":"'CARES CRRSA ARP 28-35'!D25","v":0},null,"Error?","CARES CRRSA 2021"]
[8658,null,null,"OK","CARES CRRSA 2021","closed FY22"]
[8659,{"$f":"'CARES CRRSA ARP 28-35'!D36","v":0},null,"Error?","CARES CRRSA 2021"]
[8660,{"$f":"'CARES CRRSA ARP 28-35'!D37","v":0},null,"Error?","CARES CRRSA 2021"]
[8661,{"$f":"'CARES CRRSA ARP 28-35'!D39","v":0},null,"Error?","CARES CRRSA 2021"]
[8662,{"$f":"'CARES CRRSA ARP 28-35'!D40","v":0},null,"Error?","CARES CRRSA 2021"]
[8663,{"$f":"'CARES CRRSA ARP 28-35'!D41","v":0},null,"Error?","CARES CRRSA 2021"]
[8664,{"$f":"'CARES CRRSA ARP 28-35'!F12","v":0},null,"Error?","CARES CRRSA 2021"]
[8665,{"$f":"'CARES CRRSA ARP 28-35'!F13","v":0},null,"Error?","CARES CRRSA 2021"]
[8666,{"$f":"'CARES CRRSA ARP 28-35'!F14","v":0},null,"Error?","CARES CRRSA 2021"]
[8667,null,null,"OK","CARES CRRSA 2021","closed FY22"]
[8668,{"$f":"'CARES CRRSA ARP 28-35'!F18","v":0},null,"Error?","CARES CRRSA 2021"]
[8669,null,null,"OK","CARES CRRSA 2021","closed FY22"]
[8670,{"$f":"'CARES CRRSA ARP 28-35'!F24","v":0},null,"Error?","CARES CRRSA 2021"]
[8671,{"$f":"'CARES CRRSA ARP 28-35'!F25","v":0},null,"Error?","CARES CRRSA 2021"]
[8672,null,null,"OK","CARES CRRSA 2021","closed FY22"]
[8673,{"$f":"'CARES CRRSA ARP 28-35'!F36","v":0},null,"Error?","CARES CRRSA 2021"]
[8674,{"$f":"'CARES CRRSA ARP 28-35'!F37","v":0},null,"Error?","CARES CRRSA 2021"]
[8675,{"$f":"'CARES CRRSA ARP 28-35'!F39","v":0},null,"Error?","CARES CRRSA 2021"]
[8676,{"$f":"'CARES CRRSA ARP 28-35'!F40","v":0},null,"Error?","CARES CRRSA 2021"]
[8677,{"$f":"'CARES CRRSA ARP 28-35'!F41","v":0},null,"Error?","CARES CRRSA 2021"]
[8678,{"$f":"'CARES CRRSA ARP 28-35'!G12","v":0},null,"Error?","CARES CRRSA 2021"]
[8679,{"$f":"'CARES CRRSA ARP 28-35'!G13","v":0},null,"Error?","CARES CRRSA 2021"]
[8680,{"$f":"'CARES CRRSA ARP 28-35'!G14","v":0},null,"Error?","CARES CRRSA 2021"]
[8681,null,null,"OK","CARES CRRSA 2021","closed FY22"]
[8682,{"$f":"'CARES CRRSA ARP 28-35'!G18","v":0},null,"Error?","CARES CRRSA 2021"]
[8683,{"$f":"'CARES CRRSA ARP 28-35'!G23","v":0},null,"Error?","CARES CRRSA 2021"]
[8684,null,null,"OK","CARES CRRSA 2021","closed FY22"]
[8685,{"$f":"'CARES CRRSA ARP 28-35'!G24","v":0},null,"Error?","CARES CRRSA 2021"]
[8686,{"$f":"'CARES CRRSA ARP 28-35'!G25","v":0},null,"Error?","CARES CRRSA 2021"]
[8687,null,null,"OK","CARES CRRSA 2021","closed FY22"]
[8688,{"$f":"'CARES CRRSA ARP 28-35'!G36","v":0},null,"Error?","CARES CRRSA 2021"]
[8689,{"$f":"'CARES CRRSA ARP 28-35'!G37","v":0},null,"Error?","CARES CRRSA 2021"]
[8690,{"$f":"'CARES CRRSA ARP 28-35'!G39","v":0},null,"Error?","CARES CRRSA 2021"]
[8691,{"$f":"'CARES CRRSA ARP 28-35'!G40","v":0},null,"Error?","CARES CRRSA 2021"]
[8692,{"$f":"'CARES CRRSA ARP 28-35'!G41","v":0},null,"Error?","CARES CRRSA 2021"]
[8693,{"$f":"'CARES CRRSA ARP 28-35'!H12","v":0},null,"Error?","CARES CRRSA 2021"]
[8694,{"$f":"'CARES CRRSA ARP 28-35'!H13","v":0},null,"Error?","CARES CRRSA 2021"]
[8695,{"$f":"'CARES CRRSA ARP 28-35'!H14","v":0},null,"Error?","CARES CRRSA 2021"]
[8696,null,null,"OK","CARES CRRSA 2021","closed FY22"]
[8697,{"$f":"'CARES CRRSA ARP 28-35'!H23","v":0},null,"Error?","CARES CRRSA 2021"]
[8698,null,null,"OK","CARES CRRSA 2021","closed FY22"]
[8699,{"$f":"'CARES CRRSA ARP 28-35'!H24","v":0},null,"Error?","CARES CRRSA 2021"]
[8700,{"$f":"'CARES CRRSA ARP 28-35'!H25","v":0},null,"Error?","CARES CRRSA 2021"]
[8701,null,null,"OK","CARES CRRSA 2021","closed FY22"]
[8702,{"$f":"'CARES CRRSA ARP 28-35'!H36","v":0},null,"Error?","CARES CRRSA 2021"]
[8703,{"$f":"'CARES CRRSA ARP 28-35'!H37","v":0},null,"Error?","CARES CRRSA 2021"]
[8704,{"$f":"'CARES CRRSA ARP 28-35'!H39","v":0},null,"Error?","CARES CRRSA 2021"]
[8705,{"$f":"'CARES CRRSA ARP 28-35'!H40","v":0},null,"Error?","CARES CRRSA 2021"]
[8706,{"$f":"'CARES CRRSA ARP 28-35'!H41","v":0},null,{"$f":"IF(ISBLANK(B8765),\"OK\",IF(A8765-B8765=0,\"OK\",\"Error?\"))","v":"Error?"},"CARES CRRSA 2021"]
[8707,{"$f":"'CARES CRRSA ARP 28-35'!K12","v":0},null,"Error?","CARES CRRSA 2021"]
[8708,{"$f":"'CARES CRRSA ARP 28-35'!K13","v":0},null,"Error?","CARES CRRSA 2021"]
[8709,{"$f":"'CARES CRRSA ARP 28-35'!K14","v":0},null,"Error?","CARES CRRSA 2021"]
[8710,null,null,"OK","CARES CRRSA 2021","closed FY22"]
[8711,{"$f":"'CARES CRRSA ARP 28-35'!K23","v":0},null,"Error?","CARES CRRSA 2021"]
[8712,null,null,"OK","CARES CRRSA 2021","closed FY22"]
[8713,{"$f":"'CARES CRRSA ARP 28-35'!K24","v":0},null,"Error?","CARES CRRSA 2021"]
[8714,{"$f":"'CARES CRRSA ARP 28-35'!K25","v":0},null,"Error?","CARES CRRSA 2021"]
[8715,null,null,"OK","CARES CRRSA 2021","closed FY22"]
[8716,{"$f":"'CARES CRRSA ARP 28-35'!K36","v":0},null,"Error?","CARES CRRSA 2021"]
[8717,{"$f":"'CARES CRRSA ARP 28-35'!K37","v":0},null,"Error?","CARES CRRSA 2021"]
[8718,{"$f":"'CARES CRRSA ARP 28-35'!K39","v":0},null,"Error?","CARES CRRSA 2021"]
[8719,{"$f":"'CARES CRRSA ARP 28-35'!K40","v":0},null,"Error?","CARES CRRSA 2021"]
[8720,{"$f":"'CARES CRRSA ARP 28-35'!K41","v":0},null,"Error?","CARES CRRSA 2021"]
[8721,{"$f":"'CARES CRRSA ARP 28-35'!L12","v":0},null,"Error?","CARES CRRSA 2021"]
[8722,{"$f":"'CARES CRRSA ARP 28-35'!L13","v":0},null,"Error?","CARES CRRSA 2021"]
[8723,{"$f":"'CARES CRRSA ARP 28-35'!L14","v":0},null,"Error?","CARES CRRSA 2021"]
[8724,null,null,"OK","CARES CRRSA 2021","closed FY22"]
[8725,{"$f":"'CARES CRRSA ARP 28-35'!L18","v":0},null,"Error?","CARES CRRSA 2021"]
[8726,{"$f":"'CARES CRRSA ARP 28-35'!L23","v":0},null,"Error?","CARES CRRSA 2021"]
[8727,null,null,"OK","CARES CRRSA 2021","closed FY22"]
[8728,{"$f":"'CARES CRRSA ARP 28-35'!L24","v":0},null,"Error?","CARES CRRSA 2021"]
[8729,{"$f":"'CARES CRRSA ARP 28-35'!L25","v":0},null,"Error?","CARES CRRSA 2021"]
[8730,null,null,"OK","CARES CRRSA 2021","closed FY22"]
[8731,{"$f":"'CARES CRRSA ARP 28-35'!L36","v":0},null,"Error?","CARES CRRSA 2021"]
[8732,{"$f":"'CARES CRRSA ARP 28-35'!L37","v":0},null,"Error?","CARES CRRSA 2021"]
[8733,{"$f":"'CARES CRRSA ARP 28-35'!L39","v":0},null,"Error?","CARES CRRSA 2021"]
[8734,{"$f":"'CARES CRRSA ARP 28-35'!L40","v":0},null,"Error?","CARES CRRSA 2021"]
[8735,{"$f":"'CARES CRRSA ARP 28-35'!L41","v":0},null,"Error?","CARES CRRSA 2021"]
[8736,{"$f":"'CARES CRRSA ARP 28-35'!F23","v":0},null,"Error?","CARES CRRSA 2021"]
[8737,{"$f":"'CARES CRRSA ARP 28-35'!H18","v":0},null,"Error?","CARES CRRSA 2021"]
[8738,{"$f":"'CARES CRRSA ARP 28-35'!K18","v":0},null,"Error?","CARES CRRSA 2021"]
[8739,{"$f":"'CARES CRRSA ARP 28-35'!D52","v":0},null,"Error?","CARES CRRSA 2021"]
[8740,{"$f":"'CARES CRRSA ARP 28-35'!E52","v":0},null,"Error?","CARES CRRSA 2021"]
[8741,{"$f":"'CARES CRRSA ARP 28-35'!F52","v":0},null,"Error?","CARES CRRSA 2021"]
[8742,{"$f":"'CARES CRRSA ARP 28-35'!G52","v":0},null,"Error?","CARES CRRSA 2021"]
[8743,{"$f":"'CARES CRRSA ARP 28-35'!H52","v":0},null,"Error?","CARES CRRSA 2021"]
[8744,{"$f":"'CARES CRRSA ARP 28-35'!I52","v":0},null,"Error?","CARES CRRSA 2021"]
[8745,{"$f":"'CARES CRRSA ARP 28-35'!J52","v":0},null,"Error?","CARES CRRSA 2021"]
[8746,{"$f":"'CARES CRRSA ARP 28-35'!L52","v":0},null,"Error?","CARES CRRSA 2021"]
[8747,{"$f":"'CARES CRRSA ARP 28-35'!D53","v":0},null,"Error?","CARES CRRSA 2021"]
[8748,{"$f":"'CARES CRRSA ARP 28-35'!E53","v":0},null,"Error?","CARES CRRSA 2021"]
[8749,{"$f":"'CARES CRRSA ARP 28-35'!F53","v":0},null,"Error?","CARES CRRSA 2021"]
[8750,{"$f":"'CARES CRRSA ARP 28-35'!G53","v":0},null,"Error?","CARES CRRSA 2021"]
[8751,{"$f":"'CARES CRRSA ARP 28-35'!H53","v":0},null,"Error?","CARES CRRSA 2021"]
[8752,{"$f":"'CARES CRRSA ARP 28-35'!I53","v":0},null,"Error?","CARES CRRSA 2021"]
[8753,{"$f":"'CARES CRRSA ARP 28-35'!J53","v":0},null,"Error?","CARES CRRSA 2021"]
[8754,{"$f":"'CARES CRRSA ARP 28-35'!L53","v":0},null,"Error?","CARES CRRSA 2021"]
[8755,{"$f":"'CARES CRRSA ARP 28-35'!D56","v":0},null,"Error?","CARES CRRSA 2021"]
[8756,{"$f":"'CARES CRRSA ARP 28-35'!E56","v":0},null,"Error?","CARES CRRSA 2021"]
[8757,{"$f":"'CARES CRRSA ARP 28-35'!F56","v":0},null,"Error?","CARES CRRSA 2021"]
[8758,{"$f":"'CARES CRRSA ARP 28-35'!G56","v":0},null,"Error?","CARES CRRSA 2021"]
[8759,{"$f":"'CARES CRRSA ARP 28-35'!H56","v":0},null,"Error?","CARES CRRSA 2021"]
[8760,{"$f":"'CARES CRRSA ARP 28-35'!I56","v":0},null,"Error?","CARES CRRSA 2021"]
[8761,{"$f":"'CARES CRRSA ARP 28-35'!J56","v":0},null,"Error?","CARES CRRSA 2021"]
[8762,{"$f":"'CARES CRRSA ARP 28-35'!L56","v":0},null,"Error?","CARES CRRSA 2021"]
[8763,{"$f":"'CARES CRRSA ARP 28-35'!D57","v":0},null,"Error?","CARES CRRSA 2021"]
[8764,{"$f":"'CARES CRRSA ARP 28-35'!E57","v":0},null,"Error?","CARES CRRSA 2021"]
[8765,{"$f":"'CARES CRRSA ARP 28-35'!F57","v":0},null,"Error?","CARES CRRSA 2021"]
[8766,{"$f":"'CARES CRRSA ARP 28-35'!G57","v":0},null,"Error?","CARES CRRSA 2021"]
[8767,{"$f":"'CARES CRRSA ARP 28-35'!H57","v":0},null,"Error?","CARES CRRSA 2021"]
[8768,{"$f":"'CARES CRRSA ARP 28-35'!I57","v":0},null,"Error?","CARES CRRSA 2021"]
[8769,{"$f":"'CARES CRRSA ARP 28-35'!J57","v":0},null,"Error?","CARES CRRSA 2021"]
[8770,{"$f":"'CARES CRRSA ARP 28-35'!L57","v":0},null,{"$f":"IF(ISBLANK(B8829),\"OK\",IF(A8829-B8829=0,\"OK\",\"Error?\"))","v":"Error?"},"CARES CRRSA 2021"]
[8771,{"$f":"'CARES CRRSA ARP 28-35'!D58","v":0},null,"Error?","CARES CRRSA 2021"]
[8772,{"$f":"'CARES CRRSA ARP 28-35'!E58","v":0},null,"Error?","CARES CRRSA 2021"]
[8773,{"$f":"'CARES CRRSA ARP 28-35'!F58","v":0},null,"Error?","CARES CRRSA 2021"]
[8774,{"$f":"'CARES CRRSA ARP 28-35'!G58","v":0},null,"Error?","CARES CRRSA 2021"]
[8775,{"$f":"'CARES CRRSA ARP 28-35'!H58","v":0},null,"Error?","CARES CRRSA 2021"]
[8776,{"$f":"'CARES CRRSA ARP 28-35'!I58","v":0},null,"Error?","CARES CRRSA 2021"]
[8777,{"$f":"'CARES CRRSA ARP 28-35'!J58","v":0},null,"Error?","CARES CRRSA 2021"]
[8778,{"$f":"'CARES CRRSA ARP 28-35'!L58","v":0},null,"Error?","CARES CRRSA 2021"]
[8779,{"$f":"'CARES CRRSA ARP 28-35'!F61","v":0},null,"Error?","CARES CRRSA 2021"]
[8780,{"$f":"'CARES CRRSA ARP 28-35'!G61","v":0},null,"Error?","CARES CRRSA 2021"]
[8781,{"$f":"'CARES CRRSA ARP 28-35'!H61","v":0},null,"Error?","CARES CRRSA 2021"]
[8782,{"$f":"'CARES CRRSA ARP 28-35'!J61","v":0},null,"Error?","CARES CRRSA 2021"]
[8783,{"$f":"'CARES CRRSA ARP 28-35'!L61","v":0},null,"Error?","CARES CRRSA 2021"]
[8784,{"$f":"'CARES CRRSA ARP 28-35'!F62","v":0},null,"Error?","CARES CRRSA 2021"]
[8785,{"$f":"'CARES CRRSA ARP 28-35'!G62","v":0},null,"Error?","CARES CRRSA 2021"]
[8786,{"$f":"'CARES CRRSA ARP 28-35'!H62","v":0},null,"Error?","CARES CRRSA 2021"]
[8787,{"$f":"'CARES CRRSA ARP 28-35'!J62","v":0},null,"Error?","CARES CRRSA 2021"]
[8788,{"$f":"'CARES CRRSA ARP 28-35'!L62","v":0},null,"Error?","CARES CRRSA 2021"]
[8789,{"$f":"'CARES CRRSA ARP 28-35'!F63","v":0},null,"Error?","CARES CRRSA 2021"]
[8790,{"$f":"'CARES CRRSA ARP 28-35'!G63","v":0},null,"Error?","CARES CRRSA 2021"]
[8791,{"$f":"'CARES CRRSA ARP 28-35'!H63","v":0},null,"Error?","CARES CRRSA 2021"]
[8792,{"$f":"'CARES CRRSA ARP 28-35'!J63","v":0},null,"Error?","CARES CRRSA 2021"]
[8793,{"$f":"'CARES CRRSA ARP 28-35'!L63","v":0},null,"Error?","CARES CRRSA 2021"]
[8794,null,null,"OK","CARES CRRSA 2021","closed FY22"]
[8795,null,null,"OK","CARES CRRSA 2021","closed FY22"]
[8796,null,null,"OK","CARES CRRSA 2021","closed FY22"]
[8797,null,null,"OK","CARES CRRSA 2021","closed FY22"]
[8798,null,null,"OK","CARES CRRSA 2021","closed FY22"]
[8799,null,null,"OK","CARES CRRSA 2021","closed FY22"]
[8800,null,null,"OK","CARES CRRSA 2021","closed FY22"]
[8801,null,null,"OK","CARES CRRSA 2021","closed FY22"]
[8802,null,null,"OK","CARES CRRSA 2021","closed FY22"]
[8803,null,null,"OK","CARES CRRSA 2021","closed FY22"]
[8804,null,null,"OK","CARES CRRSA 2021","closed FY22"]
[8805,null,null,"OK","CARES CRRSA 2021","closed FY22"]
[8806,null,null,"OK","CARES CRRSA 2021","closed FY22"]
[8807,null,null,"OK","CARES CRRSA 2021","closed FY22"]
[8808,null,null,"OK","CARES CRRSA 2021","closed FY22"]
[8809,null,null,"OK","CARES CRRSA 2021","closed FY22"]
[8810,null,null,"OK","CARES CRRSA 2021","closed FY22"]
[8811,null,null,"OK","CARES CRRSA 2021","closed FY22"]
[8812,null,null,"OK","CARES CRRSA 2021","closed FY22"]
[8813,null,null,"OK","CARES CRRSA 2021","closed FY22"]
[8814,null,null,"OK","CARES CRRSA 2021","closed FY22"]
[8815,null,null,"OK","CARES CRRSA 2021","closed FY22"]
[8816,null,null,"OK","CARES CRRSA 2021","closed FY22"]
[8817,null,null,"OK","CARES CRRSA 2021","closed FY22"]
[8818,null,null,"OK","CARES CRRSA 2021","closed FY22"]
[8819,null,null,"OK","CARES CRRSA 2021","closed FY22"]
[8820,null,null,"OK","CARES CRRSA 2021","closed FY22"]
[8821,null,null,"OK","CARES CRRSA 2021","closed FY22"]
[8822,null,null,"OK","CARES CRRSA 2021","closed FY22"]
[8823,null,null,"OK","CARES CRRSA 2021","closed FY22"]
[8824,null,null,"OK","CARES CRRSA 2021","closed FY22"]
[8825,null,null,"OK","CARES CRRSA 2021","closed FY22"]
[8826,null,null,"OK","CARES CRRSA 2021","closed FY22"]
[8827,null,null,"OK","CARES CRRSA 2021","closed FY22"]
[8828,null,null,"OK","CARES CRRSA 2021","closed FY22"]
[8829,null,null,"OK","CARES CRRSA 2021","closed FY22"]
[8830,null,null,"OK","CARES CRRSA 2021","closed FY22"]
[8831,null,null,"OK","CARES CRRSA 2021","closed FY22"]
[8832,null,null,"OK","CARES CRRSA 2021","closed FY22"]
[8833,null,null,"OK","CARES CRRSA 2021","closed FY22"]
[8834,null,null,{"$f":"IF(ISBLANK(B8893),\"OK\",IF(A8893-B8893=0,\"OK\",\"Error?\"))","v":"OK"},"CARES CRRSA 2021","closed FY22"]
[8835,null,null,"OK","CARES CRRSA 2021","closed FY22"]
[8836,null,null,"OK","CARES CRRSA 2021","closed FY22"]
[8837,null,null,"OK","CARES CRRSA 2021","closed FY22"]
[8838,null,null,"OK","CARES CRRSA 2021","closed FY22"]
[8839,null,null,"OK","CARES CRRSA 2021","closed FY22"]
[8840,null,null,"OK","CARES CRRSA 2021","closed FY22"]
[8841,null,null,"OK","CARES CRRSA 2021","closed FY22"]
[8842,null,null,"OK","CARES CRRSA 2021","closed FY22"]
[8843,null,null,"OK","CARES CRRSA 2021","closed FY22"]
[8844,null,null,"OK","CARES CRRSA 2021","closed FY22"]
[8845,null,null,"OK","CARES CRRSA 2021","closed FY22"]
[8846,null,null,"OK","CARES CRRSA 2021","closed FY22"]
[8847,null,null,"OK","CARES CRRSA 2021","closed FY22"]
[8848,null,null,"OK","CARES CRRSA 2021","closed FY22"]
[8849,{"$f":"'CARES CRRSA ARP 28-35'!D70","v":0},null,"Error?","CARES CRRSA 2021"]
[8850,{"$f":"'CARES CRRSA ARP 28-35'!E70","v":0},null,"Error?","CARES CRRSA 2021"]
[8851,{"$f":"'CARES CRRSA ARP 28-35'!F70","v":0},null,"Error?","CARES CRRSA 2021"]
[8852,{"$f":"'CARES CRRSA ARP 28-35'!G70","v":0},null,"Error?","CARES CRRSA 2021"]
[8853,{"$f":"'CARES CRRSA ARP 28-35'!H70","v":0},null,"Error?","CARES CRRSA 2021"]
[8854,{"$f":"'CARES CRRSA ARP 28-35'!I70","v":0},null,"Error?","CARES CRRSA 2021"]
[8855,{"$f":"'CARES CRRSA ARP 28-35'!J70","v":0},null,"Error?","CARES CRRSA 2021"]
[8856,{"$f":"'CARES CRRSA ARP 28-35'!L70","v":0},null,"Error?","CARES CRRSA 2021"]
[8857,{"$f":"'CARES CRRSA ARP 28-35'!D71","v":0},null,"Error?","CARES CRRSA 2021"]
[8858,{"$f":"'CARES CRRSA ARP 28-35'!E71","v":0},null,"Error?","CARES CRRSA 2021"]
[8859,{"$f":"'CARES CRRSA ARP 28-35'!F71","v":0},null,"Error?","CARES CRRSA 2021"]
[8860,{"$f":"'CARES CRRSA ARP 28-35'!G71","v":0},null,"Error?","CARES CRRSA 2021"]
[8861,{"$f":"'CARES CRRSA ARP 28-35'!H71","v":0},null,"Error?","CARES CRRSA 2021"]
[8862,{"$f":"'CARES CRRSA ARP 28-35'!I71","v":0},null,"Error?","CARES CRRSA 2021"]
[8863,{"$f":"'CARES CRRSA ARP 28-35'!J71","v":0},null,"Error?","CARES CRRSA 2021"]
[8864,{"$f":"'CARES CRRSA ARP 28-35'!L71","v":0},null,"Error?","CARES CRRSA 2021"]
[8865,{"$f":"'CARES CRRSA ARP 28-35'!D74","v":0},null,"Error?","CARES CRRSA 2021"]
[8866,{"$f":"'CARES CRRSA ARP 28-35'!E74","v":0},null,"Error?","CARES CRRSA 2021"]
[8867,{"$f":"'CARES CRRSA ARP 28-35'!F74","v":0},null,"Error?","CARES CRRSA 2021"]
[8868,{"$f":"'CARES CRRSA ARP 28-35'!G74","v":0},null,"Error?","CARES CRRSA 2021"]
[8869,{"$f":"'CARES CRRSA ARP 28-35'!H74","v":0},null,"Error?","CARES CRRSA 2021"]
[8870,{"$f":"'CARES CRRSA ARP 28-35'!I74","v":0},null,"Error?","CARES CRRSA 2021"]
[8871,{"$f":"'CARES CRRSA ARP 28-35'!J74","v":0},null,"Error?","CARES CRRSA 2021"]
[8872,{"$f":"'CARES CRRSA ARP 28-35'!L74","v":0},null,"Error?","CARES CRRSA 2021"]
[8873,{"$f":"'CARES CRRSA ARP 28-35'!D75","v":0},null,"Error?","CARES CRRSA 2021"]
[8874,{"$f":"'CARES CRRSA ARP 28-35'!E75","v":0},null,"Error?","CARES CRRSA 2021"]
[8875,{"$f":"'CARES CRRSA ARP 28-35'!F75","v":0},null,"Error?","CARES CRRSA 2021"]
[8876,{"$f":"'CARES CRRSA ARP 28-35'!G75","v":0},null,"Error?","CARES CRRSA 2021"]
[8877,{"$f":"'CARES CRRSA ARP 28-35'!H75","v":0},null,"Error?","CARES CRRSA 2021"]
[8878,{"$f":"'CARES CRRSA ARP 28-35'!I75","v":0},null,"Error?","CARES CRRSA 2021"]
[8879,{"$f":"'CARES CRRSA ARP 28-35'!J75","v":0},null,"Error?","CARES CRRSA 2021"]
[8880,{"$f":"'CARES CRRSA ARP 28-35'!L75","v":0},null,"Error?","CARES CRRSA 2021"]
[8881,{"$f":"'CARES CRRSA ARP 28-35'!D76","v":0},null,"Error?","CARES CRRSA 2021"]
[8882,{"$f":"'CARES CRRSA ARP 28-35'!E76","v":0},null,"Error?","CARES CRRSA 2021"]
[8883,{"$f":"'CARES CRRSA ARP 28-35'!F76","v":0},null,"Error?","CARES CRRSA 2021"]
[8884,{"$f":"'CARES CRRSA ARP 28-35'!G76","v":0},null,"Error?","CARES CRRSA 2021"]
[8885,{"$f":"'CARES CRRSA ARP 28-35'!H76","v":0},null,"Error?","CARES CRRSA 2021"]
[8886,{"$f":"'CARES CRRSA ARP 28-35'!I76","v":0},null,"Error?","CARES CRRSA 2021"]
[8887,{"$f":"'CARES CRRSA ARP 28-35'!J76","v":0},null,"Error?","CARES CRRSA 2021"]
[8888,{"$f":"'CARES CRRSA ARP 28-35'!L76","v":0},null,"Error?","CARES CRRSA 2021"]
[8889,{"$f":"'CARES CRRSA ARP 28-35'!F79","v":0},null,"Error?","CARES CRRSA 2021"]
[8890,{"$f":"'CARES CRRSA ARP 28-35'!G79","v":0},null,"Error?","CARES CRRSA 2021"]
[8891,{"$f":"'CARES CRRSA ARP 28-35'!H79","v":0},null,"Error?","CARES CRRSA 2021"]
[8892,{"$f":"'CARES CRRSA ARP 28-35'!J79","v":0},null,"Error?","CARES CRRSA 2021"]
[8893,{"$f":"'CARES CRRSA ARP 28-35'!L79","v":0},null,"Error?","CARES CRRSA 2021"]
[8894,{"$f":"'CARES CRRSA ARP 28-35'!F80","v":0},null,"Error?","CARES CRRSA 2021"]
[8895,{"$f":"'CARES CRRSA ARP 28-35'!G80","v":0},null,"Error?","CARES CRRSA 2021"]
[8896,{"$f":"'CARES CRRSA ARP 28-35'!H80","v":0},null,"Error?","CARES CRRSA 2021"]
[8897,{"$f":"'CARES CRRSA ARP 28-35'!J80","v":0},null,"Error?","CARES CRRSA 2021"]
[8898,{"$f":"'CARES CRRSA ARP 28-35'!L80","v":0},null,{"$f":"IF(ISBLANK(B8957),\"OK\",IF(A8957-B8957=0,\"OK\",\"Error?\"))","v":"Error?"},"CARES CRRSA 2021"]
[8899,{"$f":"'CARES CRRSA ARP 28-35'!F81","v":0},null,"Error?","CARES CRRSA 2021"]
[8900,{"$f":"'CARES CRRSA ARP 28-35'!G81","v":0},null,"Error?","CARES CRRSA 2021"]
[8901,{"$f":"'CARES CRRSA ARP 28-35'!H81","v":0},null,"Error?","CARES CRRSA 2021"]
[8902,{"$f":"'CARES CRRSA ARP 28-35'!J81","v":0},null,"Error?","CARES CRRSA 2021"]
[8903,{"$f":"'CARES CRRSA ARP 28-35'!L81","v":0},null,"Error?","CARES CRRSA 2021"]
[8904,{"$f":"'CARES CRRSA ARP 28-35'!D88","v":0},null,"Error?","CARES CRRSA 2021"]
[8905,{"$f":"'CARES CRRSA ARP 28-35'!E88","v":0},null,"Error?","CARES CRRSA 2021"]
[8906,{"$f":"'CARES CRRSA ARP 28-35'!F88","v":0},null,"Error?","CARES CRRSA 2021"]
[8907,{"$f":"'CARES CRRSA ARP 28-35'!G88","v":0},null,"Error?","CARES CRRSA 2021"]
[8908,{"$f":"'CARES CRRSA ARP 28-35'!H88","v":0},null,"Error?","CARES CRRSA 2021"]
[8909,{"$f":"'CARES CRRSA ARP 28-35'!I88","v":0},null,"Error?","CARES CRRSA 2021"]
[8910,{"$f":"'CARES CRRSA ARP 28-35'!J88","v":0},null,"Error?","CARES CRRSA 2021"]
[8911,{"$f":"'CARES CRRSA ARP 28-35'!L88","v":0},null,"Error?","CARES CRRSA 2021"]
[8912,{"$f":"'CARES CRRSA ARP 28-35'!D89","v":0},null,"Error?","CARES CRRSA 2021"]
[8913,{"$f":"'CARES CRRSA ARP 28-35'!E89","v":0},null,"Error?","CARES CRRSA 2021"]
[8914,{"$f":"'CARES CRRSA ARP 28-35'!F89","v":0},null,"Error?","CARES CRRSA 2021"]
[8915,{"$f":"'CARES CRRSA ARP 28-35'!G89","v":0},null,"Error?","CARES CRRSA 2021"]
[8916,{"$f":"'CARES CRRSA ARP 28-35'!H89","v":0},null,"Error?","CARES CRRSA 2021"]
[8917,{"$f":"'CARES CRRSA ARP 28-35'!I89","v":0},null,"Error?","CARES CRRSA 2021"]
[8918,{"$f":"'CARES CRRSA ARP 28-35'!J89","v":0},null,"Error?","CARES CRRSA 2021"]
[8919,{"$f":"'CARES CRRSA ARP 28-35'!L89","v":0},null,"Error?","CARES CRRSA 2021"]
[8920,{"$f":"'CARES CRRSA ARP 28-35'!D92","v":0},null,"Error?","CARES CRRSA 2021"]
[8921,{"$f":"'CARES CRRSA ARP 28-35'!E92","v":0},null,"Error?","CARES CRRSA 2021"]
[8922,{"$f":"'CARES CRRSA ARP 28-35'!F92","v":0},null,"Error?","CARES CRRSA 2021"]
[8923,{"$f":"'CARES CRRSA ARP 28-35'!G92","v":0},null,"Error?","CARES CRRSA 2021"]
[8924,{"$f":"'CARES CRRSA ARP 28-35'!H92","v":0},null,"Error?","CARES CRRSA 2021"]
[8925,{"$f":"'CARES CRRSA ARP 28-35'!I92","v":0},null,"Error?","CARES CRRSA 2021"]
[8926,{"$f":"'CARES CRRSA ARP 28-35'!J92","v":0},null,"Error?","CARES CRRSA 2021"]
[8927,{"$f":"'CARES CRRSA ARP 28-35'!L92","v":0},null,"Error?","CARES CRRSA 2021"]
[8928,{"$f":"'CARES CRRSA ARP 28-35'!D93","v":0},null,"Error?","CARES CRRSA 2021"]
[8929,{"$f":"'CARES CRRSA ARP 28-35'!L93","v":0},null,"Error?","CARES CRRSA 2021"]
[8930,{"$f":"'CARES CRRSA ARP 28-35'!D94","v":0},null,"Error?","CARES CRRSA 2021"]
[8931,{"$f":"'CARES CRRSA ARP 28-35'!E94","v":0},null,"Error?","CARES CRRSA 2021"]
[8932,{"$f":"'CARES CRRSA ARP 28-35'!F94","v":0},null,"Error?","CARES CRRSA 2021"]
[8933,{"$f":"'CARES CRRSA ARP 28-35'!G94","v":0},null,"Error?","CARES CRRSA 2021"]
[8934,{"$f":"'CARES CRRSA ARP 28-35'!H94","v":0},null,"Error?","CARES CRRSA 2021"]
[8935,{"$f":"'CARES CRRSA ARP 28-35'!I94","v":0},null,"Error?","CARES CRRSA 2021"]
[8936,{"$f":"'CARES CRRSA ARP 28-35'!J94","v":0},null,"Error?","CARES CRRSA 2021"]
[8937,{"$f":"'CARES CRRSA ARP 28-35'!L94","v":0},null,"Error?","CARES CRRSA 2021"]
[8938,{"$f":"'CARES CRRSA ARP 28-35'!F97","v":0},null,"Error?","CARES CRRSA 2021"]
[8939,{"$f":"'CARES CRRSA ARP 28-35'!G97","v":0},null,"Error?","CARES CRRSA 2021"]
[8940,{"$f":"'CARES CRRSA ARP 28-35'!H97","v":0},null,"Error?","CARES CRRSA 2021"]
[8941,{"$f":"'CARES CRRSA ARP 28-35'!J97","v":0},null,"Error?","CARES CRRSA 2021"]
[8942,{"$f":"'CARES CRRSA ARP 28-35'!L97","v":0},null,"Error?","CARES CRRSA 2021"]
[8943,{"$f":"'CARES CRRSA ARP 28-35'!F98","v":0},null,"Error?","CARES CRRSA 2021"]
[8944,{"$f":"'CARES CRRSA ARP 28-35'!G98","v":0},null,"Error?","CARES CRRSA 2021"]
[8945,{"$f":"'CARES CRRSA ARP 28-35'!H98","v":0},null,"Error?","CARES CRRSA 2021"]
[8946,{"$f":"'CARES CRRSA ARP 28-35'!J98","v":0},null,"Error?","CARES CRRSA 2021"]
[8947,{"$f":"'CARES CRRSA ARP 28-35'!L98","v":0},null,"Error?","CARES CRRSA 2021"]
[8948,{"$f":"'CARES CRRSA ARP 28-35'!F99","v":0},null,"Error?","CARES CRRSA 2021"]
[8949,{"$f":"'CARES CRRSA ARP 28-35'!G99","v":0},null,"Error?","CARES CRRSA 2021"]
[8950,{"$f":"'CARES CRRSA ARP 28-35'!H99","v":0},null,"Error?","CARES CRRSA 2021"]
[8951,{"$f":"'CARES CRRSA ARP 28-35'!J99","v":0},null,"Error?","CARES CRRSA 2021"]
[8952,{"$f":"'CARES CRRSA ARP 28-35'!L99","v":0},null,"Error?","CARES CRRSA 2021"]
[8953,null,null,"OK","CARES CRRSA 2021","closed FY22"]
[8954,null,null,"OK","CARES CRRSA 2021","closed FY22"]
[8955,null,null,"OK","CARES CRRSA 2021","closed FY22"]
[8956,null,null,"OK","CARES CRRSA 2021","closed FY22"]
[8957,null,null,"OK","CARES CRRSA 2021","closed FY22"]
[8958,null,null,"OK","CARES CRRSA 2021","closed FY22"]
[8959,null,null,"OK","CARES CRRSA 2021","closed FY22"]
[8960,null,null,"OK","CARES CRRSA 2021","closed FY22"]
[8961,null,null,"OK","CARES CRRSA 2021","closed FY22"]
[8962,null,null,{"$f":"IF(ISBLANK(B9021),\"OK\",IF(A9021-B9021=0,\"OK\",\"Error?\"))","v":"OK"},"CARES CRRSA 2021","closed FY22"]
[8963,null,null,"OK","CARES CRRSA 2021","closed FY22"]
[8964,null,null,"OK","CARES CRRSA 2021","closed FY22"]
[8965,null,null,"OK","CARES CRRSA 2021","closed FY22"]
[8966,null,null,"OK","CARES CRRSA 2021","closed FY22"]
[8967,null,null,"OK","CARES CRRSA 2021","closed FY22"]
[8968,null,null,"OK","CARES CRRSA 2021","closed FY22"]
[8969,null,null,"OK","CARES CRRSA 2021","closed FY22"]
[8970,null,null,"OK","CARES CRRSA 2021","closed FY22"]
[8971,null,null,"OK","CARES CRRSA 2021","closed FY22"]
[8972,null,null,"OK","CARES CRRSA 2021","closed FY22"]
[8973,null,null,"OK","CARES CRRSA 2021","closed FY22"]
[8974,null,null,"OK","CARES CRRSA 2021","closed FY22"]
[8975,null,null,"OK","CARES CRRSA 2021","closed FY22"]
[8976,null,null,"OK","CARES CRRSA 2021","closed FY22"]
[8977,null,null,"OK","CARES CRRSA 2021","closed FY22"]
[8978,null,null,"OK","CARES CRRSA 2021","closed FY22"]
[8979,null,null,"OK","CARES CRRSA 2021","closed FY22"]
[8980,null,null,"OK","CARES CRRSA 2021","closed FY22"]
[8981,null,null,"OK","CARES CRRSA 2021","closed FY22"]
[8982,null,null,"OK","CARES CRRSA 2021","closed FY22"]
[8983,null,null,"OK","CARES CRRSA 2021","closed FY22"]
[8984,null,null,"OK","CARES CRRSA 2021","closed FY22"]
[8985,null,null,"OK","CARES CRRSA 2021","closed FY22"]
[8986,null,null,"OK","CARES CRRSA 2021","closed FY22"]
[8987,null,null,"OK","CARES CRRSA 2021","closed FY22"]
[8988,null,null,"OK","CARES CRRSA 2021","closed FY22"]
[8989,null,null,"OK","CARES CRRSA 2021","closed FY22"]
[8990,null,null,"OK","CARES CRRSA 2021","closed FY22"]
[8991,null,null,"OK","CARES CRRSA 2021","closed FY22"]
[8992,null,null,"OK","CARES CRRSA 2021","closed FY22"]
[8993,null,null,"OK","CARES CRRSA 2021","closed FY22"]
[8994,null,null,"OK","CARES CRRSA 2021","closed FY22"]
[8995,null,null,"OK","CARES CRRSA 2021","closed FY22"]
[8996,null,null,"OK","CARES CRRSA 2021","closed FY22"]
[8997,null,null,"OK","CARES CRRSA 2021","closed FY22"]
[8998,null,null,"OK","CARES CRRSA 2021","closed FY22"]
[8999,null,null,"OK","CARES CRRSA 2021","closed FY22"]
[9000,null,null,"OK","CARES CRRSA 2021","closed FY22"]
[9001,null,null,"OK","CARES CRRSA 2021","closed FY22"]
[9002,null,null,"OK","CARES CRRSA 2021","closed FY22"]
[9003,null,null,"OK","CARES CRRSA 2021","closed FY22"]
[9004,null,null,"OK","CARES CRRSA 2021","closed FY22"]
[9005,null,null,"OK","CARES CRRSA 2021","closed FY22"]
[9006,null,null,"OK","CARES CRRSA 2021","closed FY22"]
[9007,null,null,"OK","CARES CRRSA 2021","closed FY22"]
[9008,{"$f":"'CARES CRRSA ARP 28-35'!D286","v":0},null,"Error?","CARES CRRSA 2021"]
[9009,{"$f":"'CARES CRRSA ARP 28-35'!E286","v":0},null,"Error?","CARES CRRSA 2021"]
[9010,{"$f":"'CARES CRRSA ARP 28-35'!F286","v":0},null,"Error?","CARES CRRSA 2021"]
[9011,null,null,"OK","CARES CRRSA 2021"]
[9012,{"$f":"'CARES CRRSA ARP 28-35'!G286","v":0},null,"Error?","CARES CRRSA 2021"]
[9013,{"$f":"'CARES CRRSA ARP 28-35'!H286","v":0},null,"Error?","CARES CRRSA 2021"]
[9014,{"$f":"'CARES CRRSA ARP 28-35'!I286","v":0},null,"Error?","CARES CRRSA 2021"]
[9015,{"$f":"'CARES CRRSA ARP 28-35'!J286","v":0},null,"Error?","CARES CRRSA 2021"]
[9016,{"$f":"'CARES CRRSA ARP 28-35'!L286","v":0},null,"Error?","CARES CRRSA 2021"]
[9017,{"$f":"'CARES CRRSA ARP 28-35'!D287","v":0},null,"Error?","CARES CRRSA 2021"]
[9018,{"$f":"'CARES CRRSA ARP 28-35'!E287","v":0},null,"Error?","CARES CRRSA 2021"]
[9019,{"$f":"'CARES CRRSA ARP 28-35'!F287","v":0},null,"Error?","CARES CRRSA 2021"]
[9020,{"$f":"'CARES CRRSA ARP 28-35'!G287","v":0},null,"Error?","CARES CRRSA 2021"]
[9021,{"$f":"'CARES CRRSA ARP 28-35'!H287","v":0},null,"Error?","CARES CRRSA 2021"]
[9022,{"$f":"'CARES CRRSA ARP 28-35'!I287","v":0},null,"Error?","CARES CRRSA 2021"]
[9023,{"$f":"'CARES CRRSA ARP 28-35'!J287","v":0},null,"Error?","CARES CRRSA 2021"]
[9024,{"$f":"'CARES CRRSA ARP 28-35'!L287","v":0},null,"Error?","CARES CRRSA 2021"]
[9025,{"$f":"'CARES CRRSA ARP 28-35'!L291","v":0},null,"Error?","CARES CRRSA 2021"]
[9026,{"$f":"'CARES CRRSA ARP 28-35'!F298","v":0},null,{"$f":"IF(ISBLANK(B9085),\"OK\",IF(A9085-B9085=0,\"OK\",\"Error?\"))","v":"Error?"},"CARES CRRSA 2021"]
[9027,{"$f":"'CARES CRRSA ARP 28-35'!G298","v":0},null,"Error?","CARES CRRSA 2021"]
[9028,{"$f":"'CARES CRRSA ARP 28-35'!H298","v":0},null,"Error?","CARES CRRSA 2021"]
[9029,{"$f":"'CARES CRRSA ARP 28-35'!J298","v":0},null,"Error?","CARES CRRSA 2021"]
[9030,{"$f":"'CARES CRRSA ARP 28-35'!L298","v":0},null,"Error?","CARES CRRSA 2021"]
[9031,{"$f":"'CARES CRRSA ARP 28-35'!E93","v":0},null,"Error?","CARES CRRSA 2021"]
[9032,{"$f":"'CARES CRRSA ARP 28-35'!F93","v":0},null,"Error?","CARES CRRSA 2021"]
[9033,{"$f":"'CARES CRRSA ARP 28-35'!G93","v":0},null,"Error?","CARES CRRSA 2021"]
[9034,{"$f":"'CARES CRRSA ARP 28-35'!H93","v":0},null,"Error?","CARES CRRSA 2021"]
[9035,{"$f":"'CARES CRRSA ARP 28-35'!I93","v":0},null,"Error?","CARES CRRSA 2021"]
[9036,{"$f":"'CARES CRRSA ARP 28-35'!J93","v":0},null,"Error?","CARES CRRSA 2021"]
[9037,{"$f":"'Rest Tax Levies-Tort Im 27'!G5","v":0},null,"Error?","Rest Tax 2021"]
[9038,{"$f":"'Rest Tax Levies-Tort Im 27'!G10","v":0},null,"Error?","Rest Tax 2021"]
[9039,{"$f":"'Rest Tax Levies-Tort Im 27'!G45","v":0},null,"Error?","Rest Tax 2021"]
[9040,{"$f":"'Rest Tax Levies-Tort Im 27'!G46","v":0},null,"Error?","Rest Tax 2021"]
[9041,{"$f":"'Expenditures 16-24'!E391","v":0},null,"Error?","Expenditure 16-24"]
[9042,{"$f":"'Expenditures 16-24'!E392","v":0},null,"Error?","Expenditure 16-24"]
[9043,{"$f":"'Expenditures 16-24'!E415","v":0},null,"Error?","Expenditure 16-24"]
[9044,{"$f":"'CARES CRRSA ARP 28-35'!D106","v":0},null,"Error?","CARES CRRSA ARP 2022"]
[9045,{"$f":"'CARES CRRSA ARP 28-35'!E106","v":0},null,"Error?","CARES CRRSA ARP 2022"]
[9046,{"$f":"'CARES CRRSA ARP 28-35'!F106","v":0},null,"Error?","CARES CRRSA ARP 2022"]
[9047,{"$f":"'CARES CRRSA ARP 28-35'!G106","v":0},null,"Error?","CARES CRRSA ARP 2022"]
[9048,{"$f":"'CARES CRRSA ARP 28-35'!H106","v":0},null,"Error?","CARES CRRSA ARP 2022"]
[9049,{"$f":"'CARES CRRSA ARP 28-35'!I106","v":0},null,"Error?","CARES CRRSA ARP 2022"]
[9050,{"$f":"'CARES CRRSA ARP 28-35'!J106","v":0},null,"Error?","CARES CRRSA ARP 2022"]
[9051,{"$f":"'CARES CRRSA ARP 28-35'!L106","v":0},null,"Error?","CARES CRRSA ARP 2022"]
[9052,{"$f":"'CARES CRRSA ARP 28-35'!D107","v":0},null,"Error?","CARES CRRSA ARP 2022"]
[9053,{"$f":"'CARES CRRSA ARP 28-35'!E107","v":0},null,"Error?","CARES CRRSA ARP 2022"]
[9054,{"$f":"'CARES CRRSA ARP 28-35'!F107","v":0},null,"Error?","CARES CRRSA ARP 2022"]
[9055,{"$f":"'CARES CRRSA ARP 28-35'!G107","v":0},null,"Error?","CARES CRRSA ARP 2022"]
[9056,{"$f":"'CARES CRRSA ARP 28-35'!H107","v":0},null,"Error?","CARES CRRSA ARP 2022"]
[9057,{"$f":"'CARES CRRSA ARP 28-35'!I107","v":0},null,"Error?","CARES CRRSA ARP 2022"]
[9058,{"$f":"'CARES CRRSA ARP 28-35'!J107","v":0},null,"Error?","CARES CRRSA ARP 2022"]
[9059,{"$f":"'CARES CRRSA ARP 28-35'!L107","v":0},null,"Error?","CARES CRRSA ARP 2022"]
[9060,{"$f":"'CARES CRRSA ARP 28-35'!D110","v":0},null,"Error?","CARES CRRSA ARP 2022"]
[9061,{"$f":"'CARES CRRSA ARP 28-35'!E110","v":0},null,"Error?","CARES CRRSA ARP 2022"]
[9062,{"$f":"'CARES CRRSA ARP 28-35'!F110","v":0},null,"Error?","CARES CRRSA ARP 2022"]
[9063,{"$f":"'CARES CRRSA ARP 28-35'!G110","v":0},null,"Error?","CARES CRRSA ARP 2022"]
[9064,{"$f":"'CARES CRRSA ARP 28-35'!H110","v":0},null,"Error?","CARES CRRSA ARP 2022"]
[9065,{"$f":"'CARES CRRSA ARP 28-35'!I110","v":0},null,"Error?","CARES CRRSA ARP 2022"]
[9066,{"$f":"'CARES CRRSA ARP 28-35'!J110","v":0},null,"Error?","CARES CRRSA ARP 2022"]
[9067,{"$f":"'CARES CRRSA ARP 28-35'!L110","v":0},null,"Error?","CARES CRRSA ARP 2022"]
[9068,{"$f":"'CARES CRRSA ARP 28-35'!D111","v":0},null,"Error?","CARES CRRSA ARP 2022"]
[9069,{"$f":"'CARES CRRSA ARP 28-35'!E111","v":0},null,"Error?","CARES CRRSA ARP 2022"]
[9070,{"$f":"'CARES CRRSA ARP 28-35'!F111","v":0},null,"Error?","CARES CRRSA ARP 2022"]
[9071,{"$f":"'CARES CRRSA ARP 28-35'!G111","v":0},null,"Error?","CARES CRRSA ARP 2022"]
[9072,{"$f":"'CARES CRRSA ARP 28-35'!H111","v":0},null,"Error?","CARES CRRSA ARP 2022"]
[9073,{"$f":"'CARES CRRSA ARP 28-35'!I111","v":0},null,"Error?","CARES CRRSA ARP 2022"]
[9074,{"$f":"'CARES CRRSA ARP 28-35'!J111","v":0},null,"Error?","CARES CRRSA ARP 2022"]
[9075,{"$f":"'CARES CRRSA ARP 28-35'!L111","v":0},null,"Error?","CARES CRRSA ARP 2022"]
[9076,{"$f":"'CARES CRRSA ARP 28-35'!D112","v":0},null,"Error?","CARES CRRSA ARP 2022"]
[9077,{"$f":"'CARES CRRSA ARP 28-35'!E112","v":0},null,"Error?","CARES CRRSA ARP 2022"]
[9078,{"$f":"'CARES CRRSA ARP 28-35'!F112","v":0},null,"Error?","CARES CRRSA ARP 2022"]
[9079,{"$f":"'CARES CRRSA ARP 28-35'!G112","v":0},null,"Error?","CARES CRRSA ARP 2022"]
[9080,{"$f":"'CARES CRRSA ARP 28-35'!H112","v":0},null,"Error?","CARES CRRSA ARP 2022"]
[9081,{"$f":"'CARES CRRSA ARP 28-35'!I112","v":0},null,"Error?","CARES CRRSA ARP 2022"]
[9082,{"$f":"'CARES CRRSA ARP 28-35'!J112","v":0},null,"Error?","CARES CRRSA ARP 2022"]
[9083,{"$f":"'CARES CRRSA ARP 28-35'!L112","v":0},null,"Error?","CARES CRRSA ARP 2022"]
[9084,{"$f":"'CARES CRRSA ARP 28-35'!F115","v":0},null,"Error?","CARES CRRSA ARP 2022"]
[9085,{"$f":"'CARES CRRSA ARP 28-35'!G115","v":0},null,"Error?","CARES CRRSA ARP 2022"]
[9086,{"$f":"'CARES CRRSA ARP 28-35'!H115","v":0},null,"Error?","CARES CRRSA ARP 2022"]
[9087,{"$f":"'CARES CRRSA ARP 28-35'!J115","v":0},null,"Error?","CARES CRRSA ARP 2022"]
[9088,{"$f":"'CARES CRRSA ARP 28-35'!L115","v":0},null,"Error?","CARES CRRSA ARP 2022"]
[9089,{"$f":"'CARES CRRSA ARP 28-35'!F116","v":0},null,"Error?","CARES CRRSA ARP 2022"]
[9090,{"$f":"'CARES CRRSA ARP 28-35'!G116","v":0},null,{"$f":"IF(ISBLANK(B9149),\"OK\",IF(A9149-B9149=0,\"OK\",\"Error?\"))","v":"Error?"},"CARES CRRSA ARP 2022"]
[9091,{"$f":"'CARES CRRSA ARP 28-35'!H116","v":0},null,"Error?","CARES CRRSA ARP 2022"]
[9092,{"$f":"'CARES CRRSA ARP 28-35'!J116","v":0},null,"Error?","CARES CRRSA ARP 2022"]
[9093,{"$f":"'CARES CRRSA ARP 28-35'!L116","v":0},null,"Error?","CARES CRRSA ARP 2022"]
[9094,{"$f":"'CARES CRRSA ARP 28-35'!F117","v":0},null,"Error?","CARES CRRSA ARP 2022"]
[9095,{"$f":"'CARES CRRSA ARP 28-35'!G117","v":0},null,"Error?","CARES CRRSA ARP 2022"]
[9096,{"$f":"'CARES CRRSA ARP 28-35'!H117","v":0},null,"Error?","CARES CRRSA ARP 2022"]
[9097,{"$f":"'CARES CRRSA ARP 28-35'!J117","v":0},null,"Error?","CARES CRRSA ARP 2022"]
[9098,{"$f":"'CARES CRRSA ARP 28-35'!L117","v":0},null,"Error?","CARES CRRSA ARP 2022"]
[9099,{"$f":"'CARES CRRSA ARP 28-35'!D124","v":0},null,"Error?","CARES CRRSA ARP 2022"]
[9100,{"$f":"'CARES CRRSA ARP 28-35'!E124","v":0},null,"Error?","CARES CRRSA ARP 2022"]
[9101,{"$f":"'CARES CRRSA ARP 28-35'!F124","v":0},null,"Error?","CARES CRRSA ARP 2022"]
[9102,{"$f":"'CARES CRRSA ARP 28-35'!G124","v":0},null,"Error?","CARES CRRSA ARP 2022"]
[9103,{"$f":"'CARES CRRSA ARP 28-35'!H124","v":0},null,"Error?","CARES CRRSA ARP 2022"]
[9104,{"$f":"'CARES CRRSA ARP 28-35'!I124","v":0},null,"Error?","CARES CRRSA ARP 2022"]
[9105,{"$f":"'CARES CRRSA ARP 28-35'!J124","v":0},null,"Error?","CARES CRRSA ARP 2022"]
[9106,{"$f":"'CARES CRRSA ARP 28-35'!L124","v":0},null,"Error?","CARES CRRSA ARP 2022"]
[9107,{"$f":"'CARES CRRSA ARP 28-35'!D125","v":0},null,"Error?","CARES CRRSA ARP 2022"]
[9108,{"$f":"'CARES CRRSA ARP 28-35'!E125","v":0},null,"Error?","CARES CRRSA ARP 2022"]
[9109,{"$f":"'CARES CRRSA ARP 28-35'!F125","v":0},null,"Error?","CARES CRRSA ARP 2022"]
[9110,{"$f":"'CARES CRRSA ARP 28-35'!G125","v":0},null,"Error?","CARES CRRSA ARP 2022"]
[9111,{"$f":"'CARES CRRSA ARP 28-35'!H125","v":0},null,"Error?","CARES CRRSA ARP 2022"]
[9112,{"$f":"'CARES CRRSA ARP 28-35'!I125","v":0},null,"Error?","CARES CRRSA ARP 2022"]
[9113,{"$f":"'CARES CRRSA ARP 28-35'!J125","v":0},null,"Error?","CARES CRRSA ARP 2022"]
[9114,{"$f":"'CARES CRRSA ARP 28-35'!L125","v":0},null,"Error?","CARES CRRSA ARP 2022"]
[9115,{"$f":"'CARES CRRSA ARP 28-35'!D128","v":0},null,"Error?","CARES CRRSA ARP 2022"]
[9116,{"$f":"'CARES CRRSA ARP 28-35'!E128","v":0},null,"Error?","CARES CRRSA ARP 2022"]
[9117,{"$f":"'CARES CRRSA ARP 28-35'!F128","v":0},null,"Error?","CARES CRRSA ARP 2022"]
[9118,{"$f":"'CARES CRRSA ARP 28-35'!G128","v":0},null,"Error?","CARES CRRSA ARP 2022"]
[9119,{"$f":"'CARES CRRSA ARP 28-35'!H128","v":0},null,"Error?","CARES CRRSA ARP 2022"]
[9120,{"$f":"'CARES CRRSA ARP 28-35'!I128","v":0},null,"Error?","CARES CRRSA ARP 2022"]
[9121,{"$f":"'CARES CRRSA ARP 28-35'!J128","v":0},null,"Error?","CARES CRRSA ARP 2022"]
[9122,{"$f":"'CARES CRRSA ARP 28-35'!L128","v":0},null,"Error?","CARES CRRSA ARP 2022"]
[9123,{"$f":"'CARES CRRSA ARP 28-35'!D129","v":0},null,"Error?","CARES CRRSA ARP 2022"]
[9124,{"$f":"'CARES CRRSA ARP 28-35'!E129","v":0},null,"Error?","CARES CRRSA ARP 2022"]
[9125,{"$f":"'CARES CRRSA ARP 28-35'!F129","v":0},null,"Error?","CARES CRRSA ARP 2022"]
[9126,{"$f":"'CARES CRRSA ARP 28-35'!G129","v":0},null,"Error?","CARES CRRSA ARP 2022"]
[9127,{"$f":"'CARES CRRSA ARP 28-35'!H129","v":0},null,"Error?","CARES CRRSA ARP 2022"]
[9128,{"$f":"'CARES CRRSA ARP 28-35'!I129","v":0},null,"Error?","CARES CRRSA ARP 2022"]
[9129,{"$f":"'CARES CRRSA ARP 28-35'!J129","v":0},null,"Error?","CARES CRRSA ARP 2022"]
[9130,{"$f":"'CARES CRRSA ARP 28-35'!L129","v":0},null,"Error?","CARES CRRSA ARP 2022"]
[9131,{"$f":"'CARES CRRSA ARP 28-35'!D130","v":0},null,"Error?","CARES CRRSA ARP 2022"]
[9132,{"$f":"'CARES CRRSA ARP 28-35'!E130","v":0},null,"Error?","CARES CRRSA ARP 2022"]
[9133,{"$f":"'CARES CRRSA ARP 28-35'!F130","v":0},null,"Error?","CARES CRRSA ARP 2022"]
[9134,{"$f":"'CARES CRRSA ARP 28-35'!G130","v":0},null,"Error?","CARES CRRSA ARP 2022"]
[9135,{"$f":"'CARES CRRSA ARP 28-35'!H130","v":0},null,"Error?","CARES CRRSA ARP 2022"]
[9136,{"$f":"'CARES CRRSA ARP 28-35'!I130","v":0},null,"Error?","CARES CRRSA ARP 2022"]
[9137,{"$f":"'CARES CRRSA ARP 28-35'!J130","v":0},null,"Error?","CARES CRRSA ARP 2022"]
[9138,{"$f":"'CARES CRRSA ARP 28-35'!L130","v":0},null,"Error?","CARES CRRSA ARP 2022"]
[9139,{"$f":"'CARES CRRSA ARP 28-35'!F133","v":0},null,"Error?","CARES CRRSA ARP 2022"]
[9140,{"$f":"'CARES CRRSA ARP 28-35'!G133","v":0},null,"Error?","CARES CRRSA ARP 2022"]
[9141,{"$f":"'CARES CRRSA ARP 28-35'!H133","v":0},null,"Error?","CARES CRRSA ARP 2022"]
[9142,{"$f":"'CARES CRRSA ARP 28-35'!J133","v":0},null,"Error?","CARES CRRSA ARP 2022"]
[9143,{"$f":"'CARES CRRSA ARP 28-35'!L133","v":0},null,"Error?","CARES CRRSA ARP 2022"]
[9144,{"$f":"'CARES CRRSA ARP 28-35'!F134","v":0},null,"Error?","CARES CRRSA ARP 2022"]
[9145,{"$f":"'CARES CRRSA ARP 28-35'!G134","v":0},null,"Error?","CARES CRRSA ARP 2022"]
[9146,{"$f":"'CARES CRRSA ARP 28-35'!H134","v":0},null,"Error?","CARES CRRSA ARP 2022"]
[9147,{"$f":"'CARES CRRSA ARP 28-35'!J134","v":0},null,"Error?","CARES CRRSA ARP 2022"]
[9148,{"$f":"'CARES CRRSA ARP 28-35'!L134","v":0},null,"Error?","CARES CRRSA ARP 2022"]
[9149,{"$f":"'CARES CRRSA ARP 28-35'!F135","v":0},null,"Error?","CARES CRRSA ARP 2022"]
[9150,{"$f":"'CARES CRRSA ARP 28-35'!G135","v":0},null,"Error?","CARES CRRSA ARP 2022"]
[9151,{"$f":"'CARES CRRSA ARP 28-35'!H135","v":0},null,"Error?","CARES CRRSA ARP 2022"]
[9152,{"$f":"'CARES CRRSA ARP 28-35'!J135","v":0},null,"Error?","CARES CRRSA ARP 2022"]
[9153,{"$f":"'CARES CRRSA ARP 28-35'!L135","v":0},null,"Error?","CARES CRRSA ARP 2022"]
[9154,{"$f":"'CARES CRRSA ARP 28-35'!D178","v":0},null,{"$f":"IF(ISBLANK(B9213),\"OK\",IF(A9213-B9213=0,\"OK\",\"Error?\"))","v":"Error?"},"CARES CRRSA ARP 2022"]
[9155,{"$f":"'CARES CRRSA ARP 28-35'!E178","v":0},null,"Error?","CARES CRRSA ARP 2022"]
[9156,{"$f":"'CARES CRRSA ARP 28-35'!F178","v":0},null,"Error?","CARES CRRSA ARP 2022"]
[9157,{"$f":"'CARES CRRSA ARP 28-35'!G178","v":0},null,"Error?","CARES CRRSA ARP 2022"]
[9158,{"$f":"'CARES CRRSA ARP 28-35'!H178","v":0},null,"Error?","CARES CRRSA ARP 2022"]
[9159,{"$f":"'CARES CRRSA ARP 28-35'!I178","v":0},null,"Error?","CARES CRRSA ARP 2022"]
[9160,{"$f":"'CARES CRRSA ARP 28-35'!J178","v":0},null,"Error?","CARES CRRSA ARP 2022"]
[9161,{"$f":"'CARES CRRSA ARP 28-35'!L178","v":0},null,"Error?","CARES CRRSA ARP 2022"]
[9162,{"$f":"'CARES CRRSA ARP 28-35'!D179","v":0},null,"Error?","CARES CRRSA ARP 2022"]
[9163,{"$f":"'CARES CRRSA ARP 28-35'!E179","v":0},null,"Error?","CARES CRRSA ARP 2022"]
[9164,{"$f":"'CARES CRRSA ARP 28-35'!F179","v":0},null,"Error?","CARES CRRSA ARP 2022"]
[9165,{"$f":"'CARES CRRSA ARP 28-35'!G179","v":0},null,"Error?","CARES CRRSA ARP 2022"]
[9166,{"$f":"'CARES CRRSA ARP 28-35'!H179","v":0},null,"Error?","CARES CRRSA ARP 2022"]
[9167,{"$f":"'CARES CRRSA ARP 28-35'!I179","v":0},null,"Error?","CARES CRRSA ARP 2022"]
[9168,{"$f":"'CARES CRRSA ARP 28-35'!J179","v":0},null,"Error?","CARES CRRSA ARP 2022"]
[9169,{"$f":"'CARES CRRSA ARP 28-35'!L179","v":0},null,"Error?","CARES CRRSA ARP 2022"]
[9170,{"$f":"'CARES CRRSA ARP 28-35'!D182","v":0},null,"Error?","CARES CRRSA ARP 2022"]
[9171,{"$f":"'CARES CRRSA ARP 28-35'!E182","v":0},null,"Error?","CARES CRRSA ARP 2022"]
[9172,{"$f":"'CARES CRRSA ARP 28-35'!F182","v":0},null,"Error?","CARES CRRSA ARP 2022"]
[9173,{"$f":"'CARES CRRSA ARP 28-35'!G182","v":0},null,"Error?","CARES CRRSA ARP 2022"]
[9174,{"$f":"'CARES CRRSA ARP 28-35'!H182","v":0},null,"Error?","CARES CRRSA ARP 2022"]
[9175,{"$f":"'CARES CRRSA ARP 28-35'!I182","v":0},null,"Error?","CARES CRRSA ARP 2022"]
[9176,{"$f":"'CARES CRRSA ARP 28-35'!J182","v":0},null,"Error?","CARES CRRSA ARP 2022"]
[9177,{"$f":"'CARES CRRSA ARP 28-35'!L182","v":0},null,"Error?","CARES CRRSA ARP 2022"]
[9178,{"$f":"'CARES CRRSA ARP 28-35'!D183","v":0},null,"Error?","CARES CRRSA ARP 2022"]
[9179,{"$f":"'CARES CRRSA ARP 28-35'!E183","v":0},null,"Error?","CARES CRRSA ARP 2022"]
[9180,{"$f":"'CARES CRRSA ARP 28-35'!F183","v":0},null,"Error?","CARES CRRSA ARP 2022"]
[9181,{"$f":"'CARES CRRSA ARP 28-35'!G183","v":0},null,"Error?","CARES CRRSA ARP 2022"]
[9182,{"$f":"'CARES CRRSA ARP 28-35'!H183","v":0},null,"Error?","CARES CRRSA ARP 2022"]
[9183,{"$f":"'CARES CRRSA ARP 28-35'!I183","v":0},null,"Error?","CARES CRRSA ARP 2022"]
[9184,{"$f":"'CARES CRRSA ARP 28-35'!J183","v":0},null,"Error?","CARES CRRSA ARP 2022"]
[9185,{"$f":"'CARES CRRSA ARP 28-35'!L183","v":0},null,"Error?","CARES CRRSA ARP 2022"]
[9186,{"$f":"'CARES CRRSA ARP 28-35'!D184","v":0},null,"Error?","CARES CRRSA ARP 2022"]
[9187,{"$f":"'CARES CRRSA ARP 28-35'!E184","v":0},null,"Error?","CARES CRRSA ARP 2022"]
[9188,{"$f":"'CARES CRRSA ARP 28-35'!F184","v":0},null,"Error?","CARES CRRSA ARP 2022"]
[9189,{"$f":"'CARES CRRSA ARP 28-35'!G184","v":0},null,"Error?","CARES CRRSA ARP 2022"]
[9190,{"$f":"'CARES CRRSA ARP 28-35'!H184","v":0},null,"Error?","CARES CRRSA ARP 2022"]
[9191,{"$f":"'CARES CRRSA ARP 28-35'!I184","v":0},null,"Error?","CARES CRRSA ARP 2022"]
[9192,{"$f":"'CARES CRRSA ARP 28-35'!J184","v":0},null,"Error?","CARES CRRSA ARP 2022"]
[9193,{"$f":"'CARES CRRSA ARP 28-35'!L184","v":0},null,"Error?","CARES CRRSA ARP 2022"]
[9194,{"$f":"'CARES CRRSA ARP 28-35'!F187","v":0},null,"Error?","CARES CRRSA ARP 2022"]
[9195,{"$f":"'CARES CRRSA ARP 28-35'!G187","v":0},null,"Error?","CARES CRRSA ARP 2022"]
[9196,{"$f":"'CARES CRRSA ARP 28-35'!H187","v":0},null,"Error?","CARES CRRSA ARP 2022"]
[9197,{"$f":"'CARES CRRSA ARP 28-35'!J187","v":0},null,"Error?","CARES CRRSA ARP 2022"]
[9198,{"$f":"'CARES CRRSA ARP 28-35'!L187","v":0},null,"Error?","CARES CRRSA ARP 2022"]
[9199,{"$f":"'CARES CRRSA ARP 28-35'!F188","v":0},null,"Error?","CARES CRRSA ARP 2022"]
[9200,{"$f":"'CARES CRRSA ARP 28-35'!G188","v":0},null,"Error?","CARES CRRSA ARP 2022"]
[9201,{"$f":"'CARES CRRSA ARP 28-35'!H188","v":0},null,"Error?","CARES CRRSA ARP 2022"]
[9202,{"$f":"'CARES CRRSA ARP 28-35'!J188","v":0},null,"Error?","CARES CRRSA ARP 2022"]
[9203,{"$f":"'CARES CRRSA ARP 28-35'!L188","v":0},null,"Error?","CARES CRRSA ARP 2022"]
[9204,{"$f":"'CARES CRRSA ARP 28-35'!F189","v":0},null,"Error?","CARES CRRSA ARP 2022"]
[9205,{"$f":"'CARES CRRSA ARP 28-35'!G189","v":0},null,"Error?","CARES CRRSA ARP 2022"]
[9206,{"$f":"'CARES CRRSA ARP 28-35'!H189","v":0},null,"Error?","CARES CRRSA ARP 2022"]
[9207,{"$f":"'CARES CRRSA ARP 28-35'!J189","v":0},null,"Error?","CARES CRRSA ARP 2022"]
[9208,{"$f":"'CARES CRRSA ARP 28-35'!L189","v":0},null,"Error?","CARES CRRSA ARP 2022"]
[9209,{"$f":"'CARES CRRSA ARP 28-35'!D196","v":0},null,"Error?","CARES CRRSA ARP 2022"]
[9210,{"$f":"'CARES CRRSA ARP 28-35'!E196","v":0},null,"Error?","CARES CRRSA ARP 2022"]
[9211,{"$f":"'CARES CRRSA ARP 28-35'!F196","v":0},null,"Error?","CARES CRRSA ARP 2022"]
[9212,{"$f":"'CARES CRRSA ARP 28-35'!G196","v":0},null,"Error?","CARES CRRSA ARP 2022"]
[9213,{"$f":"'CARES CRRSA ARP 28-35'!H196","v":0},null,"Error?","CARES CRRSA ARP 2022"]
[9214,{"$f":"'CARES CRRSA ARP 28-35'!I196","v":0},null,"Error?","CARES CRRSA ARP 2022"]
[9215,{"$f":"'CARES CRRSA ARP 28-35'!J196","v":0},null,"Error?","CARES CRRSA ARP 2022"]
[9216,{"$f":"'CARES CRRSA ARP 28-35'!L196","v":0},null,"Error?","CARES CRRSA ARP 2022"]
[9217,{"$f":"'CARES CRRSA ARP 28-35'!D197","v":0},null,"Error?","CARES CRRSA ARP 2022"]
[9218,{"$f":"'CARES CRRSA ARP 28-35'!E197","v":0},null,{"$f":"IF(ISBLANK(B9277),\"OK\",IF(A9277-B9277=0,\"OK\",\"Error?\"))","v":"Error?"},"CARES CRRSA ARP 2022"]
[9219,{"$f":"'CARES CRRSA ARP 28-35'!F197","v":0},null,"Error?","CARES CRRSA ARP 2022"]
[9220,{"$f":"'CARES CRRSA ARP 28-35'!G197","v":0},null,"Error?","CARES CRRSA ARP 2022"]
[9221,{"$f":"'CARES CRRSA ARP 28-35'!H197","v":0},null,"Error?","CARES CRRSA ARP 2022"]
[9222,{"$f":"'CARES CRRSA ARP 28-35'!I197","v":0},null,"Error?","CARES CRRSA ARP 2022"]
[9223,{"$f":"'CARES CRRSA ARP 28-35'!J197","v":0},null,"Error?","CARES CRRSA ARP 2022"]
[9224,{"$f":"'CARES CRRSA ARP 28-35'!L197","v":0},null,"Error?","CARES CRRSA ARP 2022"]
[9225,{"$f":"'CARES CRRSA ARP 28-35'!D200","v":0},null,"Error?","CARES CRRSA ARP 2022"]
[9226,{"$f":"'CARES CRRSA ARP 28-35'!E200","v":0},null,"Error?","CARES CRRSA ARP 2022"]
[9227,{"$f":"'CARES CRRSA ARP 28-35'!F200","v":0},null,"Error?","CARES CRRSA ARP 2022"]
[9228,{"$f":"'CARES CRRSA ARP 28-35'!G200","v":0},null,"Error?","CARES CRRSA ARP 2022"]
[9229,{"$f":"'CARES CRRSA ARP 28-35'!H200","v":0},null,"Error?","CARES CRRSA ARP 2022"]
[9230,{"$f":"'CARES CRRSA ARP 28-35'!I200","v":0},null,"Error?","CARES CRRSA ARP 2022"]
[9231,{"$f":"'CARES CRRSA ARP 28-35'!J200","v":0},null,"Error?","CARES CRRSA ARP 2022"]
[9232,{"$f":"'CARES CRRSA ARP 28-35'!L200","v":0},null,"Error?","CARES CRRSA ARP 2022"]
[9233,{"$f":"'CARES CRRSA ARP 28-35'!D201","v":0},null,"Error?","CARES CRRSA ARP 2022"]
[9234,{"$f":"'CARES CRRSA ARP 28-35'!E201","v":0},null,"Error?","CARES CRRSA ARP 2022"]
[9235,{"$f":"'CARES CRRSA ARP 28-35'!F201","v":0},null,"Error?","CARES CRRSA ARP 2022"]
[9236,{"$f":"'CARES CRRSA ARP 28-35'!G201","v":0},null,"Error?","CARES CRRSA ARP 2022"]
[9237,{"$f":"'CARES CRRSA ARP 28-35'!H201","v":0},null,"Error?","CARES CRRSA ARP 2022"]
[9238,{"$f":"'CARES CRRSA ARP 28-35'!I201","v":0},null,"Error?","CARES CRRSA ARP 2022"]
[9239,{"$f":"'CARES CRRSA ARP 28-35'!J201","v":0},null,"Error?","CARES CRRSA ARP 2022"]
[9240,{"$f":"'CARES CRRSA ARP 28-35'!L201","v":0},null,"Error?","CARES CRRSA ARP 2022"]
[9241,{"$f":"'CARES CRRSA ARP 28-35'!D202","v":0},null,"Error?","CARES CRRSA ARP 2022"]
[9242,{"$f":"'CARES CRRSA ARP 28-35'!E202","v":0},null,"Error?","CARES CRRSA ARP 2022"]
[9243,{"$f":"'CARES CRRSA ARP 28-35'!F202","v":0},null,"Error?","CARES CRRSA ARP 2022"]
[9244,{"$f":"'CARES CRRSA ARP 28-35'!G202","v":0},null,"Error?","CARES CRRSA ARP 2022"]
[9245,{"$f":"'CARES CRRSA ARP 28-35'!H202","v":0},null,"Error?","CARES CRRSA ARP 2022"]
[9246,{"$f":"'CARES CRRSA ARP 28-35'!I202","v":0},null,"Error?","CARES CRRSA ARP 2022"]
[9247,{"$f":"'CARES CRRSA ARP 28-35'!J202","v":0},null,"Error?","CARES CRRSA ARP 2022"]
[9248,{"$f":"'CARES CRRSA ARP 28-35'!L202","v":0},null,"Error?","CARES CRRSA ARP 2022"]
[9249,{"$f":"'CARES CRRSA ARP 28-35'!F205","v":0},null,"Error?","CARES CRRSA ARP 2022"]
[9250,{"$f":"'CARES CRRSA ARP 28-35'!G205","v":0},null,"Error?","CARES CRRSA ARP 2022"]
[9251,{"$f":"'CARES CRRSA ARP 28-35'!H205","v":0},null,"Error?","CARES CRRSA ARP 2022"]
[9252,{"$f":"'CARES CRRSA ARP 28-35'!J205","v":0},null,"Error?","CARES CRRSA ARP 2022"]
[9253,{"$f":"'CARES CRRSA ARP 28-35'!L205","v":0},null,"Error?","CARES CRRSA ARP 2022"]
[9254,{"$f":"'CARES CRRSA ARP 28-35'!F206","v":0},null,"Error?","CARES CRRSA ARP 2022"]
[9255,{"$f":"'CARES CRRSA ARP 28-35'!G206","v":0},null,"Error?","CARES CRRSA ARP 2022"]
[9256,{"$f":"'CARES CRRSA ARP 28-35'!H206","v":0},null,"Error?","CARES CRRSA ARP 2022"]
[9257,{"$f":"'CARES CRRSA ARP 28-35'!J206","v":0},null,"Error?","CARES CRRSA ARP 2022"]
[9258,{"$f":"'CARES CRRSA ARP 28-35'!L206","v":0},null,"Error?","CARES CRRSA ARP 2022"]
[9259,{"$f":"'CARES CRRSA ARP 28-35'!F207","v":0},null,"Error?","CARES CRRSA ARP 2022"]
[9260,{"$f":"'CARES CRRSA ARP 28-35'!G207","v":0},null,"Error?","CARES CRRSA ARP 2022"]
[9261,{"$f":"'CARES CRRSA ARP 28-35'!H207","v":0},null,"Error?","CARES CRRSA ARP 2022"]
[9262,{"$f":"'CARES CRRSA ARP 28-35'!J207","v":0},null,"Error?","CARES CRRSA ARP 2022"]
[9263,{"$f":"'CARES CRRSA ARP 28-35'!L207","v":0},null,"Error?","CARES CRRSA ARP 2022"]
[9264,{"$f":"'CARES CRRSA ARP 28-35'!D214","v":0},null,"Error?","CARES CRRSA ARP 2022"]
[9265,{"$f":"'CARES CRRSA ARP 28-35'!E214","v":0},null,"Error?","CARES CRRSA ARP 2022"]
[9266,{"$f":"'CARES CRRSA ARP 28-35'!F214","v":0},null,"Error?","CARES CRRSA ARP 2022"]
[9267,{"$f":"'CARES CRRSA ARP 28-35'!G214","v":0},null,"Error?","CARES CRRSA ARP 2022"]
[9268,{"$f":"'CARES CRRSA ARP 28-35'!H214","v":0},null,"Error?","CARES CRRSA ARP 2022"]
[9269,{"$f":"'CARES CRRSA ARP 28-35'!I214","v":0},null,"Error?","CARES CRRSA ARP 2022"]
[9270,{"$f":"'CARES CRRSA ARP 28-35'!J214","v":0},null,"Error?","CARES CRRSA ARP 2022"]
[9271,{"$f":"'CARES CRRSA ARP 28-35'!L214","v":0},null,"Error?","CARES CRRSA ARP 2022"]
[9272,{"$f":"'CARES CRRSA ARP 28-35'!D215","v":0},null,"Error?","CARES CRRSA ARP 2022"]
[9273,{"$f":"'CARES CRRSA ARP 28-35'!E215","v":0},null,"Error?","CARES CRRSA ARP 2022"]
[9274,{"$f":"'CARES CRRSA ARP 28-35'!F215","v":0},null,"Error?","CARES CRRSA ARP 2022"]
[9275,{"$f":"'CARES CRRSA ARP 28-35'!G215","v":0},null,"Error?","CARES CRRSA ARP 2022"]
[9276,{"$f":"'CARES CRRSA ARP 28-35'!H215","v":0},null,"Error?","CARES CRRSA ARP 2022"]
[9277,{"$f":"'CARES CRRSA ARP 28-35'!I215","v":0},null,"Error?","CARES CRRSA ARP 2022"]
[9278,{"$f":"'CARES CRRSA ARP 28-35'!J215","v":0},null,"Error?","CARES CRRSA ARP 2022"]
[9279,{"$f":"'CARES CRRSA ARP 28-35'!L215","v":0},null,"Error?","CARES CRRSA ARP 2022"]
[9280,{"$f":"'CARES CRRSA ARP 28-35'!D218","v":0},null,"Error?","CARES CRRSA ARP 2022"]
[9281,{"$f":"'CARES CRRSA ARP 28-35'!E218","v":0},null,"Error?","CARES CRRSA ARP 2022"]
[9282,{"$f":"'CARES CRRSA ARP 28-35'!F218","v":0},null,{"$f":"IF(ISBLANK(B9341),\"OK\",IF(A9341-B9341=0,\"OK\",\"Error?\"))","v":"Error?"},"CARES CRRSA ARP 2022"]
[9283,{"$f":"'CARES CRRSA ARP 28-35'!G218","v":0},null,"Error?","CARES CRRSA ARP 2022"]
[9284,{"$f":"'CARES CRRSA ARP 28-35'!H218","v":0},null,"Error?","CARES CRRSA ARP 2022"]
[9285,{"$f":"'CARES CRRSA ARP 28-35'!I218","v":0},null,"Error?","CARES CRRSA ARP 2022"]
[9286,{"$f":"'CARES CRRSA ARP 28-35'!J218","v":0},null,"Error?","CARES CRRSA ARP 2022"]
[9287,{"$f":"'CARES CRRSA ARP 28-35'!L218","v":0},null,"Error?","CARES CRRSA ARP 2022"]
[9288,{"$f":"'CARES CRRSA ARP 28-35'!D219","v":0},null,"Error?","CARES CRRSA ARP 2022"]
[9289,{"$f":"'CARES CRRSA ARP 28-35'!E219","v":0},null,"Error?","CARES CRRSA ARP 2022"]
[9290,{"$f":"'CARES CRRSA ARP 28-35'!F219","v":0},null,"Error?","CARES CRRSA ARP 2022"]
[9291,{"$f":"'CARES CRRSA ARP 28-35'!G219","v":0},null,"Error?","CARES CRRSA ARP 2022"]
[9292,{"$f":"'CARES CRRSA ARP 28-35'!H219","v":0},null,"Error?","CARES CRRSA ARP 2022"]
[9293,{"$f":"'CARES CRRSA ARP 28-35'!I219","v":0},null,"Error?","CARES CRRSA ARP 2022"]
[9294,{"$f":"'CARES CRRSA ARP 28-35'!J219","v":0},null,"Error?","CARES CRRSA ARP 2022"]
[9295,{"$f":"'CARES CRRSA ARP 28-35'!L219","v":0},null,"Error?","CARES CRRSA ARP 2022"]
[9296,{"$f":"'CARES CRRSA ARP 28-35'!D220","v":0},null,"Error?","CARES CRRSA ARP 2022"]
[9297,{"$f":"'CARES CRRSA ARP 28-35'!E220","v":0},null,"Error?","CARES CRRSA ARP 2022"]
[9298,{"$f":"'CARES CRRSA ARP 28-35'!F220","v":0},null,"Error?","CARES CRRSA ARP 2022"]
[9299,{"$f":"'CARES CRRSA ARP 28-35'!G220","v":0},null,"Error?","CARES CRRSA ARP 2022"]
[9300,{"$f":"'CARES CRRSA ARP 28-35'!H220","v":0},null,"Error?","CARES CRRSA ARP 2022"]
[9301,{"$f":"'CARES CRRSA ARP 28-35'!I220","v":0},null,"Error?","CARES CRRSA ARP 2022"]
[9302,{"$f":"'CARES CRRSA ARP 28-35'!J220","v":0},null,"Error?","CARES CRRSA ARP 2022"]
[9303,{"$f":"'CARES CRRSA ARP 28-35'!L220","v":0},null,"Error?","CARES CRRSA ARP 2022"]
[9304,{"$f":"'CARES CRRSA ARP 28-35'!F223","v":0},null,"Error?","CARES CRRSA ARP 2022"]
[9305,{"$f":"'CARES CRRSA ARP 28-35'!G223","v":0},null,"Error?","CARES CRRSA ARP 2022"]
[9306,{"$f":"'CARES CRRSA ARP 28-35'!H223","v":0},null,"Error?","CARES CRRSA ARP 2022"]
[9307,{"$f":"'CARES CRRSA ARP 28-35'!J223","v":0},null,"Error?","CARES CRRSA ARP 2022"]
[9308,{"$f":"'CARES CRRSA ARP 28-35'!L223","v":0},null,"Error?","CARES CRRSA ARP 2022"]
[9309,{"$f":"'CARES CRRSA ARP 28-35'!F224","v":0},null,"Error?","CARES CRRSA ARP 2022"]
[9310,{"$f":"'CARES CRRSA ARP 28-35'!G224","v":0},null,"Error?","CARES CRRSA ARP 2022"]
[9311,{"$f":"'CARES CRRSA ARP 28-35'!H224","v":0},null,"Error?","CARES CRRSA ARP 2022"]
[9312,{"$f":"'CARES CRRSA ARP 28-35'!J224","v":0},null,"Error?","CARES CRRSA ARP 2022"]
[9313,{"$f":"'CARES CRRSA ARP 28-35'!L224","v":0},null,"Error?","CARES CRRSA ARP 2022"]
[9314,{"$f":"'CARES CRRSA ARP 28-35'!F225","v":0},null,"Error?","CARES CRRSA ARP 2022"]
[9315,{"$f":"'CARES CRRSA ARP 28-35'!G225","v":0},null,"Error?","CARES CRRSA ARP 2022"]
[9316,{"$f":"'CARES CRRSA ARP 28-35'!H225","v":0},null,"Error?","CARES CRRSA ARP 2022"]
[9317,{"$f":"'CARES CRRSA ARP 28-35'!J225","v":0},null,"Error?","CARES CRRSA ARP 2022"]
[9318,{"$f":"'CARES CRRSA ARP 28-35'!L225","v":0},null,"Error?","CARES CRRSA ARP 2022"]
[9319,{"$f":"'CARES CRRSA ARP 28-35'!D232","v":0},null,"Error?","CARES CRRSA ARP 2022"]
[9320,{"$f":"'CARES CRRSA ARP 28-35'!E232","v":0},null,"Error?","CARES CRRSA ARP 2022"]
[9321,{"$f":"'CARES CRRSA ARP 28-35'!F232","v":0},null,"Error?","CARES CRRSA ARP 2022"]
[9322,{"$f":"'CARES CRRSA ARP 28-35'!G232","v":0},null,"Error?","CARES CRRSA ARP 2022"]
[9323,{"$f":"'CARES CRRSA ARP 28-35'!H232","v":0},null,"Error?","CARES CRRSA ARP 2022"]
[9324,{"$f":"'CARES CRRSA ARP 28-35'!I232","v":0},null,"Error?","CARES CRRSA ARP 2022"]
[9325,{"$f":"'CARES CRRSA ARP 28-35'!J232","v":0},null,"Error?","CARES CRRSA ARP 2022"]
[9326,{"$f":"'CARES CRRSA ARP 28-35'!L232","v":0},null,"Error?","CARES CRRSA ARP 2022"]
[9327,{"$f":"'CARES CRRSA ARP 28-35'!D233","v":0},null,"Error?","CARES CRRSA ARP 2022"]
[9328,{"$f":"'CARES CRRSA ARP 28-35'!E233","v":0},null,"Error?","CARES CRRSA ARP 2022"]
[9329,{"$f":"'CARES CRRSA ARP 28-35'!F233","v":0},null,"Error?","CARES CRRSA ARP 2022"]
[9330,{"$f":"'CARES CRRSA ARP 28-35'!G233","v":0},null,"Error?","CARES CRRSA ARP 2022"]
[9331,{"$f":"'CARES CRRSA ARP 28-35'!H233","v":0},null,"Error?","CARES CRRSA ARP 2022"]
[9332,{"$f":"'CARES CRRSA ARP 28-35'!I233","v":0},null,"Error?","CARES CRRSA ARP 2022"]
[9333,{"$f":"'CARES CRRSA ARP 28-35'!J233","v":0},null,"Error?","CARES CRRSA ARP 2022"]
[9334,{"$f":"'CARES CRRSA ARP 28-35'!L233","v":0},null,"Error?","CARES CRRSA ARP 2022"]
[9335,{"$f":"'CARES CRRSA ARP 28-35'!D236","v":0},null,"Error?","CARES CRRSA ARP 2022"]
[9336,{"$f":"'CARES CRRSA ARP 28-35'!E236","v":0},null,"Error?","CARES CRRSA ARP 2022"]
[9337,{"$f":"'CARES CRRSA ARP 28-35'!F236","v":0},null,"Error?","CARES CRRSA ARP 2022"]
[9338,{"$f":"'CARES CRRSA ARP 28-35'!G236","v":0},null,"Error?","CARES CRRSA ARP 2022"]
[9339,{"$f":"'CARES CRRSA ARP 28-35'!H236","v":0},null,"Error?","CARES CRRSA ARP 2022"]
[9340,{"$f":"'CARES CRRSA ARP 28-35'!I236","v":0},null,"Error?","CARES CRRSA ARP 2022"]
[9341,{"$f":"'CARES CRRSA ARP 28-35'!J236","v":0},null,"Error?","CARES CRRSA ARP 2022"]
[9342,{"$f":"'CARES CRRSA ARP 28-35'!L236","v":0},null,"Error?","CARES CRRSA ARP 2022"]
[9343,{"$f":"'CARES CRRSA ARP 28-35'!D237","v":0},null,"Error?","CARES CRRSA ARP 2022"]
[9344,{"$f":"'CARES CRRSA ARP 28-35'!E237","v":0},null,"Error?","CARES CRRSA ARP 2022"]
[9345,{"$f":"'CARES CRRSA ARP 28-35'!F237","v":0},null,"Error?","CARES CRRSA ARP 2022"]
[9346,{"$f":"'CARES CRRSA ARP 28-35'!G237","v":0},null,{"$f":"IF(ISBLANK(B9405),\"OK\",IF(A9405-B9405=0,\"OK\",\"Error?\"))","v":"Error?"},"CARES CRRSA ARP 2022"]
[9347,{"$f":"'CARES CRRSA ARP 28-35'!H237","v":0},null,"Error?","CARES CRRSA ARP 2022"]
[9348,{"$f":"'CARES CRRSA ARP 28-35'!I237","v":0},null,"Error?","CARES CRRSA ARP 2022"]
[9349,{"$f":"'CARES CRRSA ARP 28-35'!J237","v":0},null,"Error?","CARES CRRSA ARP 2022"]
[9350,{"$f":"'CARES CRRSA ARP 28-35'!L237","v":0},null,"Error?","CARES CRRSA ARP 2022"]
[9351,{"$f":"'CARES CRRSA ARP 28-35'!D238","v":0},null,"Error?","CARES CRRSA ARP 2022"]
[9352,{"$f":"'CARES CRRSA ARP 28-35'!E238","v":0},null,"Error?","CARES CRRSA ARP 2022"]
[9353,{"$f":"'CARES CRRSA ARP 28-35'!F238","v":0},null,"Error?","CARES CRRSA ARP 2022"]
[9354,{"$f":"'CARES CRRSA ARP 28-35'!G238","v":0},null,"Error?","CARES CRRSA ARP 2022"]
[9355,{"$f":"'CARES CRRSA ARP 28-35'!H238","v":0},null,"Error?","CARES CRRSA ARP 2022"]
[9356,{"$f":"'CARES CRRSA ARP 28-35'!I238","v":0},null,"Error?","CARES CRRSA ARP 2022"]
[9357,{"$f":"'CARES CRRSA ARP 28-35'!J238","v":0},null,"Error?","CARES CRRSA ARP 2022"]
[9358,{"$f":"'CARES CRRSA ARP 28-35'!L238","v":0},null,"Error?","CARES CRRSA ARP 2022"]
[9359,{"$f":"'CARES CRRSA ARP 28-35'!F241","v":0},null,"Error?","CARES CRRSA ARP 2022"]
[9360,{"$f":"'CARES CRRSA ARP 28-35'!G241","v":0},null,"Error?","CARES CRRSA ARP 2022"]
[9361,{"$f":"'CARES CRRSA ARP 28-35'!H241","v":0},null,"Error?","CARES CRRSA ARP 2022"]
[9362,{"$f":"'CARES CRRSA ARP 28-35'!J241","v":0},null,"Error?","CARES CRRSA ARP 2022"]
[9363,{"$f":"'CARES CRRSA ARP 28-35'!L241","v":0},null,"Error?","CARES CRRSA ARP 2022"]
[9364,{"$f":"'CARES CRRSA ARP 28-35'!F242","v":0},null,"Error?","CARES CRRSA ARP 2022"]
[9365,{"$f":"'CARES CRRSA ARP 28-35'!G242","v":0},null,"Error?","CARES CRRSA ARP 2022"]
[9366,{"$f":"'CARES CRRSA ARP 28-35'!H242","v":0},null,"Error?","CARES CRRSA ARP 2022"]
[9367,{"$f":"'CARES CRRSA ARP 28-35'!J242","v":0},null,"Error?","CARES CRRSA ARP 2022"]
[9368,{"$f":"'CARES CRRSA ARP 28-35'!L242","v":0},null,"Error?","CARES CRRSA ARP 2022"]
[9369,{"$f":"'CARES CRRSA ARP 28-35'!F243","v":0},null,"Error?","CARES CRRSA ARP 2022"]
[9370,{"$f":"'CARES CRRSA ARP 28-35'!G243","v":0},null,"Error?","CARES CRRSA ARP 2022"]
[9371,{"$f":"'CARES CRRSA ARP 28-35'!H243","v":0},null,"Error?","CARES CRRSA ARP 2022"]
[9372,{"$f":"'CARES CRRSA ARP 28-35'!J243","v":0},null,"Error?","CARES CRRSA ARP 2022"]
[9373,{"$f":"'CARES CRRSA ARP 28-35'!L243","v":0},null,"Error?","CARES CRRSA ARP 2022"]
[9374,{"$f":"'CARES CRRSA ARP 28-35'!D250","v":0},null,"Error?","CARES CRRSA ARP 2022"]
[9375,{"$f":"'CARES CRRSA ARP 28-35'!E250","v":0},null,"Error?","CARES CRRSA ARP 2022"]
[9376,{"$f":"'CARES CRRSA ARP 28-35'!F250","v":0},null,"Error?","CARES CRRSA ARP 2022"]
[9377,{"$f":"'CARES CRRSA ARP 28-35'!G250","v":0},null,"Error?","CARES CRRSA ARP 2022"]
[9378,{"$f":"'CARES CRRSA ARP 28-35'!H250","v":0},null,"Error?","CARES CRRSA ARP 2022"]
[9379,{"$f":"'CARES CRRSA ARP 28-35'!I250","v":0},null,"Error?","CARES CRRSA ARP 2022"]
[9380,{"$f":"'CARES CRRSA ARP 28-35'!J250","v":0},null,"Error?","CARES CRRSA ARP 2022"]
[9381,{"$f":"'CARES CRRSA ARP 28-35'!L250","v":0},null,"Error?","CARES CRRSA ARP 2022"]
[9382,{"$f":"'CARES CRRSA ARP 28-35'!D251","v":0},null,"Error?","CARES CRRSA ARP 2022"]
[9383,{"$f":"'CARES CRRSA ARP 28-35'!E251","v":0},null,"Error?","CARES CRRSA ARP 2022"]
[9384,{"$f":"'CARES CRRSA ARP 28-35'!F251","v":0},null,"Error?","CARES CRRSA ARP 2022"]
[9385,{"$f":"'CARES CRRSA ARP 28-35'!G251","v":0},null,"Error?","CARES CRRSA ARP 2022"]
[9386,{"$f":"'CARES CRRSA ARP 28-35'!H251","v":0},null,"Error?","CARES CRRSA ARP 2022"]
[9387,{"$f":"'CARES CRRSA ARP 28-35'!I251","v":0},null,"Error?","CARES CRRSA ARP 2022"]
[9388,{"$f":"'CARES CRRSA ARP 28-35'!J251","v":0},null,"Error?","CARES CRRSA ARP 2022"]
[9389,{"$f":"'CARES CRRSA ARP 28-35'!L251","v":0},null,"Error?","CARES CRRSA ARP 2022"]
[9390,{"$f":"'CARES CRRSA ARP 28-35'!D254","v":0},null,"Error?","CARES CRRSA ARP 2022"]
[9391,{"$f":"'CARES CRRSA ARP 28-35'!E254","v":0},null,"Error?","CARES CRRSA ARP 2022"]
[9392,{"$f":"'CARES CRRSA ARP 28-35'!F254","v":0},null,"Error?","CARES CRRSA ARP 2022"]
[9393,{"$f":"'CARES CRRSA ARP 28-35'!G254","v":0},null,"Error?","CARES CRRSA ARP 2022"]
[9394,{"$f":"'CARES CRRSA ARP 28-35'!H254","v":0},null,"Error?","CARES CRRSA ARP 2022"]
[9395,{"$f":"'CARES CRRSA ARP 28-35'!I254","v":0},null,"Error?","CARES CRRSA ARP 2022"]
[9396,{"$f":"'CARES CRRSA ARP 28-35'!J254","v":0},null,"Error?","CARES CRRSA ARP 2022"]
[9397,{"$f":"'CARES CRRSA ARP 28-35'!L254","v":0},null,"Error?","CARES CRRSA ARP 2022"]
[9398,{"$f":"'CARES CRRSA ARP 28-35'!D255","v":0},null,"Error?","CARES CRRSA ARP 2022"]
[9399,{"$f":"'CARES CRRSA ARP 28-35'!E255","v":0},null,"Error?","CARES CRRSA ARP 2022"]
[9400,{"$f":"'CARES CRRSA ARP 28-35'!F255","v":0},null,"Error?","CARES CRRSA ARP 2022"]
[9401,{"$f":"'CARES CRRSA ARP 28-35'!G255","v":0},null,"Error?","CARES CRRSA ARP 2022"]
[9402,{"$f":"'CARES CRRSA ARP 28-35'!H255","v":0},null,"Error?","CARES CRRSA ARP 2022"]
[9403,{"$f":"'CARES CRRSA ARP 28-35'!I255","v":0},null,"Error?","CARES CRRSA ARP 2022"]
[9404,{"$f":"'CARES CRRSA ARP 28-35'!J255","v":0},null,"Error?","CARES CRRSA ARP 2022"]
[9405,{"$f":"'CARES CRRSA ARP 28-35'!L255","v":0},null,"Error?","CARES CRRSA ARP 2022"]
[9406,{"$f":"'CARES CRRSA ARP 28-35'!D256","v":0},null,"Error?","CARES CRRSA ARP 2022"]
[9407,{"$f":"'CARES CRRSA ARP 28-35'!E256","v":0},null,"Error?","CARES CRRSA ARP 2022"]
[9408,{"$f":"'CARES CRRSA ARP 28-35'!F256","v":0},null,"Error?","CARES CRRSA ARP 2022"]
[9409,{"$f":"'CARES CRRSA ARP 28-35'!G256","v":0},null,"Error?","CARES CRRSA ARP 2022"]
[9410,{"$f":"'CARES CRRSA ARP 28-35'!H256","v":0},null,{"$f":"IF(ISBLANK(B9469),\"OK\",IF(A9469-B9469=0,\"OK\",\"Error?\"))","v":"Error?"},"CARES CRRSA ARP 2022"]
[9411,{"$f":"'CARES CRRSA ARP 28-35'!I256","v":0},null,"Error?","CARES CRRSA ARP 2022"]
[9412,{"$f":"'CARES CRRSA ARP 28-35'!J256","v":0},null,"Error?","CARES CRRSA ARP 2022"]
[9413,{"$f":"'CARES CRRSA ARP 28-35'!L256","v":0},null,"Error?","CARES CRRSA ARP 2022"]
[9414,{"$f":"'CARES CRRSA ARP 28-35'!F259","v":0},null,"Error?","CARES CRRSA ARP 2022"]
[9415,{"$f":"'CARES CRRSA ARP 28-35'!G259","v":0},null,"Error?","CARES CRRSA ARP 2022"]
[9416,{"$f":"'CARES CRRSA ARP 28-35'!H259","v":0},null,"Error?","CARES CRRSA ARP 2022"]
[9417,{"$f":"'CARES CRRSA ARP 28-35'!J259","v":0},null,"Error?","CARES CRRSA ARP 2022"]
[9418,{"$f":"'CARES CRRSA ARP 28-35'!L259","v":0},null,"Error?","CARES CRRSA ARP 2022"]
[9419,{"$f":"'CARES CRRSA ARP 28-35'!F260","v":0},null,"Error?","CARES CRRSA ARP 2022"]
[9420,{"$f":"'CARES CRRSA ARP 28-35'!G260","v":0},null,"Error?","CARES CRRSA ARP 2022"]
[9421,{"$f":"'CARES CRRSA ARP 28-35'!H260","v":0},null,"Error?","CARES CRRSA ARP 2022"]
[9422,{"$f":"'CARES CRRSA ARP 28-35'!J260","v":0},null,"Error?","CARES CRRSA ARP 2022"]
[9423,{"$f":"'CARES CRRSA ARP 28-35'!L260","v":0},null,"Error?","CARES CRRSA ARP 2022"]
[9424,{"$f":"'CARES CRRSA ARP 28-35'!F261","v":0},null,"Error?","CARES CRRSA ARP 2022"]
[9425,{"$f":"'CARES CRRSA ARP 28-35'!G261","v":0},null,"Error?","CARES CRRSA ARP 2022"]
[9426,{"$f":"'CARES CRRSA ARP 28-35'!H261","v":0},null,"Error?","CARES CRRSA ARP 2022"]
[9427,{"$f":"'CARES CRRSA ARP 28-35'!J261","v":0},null,"Error?","CARES CRRSA ARP 2022"]
[9428,{"$f":"'CARES CRRSA ARP 28-35'!L261","v":0},null,"Error?","CARES CRRSA ARP 2022"]
[9429,{"$f":"'CARES CRRSA ARP 28-35'!D268","v":0},null,"Error?","CARES CRRSA ARP 2022"]
[9430,{"$f":"'CARES CRRSA ARP 28-35'!E268","v":0},null,"Error?","CARES CRRSA ARP 2022"]
[9431,{"$f":"'CARES CRRSA ARP 28-35'!F268","v":0},null,"Error?","CARES CRRSA ARP 2022"]
[9432,{"$f":"'CARES CRRSA ARP 28-35'!G268","v":0},null,"Error?","CARES CRRSA ARP 2022"]
[9433,{"$f":"'CARES CRRSA ARP 28-35'!H268","v":0},null,"Error?","CARES CRRSA ARP 2022"]
[9434,{"$f":"'CARES CRRSA ARP 28-35'!I268","v":0},null,"Error?","CARES CRRSA ARP 2022"]
[9435,{"$f":"'CARES CRRSA ARP 28-35'!J268","v":0},null,"Error?","CARES CRRSA ARP 2022"]
[9436,{"$f":"'CARES CRRSA ARP 28-35'!L268","v":0},null,"Error?","CARES CRRSA ARP 2022"]
[9437,{"$f":"'CARES CRRSA ARP 28-35'!D269","v":0},null,"Error?","CARES CRRSA ARP 2022"]
[9438,{"$f":"'CARES CRRSA ARP 28-35'!E269","v":0},null,"Error?","CARES CRRSA ARP 2022"]
[9439,{"$f":"'CARES CRRSA ARP 28-35'!F269","v":0},null,"Error?","CARES CRRSA ARP 2022"]
[9440,{"$f":"'CARES CRRSA ARP 28-35'!G269","v":0},null,"Error?","CARES CRRSA ARP 2022"]
[9441,{"$f":"'CARES CRRSA ARP 28-35'!H269","v":0},null,"Error?","CARES CRRSA ARP 2022"]
[9442,{"$f":"'CARES CRRSA ARP 28-35'!I269","v":0},null,"Error?","CARES CRRSA ARP 2022"]
[9443,{"$f":"'CARES CRRSA ARP 28-35'!J269","v":0},null,"Error?","CARES CRRSA ARP 2022"]
[9444,{"$f":"'CARES CRRSA ARP 28-35'!L269","v":0},null,"Error?","CARES CRRSA ARP 2022"]
[9445,{"$f":"'CARES CRRSA ARP 28-35'!D272","v":0},null,"Error?","CARES CRRSA ARP 2022"]
[9446,{"$f":"'CARES CRRSA ARP 28-35'!E272","v":0},null,"Error?","CARES CRRSA ARP 2022"]
[9447,{"$f":"'CARES CRRSA ARP 28-35'!F272","v":0},null,"Error?","CARES CRRSA ARP 2022"]
[9448,{"$f":"'CARES CRRSA ARP 28-35'!G272","v":0},null,"Error?","CARES CRRSA ARP 2022"]
[9449,{"$f":"'CARES CRRSA ARP 28-35'!H272","v":0},null,"Error?","CARES CRRSA ARP 2022"]
[9450,{"$f":"'CARES CRRSA ARP 28-35'!I272","v":0},null,"Error?","CARES CRRSA ARP 2022"]
[9451,{"$f":"'CARES CRRSA ARP 28-35'!J272","v":0},null,"Error?","CARES CRRSA ARP 2022"]
[9452,{"$f":"'CARES CRRSA ARP 28-35'!L272","v":0},null,"Error?","CARES CRRSA ARP 2022"]
[9453,{"$f":"'CARES CRRSA ARP 28-35'!D273","v":0},null,"Error?","CARES CRRSA ARP 2022"]
[9454,{"$f":"'CARES CRRSA ARP 28-35'!E273","v":0},null,"Error?","CARES CRRSA ARP 2022"]
[9455,{"$f":"'CARES CRRSA ARP 28-35'!F273","v":0},null,"Error?","CARES CRRSA ARP 2022"]
[9456,{"$f":"'CARES CRRSA ARP 28-35'!G273","v":0},null,"Error?","CARES CRRSA ARP 2022"]
[9457,{"$f":"'CARES CRRSA ARP 28-35'!H273","v":0},null,"Error?","CARES CRRSA ARP 2022"]
[9458,{"$f":"'CARES CRRSA ARP 28-35'!I273","v":0},null,"Error?","CARES CRRSA ARP 2022"]
[9459,{"$f":"'CARES CRRSA ARP 28-35'!J273","v":0},null,"Error?","CARES CRRSA ARP 2022"]
[9460,{"$f":"'CARES CRRSA ARP 28-35'!L273","v":0},null,"Error?","CARES CRRSA ARP 2022"]
[9461,{"$f":"'CARES CRRSA ARP 28-35'!D274","v":0},null,"Error?","CARES CRRSA ARP 2022"]
[9462,{"$f":"'CARES CRRSA ARP 28-35'!E274","v":0},null,"Error?","CARES CRRSA ARP 2022"]
[9463,{"$f":"'CARES CRRSA ARP 28-35'!F274","v":0},null,"Error?","CARES CRRSA ARP 2022"]
[9464,{"$f":"'CARES CRRSA ARP 28-35'!G274","v":0},null,"Error?","CARES CRRSA ARP 2022"]
[9465,{"$f":"'CARES CRRSA ARP 28-35'!H274","v":0},null,"Error?","CARES CRRSA ARP 2022"]
[9466,{"$f":"'CARES CRRSA ARP 28-35'!I274","v":0},null,"Error?","CARES CRRSA ARP 2022"]
[9467,{"$f":"'CARES CRRSA ARP 28-35'!J274","v":0},null,"Error?","CARES CRRSA ARP 2022"]
[9468,{"$f":"'CARES CRRSA ARP 28-35'!L274","v":0},null,"Error?","CARES CRRSA ARP 2022"]
[9469,{"$f":"'CARES CRRSA ARP 28-35'!F277","v":0},null,"Error?","CARES CRRSA ARP 2022"]
[9470,{"$f":"'CARES CRRSA ARP 28-35'!G277","v":0},null,"Error?","CARES CRRSA ARP 2022"]
[9471,{"$f":"'CARES CRRSA ARP 28-35'!H277","v":0},null,"Error?","CARES CRRSA ARP 2022"]
[9472,{"$f":"'CARES CRRSA ARP 28-35'!J277","v":0},null,"Error?","CARES CRRSA ARP 2022"]
[9473,{"$f":"'CARES CRRSA ARP 28-35'!L277","v":0},null,"Error?","CARES CRRSA ARP 2022"]
[9474,{"$f":"'CARES CRRSA ARP 28-35'!F278","v":0},null,{"$f":"IF(ISBLANK(B9533),\"OK\",IF(A9533-B9533=0,\"OK\",\"Error?\"))","v":"Error?"},"CARES CRRSA ARP 2022"]
[9475,{"$f":"'CARES CRRSA ARP 28-35'!G278","v":0},null,"Error?","CARES CRRSA ARP 2022"]
[9476,{"$f":"'CARES CRRSA ARP 28-35'!H278","v":0},null,"Error?","CARES CRRSA ARP 2022"]
[9477,{"$f":"'CARES CRRSA ARP 28-35'!J278","v":0},null,"Error?","CARES CRRSA ARP 2022"]
[9478,{"$f":"'CARES CRRSA ARP 28-35'!L278","v":0},null,"Error?","CARES CRRSA ARP 2022"]
[9479,{"$f":"'CARES CRRSA ARP 28-35'!F279","v":0},null,"Error?","CARES CRRSA ARP 2022"]
[9480,{"$f":"'CARES CRRSA ARP 28-35'!G279","v":0},null,"Error?","CARES CRRSA ARP 2022"]
[9481,{"$f":"'CARES CRRSA ARP 28-35'!H279","v":0},null,"Error?","CARES CRRSA ARP 2022"]
[9482,{"$f":"'CARES CRRSA ARP 28-35'!J279","v":0},null,"Error?","CARES CRRSA ARP 2022"]
[9483,{"$f":"'CARES CRRSA ARP 28-35'!L279","v":0},null,"Error?","CARES CRRSA ARP 2022"]
[9484,{"$f":"'CARES CRRSA ARP 28-35'!C15","v":0},null,"Error?","CARES CRRSA ARP 2022"]
[9485,{"$f":"'CARES CRRSA ARP 28-35'!D15","v":0},null,"Error?","CARES CRRSA ARP 2022"]
[9486,{"$f":"'CARES CRRSA ARP 28-35'!F15","v":0},null,"Error?","CARES CRRSA ARP 2022"]
[9487,{"$f":"'CARES CRRSA ARP 28-35'!G15","v":0},null,"Error?","CARES CRRSA ARP 2022"]
[9488,{"$f":"'CARES CRRSA ARP 28-35'!H15","v":0},null,"Error?","CARES CRRSA ARP 2022"]
[9489,{"$f":"'CARES CRRSA ARP 28-35'!K15","v":0},null,"Error?","CARES CRRSA ARP 2022"]
[9490,{"$f":"'CARES CRRSA ARP 28-35'!L15","v":0},null,"Error?","CARES CRRSA ARP 2022"]
[9491,{"$f":"'CARES CRRSA ARP 28-35'!C16","v":0},null,"Error?","CARES CRRSA ARP 2022"]
[9492,{"$f":"'CARES CRRSA ARP 28-35'!D16","v":0},null,"Error?","CARES CRRSA ARP 2022"]
[9493,{"$f":"'CARES CRRSA ARP 28-35'!F16","v":0},null,"Error?","CARES CRRSA ARP 2022"]
[9494,{"$f":"'CARES CRRSA ARP 28-35'!G16","v":0},null,"Error?","CARES CRRSA ARP 2022"]
[9495,{"$f":"'CARES CRRSA ARP 28-35'!H16","v":0},null,"Error?","CARES CRRSA ARP 2022"]
[9496,{"$f":"'CARES CRRSA ARP 28-35'!K16","v":0},null,"Error?","CARES CRRSA ARP 2022"]
[9497,{"$f":"'CARES CRRSA ARP 28-35'!L16","v":0},null,"Error?","CARES CRRSA ARP 2022"]
[9498,{"$f":"'CARES CRRSA ARP 28-35'!C17","v":0},null,"Error?","CARES CRRSA ARP 2022"]
[9499,{"$f":"'CARES CRRSA ARP 28-35'!D17","v":0},null,"Error?","CARES CRRSA ARP 2022"]
[9500,{"$f":"'CARES CRRSA ARP 28-35'!F17","v":0},null,"Error?","CARES CRRSA ARP 2022"]
[9501,{"$f":"'CARES CRRSA ARP 28-35'!G17","v":0},null,"Error?","CARES CRRSA ARP 2022"]
[9502,{"$f":"'CARES CRRSA ARP 28-35'!H17","v":0},null,"Error?","CARES CRRSA ARP 2022"]
[9503,{"$f":"'CARES CRRSA ARP 28-35'!K17","v":0},null,"Error?","CARES CRRSA ARP 2022"]
[9504,{"$f":"'CARES CRRSA ARP 28-35'!L17","v":0},null,"Error?","CARES CRRSA ARP 2022"]
[9505,{"$f":"'CARES CRRSA ARP 28-35'!C26","v":0},null,"Error?","CARES CRRSA ARP 2022"]
[9506,{"$f":"'CARES CRRSA ARP 28-35'!D26","v":0},null,"Error?","CARES CRRSA ARP 2022"]
[9507,{"$f":"'CARES CRRSA ARP 28-35'!F26","v":0},null,"Error?","CARES CRRSA ARP 2022"]
[9508,{"$f":"'CARES CRRSA ARP 28-35'!G26","v":0},null,"Error?","CARES CRRSA ARP 2022"]
[9509,{"$f":"'CARES CRRSA ARP 28-35'!H26","v":0},null,"Error?","CARES CRRSA ARP 2022"]
[9510,{"$f":"'CARES CRRSA ARP 28-35'!K26","v":0},null,"Error?","CARES CRRSA ARP 2022"]
[9511,{"$f":"'CARES CRRSA ARP 28-35'!L26","v":0},null,"Error?","CARES CRRSA ARP 2022"]
[9512,{"$f":"'CARES CRRSA ARP 28-35'!C27","v":0},null,"Error?","CARES CRRSA ARP 2022"]
[9513,{"$f":"'CARES CRRSA ARP 28-35'!D27","v":0},null,"Error?","CARES CRRSA ARP 2022"]
[9514,{"$f":"'CARES CRRSA ARP 28-35'!F27","v":0},null,"Error?","CARES CRRSA ARP 2022"]
[9515,{"$f":"'CARES CRRSA ARP 28-35'!G27","v":0},null,"Error?","CARES CRRSA ARP 2022"]
[9516,{"$f":"'CARES CRRSA ARP 28-35'!H27","v":0},null,"Error?","CARES CRRSA ARP 2022"]
[9517,{"$f":"'CARES CRRSA ARP 28-35'!K27","v":0},null,"Error?","CARES CRRSA ARP 2022"]
[9518,{"$f":"'CARES CRRSA ARP 28-35'!L27","v":0},null,"Error?","CARES CRRSA ARP 2022"]
[9519,{"$f":"'CARES CRRSA ARP 28-35'!C29","v":0},null,"Error?","CARES CRRSA ARP 2022"]
[9520,{"$f":"'CARES CRRSA ARP 28-35'!D29","v":0},null,"Error?","CARES CRRSA ARP 2022"]
[9521,{"$f":"'CARES CRRSA ARP 28-35'!F29","v":0},null,"Error?","CARES CRRSA ARP 2022"]
[9522,{"$f":"'CARES CRRSA ARP 28-35'!G29","v":0},null,"Error?","CARES CRRSA ARP 2022"]
[9523,{"$f":"'CARES CRRSA ARP 28-35'!H29","v":0},null,"Error?","CARES CRRSA ARP 2022"]
[9524,{"$f":"'CARES CRRSA ARP 28-35'!K29","v":0},null,"Error?","CARES CRRSA ARP 2022"]
[9525,{"$f":"'CARES CRRSA ARP 28-35'!L29","v":0},null,"Error?","CARES CRRSA ARP 2022"]
[9526,{"$f":"'CARES CRRSA ARP 28-35'!C30","v":0},null,"Error?","CARES CRRSA ARP 2022"]
[9527,{"$f":"'CARES CRRSA ARP 28-35'!D30","v":0},null,"Error?","CARES CRRSA ARP 2022"]
[9528,{"$f":"'CARES CRRSA ARP 28-35'!F30","v":0},null,"Error?","CARES CRRSA ARP 2022"]
[9529,{"$f":"'CARES CRRSA ARP 28-35'!G30","v":0},null,"Error?","CARES CRRSA ARP 2022"]
[9530,{"$f":"'CARES CRRSA ARP 28-35'!H30","v":0},null,"Error?","CARES CRRSA ARP 2022"]
[9531,{"$f":"'CARES CRRSA ARP 28-35'!K30","v":0},null,"Error?","CARES CRRSA ARP 2022"]
[9532,{"$f":"'CARES CRRSA ARP 28-35'!L30","v":0},null,"Error?","CARES CRRSA ARP 2022"]
[9533,{"$f":"'CARES CRRSA ARP 28-35'!C31","v":0},null,"Error?","CARES CRRSA ARP 2022"]
[9534,{"$f":"'CARES CRRSA ARP 28-35'!D31","v":0},null,"Error?","CARES CRRSA ARP 2022"]
[9535,{"$f":"'CARES CRRSA ARP 28-35'!F31","v":0},null,"Error?","CARES CRRSA ARP 2022"]
[9536,{"$f":"'CARES CRRSA ARP 28-35'!G31","v":0},null,"Error?","CARES CRRSA ARP 2022"]
[9537,{"$f":"'CARES CRRSA ARP 28-35'!H31","v":0},null,"Error?","CARES CRRSA ARP 2022"]
[9538,{"$f":"'CARES CRRSA ARP 28-35'!K31","v":0},null,{"$f":"IF(ISBLANK(B9597),\"OK\",IF(A9597-B9597=0,\"OK\",\"Error?\"))","v":"Error?"},"CARES CRRSA ARP 2022"]
[9539,{"$f":"'CARES CRRSA ARP 28-35'!L31","v":0},null,"Error?","CARES CRRSA ARP 2022"]
[9540,{"$f":"'CARES CRRSA ARP 28-35'!C32","v":0},null,"Error?","CARES CRRSA ARP 2022"]
[9541,{"$f":"'CARES CRRSA ARP 28-35'!D32","v":0},null,"Error?","CARES CRRSA ARP 2022"]
[9542,{"$f":"'CARES CRRSA ARP 28-35'!F32","v":0},null,"Error?","CARES CRRSA ARP 2022"]
[9543,{"$f":"'CARES CRRSA ARP 28-35'!G32","v":0},null,"Error?","CARES CRRSA ARP 2022"]
[9544,{"$f":"'CARES CRRSA ARP 28-35'!H32","v":0},null,"Error?","CARES CRRSA ARP 2022"]
[9545,{"$f":"'CARES CRRSA ARP 28-35'!K32","v":0},null,"Error?","CARES CRRSA ARP 2022"]
[9546,{"$f":"'CARES CRRSA ARP 28-35'!L32","v":0},null,"Error?","CARES CRRSA ARP 2022"]
[9547,{"$f":"'CARES CRRSA ARP 28-35'!C33","v":0},null,"Error?","CARES CRRSA ARP 2022"]
[9548,{"$f":"'CARES CRRSA ARP 28-35'!D33","v":0},null,"Error?","CARES CRRSA ARP 2022"]
[9549,{"$f":"'CARES CRRSA ARP 28-35'!F33","v":0},null,"Error?","CARES CRRSA ARP 2022"]
[9550,{"$f":"'CARES CRRSA ARP 28-35'!G33","v":0},null,"Error?","CARES CRRSA ARP 2022"]
[9551,{"$f":"'CARES CRRSA ARP 28-35'!H33","v":0},null,"Error?","CARES CRRSA ARP 2022"]
[9552,{"$f":"'CARES CRRSA ARP 28-35'!K33","v":0},null,"Error?","CARES CRRSA ARP 2022"]
[9553,{"$f":"'CARES CRRSA ARP 28-35'!L33","v":0},null,"Error?","CARES CRRSA ARP 2022"]
[9554,{"$f":"'CARES CRRSA ARP 28-35'!C34","v":0},null,"Error?","CARES CRRSA ARP 2022"]
[9555,{"$f":"'CARES CRRSA ARP 28-35'!D34","v":0},null,"Error?","CARES CRRSA ARP 2022"]
[9556,{"$f":"'CARES CRRSA ARP 28-35'!F34","v":0},null,"Error?","CARES CRRSA ARP 2022"]
[9557,{"$f":"'CARES CRRSA ARP 28-35'!G34","v":0},null,"Error?","CARES CRRSA ARP 2022"]
[9558,{"$f":"'CARES CRRSA ARP 28-35'!H34","v":0},null,"Error?","CARES CRRSA ARP 2022"]
[9559,{"$f":"'CARES CRRSA ARP 28-35'!K34","v":0},null,"Error?","CARES CRRSA ARP 2022"]
[9560,{"$f":"'CARES CRRSA ARP 28-35'!L34","v":0},null,"Error?","CARES CRRSA ARP 2022"]
[9561,{"$f":"'CARES CRRSA ARP 28-35'!C35","v":0},null,"Error?","CARES CRRSA ARP 2022"]
[9562,{"$f":"'CARES CRRSA ARP 28-35'!D35","v":0},null,"Error?","CARES CRRSA ARP 2022"]
[9563,{"$f":"'CARES CRRSA ARP 28-35'!F35","v":0},null,"Error?","CARES CRRSA ARP 2022"]
[9564,{"$f":"'CARES CRRSA ARP 28-35'!G35","v":0},null,"Error?","CARES CRRSA ARP 2022"]
[9565,{"$f":"'CARES CRRSA ARP 28-35'!H35","v":0},null,"Error?","CARES CRRSA ARP 2022"]
[9566,{"$f":"'CARES CRRSA ARP 28-35'!K35","v":0},null,"Error?","CARES CRRSA ARP 2022"]
[9567,{"$f":"'CARES CRRSA ARP 28-35'!L35","v":0},null,"Error?","CARES CRRSA ARP 2022"]
[9568,null,null,"OK","FP Info 3"]
[9569,{"$f":"'CARES CRRSA ARP 28-35'!D160","v":0},null,"Error?","CARES CRRSA ARP 2022"]
[9570,{"$f":"'CARES CRRSA ARP 28-35'!E160","v":0},null,"Error?","CARES CRRSA ARP 2022"]
[9571,{"$f":"'CARES CRRSA ARP 28-35'!F160","v":0},null,"Error?","CARES CRRSA ARP 2022"]
[9572,{"$f":"'CARES CRRSA ARP 28-35'!G160","v":0},null,"Error?","CARES CRRSA ARP 2022"]
[9573,{"$f":"'CARES CRRSA ARP 28-35'!H160","v":0},null,"Error?","CARES CRRSA ARP 2022"]
[9574,{"$f":"'CARES CRRSA ARP 28-35'!I160","v":0},null,"Error?","CARES CRRSA ARP 2022"]
[9575,{"$f":"'CARES CRRSA ARP 28-35'!J160","v":0},null,"Error?","CARES CRRSA ARP 2022"]
[9576,{"$f":"'CARES CRRSA ARP 28-35'!L160","v":0},null,"Error?","CARES CRRSA ARP 2022"]
[9577,{"$f":"'CARES CRRSA ARP 28-35'!D161","v":0},null,"Error?","CARES CRRSA ARP 2022"]
[9578,{"$f":"'CARES CRRSA ARP 28-35'!E161","v":0},null,"Error?","CARES CRRSA ARP 2022"]
[9579,{"$f":"'CARES CRRSA ARP 28-35'!F161","v":0},null,"Error?","CARES CRRSA ARP 2022"]
[9580,{"$f":"'CARES CRRSA ARP 28-35'!G161","v":0},null,"Error?","CARES CRRSA ARP 2022"]
[9581,{"$f":"'CARES CRRSA ARP 28-35'!H161","v":0},null,"Error?","CARES CRRSA ARP 2022"]
[9582,{"$f":"'CARES CRRSA ARP 28-35'!I161","v":0},null,"Error?","CARES CRRSA ARP 2022"]
[9583,{"$f":"'CARES CRRSA ARP 28-35'!J161","v":0},null,"Error?","CARES CRRSA ARP 2022"]
[9584,{"$f":"'CARES CRRSA ARP 28-35'!L161","v":0},null,"Error?","CARES CRRSA ARP 2022"]
[9585,{"$f":"'CARES CRRSA ARP 28-35'!D164","v":0},null,"Error?","CARES CRRSA ARP 2022"]
[9586,{"$f":"'CARES CRRSA ARP 28-35'!E164","v":0},null,"Error?","CARES CRRSA ARP 2022"]
[9587,{"$f":"'CARES CRRSA ARP 28-35'!F164","v":0},null,"Error?","CARES CRRSA ARP 2022"]
[9588,{"$f":"'CARES CRRSA ARP 28-35'!G164","v":0},null,"Error?","CARES CRRSA ARP 2022"]
[9589,{"$f":"'CARES CRRSA ARP 28-35'!H164","v":0},null,"Error?","CARES CRRSA ARP 2022"]
[9590,{"$f":"'CARES CRRSA ARP 28-35'!I164","v":0},null,"Error?","CARES CRRSA ARP 2022"]
[9591,{"$f":"'CARES CRRSA ARP 28-35'!J164","v":0},null,"Error?","CARES CRRSA ARP 2022"]
[9592,{"$f":"'CARES CRRSA ARP 28-35'!L164","v":0},null,"Error?","CARES CRRSA ARP 2022"]
[9593,{"$f":"'CARES CRRSA ARP 28-35'!D165","v":0},null,"Error?","CARES CRRSA ARP 2022"]
[9594,{"$f":"'CARES CRRSA ARP 28-35'!E165","v":0},null,"Error?","CARES CRRSA ARP 2022"]
[9595,{"$f":"'CARES CRRSA ARP 28-35'!F165","v":0},null,"Error?","CARES CRRSA ARP 2022"]
[9596,{"$f":"'CARES CRRSA ARP 28-35'!G165","v":0},null,"Error?","CARES CRRSA ARP 2022"]
[9597,{"$f":"'CARES CRRSA ARP 28-35'!H165","v":0},null,"Error?","CARES CRRSA ARP 2022"]
[9598,{"$f":"'CARES CRRSA ARP 28-35'!I165","v":0},null,"Error?","CARES CRRSA ARP 2022"]
[9599,{"$f":"'CARES CRRSA ARP 28-35'!J165","v":0},null,"Error?","CARES CRRSA ARP 2022"]
[9600,{"$f":"'CARES CRRSA ARP 28-35'!L165","v":0},null,"Error?","CARES CRRSA ARP 2022"]
[9601,{"$f":"'CARES CRRSA ARP 28-35'!D166","v":0},null,"Error?","CARES CRRSA ARP 2022"]
[9602,{"$f":"'CARES CRRSA ARP 28-35'!E166","v":0},null,{"$f":"IF(ISBLANK(B9661),\"OK\",IF(A9661-B9661=0,\"OK\",\"Error?\"))","v":"Error?"},"CARES CRRSA ARP 2022"]
[9603,{"$f":"'CARES CRRSA ARP 28-35'!F166","v":0},null,"Error?","CARES CRRSA ARP 2022"]
[9604,{"$f":"'CARES CRRSA ARP 28-35'!G166","v":0},null,"Error?","CARES CRRSA ARP 2022"]
[9605,{"$f":"'CARES CRRSA ARP 28-35'!H166","v":0},null,"Error?","CARES CRRSA ARP 2022"]
[9606,{"$f":"'CARES CRRSA ARP 28-35'!I166","v":0},null,"Error?","CARES CRRSA ARP 2022"]
[9607,{"$f":"'CARES CRRSA ARP 28-35'!J166","v":0},null,"Error?","CARES CRRSA ARP 2022"]
[9608,{"$f":"'CARES CRRSA ARP 28-35'!L166","v":0},null,"Error?","CARES CRRSA ARP 2022"]
[9609,{"$f":"'CARES CRRSA ARP 28-35'!F169","v":0},null,"Error?","CARES CRRSA ARP 2022"]
[9610,{"$f":"'CARES CRRSA ARP 28-35'!G169","v":0},null,"Error?","CARES CRRSA ARP 2022"]
[9611,{"$f":"'CARES CRRSA ARP 28-35'!H169","v":0},null,"Error?","CARES CRRSA ARP 2022"]
[9612,{"$f":"'CARES CRRSA ARP 28-35'!J169","v":0},null,"Error?","CARES CRRSA ARP 2022"]
[9613,{"$f":"'CARES CRRSA ARP 28-35'!L169","v":0},null,"Error?","CARES CRRSA ARP 2022"]
[9614,{"$f":"'CARES CRRSA ARP 28-35'!F170","v":0},null,"Error?","CARES CRRSA ARP 2022"]
[9615,{"$f":"'CARES CRRSA ARP 28-35'!G170","v":0},null,"Error?","CARES CRRSA ARP 2022"]
[9616,{"$f":"'CARES CRRSA ARP 28-35'!H170","v":0},null,"Error?","CARES CRRSA ARP 2022"]
[9617,{"$f":"'CARES CRRSA ARP 28-35'!J170","v":0},null,"Error?","CARES CRRSA ARP 2022"]
[9618,{"$f":"'CARES CRRSA ARP 28-35'!L170","v":0},null,"Error?","CARES CRRSA ARP 2022"]
[9619,{"$f":"'CARES CRRSA ARP 28-35'!F171","v":0},null,"Error?","CARES CRRSA ARP 2022"]
[9620,{"$f":"'CARES CRRSA ARP 28-35'!G171","v":0},null,"Error?","CARES CRRSA ARP 2022"]
[9621,{"$f":"'CARES CRRSA ARP 28-35'!H171","v":0},null,"Error?","CARES CRRSA ARP 2022"]
[9622,{"$f":"'CARES CRRSA ARP 28-35'!J171","v":0},null,"Error?","CARES CRRSA ARP 2022"]
[9623,{"$f":"'CARES CRRSA ARP 28-35'!L171","v":0},null,"Error?","CARES CRRSA ARP 2022"]
[9624,{"$f":"'CARES CRRSA ARP 28-35'!D288","v":0},null,"Error?","CARES CRRSA ARP 2022"]
[9625,{"$f":"'CARES CRRSA ARP 28-35'!E288","v":0},null,"Error?","CARES CRRSA ARP 2022"]
[9626,{"$f":"'CARES CRRSA ARP 28-35'!F288","v":0},null,"Error?","CARES CRRSA ARP 2022"]
[9627,{"$f":"'CARES CRRSA ARP 28-35'!G288","v":0},null,"Error?","CARES CRRSA ARP 2022"]
[9628,{"$f":"'CARES CRRSA ARP 28-35'!H288","v":0},null,"Error?","CARES CRRSA ARP 2022"]
[9629,{"$f":"'CARES CRRSA ARP 28-35'!I288","v":0},null,"Error?","CARES CRRSA ARP 2022"]
[9630,{"$f":"'CARES CRRSA ARP 28-35'!J288","v":0},null,"Error?","CARES CRRSA ARP 2022"]
[9631,{"$f":"'CARES CRRSA ARP 28-35'!L288","v":0},null,"Error?","CARES CRRSA ARP 2022"]
[9632,{"$f":"'CARES CRRSA ARP 28-35'!D289","v":0},null,"Error?","CARES CRRSA ARP 2022"]
[9633,{"$f":"'CARES CRRSA ARP 28-35'!E289","v":0},null,"Error?","CARES CRRSA ARP 2022"]
[9634,{"$f":"'CARES CRRSA ARP 28-35'!F289","v":0},null,"Error?","CARES CRRSA ARP 2022"]
[9635,{"$f":"'CARES CRRSA ARP 28-35'!G289","v":0},null,"Error?","CARES CRRSA ARP 2022"]
[9636,{"$f":"'CARES CRRSA ARP 28-35'!H289","v":0},null,"Error?","CARES CRRSA ARP 2022"]
[9637,{"$f":"'CARES CRRSA ARP 28-35'!I289","v":0},null,"Error?","CARES CRRSA ARP 2022"]
[9638,{"$f":"'CARES CRRSA ARP 28-35'!J289","v":0},null,"Error?","CARES CRRSA ARP 2022"]
[9639,{"$f":"'CARES CRRSA ARP 28-35'!L289","v":0},null,"Error?","CARES CRRSA ARP 2022"]
[9640,{"$f":"'CARES CRRSA ARP 28-35'!D290","v":0},null,"Error?","CARES CRRSA ARP 2022"]
[9641,{"$f":"'CARES CRRSA ARP 28-35'!E290","v":0},null,"Error?","CARES CRRSA ARP 2022"]
[9642,{"$f":"'CARES CRRSA ARP 28-35'!F290","v":0},null,"Error?","CARES CRRSA ARP 2022"]
[9643,{"$f":"'CARES CRRSA ARP 28-35'!G290","v":0},null,"Error?","CARES CRRSA ARP 2022"]
[9644,{"$f":"'CARES CRRSA ARP 28-35'!H290","v":0},null,"Error?","CARES CRRSA ARP 2022"]
[9645,{"$f":"'CARES CRRSA ARP 28-35'!I290","v":0},null,"Error?","CARES CRRSA ARP 2022"]
[9646,{"$f":"'CARES CRRSA ARP 28-35'!J290","v":0},null,"Error?","CARES CRRSA ARP 2022"]
[9647,{"$f":"'CARES CRRSA ARP 28-35'!L290","v":0},null,"Error?","CARES CRRSA ARP 2022"]
[9648,{"$f":"'Expenditures 16-24'!C373","v":0},null,"Error?","Expenditures "]
[9649,{"$f":"'Expenditures 16-24'!D373","v":0},null,"Error?","Expenditures "]
[9650,{"$f":"'Expenditures 16-24'!E373","v":0},null,"Error?","Expenditures "]
[9651,{"$f":"'Expenditures 16-24'!F373","v":0},null,"Error?","Expenditures "]
[9652,{"$f":"'Expenditures 16-24'!G373","v":0},null,"Error?","Expenditures "]
[9653,{"$f":"'Expenditures 16-24'!H373","v":0},null,"Error?","Expenditures "]
[9654,{"$f":"'Expenditures 16-24'!I373","v":0},null,"Error?","Expenditures "]
[9655,{"$f":"'Expenditures 16-24'!J373","v":0},null,"Error?","Expenditures "]
[9656,{"$f":"'Expenditures 16-24'!K373","v":0},null,"Error?","Expenditures "]
[9657,{"$f":"'Expenditures 16-24'!H419","v":0},null,"Error?","Expenditures "]
[9658,{"$f":"'Expenditures 16-24'!K419","v":0},null,"Error?","Expenditures "]
[9659,{"$f":"'Expenditures 16-24'!H421","v":0},null,"Error?","Expenditures "]
[9660,{"$f":"'Expenditures 16-24'!K421","v":0},null,"Error?","Expenditures "]
[9661,{"$f":"'Expenditures 16-24'!H424","v":0},null,"Error?","Expenditures "]
[9662,{"$f":"'Expenditures 16-24'!K424","v":0},null,"Error?","Expenditures "]
[9663,{"$f":"'Expenditures 16-24'!H425","v":0},null,"Error?","Expenditures "]
[9664,{"$f":"'Expenditures 16-24'!K425","v":0},null,"Error?","Expenditures "]
[9665,{"$f":"'Expenditures 16-24'!H426","v":0},null,"Error?","Expenditures "]
[9666,{"$f":"'Expenditures 16-24'!K426","v":0},null,{"$f":"IF(ISBLANK(B9725),\"OK\",IF(A9725-B9725=0,\"OK\",\"Error?\"))","v":"Error?"},"Expenditures "]
[9667,{"$f":"'Expenditures 16-24'!H427","v":0},null,"Error?","Expenditures "]
[9668,{"$f":"'Expenditures 16-24'!K427","v":0},null,"Error?","Expenditures "]
[9669,{"$f":"'CARES CRRSA ARP 28-35'!C28","v":0},null,"Error?","CARES CRRSA ARP 2022"]
[9670,{"$f":"'CARES CRRSA ARP 28-35'!D28","v":0},null,"Error?","CARES CRRSA ARP 2022"]
[9671,{"$f":"'CARES CRRSA ARP 28-35'!F28","v":0},null,"Error?","CARES CRRSA ARP 2022"]
[9672,{"$f":"'CARES CRRSA ARP 28-35'!G28","v":0},null,"Error?","CARES CRRSA ARP 2022"]
[9673,{"$f":"'CARES CRRSA ARP 28-35'!H28","v":0},null,"Error?","CARES CRRSA ARP 2022"]
[9674,{"$f":"'CARES CRRSA ARP 28-35'!K28","v":0},null,"Error?","CARES CRRSA ARP 2022"]
[9675,{"$f":"'CARES CRRSA ARP 28-35'!L28","v":0},null,"Error?","CARES CRRSA ARP 2022"]
[9676,{"$f":"'CARES CRRSA ARP 28-35'!D142","v":0},null,"Error?","CARES CRRSA ARP 2022"]
[9677,{"$f":"'CARES CRRSA ARP 28-35'!E142","v":0},null,"Error?","CARES CRRSA ARP 2022"]
[9678,{"$f":"'CARES CRRSA ARP 28-35'!F142","v":0},null,"Error?","CARES CRRSA ARP 2022"]
[9679,{"$f":"'CARES CRRSA ARP 28-35'!G142","v":0},null,"Error?","CARES CRRSA ARP 2022"]
[9680,{"$f":"'CARES CRRSA ARP 28-35'!H142","v":0},null,"Error?","CARES CRRSA ARP 2022"]
[9681,{"$f":"'CARES CRRSA ARP 28-35'!I142","v":0},null,"Error?","CARES CRRSA ARP 2022"]
[9682,{"$f":"'CARES CRRSA ARP 28-35'!J142","v":0},null,"Error?","CARES CRRSA ARP 2022"]
[9683,{"$f":"'CARES CRRSA ARP 28-35'!L142","v":0},null,"Error?","CARES CRRSA ARP 2022"]
[9684,{"$f":"'CARES CRRSA ARP 28-35'!D143","v":0},null,"Error?","CARES CRRSA ARP 2022"]
[9685,{"$f":"'CARES CRRSA ARP 28-35'!E143","v":0},null,"Error?","CARES CRRSA ARP 2022"]
[9686,{"$f":"'CARES CRRSA ARP 28-35'!F143","v":0},null,"Error?","CARES CRRSA ARP 2022"]
[9687,{"$f":"'CARES CRRSA ARP 28-35'!G143","v":0},null,"Error?","CARES CRRSA ARP 2022"]
[9688,{"$f":"'CARES CRRSA ARP 28-35'!H143","v":0},null,"Error?","CARES CRRSA ARP 2022"]
[9689,{"$f":"'CARES CRRSA ARP 28-35'!I143","v":0},null,"Error?","CARES CRRSA ARP 2022"]
[9690,{"$f":"'CARES CRRSA ARP 28-35'!J143","v":0},null,"Error?","CARES CRRSA ARP 2022"]
[9691,{"$f":"'CARES CRRSA ARP 28-35'!L143","v":0},null,"Error?","CARES CRRSA ARP 2022"]
[9692,{"$f":"'CARES CRRSA ARP 28-35'!D146","v":0},null,"Error?","CARES CRRSA ARP 2022"]
[9693,{"$f":"'CARES CRRSA ARP 28-35'!E146","v":0},null,"Error?","CARES CRRSA ARP 2022"]
[9694,{"$f":"'CARES CRRSA ARP 28-35'!F146","v":0},null,"Error?","CARES CRRSA ARP 2022"]
[9695,{"$f":"'CARES CRRSA ARP 28-35'!G146","v":0},null,"Error?","CARES CRRSA ARP 2022"]
[9696,{"$f":"'CARES CRRSA ARP 28-35'!H146","v":0},null,"Error?","CARES CRRSA ARP 2022"]
[9697,{"$f":"'CARES CRRSA ARP 28-35'!I146","v":0},null,"Error?","CARES CRRSA ARP 2022"]
[9698,{"$f":"'CARES CRRSA ARP 28-35'!J146","v":0},null,"Error?","CARES CRRSA ARP 2022"]
[9699,{"$f":"'CARES CRRSA ARP 28-35'!L146","v":0},null,"Error?","CARES CRRSA ARP 2022"]
[9700,{"$f":"'CARES CRRSA ARP 28-35'!D147","v":0},null,"Error?","CARES CRRSA ARP 2022"]
[9701,{"$f":"'CARES CRRSA ARP 28-35'!E147","v":0},null,"Error?","CARES CRRSA ARP 2022"]
[9702,{"$f":"'CARES CRRSA ARP 28-35'!F147","v":0},null,"Error?","CARES CRRSA ARP 2022"]
[9703,{"$f":"'CARES CRRSA ARP 28-35'!G147","v":0},null,"Error?","CARES CRRSA ARP 2022"]
[9704,{"$f":"'CARES CRRSA ARP 28-35'!H147","v":0},null,"Error?","CARES CRRSA ARP 2022"]
[9705,{"$f":"'CARES CRRSA ARP 28-35'!I147","v":0},null,"Error?","CARES CRRSA ARP 2022"]
[9706,{"$f":"'CARES CRRSA ARP 28-35'!J147","v":0},null,"Error?","CARES CRRSA ARP 2022"]
[9707,{"$f":"'CARES CRRSA ARP 28-35'!L147","v":0},null,"Error?","CARES CRRSA ARP 2022"]
[9708,{"$f":"'CARES CRRSA ARP 28-35'!D148","v":0},null,"Error?","CARES CRRSA ARP 2022"]
[9709,{"$f":"'CARES CRRSA ARP 28-35'!E148","v":0},null,"Error?","CARES CRRSA ARP 2022"]
[9710,{"$f":"'CARES CRRSA ARP 28-35'!F148","v":0},null,"Error?","CARES CRRSA ARP 2022"]
[9711,{"$f":"'CARES CRRSA ARP 28-35'!G148","v":0},null,"Error?","CARES CRRSA ARP 2022"]
[9712,{"$f":"'CARES CRRSA ARP 28-35'!H148","v":0},null,"Error?","CARES CRRSA ARP 2022"]
[9713,{"$f":"'CARES CRRSA ARP 28-35'!I148","v":0},null,"Error?","CARES CRRSA ARP 2022"]
[9714,{"$f":"'CARES CRRSA ARP 28-35'!J148","v":0},null,"Error?","CARES CRRSA ARP 2022"]
[9715,{"$f":"'CARES CRRSA ARP 28-35'!L148","v":0},null,"Error?","CARES CRRSA ARP 2022"]
[9716,{"$f":"'CARES CRRSA ARP 28-35'!F151","v":0},null,"Error?","CARES CRRSA ARP 2022"]
[9717,{"$f":"'CARES CRRSA ARP 28-35'!G151","v":0},null,"Error?","CARES CRRSA ARP 2022"]
[9718,{"$f":"'CARES CRRSA ARP 28-35'!H151","v":0},null,"Error?","CARES CRRSA ARP 2022"]
[9719,{"$f":"'CARES CRRSA ARP 28-35'!J151","v":0},null,"Error?","CARES CRRSA ARP 2022"]
[9720,{"$f":"'CARES CRRSA ARP 28-35'!L151","v":0},null,"Error?","CARES CRRSA ARP 2022"]
[9721,{"$f":"'CARES CRRSA ARP 28-35'!F152","v":0},null,"Error?","CARES CRRSA ARP 2022"]
[9722,{"$f":"'CARES CRRSA ARP 28-35'!G152","v":0},null,"Error?","CARES CRRSA ARP 2022"]
[9723,{"$f":"'CARES CRRSA ARP 28-35'!H152","v":0},null,"Error?","CARES CRRSA ARP 2022"]
[9724,{"$f":"'CARES CRRSA ARP 28-35'!J152","v":0},null,"Error?","CARES CRRSA ARP 2022"]
[9725,{"$f":"'CARES CRRSA ARP 28-35'!L152","v":0},null,"Error?","CARES CRRSA ARP 2022"]
[9726,{"$f":"'CARES CRRSA ARP 28-35'!F153","v":0},null,"Error?","CARES CRRSA ARP 2022"]
[9727,{"$f":"'CARES CRRSA ARP 28-35'!G153","v":0},null,"Error?","CARES CRRSA ARP 2022"]
[9728,{"$f":"'CARES CRRSA ARP 28-35'!H153","v":0},null,"Error?","CARES CRRSA ARP 2022"]
[9729,{"$f":"'CARES CRRSA ARP 28-35'!J153","v":0},null,"Error?","CARES CRRSA ARP 2022"]
[9730,{"$f":"'CARES CRRSA ARP 28-35'!L153","v":0},null,{"$f":"IF(ISBLANK(B9789),\"OK\",IF(A9789-B9789=0,\"OK\",\"Error?\"))","v":"Error?"},"CARES CRRSA ARP 2022"]

{"sheet":"Single Audit & GATA Information","index":25,"n_rows":13,"n_cols":2,"rows_kept":13,"cut":false,"hidden":false,"merged":[[11,1,11,4],[0,0,0,4],[1,0,1,4],[3,1,3,4],[5,1,6,4],[9,0,9,4]]}
["INSTRUCTIONS/REQUIREMENTS:  For School Districts/Joint Agreements"]
["SINGLE AUDIT WORKPAPERS"]
[]
[null,"In an effort to accommodate the increased reporting requirements for School Districts/Joint Agreements, the Single Audit workpapers are no longer required to be submitted by the Annual Financial Report (AFR) due date. School District / Joint Agreement Single Audits are due in accordance with 2 CFR 200.512(a)."]
[]
[null,"All School Districts / Joint Agreements that have Federal grant expenditures greater than $750,000 should use the workpapers found in the \"Single Audit Workpaper Template\" on our website at www.isbe.net/gata or via direct link: "]
[]
[null,"Single Audit Workpapers"]
[]
["GATA REQUIREMENTS"]
[]
[null,"All School Districts/Joint Agreements must also complete GATA reporting requirements on the GATA Grantee Portal (https://grants.illinois.gov/portal)\n\n1) Audit Certification Form\n2) Consolidated Year End Financial Report (with in-relation to opinion)\n3) Audit Package Submission\n4) Data Collection Form (NOT REQUIRED FOR SINGLE AUDITS)\n\nGuidance for completing the GATA reporting requirements can be found on our website (www.isbe.net/gata) under the \"What's new?\" banner, or via the link below."]
[null,"Guidance for the AARR Requirements"]

{"sheet":"SDJA Listing for cover page","index":26,"n_rows":993,"n_cols":4,"rows_kept":993,"cut":false,"hidden":true,"merged":[]}
["RCDT by Alphabetical Order","School District/Joint Agreement","RCDT","Combined RCDT and SD Name "]
["07016806060","A E R O  Spec Educ Coop","07016806060","07-016-8060-60_AFR22 A E R O  Spec Educ Coop"]
["33048276026","Abingdon-Avon CUSD 276","33048276026","33-048-2760-26_AFR22 Abingdon-Avon CUSD 276"]
["01009262026","A-C Central CUSD 262","01009262026","01-009-2620-26_AFR22 A-C Central CUSD 262"]
["19022004002","Addison SD 4","19022004002","19-022-0040-02_AFR22 Addison SD 4"]
["34049125013","Adlai E Stevenson HSD 125","34049125013","34-049-1250-13_AFR22 Adlai E Stevenson HSD 125"]
["21028091004","Akin CCSD 91","21028091004","21-028-0910-04_AFR22 Akin CCSD 91"]
["13014063002","Albers SD 63","13014063002","13-014-0630-02_AFR22 Albers SD 63"]
["44063019024","Alden Hebron SD 19","44063019024","44-063-0190-24_AFR22 Alden Hebron SD 19"]
["20093017024","Allendale CCSD 17","20093017024","20-093-0170-24_AFR22 Allendale CCSD 17"]
["35050065004","Allen-Otter Creek CCSD 65","35050065004","35-050-0650-04_AFR22 Allen-Otter Creek CCSD 65"]
["07016126002","Alsip-Hazlgrn-Oaklwn SD 126","07016126002","07-016-1260-02_AFR22 Alsip-Hazlgrn-Oaklwn SD 126"]
["03025010026","Altamont CUSD 10","03025010026","03-025-0100-26_AFR22 Altamont CUSD 10"]
["41057011026","Alton CUSD 11","41057011026","41-057-0110-26_AFR22 Alton CUSD 11"]
["28037225026","AlWood CUSD 225","28037225026","28-037-2250-26_AFR22 AlWood CUSD 225"]
["47052272026","Amboy CUSD 272","47052272026","47-052-2720-26_AFR22 Amboy CUSD 272"]
["30091037004","Anna CCSD 37","30091037004","30-091-0370-04_AFR22 Anna CCSD 37"]
["30091081016","Anna Jonesboro CHSD 81","30091081016","30-091-0810-16_AFR22 Anna Jonesboro CHSD 81"]
["28037226026","Annawan CUSD 226","28037226026","28-037-2260-26_AFR22 Annawan CUSD 226"]
["34049034004","Antioch CCSD 34","34049034004","34-049-0340-04_AFR22 Antioch CCSD 34"]
["34049102004","Aptakisic-Tripp CCSD 102","34049102004","34-049-1020-04_AFR22 Aptakisic-Tripp CCSD 102"]
["07016145002","Arbor Park SD 145","07016145002","07-016-1450-02_AFR22 Arbor Park SD 145"]
["11021306026","Arcola CUSD 306","11021306026","11-021-3060-26_AFR22 Arcola CUSD 306"]
["39055001026","Argenta-Oreana CUSD 1","39055001026","39-055-0010-26_AFR22 Argenta-Oreana CUSD 1"]
["07016217016","Argo CHSD 217","07016217016","07-016-2170-16_AFR22 Argo CHSD 217"]
["05016025002","Arlington Heights SD 25","05016025002","05-016-0250-02_AFR22 Arlington Heights SD 25"]
["54092225017","Armstrong Twp HSD 225","54092225017","54-092-2250-17_AFR22 Armstrong Twp HSD 225"]
["54092061003","Armstrong-Ellis Cons SD 61","54092061003","54-092-0610-03_AFR22 Armstrong-Ellis Cons SD 61"]
["11021305026","Arthur CUSD 305","11021305026","11-021-3050-26_AFR22 Arthur CUSD 305"]
["13095015004","Ashley CCSD 15","13095015004","13-095-0150-04_AFR22 Ashley CCSD 15"]
["47052275026","Ashton-Franklin Center CUSD 275","47052275026","47-052-2750-26_AFR22 Ashton-Franklin Center CUSD 275"]
["26029001026","Astoria CUSD 1","26029001026","26-029-0010-26_AFR22 Astoria CUSD 1"]
["51065213026","Athens CUSD 213","51065213026","51-065-2130-26_AFR22 Athens CUSD 213"]
["07016125002","Atwood Heights SD 125","07016125002","07-016-1250-02_AFR22 Atwood Heights SD 125"]
["51084010026","Auburn CUSD 10","51084010026","51-084-0100-26_AFR22 Auburn CUSD 10"]
["31045131022","Aurora East USD 131","31045131022","31-045-1310-22_AFR22 Aurora East USD 131"]
["31045129022","Aurora West USD 129","31045129022","31-045-1290-22_AFR22 Aurora West USD 129"]
["13014021002","Aviston SD 21","13014021002","13-014-0210-02_AFR22 Aviston SD 21"]
["05016037002","Avoca SD 37","05016037002","05-016-0370-02_AFR22 Avoca SD 37"]
["51084005026","Ball Chatham CUSD 5","51084005026","51-084-0050-26_AFR22 Ball Chatham CUSD 5"]
["34049106002","Bannockburn SD 106","34049106002","34-049-1060-02_AFR22 Bannockburn SD 106"]
["34049220026","Barrington CUSD 220","34049220026","34-049-2200-26_AFR22 Barrington CUSD 220"]
["13014057002","Bartelso SD 57","13014057002","13-014-0570-02_AFR22 Bartelso SD 57"]
["48072066002","Bartonville SD 66","48072066002","48-072-0660-02_AFR22 Bartonville SD 66"]
["31045101022","Batavia USD 101","31045101022","31-045-1010-22_AFR22 Batavia USD 101"]
["34049003004","Beach Park CCSD 3","34049003004","34-049-0030-04_AFR22 Beach Park CCSD 3"]
["01009015026","Beardstown CUSD 15","01009015026","01-009-0150-26_AFR22 Beardstown CUSD 15"]
["03025020026","Beecher City CUSD 20","03025020026","03-025-0200-26_AFR22 Beecher City CUSD 20"]
["56099200U26","Beecher CUSD 200U","56099200U26","56-099-200U-26_AFR22 Beecher CUSD 200U"]
["28006000000","Behavior Disorder Program","28006000000","28-006-0000-00_AFR22 Behavior Disorder Program"]
["50082119002","Belle Valley SD 119","50082119002","50-082-1190-02_AFR22 Belle Valley SD 119"]
["50082801060","Belleville Area Special Services","50082801060","50-082-8010-60_AFR22 Belleville Area Special Services"]
["50082118002","Belleville SD 118","50082118002","50-082-1180-02_AFR22 Belleville SD 118"]
["50082201017","Belleville Twp HSD 201","50082201017","50-082-2010-17_AFR22 Belleville Twp HSD 201"]
["06016088002","Bellwood SD 88","06016088002","06-016-0880-02_AFR22 Bellwood SD 88"]
["04004100026","Belvidere CUSD 100","04004100026","04-004-1000-26_AFR22 Belvidere CUSD 100"]
["39074005026","Bement CUSD 5","39074005026","39-074-0050-26_AFR22 Bement CUSD 5"]
["19022025002","Benjamin SD 25","19022025002","19-022-0250-02_AFR22 Benjamin SD 25"]
["19022002002","Bensenville SD 2","19022002002","19-022-0020-02_AFR22 Bensenville SD 2"]
["21028047004","Benton CCSD 47","21028047004","21-028-0470-04_AFR22 Benton CCSD 47"]
["21028103013","Benton Cons HSD 103","21028103013","21-028-1030-13_AFR22 Benton Cons HSD 103"]
["06016087002","Berkeley SD 87","06016087002","06-016-0870-02_AFR22 Berkeley SD 87"]
["06016098002","Berwyn North SD 98","06016098002","06-016-0980-02_AFR22 Berwyn North SD 98"]
["06016100002","Berwyn South SD 100","06016100002","06-016-1000-02_AFR22 Berwyn South SD 100"]
["41057008026","Bethalto CUSD 8","41057008026","41-057-0080-26_AFR22 Bethalto CUSD 8"]
["13041082002","Bethel SD 82","13041082002","13-041-0820-02_AFR22 Bethel SD 82"]
["47098000061","Bi-County Special Educ Coop","47098000061","47-098-0000-61_AFR22 Bi-County Special Educ Coop"]
["34049038002","Big Hollow SD 38","34049038002","34-049-0380-02_AFR22 Big Hollow SD 38"]
["54092001026","Bismarck Henning CUSD","54092001026","54-092-0010-26_AFR22 Bismarck Henning CUSD"]
["54092800080","Bismarck Henning Rossville Alvin Cooperative High School","54092800080","54-092-8000-80_AFR22 Bismarck Henning Rossville Alvin Cooperative High School"]
["49081865060","Black Hawk Area Sp Ed District","49081865060","49-081-8650-60_AFR22 Black Hawk Area Sp Ed District"]
["07016206017","Bloom Twp HSD 206","07016206017","07-016-2060-17_AFR22 Bloom Twp HSD 206"]
["19022013002","Bloomingdale SD 13","19022013002","19-022-0130-02_AFR22 Bloomingdale SD 13"]
["17064087041","Bloomington Area Career Center","17064087041","17-064-0870-41_AFR22 Bloomington Area Career Center"]
["17064087025","Bloomington SD 87","17064087025","17-064-0870-25_AFR22 Bloomington SD 87"]
["17020018026","Blue Ridge CUSD 18","17020018026","17-020-0180-26_AFR22 Blue Ridge CUSD 18"]
["13041318027","Bluford Unit School District 318","13041318027","13-041-3180-27_AFR22 Bluford Unit School District 318"]
["35059005061","BMP Tri County Special Ed Coop","35059005061","35-059-0050-61_AFR22 BMP Tri County Special Ed Coop"]
["03003002026","Bond County CUSD 2","03003002026","03-003-0020-26_AFR22 Bond County CUSD 2"]
["03026741045","Bond Fayette Effingham EFE 410","03026741045","03-026-7410-45_AFR22 Bond Fayette Effingham EFE 410"]
["04004000051","Boone Winnebago Regional Alternative School","04004000051","04-004-0000-51_AFR22 Boone Winnebago Regional Alternative School"]
["32046053002","Bourbonnais SD 53","32046053002","32-046-0530-02_AFR22 Bourbonnais SD 53"]
["24032075002","Braceville SD 75","24032075002","24-032-0750-02_AFR22 Braceville SD 75"]
["28088001026","Bradford CUSD 1","28088001026","28-088-0010-26_AFR22 Bradford CUSD 1"]
["32046307016","Bradley Bourbonnais CHSD 307","32046307016","32-046-3070-16_AFR22 Bradley Bourbonnais CHSD 307"]
["32046061002","Bradley SD 61","32046061002","32-046-0610-02_AFR22 Bradley SD 61"]
["13014012004","Breese ESD 12","13014012004","13-014-0120-04_AFR22 Breese ESD 12"]
["07016228016","Bremen CHSD 228","07016228016","07-016-2280-16_AFR22 Bremen CHSD 228"]
["48072309026","Brimfield CUSD 309","48072309026","48-072-3090-26_AFR22 Brimfield CUSD 309"]
["06016095002","Brookfield Lagrange Park SD 95","06016095002","06-016-0950-02_AFR22 Brookfield Lagrange Park SD 95"]
["50082188022","Brooklyn UD 188","50082188022","50-082-1880-22_AFR22 Brooklyn UD 188"]
["07016167002","Brookwood SD 167","07016167002","07-016-1670-02_AFR22 Brookwood SD 167"]
["01005001026","Brown County CUSD 1","01005001026","01-005-0010-26_AFR22 Brown County CUSD 1"]
["03026201026","Brownstown CUSD 201","03026201026","03-026-2010-26_AFR22 Brownstown CUSD 201"]
["40007042026","Brussels CUSD 42","40007042026","40-007-0420-26_AFR22 Brussels CUSD 42"]
["21044043003","Buncombe Cons SD 43","21044043003","21-044-0430-03_AFR22 Buncombe Cons SD 43"]
["40056008026","Bunker Hill CUSD 8","40056008026","40-056-0080-26_AFR22 Bunker Hill CUSD 8"]
["07016111002","Burbank SD 111","07016111002","07-016-1110-02_AFR22 Burbank SD 111"]
["28006340026","Bureau Valley CUSD 340","28006340026","28-006-3400-26_AFR22 Bureau Valley CUSD 340"]
["07016154502","Burnham SD 154-5","07016154502","07-016-1545-02_AFR22 Burnham SD 154-5"]
["26062170026","Bushnell Prairie City CUSD 170","26062170026","26-062-1700-26_AFR22 Bushnell Prairie City CUSD 170"]
["19022053002","Butler SD 53","19022053002","19-022-0530-02_AFR22 Butler SD 53"]
["47071226026","Byron CUSD 226","47071226026","47-071-2260-26_AFR22 Byron CUSD 226"]
["50082187026","Cahokia CUSD 187","50082187026","50-082-1870-26_AFR22 Cahokia CUSD 187"]
["30002001022","Cairo USD 1","30002001022","30-002-0010-22_AFR22 Cairo USD 1"]
["40007040026","Calhoun CUSD 40","40007040026","40-007-0400-26_AFR22 Calhoun CUSD 40"]
["07016155002","Calumet City SD 155","07016155002","07-016-1550-02_AFR22 Calumet City SD 155"]
["07016132002","Calumet Public SD 132","07016132002","07-016-1320-02_AFR22 Calumet Public SD 132"]
["28037227026","Cambridge CUSD 227","28037227026","28-037-2270-26_AFR22 Cambridge CUSD 227"]
["26029066025","Canton Union SD 66","26029066025","26-029-0660-25_AFR22 Canton Union SD 66"]
["51084790040","Capital Area Career Center","51084790040","51-084-7900-40_AFR22 Capital Area Career Center"]
["49081036002","Carbon Cliff-Barstow SD 36","49081036002","49-081-0360-02_AFR22 Carbon Cliff-Barstow SD 36"]
["30039165016","Carbondale CHSD 165","30039165016","30-039-1650-16_AFR22 Carbondale CHSD 165"]
["30039095002","Carbondale ESD 95","30039095002","30-039-0950-02_AFR22 Carbondale ESD 95"]
["08089723045","Career & Tech Educ Consortium","08089723045","08-089-7230-45_AFR22 Career & Tech Educ Consortium"]
["45000000040","Career Center of Southern IL","45000000040","45-000-0000-40_AFR22 Career Center of Southern IL"]
["07016228046","Career Development System","07016228046","07-016-2280-46_AFR22 Career Development System"]
["04000000046","Career Educ Assoc of N Central IL","04000000046","04-000-0000-46_AFR22 Career Educ Assoc of N Central IL"]
["07016790045","Career Preparation Network","07016790045","07-016-7900-45_AFR22 Career Preparation Network"]
["40056001026","Carlinville CUSD 1","40056001026","40-056-0010-26_AFR22 Carlinville CUSD 1"]
["13014001026","Carlyle CUSD 1","13014001026","13-014-0010-26_AFR22 Carlyle CUSD 1"]
["20097005026","Carmi-White County CUSD 5","20097005026","20-097-0050-26_AFR22 Carmi-White County CUSD 5"]
["20083002026","Carrier Mills-Stonefort CUSD 2","20083002026","20-083-0020-26_AFR22 Carrier Mills-Stonefort CUSD 2"]
["40031001026","Carrollton CUSD 1","40031001026","40-031-0010-26_AFR22 Carrollton CUSD 1"]
["21100005026","Carterville CUSD 5","21100005026","21-100-0050-26_AFR22 Carterville CUSD 5"]
["26034317004","Carthage ESD 317","26034317004","26-034-3170-04_AFR22 Carthage ESD 317"]
["44063026004","Cary CCSD 26","44063026004","44-063-0260-04_AFR22 Cary CCSD 26"]
["11012004C26","Casey-Westfield CUSD 4C","11012004C26","11-012-004C-26_AFR22 Casey-Westfield CUSD 4C"]
["19022063002","Cass SD 63","19022063002","19-022-0630-02_AFR22 Cass SD 63"]
["07016146004","CCSD 146","07016146004","07-016-1460-04_AFR22 CCSD 146"]
["07016168004","CCSD 168","07016168004","07-016-1680-04_AFR22 CCSD 168"]
["19022180004","CCSD 180","19022180004","19-022-1800-04_AFR22 CCSD 180"]
["30073204004","CCSD 204","30073204004","30-073-2040-04_AFR22 CCSD 204"]
["05016062004","CCSD 62","05016062004","05-016-0620-04_AFR22 CCSD 62"]
["19022089004","CCSD 89","19022089004","19-022-0890-04_AFR22 CCSD 89"]
["19022093004","CCSD 93","19022093004","19-022-0930-04_AFR22 CCSD 93"]
["19022066002","Center Cass SD 66","19022066002","19-022-0660-02_AFR22 Center Cass SD 66"]
["11087021026","Central A & M CUD 21","11087021026","11-087-0210-26_AFR22 Central A & M CUD 21"]
["13014071016","Central CHSD 71","13014071016","13-014-0710-16_AFR22 Central CHSD 71"]
["13058133002","Central City SD 133","13058133002","13-058-1330-02_AFR22 Central City SD 133"]
["01001003026","Central CUSD 3","01001003026","01-001-0030-26_AFR22 Central CUSD 3"]
["31045301026","Central CUSD 301","31045301026","31-045-3010-26_AFR22 Central CUSD 301"]
["32038004026","Central CUSD 4","32038004026","32-038-0040-26_AFR22 Central CUSD 4"]
["53102721045","Central IL Voc Ed Coop","53102721045","53-102-7210-45_AFR22 Central IL Voc Ed Coop"]
["40000000046","Central Ill Rural Region","40000000046","40-000-0000-46_AFR22 Central Ill Rural Region"]
["50082104002","Central SD 104","50082104002","50-082-1040-02_AFR22 Central SD 104"]
["53090051002","Central SD 51","53090051002","53-090-0510-02_AFR22 Central SD 51"]
["07016110002","Central Stickney SD 110","07016110002","07-016-1100-02_AFR22 Central Stickney SD 110"]
["13058200017","Centralia HSD 200","13058200017","13-058-2000-17_AFR22 Centralia HSD 200"]
["13058135002","Centralia SD 135","13058135002","13-058-1350-02_AFR22 Centralia SD 135"]
["30077100026","Century CUSD 100","30077100026","30-077-1000-26_AFR22 Century CUSD 100"]
["39074100026","Cerro Gordo CUSD 100","39074100026","39-074-1000-26_AFR22 Cerro Gordo CUSD 100"]
["08008399026","Chadwick-Milledgeville CUSD 399","08008399026","08-008-3990-26_AFR22 Chadwick-Milledgeville CUSD 399"]
["09010004026","Champaign CUSD 4","09010004026","09-010-0040-26_AFR22 Champaign CUSD 4"]
["56099088002","Chaney-Monge SD 88","56099088002","56-099-0880-02_AFR22 Chaney-Monge SD 88"]
["56099017002","Channahon SD 17","56099017002","56-099-0170-02_AFR22 Channahon SD 17"]
["11015001026","Charleston CUSD 1","11015001026","11-015-0010-26_AFR22 Charleston CUSD 1"]
["45079139026","Chester CUSD 139","45079139026","45-079-1390-26_AFR22 Chester CUSD 139"]
["45079122019","Chester N HSD 122","45079122019","45-079-1220-19_AFR22 Chester N HSD 122"]
["17054061004","Chester-East Lincoln CCSD 61","17054061004","17-054-0610-04_AFR22 Chester-East Lincoln CCSD 61"]
["07016170002","Chicago Heights SD 170","07016170002","07-016-1700-02_AFR22 Chicago Heights SD 170"]
["07016127502","Chicago Ridge SD 127-5","07016127502","07-016-1275-02_AFR22 Chicago Ridge SD 127-5"]
["21028099026","Christopher USD 99","21028099026","21-028-0990-26_AFR22 Christopher USD 99"]
["34049117016","CHSD 117","34049117016","34-049-1170-16_AFR22 CHSD 117"]
["34049128016","CHSD 128","34049128016","34-049-1280-16_AFR22 CHSD 128"]
["44063155016","CHSD 155","44063155016","44-063-1550-16_AFR22 CHSD 155"]
["07016218016","CHSD 218","07016218016","07-016-2180-16_AFR22 CHSD 218"]
["19022094016","CHSD 94","19022094016","19-022-0940-16_AFR22 CHSD 94"]
["19022099016","CHSD 99","19022099016","19-022-0990-16_AFR22 CHSD 99"]
["06016099002","Cicero SD 99","06016099002","06-016-0990-02_AFR22 Cicero SD 99"]
["32038006026","Cissna Park CUSD 6","32038006026","32-038-0060-26_AFR22 Cissna Park CUSD 6"]
["15016299025","City of Chicago SD 299","15016299025","15-016-2990-25_AFR22 City of Chicago SD 299"]
["12013010026","Clay City CUSD 10","12013010026","12-013-0100-26_AFR22 Clay City CUSD 10"]
["12013035046","Clay/Jasper/Richland/N Wayne RDS","12013035046","12-013-0350-46_AFR22 Clay/Jasper/Richland/N Wayne RDS"]
["17020015026","Clinton CUSD 15","17020015026","17-020-0150-26_AFR22 Clinton CUSD 15"]
["24032001026","Coal City CUSD 1","24032001026","24-032-0010-26_AFR22 Coal City CUSD 1"]
["30091017022","Cobden SUD 17","30091017022","30-091-0170-22_AFR22 Cobden SUD 17"]
["41057010041","Collinsville Area Career Ctr","41057010041","41-057-0100-41_AFR22 Collinsville Area Career Ctr"]
["41057010026","Collinsville CUSD 10","41057010026","41-057-0100-26_AFR22 Collinsville CUSD 10"]
["28037190002","Colona SD 190","28037190002","28-037-1900-02_AFR22 Colona SD 190"]
["45067004026","Columbia CUSD 4","45067004026","45-067-0040-26_AFR22 Columbia CUSD 4"]
["05016059004","Comm Cons SD 59","05016059004","05-016-0590-04_AFR22 Comm Cons SD 59"]
["07016230013","Cons HSD 230","07016230013","07-016-2300-13_AFR22 Cons HSD 230"]
["07016130002","Cook County SD 130","07016130002","07-016-1300-02_AFR22 Cook County SD 130"]
["19022015061","Coop Assoc for Spec Educ","19022015061","19-022-0150-61_AFR22 Coop Assoc for Spec Educ"]
["17053426004","Cornell CCSD 426","17053426004","17-053-4260-04_AFR22 Cornell CCSD 426"]
["45079001022","Coulterville USD 1","45079001022","45-079-0010-22_AFR22 Coulterville USD 1"]
["07016160002","Country Club Hills SD 160","07016160002","07-016-1600-02_AFR22 Country Club Hills SD 160"]
["30091043004","County of Union Sch Dist No43","30091043004","30-091-0430-04_AFR22 County of Union Sch Dist No43"]
["04101320026","County of Winnebago SD 320","04101320026","04-101-3200-26_AFR22 County of Winnebago SD 320"]
["53102122017","County of Woodford School","53102122017","53-102-1220-17_AFR22 County of Woodford School"]
["11087003A26","Cowden-Herrick CUSD 3A","11087003A26","11-087-003A-26_AFR22 Cowden-Herrick CUSD 3A"]
["21100003026","Crab Orchard CUSD 3","21100003026","21-100-0030-26_AFR22 Crab Orchard CUSD 3"]
["32038249026","Crescent Iroquois CUSD 249","32038249026","32-038-2490-26_AFR22 Crescent Iroquois CUSD 249"]
["47071161004","Creston CCSD 161","47071161004","47-071-1610-04_AFR22 Creston CCSD 161"]
["56099201U26","Crete Monee CUSD 201U","56099201U26","56-099-201U-26_AFR22 Crete Monee CUSD 201U"]
["53090076002","Creve Coeur SD 76","53090076002","53-090-0760-02_AFR22 Creve Coeur SD 76"]
["44063047004","Crystal Lake CCSD 47","44063047004","44-063-0470-04_AFR22 Crystal Lake CCSD 47"]
["11018077026","Cumberland CUSD 77","11018077026","11-018-0770-26_AFR22 Cumberland CUSD 77"]
["19022200026","CUSD 200","19022200026","19-022-2000-26_AFR22 CUSD 200"]
["19022201026","CUSD 201","19022201026","19-022-2010-26_AFR22 CUSD 201"]
["26029003026","CUSD 3 Fulton County","26029003026","26-029-0030-26_AFR22 CUSD 3 Fulton County"]
["31045300026","CUSD 300","31045300026","31-045-3000-26_AFR22 CUSD 300"]
["24047308026","CUSD 308","24047308026","24-047-3080-26_AFR22 CUSD 308"]
["01001004026","CUSD 4","01001004026","01-001-0040-26_AFR22 CUSD 4"]
["21044064002","Cypress SD 64","21044064002","21-044-0640-02_AFR22 Cypress SD 64"]
["08089201026","Dakota CUSD 201","08089201026","08-089-2010-26_AFR22 Dakota CUSD 201"]
["26034327004","Dallas ESD 327","26034327004","26-034-3270-04_AFR22 Dallas ESD 327"]
["28006098002","Dalzell SD 98","28006098002","28-006-0980-02_AFR22 Dalzell SD 98"]
["13014062002","Damiansville SD 62","13014062002","13-014-0620-02_AFR22 Damiansville SD 62"]
["54092118024","Danville CCSD 118","54092118024","54-092-1180-24_AFR22 Danville CCSD 118"]
["19022061002","Darien SD 61","19022061002","19-022-0610-02_AFR22 Darien SD 61"]
["39055061025","Decatur SD 61","39055061025","39-055-0610-25_AFR22 Decatur SD 61"]
["53090701026","Deer Creek-Mackinaw CUSD 701","53090701026","53-090-7010-26_AFR22 Deer Creek-Mackinaw CUSD 701"]
["35050082004","Deer Park CCSD 82","35050082004","35-050-0820-04_AFR22 Deer Park CCSD 82"]
["34049109002","Deerfield SD 109","34049109002","34-049-1090-02_AFR22 Deerfield SD 109"]
["16019428026","DeKalb CUSD 428","16019428026","16-019-4280-26_AFR22 DeKalb CUSD 428"]
["33094729045","Delabar CTE System","33094729045","33-094-7290-45_AFR22 Delabar CTE System"]
["39074057026","Deland-Weldon CUSD 57","39074057026","39-074-0570-26_AFR22 Deland-Weldon CUSD 57"]
["53090703026","Delavan CUSD 703","53090703026","53-090-7030-26_AFR22 Delavan CUSD 703"]
["28006103022","DePue USD 103","28006103022","28-006-1030-22_AFR22 DePue USD 103"]
["06016212046","Des Plaines Valley EFE","06016212046","06-016-2120-46_AFR22 Des Plaines Valley EFE"]
["30039086003","DeSoto Cons SD 86","30039086003","30-039-0860-03_AFR22 DeSoto Cons SD 86"]
["34049076002","Diamond Lake SD 76","34049076002","34-049-0760-02_AFR22 Diamond Lake SD 76"]
["03025030026","Dieterich CUSD 30","03025030026","03-025-0300-26_AFR22 Dieterich CUSD 30"]
["35050017504","Dimmick Community Consolidated SD #175","35050017504","35-050-0175-04_AFR22 Dimmick Community Consolidated SD #175"]
["53090050002","District 50 Schools","53090050002","53-090-0500-02_AFR22 District 50 Schools"]
["47052170022","Dixon USD 170","47052170022","47-052-1700-22_AFR22 Dixon USD 170"]
["07016148002","Dolton SD 148","07016148002","07-016-1480-02_AFR22 Dolton SD 148"]
["07016149002","Dolton SD 149","07016149002","07-016-1490-02_AFR22 Dolton SD 149"]
["30091066022","Dongola USD 66","30091066022","30-091-0660-22_AFR22 Dongola USD 66"]
["32038003026","Donovan CUSD 3","32038003026","32-038-0030-26_AFR22 Donovan CUSD 3"]
["19022058002","Downers Grove GSD 58","19022058002","19-022-0580-02_AFR22 Downers Grove GSD 58"]
["30073300026","Du Quoin CUSD 300","30073300026","30-073-3000-26_AFR22 Du Quoin CUSD 300"]
["48072323026","Dunlap CUSD 323","48072323026","48-072-3230-26_AFR22 Dunlap CUSD 323"]
["19022502046","DuPage Area Occup Educ Sys","19022502046","19-022-5020-46_AFR22 DuPage Area Occup Educ Sys"]
["19022088016","DuPage HSD 88","19022088016","19-022-0880-16_AFR22 DuPage HSD 88"]
["50082196026","Dupo CUSD 196","50082196026","50-082-1960-26_AFR22 Dupo CUSD 196"]
["04101322026","Durand CUSD 322","04101322026","04-101-3220-26_AFR22 Durand CUSD 322"]
["17053232002","Dwight Common SD 232","17053232002","17-053-2320-02_AFR22 Dwight Common SD 232"]
["17053230017","Dwight Twp HSD 230","17053230017","17-053-2300-17_AFR22 Dwight Twp HSD 230"]
["50082189061","E St Louis Area Joint Agreement","50082189061","50-082-1890-61_AFR22 E St Louis Area Joint Agreement"]
["08000000046","Eagle Ridge Vocational Del Sys","08000000046","08-000-0000-46_AFR22 Eagle Ridge Vocational Del Sys"]
["35050009026","Earlville CUSD 9","35050009026","35-050-0090-26_AFR22 Earlville CUSD 9"]
["41057013002","East Alton SD 13","41057013002","41-057-0130-02_AFR22 East Alton SD 13"]
["41057014016","East Alton-Wood River CHSD 14","41057014016","41-057-0140-16_AFR22 East Alton-Wood River CHSD 14"]
["47098020002","East Coloma - Nelson CESD 20","47098020002","47-098-0200-02_AFR22 East Coloma - Nelson CESD 20"]
["08043119022","East Dubuque USD 119","08043119022","08-043-1190-22_AFR22 East Dubuque USD 119"]
["05016063002","East Maine SD 63","05016063002","05-016-0630-02_AFR22 East Maine SD 63"]
["49081037002","East Moline SD 37","49081037002","49-081-0370-02_AFR22 East Moline SD 37"]
["53090309016","East Peoria CHSD 309","53090309016","53-090-3090-16_AFR22 East Peoria CHSD 309"]
["53090086002","East Peoria SD 86","53090086002","53-090-0860-02_AFR22 East Peoria SD 86"]
["05016073002","East Prairie SD 73","05016073002","05-016-0730-02_AFR22 East Prairie SD 73"]
["50082189022","East St Louis SD 189","50082189022","50-082-1890-22_AFR22 East St Louis SD 189"]
["11015801060","Eastern IL Area of Spec Educ","11015801060","11-015-8010-60_AFR22 Eastern IL Area of Spec Educ"]
["11015735045","Eastern IL EFE System","11015735045","11-015-7350-45_AFR22 Eastern IL EFE System"]
["08008308026","Eastland CUSD 308","08008308026","08-008-3080-26_AFR22 Eastland CUSD 308"]
["11023006026","Edgar County CUD 6","11023006026","11-023-0060-26_AFR22 Edgar County CUD 6"]
["03011004026","Edinburg CUSD 4","03011004026","03-011-0040-26_AFR22 Edinburg CUSD 4"]
["09010008046","Educ for Employment Sys 330","09010008046","09-010-0080-46_AFR22 Educ for Employment Sys 330"]
["20024001026","Edwards County CUSD 1","20024001026","20-024-0010-26_AFR22 Edwards County CUSD 1"]
["41057007026","Edwardsville CUSD 7","41057007026","41-057-0070-26_AFR22 Edwardsville CUSD 7"]
["03025040026","Effingham CUSD 40","03025040026","03-025-0400-26_AFR22 Effingham CUSD 40"]
["30002005026","Egyptian CUSD 5","30002005026","30-002-0050-26_AFR22 Egyptian CUSD 5"]
["07016127561","Eisenhower Cooperative","07016127561","07-016-1275-61_AFR22 Eisenhower Cooperative"]
["53102011026","El Paso-Gridley CUSD 11","53102011026","53-102-0110-26_AFR22 El Paso-Gridley CUSD 11"]
["20083004026","Eldorado CUSD 4","20083004026","20-083-0040-26_AFR22 Eldorado CUSD 4"]
["19022205026","Elmhurst SD 205","19022205026","19-022-2050-26_AFR22 Elmhurst SD 205"]
["48072322026","Elmwood CUSD 322","48072322026","48-072-3220-26_AFR22 Elmwood CUSD 322"]
["06016401026","Elmwood Park CUSD 401","06016401026","06-016-4010-26_AFR22 Elmwood Park CUSD 401"]
["30039196026","Elverado CUSD 196","30039196026","30-039-1960-26_AFR22 Elverado CUSD 196"]
["56099203004","Elwood CCSD 203","56099203004","56-099-2030-04_AFR22 Elwood CCSD 203"]
["34049033002","Emmons SD 33","34049033002","34-049-0330-02_AFR22 Emmons SD 33"]
["47098001026","Erie CUSD 1","47098001026","47-098-0010-26_AFR22 Erie CUSD 1"]
["07016159002","ESD 159","07016159002","07-016-1590-02_AFR22 ESD 159"]
["50082747045","ESL Regional Vocational System","50082747045","50-082-7470-45_AFR22 ESL Regional Vocational System"]
["47071269004","Eswood CCSD 269","47071269004","47-071-2690-04_AFR22 Eswood CCSD 269"]
["53102140026","Eureka CUD 140","53102140026","53-102-1400-26_AFR22 Eureka CUD 140"]
["05016065004","Evanston CCSD 65","05016065004","05-016-0650-04_AFR22 Evanston CCSD 65"]
["05016065061","Evanston Dists 65/202 Jnt Agr","05016065061","05-016-0650-61_AFR22 Evanston Dists 65/202 Jnt Agr"]
["05016202017","Evanston Twp HSD 202","05016202017","05-016-2020-17_AFR22 Evanston Twp HSD 202"]
["07016231016","Evergreen Park CHSD 231","07016231016","07-016-2310-16_AFR22 Evergreen Park CHSD 231"]
["07016124002","Evergreen Park ESD 124","07016124002","07-016-1240-02_AFR22 Evergreen Park ESD 124"]
["21028115004","Ewing Northern CCSD 115","21028115004","21-028-1150-04_AFR22 Ewing Northern CCSD 115"]
["07016150061","Exc Children Have Opportunities","07016150061","07-016-1500-61_AFR22 Exc Children Have Opportunities"]
["34049801060","Exceptional Learners","34049801060","34-049-8010-60_AFR22 Exceptional Learners"]
["20096225016","Fairfield Comm H S Dist 225","20096225016","20-096-2250-16_AFR22 Fairfield Comm H S Dist 225"]
["20096112004","Fairfield PSD 112","20096112004","20-096-1120-04_AFR22 Fairfield PSD 112"]
["56099089002","Fairmont SD 89","56099089002","56-099-0890-02_AFR22 Fairmont SD 89"]
["05016072002","Fairview SD 72","05016072002","05-016-0720-02_AFR22 Fairview SD 72"]
["48072265026","Farmington Central CUSD 265","48072265026","48-072-2650-26_AFR22 Farmington Central CUSD 265"]
["13041099004","Farrington CCSD 99","13041099004","13-041-0990-04_AFR22 Farrington CCSD 99"]
["19022100016","Fenton CHSD 100","19022100016","19-022-1000-16_AFR22 Fenton CHSD 100"]
["13041003004","Field CCSD 3","13041003004","13-041-0030-04_AFR22 Field CCSD 3"]
["53102006026","Fieldcrest CUSD 6","53102006026","53-102-0060-26_AFR22 Fieldcrest CUSD 6"]
["09010001026","Fisher CUSD 1","09010001026","09-010-0010-26_AFR22 Fisher CUSD 1"]
["30002748045","Five County Reg Voc System","30002748045","30-002-7480-45_AFR22 Five County Reg Voc System"]
["17053074027","Flanagan-Cornell Dist 74","17053074027","17-053-0740-27_AFR22 Flanagan-Cornell Dist 74"]
["12013035026","Flora CUSD 35","12013035026","12-013-0350-26_AFR22 Flora CUSD 35"]
["07016161002","Flossmoor SD 161","07016161002","07-016-1610-02_AFR22 Flossmoor SD 161"]
["07016169002","Ford Heights SD 169","07016169002","07-016-1690-02_AFR22 Ford Heights SD 169"]
["09027005061","Ford Special Education Coop","09027005061","09-027-0050-61_AFR22 Ford Special Education Coop"]
["06016091002","Forest Park SD 91","06016091002","06-016-0910-02_AFR22 Forest Park SD 91"]
["07016142002","Forest Ridge SD 142","07016142002","07-016-1420-02_AFR22 Forest Ridge SD 142"]
["47071221026","Forrestville Valley CUSD 221","47071221026","47-071-2210-26_AFR22 Forrestville Valley CUSD 221"]
["01069801060","Four Rivers Spec Educ Dist","01069801060","01-069-8010-60_AFR22 Four Rivers Spec Educ Dist"]
["34049114002","Fox Lake GSD 114","34049114002","34-049-1140-02_AFR22 Fox Lake GSD 114"]
["44063003003","Fox River Grove Cons SD 3","44063003003","44-063-0030-03_AFR22 Fox River Grove Cons SD 3"]
["31045302041","Fox Valley Career Center","31045302041","31-045-3020-41_AFR22 Fox Valley Career Center"]
["56099157C04","Frankfort CCSD 157C","56099157C04","56-099-157C-04_AFR22 Frankfort CCSD 157C"]
["21028168026","Frankfort CUSD 168","21028168026","21-028-1680-26_AFR22 Frankfort CUSD 168"]
["01069001026","Franklin CUSD 1","01069001026","01-069-0010-26_AFR22 Franklin CUSD 1"]
["06016084002","Franklin Park SD 84","06016084002","06-016-0840-02_AFR22 Franklin Park SD 84"]
["13041801060","Franklin-Jefferson Co Sp Ed Dist","13041801060","13-041-8010-60_AFR22 Franklin-Jefferson Co Sp Ed Dist"]
["50082070004","Freeburg CCSD 70","50082070004","50-082-0700-04_AFR22 Freeburg CCSD 70"]
["50082077016","Freeburg CHSD 77","50082077016","50-082-0770-16_AFR22 Freeburg CHSD 77"]
["08089145022","Freeport SD 145","08089145022","08-089-1450-22_AFR22 Freeport SD 145"]
["34049079002","Fremont SD 79","34049079002","34-049-0790-02_AFR22 Fremont SD 79"]
["20083001026","Galatia CUSD 1","20083001026","20-083-0010-26_AFR22 Galatia CUSD 1"]
["08043120022","Galena USD 120","08043120022","08-043-1200-22_AFR22 Galena USD 120"]
["33048205041","Galesburg Area Voc Ctr","33048205041","33-048-2050-41_AFR22 Galesburg Area Voc Ctr"]
["33048205026","Galesburg CUSD 205","33048205026","33-048-2050-26_AFR22 Galesburg CUSD 205"]
["20030007026","Gallatin CUSD 7","20030007026","20-030-0070-26_AFR22 Gallatin CUSD 7"]
["28037224026","Galva CUSD 224","28037224026","28-037-2240-26_AFR22 Galva CUSD 224"]
["24032072C04","Gardner CCSD 72C","24032072C04","24-032-072C-04_AFR22 Gardner CCSD 72C"]
["24032073017","Gardner S Wilmington Twp HSD 73","24032073017","24-032-0730-17_AFR22 Gardner S Wilmington Twp HSD 73"]
["34049037002","Gavin SD 37","34049037002","34-049-0370-02_AFR22 Gavin SD 37"]
["20096014004","Geff CCSD 14","20096014004","20-096-0140-04_AFR22 Geff CCSD 14"]
["07016133002","Gen George Patton SD 133","07016133002","07-016-1330-02_AFR22 Gen George Patton SD 133"]
["28037228026","Geneseo CUSD 228","28037228026","28-037-2280-26_AFR22 Geneseo CUSD 228"]
["31045304026","Geneva CUSD 304","31045304026","31-045-3040-26_AFR22 Geneva CUSD 304"]
["16019424026","Genoa Kingston CUSD 424","16019424026","16-019-4240-26_AFR22 Genoa Kingston CUSD 424"]
["54092004026","Georgetown-Ridge Farm CUD 4","54092004026","54-092-0040-26_AFR22 Georgetown-Ridge Farm CUD 4"]
["53102069002","Germantown Hills SD 69","53102069002","53-102-0690-02_AFR22 Germantown Hills SD 69"]
["13014060002","Germantown SD 60","13014060002","13-014-0600-02_AFR22 Germantown SD 60"]
["30039130004","Giant City CCSD 130","30039130004","30-039-1300-04_AFR22 Giant City CCSD 130"]
["09027005026","Gibson City-Melvin-Sibley CUSD 5","09027005026","09-027-0050-26_AFR22 Gibson City-Melvin-Sibley CUSD 5"]
["09010188004","Gifford CCSD 188","09010188004","09-010-1880-04_AFR22 Gifford CCSD 188"]
["40056007026","Gillespie CUSD 7","40056007026","40-056-0070-26_AFR22 Gillespie CUSD 7"]
["19022041002","Glen Ellyn SD 41","19022041002","19-022-0410-02_AFR22 Glen Ellyn SD 41"]
["19022087017","Glenbard Twp HSD 87","19022087017","19-022-0870-17_AFR22 Glenbard Twp HSD 87"]
["05016035002","Glencoe SD 35","05016035002","05-016-0350-02_AFR22 Glencoe SD 35"]
["05016034004","Glenview CCSD 34","05016034004","05-016-0340-04_AFR22 Glenview CCSD 34"]
["05016067002","Golf ESD 67","05016067002","05-016-0670-02_AFR22 Golf ESD 67"]
["21044001026","Goreville CUD 1","21044001026","21-044-0010-26_AFR22 Goreville CUD 1"]
["19022062002","Gower SD 62","19022062002","19-022-0620-02_AFR22 Gower SD 62"]
["13041006004","Grand Prairie CCSD 6","13041006004","13-041-0060-04_AFR22 Grand Prairie CCSD 6"]
["35050095004","Grand Ridge CCSD 95","35050095004","35-050-0950-04_AFR22 Grand Ridge CCSD 95"]
["41057009026","Granite City CUSD 9","41057009026","41-057-0090-26_AFR22 Granite City CUSD 9"]
["50082110004","Grant CCSD 110","50082110004","50-082-1100-04_AFR22 Grant CCSD 110"]
["34049124016","Grant CHSD 124","34049124016","34-049-1240-16_AFR22 Grant CHSD 124"]
["32046006026","Grant Park CUSD 6","32046006026","32-046-0060-26_AFR22 Grant Park CUSD 6"]
["34049036002","Grass Lake SD 36","34049036002","34-049-0360-02_AFR22 Grass Lake SD 36"]
["34049046004","Grayslake CCSD 46","34049046004","34-049-0460-04_AFR22 Grayslake CCSD 46"]
["34049127016","Grayslake CHSD 127","34049127016","34-049-1270-16_AFR22 Grayslake CHSD 127"]
["20097001026","Grayville CUSD 1","20097001026","20-097-0010-26_AFR22 Grayville CUSD 1"]
["40031010026","Greenfield CUSD 10","40031010026","40-031-0100-26_AFR22 Greenfield CUSD 10"]
["51065200026","Greenview CUSD 200","51065200026","51-065-2000-26_AFR22 Greenview CUSD 200"]
["01075004026","Griggsville-Perry CUSD 4","01075004026","01-075-0040-26_AFR22 Griggsville-Perry CUSD 4"]
["24032790040","Grundy Area Vocational Center","24032790040","24-032-7900-40_AFR22 Grundy Area Vocational Center"]
["24032101061","Grundy County Spec Educ Coop","24032101061","24-032-1010-61_AFR22 Grundy County Spec Educ Coop"]
["34049056002","Gurnee SD 56","34049056002","34-049-0560-02_AFR22 Gurnee SD 56"]
["28006502017","Hall HSD 502","28006502017","28-006-5020-17_AFR22 Hall HSD 502"]
["26034328024","Hamilton CCSD 328","26034328024","26-034-3280-24_AFR22 Hamilton CCSD 328"]
["20033010026","Hamilton Co CUSD 10","20033010026","20-033-0100-26_AFR22 Hamilton Co CUSD 10"]
["49081029002","Hampton SD 29","49081029002","49-081-0290-02_AFR22 Hampton SD 29"]
["20035001026","Hardin County CUSD 1","20035001026","20-035-0010-26_AFR22 Hardin County CUSD 1"]
["04101122022","Harlem UD 122","04101122022","04-101-1220-22_AFR22 Harlem UD 122"]
["50082175002","Harmony Emge SD 175","50082175002","50-082-1750-02_AFR22 Harmony Emge SD 175"]
["20083003026","Harrisburg CUSD 3","20083003026","20-083-0030-26_AFR22 Harrisburg CUSD 3"]
["44063036002","Harrison SD 36","44063036002","44-063-0360-02_AFR22 Harrison SD 36"]
["17054021026","Hartsburg Emden CUSD 21","17054021026","17-054-0210-26_AFR22 Hartsburg Emden CUSD 21"]
["44063050026","Harvard CUSD 50","44063050026","44-063-0500-26_AFR22 Harvard CUSD 50"]
["07016152002","Harvey SD 152","07016152002","07-016-1520-02_AFR22 Harvey SD 152"]
["53060126026","Havana CUSD 126","53060126026","53-060-1260-26_AFR22 Havana CUSD 126"]
["34049073004","Hawthorn CCSD 73","34049073004","34-049-0730-04_AFR22 Hawthorn CCSD 73"]
["07016152502","Hazel Crest SD 152-5","07016152502","07-016-1525-02_AFR22 Hazel Crest SD 152-5"]
["39000000046","Heartland Region","39000000046","39-000-0000-46_AFR22 Heartland Region"]
["35059005026","Henry-Senachwine CUSD 5","35059005026","35-059-0050-26_AFR22 Henry-Senachwine CUSD 5"]
["28037801060","Henry-Stark County Spec Ed Dist","28037801060","28-037-8010-60_AFR22 Henry-Stark County Spec Ed Dist"]
["09010008026","Heritage CUSD 8","09010008026","09-010-0080-26_AFR22 Heritage CUSD 8"]
["21100004026","Herrin CUSD 4","21100004026","21-100-0040-26_AFR22 Herrin CUSD 4"]
["32046002026","Herscher CUSD 2","32046002026","32-046-0020-26_AFR22 Herscher CUSD 2"]
["17064004026","Heyworth CUSD 4","17064004026","17-064-0040-26_AFR22 Heyworth CUSD 4"]
["16019426026","Hiawatha CUSD 426","16019426026","16-019-4260-26_AFR22 Hiawatha CUSD 426"]
["50082116002","High Mount SD 116","50082116002","50-082-1160-02_AFR22 High Mount SD 116"]
["41057005026","Highland CUSD 5","41057005026","41-057-0050-26_AFR22 Highland CUSD 5"]
["03068003026","Hillsboro CUSD 3","03068003026","03-068-0030-26_AFR22 Hillsboro CUSD 3"]
["06016093002","Hillside SD 93","06016093002","06-016-0930-02_AFR22 Hillside SD 93"]
["16019429026","Hinckley Big Rock CUSD 429","16019429026","16-019-4290-26_AFR22 Hinckley Big Rock CUSD 429"]
["19022181004","Hinsdale CCSD 181","19022181004","19-022-1810-04_AFR22 Hinsdale CCSD 181"]
["19022086017","Hinsdale Twp HSD 86","19022086017","19-022-0860-17_AFR22 Hinsdale Twp HSD 86"]
["48072328003","Hollis Cons SD 328","48072328003","48-072-3280-03_AFR22 Hollis Cons SD 328"]
["56099033C04","Homer CCSD 33C","56099033C04","56-099-033C-04_AFR22 Homer CCSD 33C"]
["07016233016","Homewood Flossmoor CHSD 233","07016233016","07-016-2330-16_AFR22 Homewood Flossmoor CHSD 233"]
["07016153002","Homewood SD 153","07016153002","07-016-1530-02_AFR22 Homewood SD 153"]
["04101207016","Hononegah CHD 207","04101207016","04-101-2070-16_AFR22 Hononegah CHD 207"]
["54092011026","Hoopeston Area CUSD 11","54092011026","54-092-0110-26_AFR22 Hoopeston Area CUSD 11"]
["07016157002","Hoover-Schrum Memorial SD 157","07016157002","07-016-1570-02_AFR22 Hoover-Schrum Memorial SD 157"]
["31045129061","Hope Wall Joint Agreement","31045129061","31-045-1290-61_AFR22 Hope Wall Joint Agreement"]
["44063158022","Huntley Community School District 158","44063158022","44-063-1580-22_AFR22 Huntley Community School District 158"]
["12017001026","Hutsonville CUSD 1","12017001026","12-017-0010-26_AFR22 Hutsonville CUSD 1"]
["15016225061","IL Spec Ed Charter Coop","15016225061","15-016-2250-61_AFR22 IL Spec Ed Charter Coop"]
["48072321026","Il Valley Central USD 321","48072321026","48-072-3210-26_AFR22 Il Valley Central USD 321"]
["48072327026","Illini Bluffs CUSD 327","48072327026","48-072-3270-26_AFR22 Illini Bluffs CUSD 327"]
["53060189026","Illini Central CUSD 189","53060189026","53-060-1890-26_AFR22 Illini Central CUSD 189"]
["26034307016","Illini West H S Dist 307","26034307016","26-034-3070-16_AFR22 Illini West H S Dist 307"]
["16019425026","Indian Creek CUSD 425","16019425026","16-019-4250-26_AFR22 Indian Creek CUSD 425"]
["19022204026","Indian Prairie CUSD 204","19022204026","19-022-2040-26_AFR22 Indian Prairie CUSD 204"]
["07016109002","Indian Springs SD 109","07016109002","07-016-1090-02_AFR22 Indian Springs SD 109"]
["16019430040","Indian Valley Area Voc Ctr","16019430040","16-019-4300-40_AFR22 Indian Valley Area Voc Ctr"]
["32000000047","Iroquois Area Reg Del System","32000000047","32-000-0000-47_AFR22 Iroquois Area Reg Del System"]
["32038009026","Iroquois County CUSD 9","32038009026","32-038-0090-26_AFR22 Iroquois County CUSD 9"]
["32038801060","Iroquois Special Education","32038801060","32-038-8010-60_AFR22 Iroquois Special Education"]
["32038010026","Iroquois West CUSD 10","32038010026","32-038-0100-26_AFR22 Iroquois West CUSD 10"]
["13095011004","Irvington CCSD 11","13095011004","13-095-0110-04_AFR22 Irvington CCSD 11"]
["19022010002","Itasca SD 10","19022010002","19-022-0100-02_AFR22 Itasca SD 10"]
["13058007004","Iuka CCSD 7","13058007004","13-058-0070-04_AFR22 Iuka CCSD 7"]
["06016201017","J S Morton HSD 201","06016201017","06-016-2010-17_AFR22 J S Morton HSD 201"]
["30000000046","Jackson/Perry Co Reg Del System","30000000046","30-000-0000-46_AFR22 Jackson/Perry Co Reg Del System"]
["01069117022","Jacksonville SD 117","01069117022","01-069-1170-22_AFR22 Jacksonville SD 117"]
["30077801060","Jamp Spec Educ Services","30077801060","30-077-8010-60_AFR22 Jamp Spec Educ Services"]
["20096017004","Jasper CCSD 17","20096017004","20-096-0170-04_AFR22 Jasper CCSD 17"]
["12040001026","Jasper County CUD 1","12040001026","12-040-0010-26_AFR22 Jasper County CUD 1"]
["40042100026","Jersey CUSD 100","40042100026","40-042-1000-26_AFR22 Jersey CUSD 100"]
["08043790040","Jo Daviess Carroll CTE Academy","08043790040","08-043-7900-40_AFR22 Jo Daviess Carroll CTE Academy"]
["44063012026","Johnsburg CUSD 12","44063012026","44-063-0120-26_AFR22 Johnsburg CUSD 12"]
["21100001026","Johnston City CUSD 1","21100001026","21-100-0010-26_AFR22 Johnston City CUSD 1"]
["56099086005","Joliet PSD 86","56099086005","56-099-0860-05_AFR22 Joliet PSD 86"]
["56099204017","Joliet Twp HSD 204","56099204017","56-099-2040-17_AFR22 Joliet Twp HSD 204"]
["21061038026","Joppa-Maple Grove UD 38","21061038026","21-061-0380-26_AFR22 Joppa-Maple Grove UD 38"]
["31045302026","Kaneland CUSD 302","31045302026","31-045-3020-26_AFR22 Kaneland CUSD 302"]
["32000000040","Kankakee Area Career Center","32000000040","32-000-0000-40_AFR22 Kankakee Area Career Center"]
["32000000046","Kankakee Area Reg Voc Ed System","32000000046","32-000-0000-46_AFR22 Kankakee Area Reg Voc Ed System"]
["32046850060","Kankakee Area Spec Educ Coop","32046850060","32-046-8500-60_AFR22 Kankakee Area Spec Educ Coop"]
["32046111025","Kankakee SD 111","32046111025","32-046-1110-25_AFR22 Kankakee SD 111"]
["11023003026","Kansas CUSD 3","11023003026","11-023-0030-26_AFR22 Kansas CUSD 3"]
["13058801060","Kaskaskia Spec Educ District","13058801060","13-058-8010-60_AFR22 Kaskaskia Spec Educ District"]
["19022020002","Keeneyville SD 20","19022020002","19-022-0200-02_AFR22 Keeneyville SD 20"]
["13058002003","Kell Cons SD 2","13058002003","13-058-0020-03_AFR22 Kell Cons SD 2"]
["05016038002","Kenilworth SD 38","05016038002","05-016-0380-02_AFR22 Kenilworth SD 38"]
["28037229026","Kewanee CUSD 229","28037229026","28-037-2290-26_AFR22 Kewanee CUSD 229"]
["34049096004","Kildeer Countryside CCSD 96","34049096004","34-049-0960-04_AFR22 Kildeer Countryside CCSD 96"]
["47071144003","Kings Cons SD 144","47071144003","47-071-1440-03_AFR22 Kings Cons SD 144"]
["04101131004","Kinnikinnick CCSD 131","04101131004","04-101-1310-04_AFR22 Kinnikinnick CCSD 131"]
["07016140002","Kirby SD 140","07016140002","07-016-1400-02_AFR22 Kirby SD 140"]
["16000000046","Kishwaukee Educ Consortium","16000000046","16-000-0000-46_AFR22 Kishwaukee Educ Consortium"]
["33048801060","Knox Warren Special Education Districts","33048801060","33-048-8010-60_AFR22 Knox Warren Special Education Districts"]
["33048202026","Knoxville CUSD 202","33048202026","33-048-2020-26_AFR22 Knoxville CUSD 202"]
["06016094002","Komarek SD 94","06016094002","06-016-0940-02_AFR22 Komarek SD 94"]
["06016102002","La Grange SD 102","06016102002","06-016-1020-02_AFR22 La Grange SD 102"]
["06016105002","La Grange SD 105 South","06016105002","06-016-1050-02_AFR22 La Grange SD 105 South"]
["26034347004","La Harpe CSD 347","26034347004","26-034-3470-04_AFR22 La Harpe CSD 347"]
["28006303026","La Moille CUSD 303","28006303026","28-006-3030-26_AFR22 La Moille CUSD 303"]
["35050122002","La Salle ESD 122","35050122002","35-050-1220-02_AFR22 La Salle ESD 122"]
["35050120040","La Salle-Peru Area Career Ctr","35050120040","35-050-1200-40_AFR22 La Salle-Peru Area Career Ctr"]
["35050120017","La Salle-Peru Twp HSD 120","35050120017","35-050-1200-17_AFR22 La Salle-Peru Twp HSD 120"]
["28006094004","Ladd CCSD 94","28006094004","28-006-0940-04_AFR22 Ladd CCSD 94"]
["06016204061","Lagrange Area Dept Spec Ed-Ladse","06016204061","06-016-2040-61_AFR22 Lagrange Area Dept Spec Ed-Ladse"]
["06016106002","LaGrange Highlands SD 106","06016106002","06-016-1060-02_AFR22 LaGrange Highlands SD 106"]
["34049065002","Lake Bluff ESD 65","34049065002","34-049-0650-02_AFR22 Lake Bluff ESD 65"]
["34049790040","Lake Co High Schools Tech Campus","34049790040","34-049-7900-40_AFR22 Lake Co High Schools Tech Campus"]
["34049115016","Lake Forest CHSD 115","34049115016","34-049-1150-16_AFR22 Lake Forest CHSD 115"]
["34049067005","Lake Forest SD 67","34049067005","34-049-0670-05_AFR22 Lake Forest SD 67"]
["19022108016","Lake Park CHSD 108","19022108016","19-022-1080-16_AFR22 Lake Park CHSD 108"]
["34049041004","Lake Villa CCSD 41","34049041004","34-049-0410-04_AFR22 Lake Villa CCSD 41"]
["34049095026","Lake Zurich CUSD 95","34049095026","34-049-0950-26_AFR22 Lake Zurich CUSD 95"]
["07016158002","Lansing SD 158","07016158002","07-016-1580-02_AFR22 Lansing SD 158"]
["56099070C04","Laraway CCSD 70C","56099070C04","56-099-070C-04_AFR22 Laraway CCSD 70C"]
["35050000061","LaSalle Putnam Alliance","35050000061","35-050-0000-61_AFR22 LaSalle Putnam Alliance"]
["12051020026","Lawrence County CUD 20","12051020026","12-051-0200-26_AFR22 Lawrence County CUD 20"]
["50082009026","Lebanon CUSD 9","50082009026","50-082-0090-26_AFR22 Lebanon CUSD 9"]
["47052170061","Lee County Spec Educ Assoc","47052170061","47-052-1700-61_AFR22 Lee County Spec Educ Assoc"]
["35050001026","Leland CUSD 1","35050001026","35-050-0010-26_AFR22 Leland CUSD 1"]
["07016210017","Lemont Twp HSD 210","07016210017","07-016-2100-17_AFR22 Lemont Twp HSD 210"]
["07016113A02","Lemont-Bromberek CSD 113A","07016113A02","07-016-113A-02_AFR22 Lemont-Bromberek CSD 113A"]
["08089202026","Lena Winslow CUSD 202","08089202026","08-089-2020-26_AFR22 Lena Winslow CUSD 202"]
["17064002026","LeRoy CUSD 2","17064002026","17-064-0020-26_AFR22 LeRoy CUSD 2"]
["26029097026","Lewistown CUSD 97","26029097026","26-029-0970-26_AFR22 Lewistown CUSD 97"]
["17064007026","Lexington CUSD 7","17064007026","17-064-0070-26_AFR22 Lexington CUSD 7"]
["06016083061","Leyden Area Spec Educ Coop","06016083061","06-016-0830-61_AFR22 Leyden Area Spec Educ Coop"]
["06016212016","Leyden CHSD 212","06016212016","06-016-2120-16_AFR22 Leyden CHSD 212"]
["01001002026","Liberty CUSD 2","01001002026","01-001-0020-26_AFR22 Liberty CUSD 2"]
["34049070002","Libertyville SD 70","34049070002","34-049-0700-02_AFR22 Libertyville SD 70"]
["30091016004","Lick Creek CCSD 16","30091016004","30-091-0160-04_AFR22 Lick Creek CCSD 16"]
["48072310016","Limestone CHSD 310","48072310016","48-072-3100-16_AFR22 Limestone CHSD 310"]
["48072316004","Limestone Walters CCSD 316","48072316004","48-072-3160-04_AFR22 Limestone Walters CCSD 316"]
["17054404016","Lincoln CHSD 404","17054404016","17-054-4040-16_AFR22 Lincoln CHSD 404"]
["07016156002","Lincoln ESD 156","07016156002","07-016-1560-02_AFR22 Lincoln ESD 156"]
["17054027002","Lincoln ESD 27","17054027002","17-054-0270-02_AFR22 Lincoln ESD 27"]
["56099210016","Lincoln Way CHSD 210","56099210016","56-099-2100-16_AFR22 Lincoln Way CHSD 210"]
["17054404046","Lincolnland Reg Del System","17054404046","17-054-4040-46_AFR22 Lincolnland Reg Del System"]
["17054404041","Lincolnland Technical Ed Ctr","17054404041","17-054-4040-41_AFR22 Lincolnland Technical Ed Ctr"]
["34049103002","Lincolnshire-Prairieview SD 103","34049103002","34-049-1030-02_AFR22 Lincolnshire-Prairieview SD 103"]
["56099843060","Lincoln-Way Area Spec Ed JA Dist","56099843060","56-099-8430-60_AFR22 Lincoln-Way Area Spec Ed JA Dist"]
["05016074002","Lincolnwood SD 74","05016074002","05-016-0740-02_AFR22 Lincolnwood SD 74"]
["06016092002","Lindop SD 92","06016092002","06-016-0920-02_AFR22 Lindop SD 92"]
["24047090004","Lisbon CCSD 90","24047090004","24-047-0900-04_AFR22 Lisbon CCSD 90"]
["19022202026","Lisle CUSD 202","19022202026","19-022-2020-26_AFR22 Lisle CUSD 202"]
["03068012026","Litchfield CUSD 12","03068012026","03-068-0120-26_AFR22 Litchfield CUSD 12"]
["17053090041","Livingston Area Career Cntr","17053090041","17-053-0900-41_AFR22 Livingston Area Career Cntr"]
["17053090046","Livingston Area Educ for Employ","17053090046","17-053-0900-46_AFR22 Livingston Area Educ for Employ"]
["17053000061","Livingston Co Spec Services Unit","17053000061","17-053-0000-61_AFR22 Livingston Co Spec Services Unit"]
["56099088061","Lockport Area Spec Educ Coop","56099088061","56-099-0880-61_AFR22 Lockport Area Spec Educ Coop"]
["56099091002","Lockport SD 91","56099091002","56-099-0910-02_AFR22 Lockport SD 91"]
["56099205017","Lockport Twp HSD 205","56099205017","56-099-2050-17_AFR22 Lockport Twp HSD 205"]
["19022044002","Lombard SD 44","19022044002","19-022-0440-02_AFR22 Lombard SD 44"]
["35050425026","Lostant CUSD 425","35050425026","35-050-4250-26_AFR22 Lostant CUSD 425"]
["53102021026","Lowpoint-Washburn CUSD 21","53102021026","53-102-0210-26_AFR22 Lowpoint-Washburn CUSD 21"]
["09010142004","Ludlow CCSD 142","09010142004","09-010-1420-04_AFR22 Ludlow CCSD 142"]
["06016103002","Lyons SD 103","06016103002","06-016-1030-02_AFR22 Lyons SD 103"]
["06016204017","Lyons Twp HSD 204","06016204017","06-016-2040-17_AFR22 Lyons Twp HSD 204"]
["26062185026","Macomb CUSD 185","26062185026","26-062-1850-26_AFR22 Macomb CUSD 185"]
["39055061061","Macon-Piatt Spec Educ Jnt Agr","39055061061","39-055-0610-61_AFR22 Macon-Piatt Spec Educ Jnt Agr"]
["41057745045","Madison Co Career & Tech Ed Sys","41057745045","41-057-7450-45_AFR22 Madison Co Career & Tech Ed Sys"]
["41057009061","Madison Co Reg I Spec Educ Coop","41057009061","41-057-0090-61_AFR22 Madison Co Reg I Spec Educ Coop"]
["41057012026","Madison CUSD 12","41057012026","41-057-0120-26_AFR22 Madison CUSD 12"]
["19022060002","Maercker SD 60","19022060002","19-022-0600-02_AFR22 Maercker SD 60"]
["09010003026","Mahomet-Seymour CUSD 3","09010003026","09-010-0030-26_AFR22 Mahomet-Seymour CUSD 3"]
["05016207017","Maine Township HSD 207","05016207017","05-016-2070-17_AFR22 Maine Township HSD 207"]
["28006084004","Malden CCSD 84","28006084004","28-006-0840-04_AFR22 Malden CCSD 84"]
["56099114002","Manhattan SD 114","56099114002","56-099-1140-02_AFR22 Manhattan SD 114"]
["06016083002","Mannheim SD 83","06016083002","06-016-0830-02_AFR22 Mannheim SD 83"]
["32046005026","Manteno CUSD 5","32046005026","32-046-0050-26_AFR22 Manteno CUSD 5"]
["44063154016","Marengo CHSD 154","44063154016","44-063-1540-16_AFR22 Marengo CHSD 154"]
["44063165003","Marengo-Union E Cons D 165","44063165003","44-063-1650-03_AFR22 Marengo-Union E Cons D 165"]
["21100002026","Marion CUSD 2","21100002026","21-100-0020-26_AFR22 Marion CUSD 2"]
["13000000046","Marion/Clinton/Wash Co CTES","13000000046","13-000-0000-46_AFR22 Marion/Clinton/Wash Co CTES"]
["50082040026","Marissa CUSD 40","50082040026","50-082-0400-26_AFR22 Marissa CUSD 40"]
["39055002026","Maroa Forsyth CUSD 2","39055002026","39-055-0020-26_AFR22 Maroa Forsyth CUSD 2"]
["19022015002","Marquardt SD 15","19022015002","19-022-0150-02_AFR22 Marquardt SD 15"]
["35050150002","Marseilles ESD 150","35050150002","35-050-1500-02_AFR22 Marseilles ESD 150"]
["11012002C26","Marshall CUSD 2C","11012002C26","11-012-002C-26_AFR22 Marshall CUSD 2C"]
["11012003C26","Martinsville CUSD 3C","11012003C26","11-012-003C-26_AFR22 Martinsville CUSD 3C"]
["50082019026","Mascoutah CUD 19","50082019026","50-082-0190-26_AFR22 Mascoutah CUD 19"]
["21061001026","Massac UD 1","21061001026","21-061-0010-26_AFR22 Massac UD 1"]
["07016162002","Matteson ESD 162","07016162002","07-016-1620-02_AFR22 Matteson ESD 162"]
["11015002026","Mattoon CUSD 2","11015002026","11-015-0020-26_AFR22 Mattoon CUSD 2"]
["06016089002","Maywood-Melrose Park-Broadview 89","06016089002","06-016-0890-02_AFR22 Maywood-Melrose Park-Broadview 89"]
["24032002C02","Mazon-Verona-Kinsman ESD 2C","24032002C02","24-032-002C-02_AFR22 Mazon-Verona-Kinsman ESD 2C"]
["13041012004","McClellan CCSD 12","13041012004","13-041-0120-04_AFR22 McClellan CCSD 12"]
["44063015004","McHenry CCSD 15","44063015004","44-063-0150-04_AFR22 McHenry CCSD 15"]
["44063156016","McHenry CHSD 156","44063156016","44-063-1560-16_AFR22 McHenry CHSD 156"]
["44000000046","McHenry Co Coop for Employ Educ","44000000046","44-000-0000-46_AFR22 McHenry Co Coop for Employ Educ"]
["17064005026","McLean County USD 5","17064005026","17-064-0050-26_AFR22 McLean County USD 5"]
["17064087046","McLean/Dewitt Reg Voc System","17064087046","17-064-0870-46_AFR22 McLean/Dewitt Reg Voc System"]
["19022011002","Medinah SD 11","19022011002","19-022-0110-02_AFR22 Medinah SD 11"]
["35050289004","Mendota CCSD 289","35050289004","35-050-2890-04_AFR22 Mendota CCSD 289"]
["35050280017","Mendota Twp HSD 280","35050280017","35-050-2800-17_AFR22 Mendota Twp HSD 280"]
["33066404026","Mercer County School District 404","33066404026","33-066-4040-26_AFR22 Mercer County School District 404"]
["01069011026","Meredosia-Chambersburg CUSD 11","01069011026","01-069-0110-26_AFR22 Meredosia-Chambersburg CUSD 11"]
["30077101026","Meridian CUSD 101","30077101026","30-077-1010-26_AFR22 Meridian CUSD 101"]
["39055015026","Meridian CUSD 15","39055015026","39-055-0150-26_AFR22 Meridian CUSD 15"]
["47071223026","Meridian CUSD 223","47071223026","47-071-2230-26_AFR22 Meridian CUSD 223"]
["53102001004","Metamora CCSD 1","53102001004","53-102-0010-04_AFR22 Metamora CCSD 1"]
["35059007026","Midland CUSD 7","35059007026","35-059-0070-26_AFR22 Midland CUSD 7"]
["07016143002","Midlothian SD 143","07016143002","07-016-1430-02_AFR22 Midlothian SD 143"]
["03011801060","Mid-State Spec Educ Jnt Agr","03011801060","03-011-8010-60_AFR22 Mid-State Spec Educ Jnt Agr"]
["31045303061","Mid-Valley Special Ed Coop","31045303061","31-045-3030-61_AFR22 Mid-Valley Special Ed Coop"]
["53060191026","Midwest Central CUSD 191","53060191026","53-060-1910-26_AFR22 Midwest Central CUSD 191"]
["32038124026","Milford Area Public Schools District 124","32038124026","32-038-1240-26_AFR22 Milford Area Public Schools District 124"]
["34049024004","Millburn CCSD 24","34049024004","34-049-0240-04_AFR22 Millburn CCSD 24"]
["35050210004","Miller Twp CCSD 210","35050210004","35-050-2100-04_AFR22 Miller Twp CCSD 210"]
["50082160004","Millstadt CCSD 160","50082160004","50-082-1600-04_AFR22 Millstadt CCSD 160"]
["24032201004","Minooka CCSD 201","24032201004","24-032-2010-04_AFR22 Minooka CCSD 201"]
["24032111016","Minooka CHSD 111","24032111016","24-032-1110-16_AFR22 Minooka CHSD 111"]
["56099159002","Mokena SD 159","56099159002","56-099-1590-02_AFR22 Mokena SD 159"]
["49081040022","Moline-Coal Valley CUSD 40","49081040022","49-081-0400-22_AFR22 Moline-Coal Valley CUSD 40"]
["32046001026","Momence CUSD 1","32046001026","32-046-0010-26_AFR22 Momence CUSD 1"]
["33094238026","Monmouth-Roseville CUSD 238","33094238026","33-094-2380-26_AFR22 Monmouth-Roseville CUSD 238"]
["48072070002","Monroe SD 70","48072070002","48-072-0700-02_AFR22 Monroe SD 70"]
["39074025026","Monticello CUSD 25","39074025026","39-074-0250-26_AFR22 Monticello CUSD 25"]
["47098145004","Montmorency CCSD 145","47098145004","47-098-1450-04_AFR22 Montmorency CCSD 145"]
["07016218046","Moraine Area Career System","07016218046","07-016-2180-46_AFR22 Moraine Area Career System"]
["24032101016","Morris CHSD 101","24032101016","24-032-1010-16_AFR22 Morris CHSD 101"]
["24032054002","Morris SD 54","24032054002","24-032-0540-02_AFR22 Morris SD 54"]
["47098006026","Morrison CUSD 6","47098006026","47-098-0060-26_AFR22 Morrison CUSD 6"]
["03011001026","Morrisonville CUSD 1","03011001026","03-011-0010-26_AFR22 Morrisonville CUSD 1"]
["53090709026","Morton CUSD 709","53090709026","53-090-7090-26_AFR22 Morton CUSD 709"]
["05016070002","Morton Grove SD 70","05016070002","05-016-0700-02_AFR22 Morton Grove SD 70"]
["40056005026","Mount Olive CUSD 5","40056005026","40-056-0050-26_AFR22 Mount Olive CUSD 5"]
["05016057002","Mount Prospect SD 57","05016057002","05-016-0570-02_AFR22 Mount Prospect SD 57"]
["13041080002","Mount Vernon SD 80","13041080002","13-041-0800-02_AFR22 Mount Vernon SD 80"]
["17054023026","Mt Pulaski CUSD 23","17054023026","17-054-0230-26_AFR22 Mt Pulaski CUSD 23"]
["13000000041","Mt Vernon Area Voc Center","13000000041","13-000-0000-41_AFR22 Mt Vernon Area Voc Center"]
["13041201017","Mt Vernon Twp HSD 201","13041201017","13-041-2010-17_AFR22 Mt Vernon Twp HSD 201"]
["39055003026","Mt Zion CUSD 3","39055003026","39-055-0030-26_AFR22 Mt Zion CUSD 3"]
["03003001026","Mulberry Grove CUSD 1","03003001026","03-003-0010-26_AFR22 Mulberry Grove CUSD 1"]
["34049120013","Mundelein Cons HSD 120","34049120013","34-049-1200-13_AFR22 Mundelein Cons HSD 120"]
["34049075002","Mundelein ESD 75","34049075002","34-049-0750-02_AFR22 Mundelein ESD 75"]
["30039186026","Murphysboro CUSD 186","30039186026","30-039-1860-26_AFR22 Murphysboro CUSD 186"]
["53090102002","N Pekin & Marquette Hght SD 102","53090102002","53-090-1020-02_AFR22 N Pekin & Marquette Hght SD 102"]
["19022203026","Naperville CUSD 203","19022203026","19-022-2030-26_AFR22 Naperville CUSD 203"]
["13095049004","Nashville CCSD 49","13095049004","13-095-0490-04_AFR22 Nashville CCSD 49"]
["13095099016","Nashville CHSD 99","13095099016","13-095-0990-16_AFR22 Nashville CHSD 99"]
["26034325026","Nauvoo-Colusa CUSD 325","26034325026","26-034-3250-26_AFR22 Nauvoo-Colusa CUSD 325"]
["11018003026","Neoga CUSD 3","11018003026","11-018-0030-26_AFR22 Neoga CUSD 3"]
["24032024C04","Nettle Creek CCSD 24C","24032024C04","24-032-024C-04_AFR22 Nettle Creek CCSD 24C"]
["50082060026","New Athens CUSD 60","50082060026","50-082-0600-26_AFR22 New Athens CUSD 60"]
["51084016026","New Berlin CUSD 16","51084016026","51-084-0160-26_AFR22 New Berlin CUSD 16"]
["17054088002","New Holland-Middletown ED 88","17054088002","17-054-0880-02_AFR22 New Holland-Middletown ED 88"]
["20096006004","New Hope CCSD 6","20096006004","20-096-0060-04_AFR22 New Hope CCSD 6"]
["56099122002","New Lenox SD 122","56099122002","56-099-1220-02_AFR22 New Lenox SD 122"]
["21044032003","New Simpson Hill SD 32","21044032003","21-044-0320-03_AFR22 New Simpson Hill SD 32"]
["05016203017","New Trier Twp HSD 203","05016203017","05-016-2030-17_AFR22 New Trier Twp HSD 203"]
["24047066004","Newark CCSD 66","24047066004","24-047-0660-04_AFR22 Newark CCSD 66"]
["24047018016","Newark CHSD 18","24047018016","24-047-0180-16_AFR22 Newark CHSD 18"]
["05016071002","Niles ESD 71","05016071002","05-016-0710-02_AFR22 Niles ESD 71"]
["05016807060","Niles Twp District for Spec Educ","05016807060","05-016-8070-60_AFR22 Niles Twp District for Spec Educ"]
["05016219017","Niles Twp HSD 219","05016219017","05-016-2190-17_AFR22 Niles Twp HSD 219"]
["44063002003","Nippersink SD 2","44063002003","44-063-0020-03_AFR22 Nippersink SD 2"]
["03068022026","Nokomis CUSD 22","03068022026","03-068-0220-26_AFR22 Nokomis CUSD 22"]
["06016080002","Norridge SD 80","06016080002","06-016-0800-02_AFR22 Norridge SD 80"]
["20097003026","Norris City-Omaha-Enfield CUSD 3","20097003026","20-097-0030-26_AFR22 Norris City-Omaha-Enfield CUSD 3"]
["04004200026","North Boone CUSD 200","04004200026","04-004-2000-26_AFR22 North Boone CUSD 200"]
["34049187026","North Chicago SD 187","34049187026","34-049-1870-26_AFR22 North Chicago SD 187"]
["12013025026","North Clay CUSD 25","12013025026","12-013-0250-26_AFR22 North Clay CUSD 25"]
["19022802060","North DuPage Sp Ed Cooperative","19022802060","19-022-8020-60_AFR22 North DuPage Sp Ed Cooperative"]
["40031003026","North Greene CUSD 3","40031003026","40-031-0030-26_AFR22 North Greene CUSD 3"]
["40056034026","North Mac CUSD 34","40056034026","40-056-0340-26_AFR22 North Mac CUSD 34"]
["07016117002","North Palos SD 117","07016117002","07-016-1170-02_AFR22 North Palos SD 117"]
["34049112002","North Shore SD 112","34049112002","34-049-1120-02_AFR22 North Shore SD 112"]
["05016207046","North Suburban Educ Reg for Voc","05016207046","05-016-2070-46_AFR22 North Suburban Educ Reg for Voc"]
["13014186002","North Wamac SD 186","13014186002","13-014-1860-02_AFR22 North Wamac SD 186"]
["20096200026","North Wayne CUSD 200","20096200026","20-096-2000-26_AFR22 North Wayne CUSD 200"]
["05016027002","Northbrook ESD 27","05016027002","05-016-0270-02_AFR22 Northbrook ESD 27"]
["05016028002","Northbrook SD 28","05016028002","05-016-0280-02_AFR22 Northbrook SD 28"]
["05016030002","Northbrook/Glenview SD 30","05016030002","05-016-0300-02_AFR22 Northbrook/Glenview SD 30"]
["31045301046","Northern Kane Co Reg Voc System","31045301046","31-045-3010-46_AFR22 Northern Kane Co Reg Voc System"]
["34049804060","Northern Suburban Spec Ed Dist","34049804060","34-049-8040-60_AFR22 Northern Suburban Spec Ed Dist"]
["05016225017","Northfield Twp HSD 225","05016225017","05-016-2250-17_AFR22 Northfield Twp HSD 225"]
["05016214046","Northwest Educational Council for Student Success","05016214046","05-016-2140-46_AFR22 Northwest Educational Council for Student Success"]
["08043210061","Northwest Sp Ed Cooperative","08043210061","08-043-2100-61_AFR22 Northwest Sp Ed Cooperative"]
["40056002026","Northwestern CUSD 2","40056002026","40-056-0020-26_AFR22 Northwestern CUSD 2"]
["16019427061","Northwestern Illinois Assn","16019427061","16-019-4270-61_AFR22 Northwestern Illinois Assn"]
["48072063002","Norwood ESD 63","48072063002","48-072-0630-02_AFR22 Norwood ESD 63"]
["03011802060","NPT Special Education Coop","03011802060","03-011-8020-60_AFR22 NPT Special Education Coop"]
["05016805060","NW Suburban Spec Educ Org","05016805060","05-016-8050-60_AFR22 NW Suburban Spec Educ Org"]
["50082090004","O Fallon CCSD 90","50082090004","50-082-0900-04_AFR22 O Fallon CCSD 90"]
["50082203017","O Fallon Twp HSD 203","50082203017","50-082-2030-17_AFR22 O Fallon Twp HSD 203"]
["48072068002","Oak Grove SD 68  Bartonville","48072068002","48-072-0680-02_AFR22 Oak Grove SD 68  Bartonville"]
["34049068002","Oak Grove SD 68 Green Oaks","34049068002","34-049-0680-02_AFR22 Oak Grove SD 68 Green Oaks"]
["07016229016","Oak Lawn CHSD 229","07016229016","07-016-2290-16_AFR22 Oak Lawn CHSD 229"]
["07016123002","Oak Lawn-Hometown SD 123","07016123002","07-016-1230-02_AFR22 Oak Lawn-Hometown SD 123"]
["06016200013","Oak Park - River Forest SD 200","06016200013","06-016-2000-13_AFR22 Oak Park - River Forest SD 200"]
["06016097002","Oak Park ESD 97","06016097002","06-016-0970-02_AFR22 Oak Park ESD 97"]
["13095001004","Oakdale CCSD 1","13095001004","13-095-0010-04_AFR22 Oakdale CCSD 1"]
["11015005026","Oakland CUSD 5","11015005026","11-015-0050-26_AFR22 Oakland CUSD 5"]
["54092076026","Oakwood CUSD 76","54092076026","54-092-0760-26_AFR22 Oakwood CUSD 76"]
["12017004026","Oblong CUSD 4","12017004026","12-017-0040-26_AFR22 Oblong CUSD 4"]
["17053435004","Odell CCSD 435","17053435004","17-053-4350-04_AFR22 Odell CCSD 435"]
["13058722026","Odin PSD 722","13058722026","13-058-7220-26_AFR22 Odin PSD 722"]
["47071801060","Ogle Co Education Cooperative","47071801060","47-071-8010-60_AFR22 Ogle Co Education Cooperative"]
["35050125002","Oglesby ESD 125","35050125002","35-050-1250-02_AFR22 Oglesby ESD 125"]
["20000000046","Ohio & Wabash Valley Reg Voc Sys","20000000046","20-000-0000-46_AFR22 Ohio & Wabash Valley Reg Voc Sys"]
["28006017004","Ohio CCSD 17","28006017004","28-006-0170-04_AFR22 Ohio CCSD 17"]
["28006505016","Ohio CHSD 505","28006505016","28-006-5050-16_AFR22 Ohio CHSD 505"]
["03026203041","Okaw Area Vocational Center","03026203041","03-026-2030-41_AFR22 Okaw Area Vocational Center"]
["45000000046","Okaw Regional Voc System","45000000046","45-000-0000-46_AFR22 Okaw Regional Voc System"]
["11070302026","Okaw Valley CUSD 302","11070302026","11-070-3020-26_AFR22 Okaw Valley CUSD 302"]
["17064016026","Olympia CUSD 16","17064016026","17-064-0160-26_AFR22 Olympia CUSD 16"]
["13041005004","Opdyke-Belle-Rive CCSD 5","13041005004","13-041-0050-04_AFR22 Opdyke-Belle-Rive CCSD 5"]
["08089203026","Orangeville CUSD 203","08089203026","08-089-2030-26_AFR22 Orangeville CUSD 203"]
["47071220026","Oregon CUSD 220","47071220026","47-071-2200-26_AFR22 Oregon CUSD 220"]
["28037223026","Orion CUSD 223","28037223026","28-037-2230-26_AFR22 Orion CUSD 223"]
["07016135002","Orland SD 135","07016135002","07-016-1350-02_AFR22 Orland SD 135"]
["35050141002","Ottawa ESD 141","35050141002","35-050-1410-02_AFR22 Ottawa ESD 141"]
["35050140017","Ottawa Twp HSD 140","35050140017","35-050-1400-17_AFR22 Ottawa Twp HSD 140"]
["05016015004","Palatine CCSD 15","05016015004","05-016-0150-04_AFR22 Palatine CCSD 15"]
["12017003026","Palestine CUSD 3","12017003026","12-017-0030-26_AFR22 Palestine CUSD 3"]
["07016118004","Palos CCSD 118","07016118004","07-016-1180-04_AFR22 Palos CCSD 118"]
["07016128002","Palos Heights SD 128","07016128002","07-016-1280-02_AFR22 Palos Heights SD 128"]
["03011008026","Pana CUSD 8","03011008026","03-011-0080-26_AFR22 Pana CUSD 8"]
["03068002026","Panhandle CUSD 2","03068002026","03-068-0020-26_AFR22 Panhandle CUSD 2"]
["11023800080","Paris Cooperative High School","11023800080","11-023-8000-80_AFR22 Paris Cooperative High School"]
["11023004026","Paris CUSD 4","11023004026","11-023-0040-26_AFR22 Paris CUSD 4"]
["11023095025","Paris-Union SD 95","11023095025","11-023-0950-25_AFR22 Paris-Union SD 95"]
["07016163002","Park Forest SD 163","07016163002","07-016-1630-02_AFR22 Park Forest SD 163"]
["05016064004","Park Ridge CCSD 64","05016064004","05-016-0640-04_AFR22 Park Ridge CCSD 64"]
["13058100026","Patoka CUSD 100","13058100026","13-058-1000-26_AFR22 Patoka CUSD 100"]
["47052271026","Paw Paw CUSD 271","47052271026","47-052-2710-26_AFR22 Paw Paw CUSD 271"]
["51084011026","Pawnee CUSD 11","51084011026","51-084-0110-26_AFR22 Pawnee CUSD 11"]
["09027010026","Paxton-Buckley-Loda CUD 10","09027010026","09-027-0100-26_AFR22 Paxton-Buckley-Loda CUD 10"]
["01001001026","Payson CUSD 1","01001001026","01-001-0010-26_AFR22 Payson CUSD 1"]
["08089200026","Pearl City CUSD 200","08089200026","08-089-2000-26_AFR22 Pearl City CUSD 200"]
["04101321026","Pecatonica CUSD 321","04101321026","04-101-3210-26_AFR22 Pecatonica CUSD 321"]
["53090303016","Pekin CSD 303","53090303016","53-090-3030-16_AFR22 Pekin CSD 303"]
["53090108002","Pekin PSD 108","53090108002","53-090-1080-02_AFR22 Pekin PSD 108"]
["32046259004","Pembroke CCSD 259","32046259004","32-046-2590-04_AFR22 Pembroke CCSD 259"]
["06016079002","Pennoyer SD 79","06016079002","06-016-0790-02_AFR22 Pennoyer SD 79"]
["48000000046","Peoria Educ Reg for Empl Traing","48000000046","48-000-0000-46_AFR22 Peoria Educ Reg for Empl Traing"]
["48072325026","Peoria Heights CUSD 325","48072325026","48-072-3250-26_AFR22 Peoria Heights CUSD 325"]
["48072150025","Peoria SD 150","48072150025","48-072-1500-25_AFR22 Peoria SD 150"]
["56099207U26","Peotone CUSD 207U","56099207U26","56-099-207U-26_AFR22 Peotone CUSD 207U"]
["45079132061","Perandoe Spec Educ District","45079132061","45-079-1320-61_AFR22 Perandoe Spec Educ District"]
["35050124002","Peru ESD 124","35050124002","35-050-1240-02_AFR22 Peru ESD 124"]
["01075010026","Pikeland CUSD 10","01075010026","01-075-0100-26_AFR22 Pikeland CUSD 10"]
["30073101016","Pinckneyville CHSD 101","30073101016","30-073-1010-16_AFR22 Pinckneyville CHSD 101"]
["30073050002","Pinckneyville SD 50","30073050002","30-073-0500-02_AFR22 Pinckneyville SD 50"]
["56099202022","Plainfield SD 202","56099202022","56-099-2020-22_AFR22 Plainfield SD 202"]
["24047088061","Plano Area Special Ed Coop","24047088061","24-047-0880-61_AFR22 Plano Area Special Ed Coop"]
["24047088026","Plano CUSD 88","24047088026","24-047-0880-26_AFR22 Plano CUSD 88"]
["01075003026","Pleasant Hill CUSD 3","01075003026","01-075-0030-26_AFR22 Pleasant Hill CUSD 3"]
["48072069002","Pleasant Hill SD 69","48072069002","48-072-0690-02_AFR22 Pleasant Hill SD 69"]
["51084008026","Pleasant Plains CUSD 8","51084008026","51-084-0080-26_AFR22 Pleasant Plains CUSD 8"]
["48072062002","Pleasant Valley SD 62","48072062002","48-072-0620-02_AFR22 Pleasant Valley SD 62"]
["06016107002","Pleasantdale SD 107","06016107002","06-016-1070-02_AFR22 Pleasantdale SD 107"]
["47071222026","Polo CUSD 222","47071222026","47-071-2220-26_AFR22 Polo CUSD 222"]
["17053429004","Pontiac CCSD 429","17053429004","17-053-4290-04_AFR22 Pontiac CCSD 429"]
["17053090017","Pontiac Twp HSD 90","17053090017","17-053-0900-17_AFR22 Pontiac Twp HSD 90"]
["50082105002","Pontiac-W Holliday SD 105","50082105002","50-082-1050-02_AFR22 Pontiac-W Holliday SD 105"]
["20076001026","Pope Co CUD 1","20076001026","20-076-0010-26_AFR22 Pope Co CUD 1"]
["51065202026","Porta CUSD 202","51065202026","51-065-2020-26_AFR22 Porta CUSD 202"]
["07016143502","Posen-Robbins ESD 143-5","07016143502","07-016-1435-02_AFR22 Posen-Robbins ESD 143-5"]
["54092010026","Potomac CUSD 10","54092010026","54-092-0100-26_AFR22 Potomac CUSD 10"]
["17053008026","Prairie Central CUSD 8","17053008026","17-053-0080-26_AFR22 Prairie Central CUSD 8"]
["45079134004","Prairie Du Rocher CCSD 134","45079134004","45-079-1340-04_AFR22 Prairie Du Rocher CCSD 134"]
["44063046003","Prairie Grove CSD 46","44063046003","44-063-0460-03_AFR22 Prairie Grove CSD 46"]
["04101133004","Prairie Hill CCSD 133","04101133004","04-101-1330-04_AFR22 Prairie Hill CCSD 133"]
["07016144002","Prairie-Hills ESD 144","07016144002","07-016-1440-02_AFR22 Prairie-Hills ESD 144"]
["09010197004","Prairieview-Ogden CCSD 197","09010197004","09-010-1970-04_AFR22 Prairieview-Ogden CCSD 197"]
["28006115002","Princeton ESD 115","28006115002","28-006-1150-02_AFR22 Princeton ESD 115"]
["28006500015","Princeton HSD 500","28006500015","28-006-5000-15_AFR22 Princeton HSD 500"]
["48072326026","Princeville CUSD 326","48072326026","48-072-3260-26_AFR22 Princeville CUSD 326"]
["47098003026","Prophetstown-Lyndon-Tampico CUSD3","47098003026","47-098-0030-26_AFR22 Prophetstown-Lyndon-Tampico CUSD3"]
["05016023002","Prospect Heights SD 23","05016023002","05-016-0230-02_AFR22 Prospect Heights SD 23"]
["06016803060","Proviso Area Exceptional Child","06016803060","06-016-8030-60_AFR22 Proviso Area Exceptional Child"]
["06016209017","Proviso Twp HSD 209","06016209017","06-016-2090-17_AFR22 Proviso Twp HSD 209"]
["35078535026","Putnam County CUSD 535","35078535026","35-078-5350-26_AFR22 Putnam County CUSD 535"]
["49081030046","Quad City Career and Tech Ed Cons","49081030046","49-081-0300-46_AFR22 Quad City Career and Tech Ed Cons"]
["19022016002","Queen Bee SD 16","19022016002","19-022-0160-02_AFR22 Queen Bee SD 16"]
["01001172041","Quincy Area Voc Ctr","01001172041","01-001-1720-41_AFR22 Quincy Area Voc Ctr"]
["01001172022","Quincy SD 172","01001172022","01-001-1720-22_AFR22 Quincy SD 172"]
["33048208026","R O W V A CUSD 208","33048208026","33-048-2080-26_AFR22 R O W V A CUSD 208"]
["13058001003","Raccoon Cons SD 1","13058001003","13-058-0010-03_AFR22 Raccoon Cons SD 1"]
["03026204026","Ramsey CUSD 204","03026204026","03-026-2040-26_AFR22 Ramsey CUSD 204"]
["53090098002","Rankin CSD 98","53090098002","53-090-0980-02_AFR22 Rankin CSD 98"]
["09010137002","Rantoul City SD 137","09010137002","09-010-1370-02_AFR22 Rantoul City SD 137"]
["09010193017","Rantoul Township HSD 193","09010193017","09-010-1930-17_AFR22 Rantoul Township HSD 193"]
["07016220017","Reavis Twp HSD 220","07016220017","07-016-2200-17_AFR22 Reavis Twp HSD 220"]
["45079132026","Red Bud CUSD 132","45079132026","45-079-1320-26_AFR22 Red Bud CUSD 132"]
["12051010026","Red Hill CUSD 10","12051010026","12-051-0100-26_AFR22 Red Hill CUSD 10"]
["56099255U26","Reed Custer CUSD 255U","56099255U26","56-099-255U-26_AFR22 Reed Custer CUSD 255U"]
["41057801060","Region III Spec Ed Coop","41057801060","41-057-8010-60_AFR22 Region III Spec Ed Coop"]
["51084731045","Regional Office of Car/Tech Educ","51084731045","51-084-7310-45_AFR22 Regional Office of Car/Tech Educ"]
["13000000047","Rend Lake Area Reg Del System","13000000047","13-000-0000-47_AFR22 Rend Lake Area Reg Del System"]
["06016084502","Rhodes SD 84-5","06016084502","06-016-0845-02_AFR22 Rhodes SD 84-5"]
["07016227017","Rich Twp HSD 227","07016227017","07-016-2270-17_AFR22 Rich Twp HSD 227"]
["12080001026","Richland County CUSD 1","12080001026","12-080-0010-26_AFR22 Richland County CUSD 1"]
["56099088A02","Richland GSD 88A","56099088A02","56-099-088A-02_AFR22 Richland GSD 88A"]
["44063157016","Richmond-Burton CHSD 157","44063157016","44-063-1570-16_AFR22 Richmond-Burton CHSD 157"]
["07016122002","Ridgeland SD 122","07016122002","07-016-1220-02_AFR22 Ridgeland SD 122"]
["17064019026","Ridgeview CUSD 19","17064019026","17-064-0190-26_AFR22 Ridgeview CUSD 19"]
["06016234016","Ridgewood CHSD 234","06016234016","06-016-2340-16_AFR22 Ridgewood CHSD 234"]
["44063018004","Riley CCSD 18","44063018004","44-063-0180-04_AFR22 Riley CCSD 18"]
["47098002026","River Bend CUSD 2","47098002026","47-098-0020-26_AFR22 River Bend CUSD 2"]
["06016090002","River Forest SD 90","06016090002","06-016-0900-02_AFR22 River Forest SD 90"]
["06016085502","River Grove SD 85-5","06016085502","06-016-0855-02_AFR22 River Grove SD 85-5"]
["08043210026","River Ridge CUSD 210","08043210026","08-043-2100-26_AFR22 River Ridge CUSD 210"]
["05016026002","River Trails SD 26","05016026002","05-016-0260-02_AFR22 River Trails SD 26"]
["49081100026","Riverdale CUSD 100","49081100026","49-081-1000-26_AFR22 Riverdale CUSD 100"]
["06016096002","Riverside SD 96","06016096002","06-016-0960-02_AFR22 Riverside SD 96"]
["06016208017","Riverside-Brookfield Twp SD 208","06016208017","06-016-2080-17_AFR22 Riverside-Brookfield Twp SD 208"]
["51084014026","Riverton CUSD 14","51084014026","51-084-0140-26_AFR22 Riverton CUSD 14"]
["53102002004","Riverview CCSD 2","53102002004","53-102-0020-04_AFR22 Riverview CCSD 2"]
["53102060026","Roanoke Benson CUSD 60","53102060026","53-102-0600-26_AFR22 Roanoke Benson CUSD 60"]
["53090085002","Robein SD 85","53090085002","53-090-0850-02_AFR22 Robein SD 85"]
["12017002026","Robinson CUSD 2","12017002026","12-017-0020-26_AFR22 Robinson CUSD 2"]
["47071231004","Rochelle CCSD 231","47071231004","47-071-2310-04_AFR22 Rochelle CCSD 231"]
["47071212017","Rochelle Twp HSD 212","47071212017","47-071-2120-17_AFR22 Rochelle Twp HSD 212"]
["51084003A26","Rochester CUSD 3A","51084003A26","51-084-003A-26_AFR22 Rochester CUSD 3A"]
["47098013002","Rock Falls ESD 13","47098013002","47-098-0130-02_AFR22 Rock Falls ESD 13"]
["47098301017","Rock Falls Twp HSD 301","47098301017","47-098-3010-17_AFR22 Rock Falls Twp HSD 301"]
["49081041025","Rock Island SD 41","49081041025","49-081-0410-25_AFR22 Rock Island SD 41"]
["56099084002","Rockdale SD 84","56099084002","56-099-0840-02_AFR22 Rockdale SD 84"]
["04101205025","Rockford SD 205","04101205025","04-101-2050-25_AFR22 Rockford SD 205"]
["49081300026","Rockridge CUSD 300","49081300026","49-081-3000-26_AFR22 Rockridge CUSD 300"]
["04101140004","Rockton SD 140","04101140004","04-101-1400-04_AFR22 Rockton SD 140"]
["13041002004","Rome CCSD 2","13041002004","13-041-0020-04_AFR22 Rome CCSD 2"]
["34049072002","Rondout SD 72","34049072002","34-049-0720-02_AFR22 Rondout SD 72"]
["17053425004","Rooks Creek CCSD 425","17053425004","17-053-4250-04_AFR22 Rooks Creek CCSD 425"]
["19022012002","Roselle SD 12","19022012002","19-022-0120-02_AFR22 Roselle SD 12"]
["06016078002","Rosemont ESD 78","06016078002","06-016-0780-02_AFR22 Rosemont ESD 78"]
["54092007026","Rossville-Alvin CUSD 7","54092007026","54-092-0070-26_AFR22 Rossville-Alvin CUSD 7"]
["34049116026","Round Lake CUSD 116","34049116026","34-049-1160-26_AFR22 Round Lake CUSD 116"]
["41057001026","Roxana CUSD 1","41057001026","41-057-0010-26_AFR22 Roxana CUSD 1"]
["09010801060","Rural Champaign Co Spec Ed Coop","09010801060","09-010-8010-60_AFR22 Rural Champaign Co Spec Ed Coop"]
["35050230004","Rutland CCSD 230","35050230004","35-050-2300-04_AFR22 Rutland CCSD 230"]
["56099030C61","S Will Co Coop for Spec Ed","56099030C61","56-099-030C-61_AFR22 S Will Co Coop for Spec Ed"]
["13058600016","Salem CHSD 600","13058600016","13-058-6000-16_AFR22 Salem CHSD 600"]
["13058111002","Salem SD 111","13058111002","13-058-1110-02_AFR22 Salem SD 111"]
["19022048002","Salt Creek SD 48","19022048002","19-022-0480-02_AFR22 Salt Creek SD 48"]
["54092512026","Salt Fork Community Unit District  512","54092512026","54-092-5120-26_AFR22 Salt Fork Community Unit District  512"]
["13058501026","Sandoval CUSD 501","13058501026","13-058-5010-26_AFR22 Sandoval CUSD 501"]
["07016172002","Sandridge SD 172","07016172002","07-016-1720-02_AFR22 Sandridge SD 172"]
["16019430026","Sandwich CUSD 430","16019430026","16-019-4300-26_AFR22 Sandwich CUSD 430"]
["51084010061","Sangamon Area Spec Ed Dist","51084010061","51-084-0100-61_AFR22 Sangamon Area Spec Ed Dist"]
["39055009026","Sangamon Valley CUSD 9","39055009026","39-055-0090-26_AFR22 Sangamon Valley CUSD 9"]
["24032060C04","Saratoga CCSD 60C","24032060C04","24-032-060C-04_AFR22 Saratoga CCSD 60C"]
["17053438004","Saunemin CCSD 438","17053438004","17-053-4380-04_AFR22 Saunemin CCSD 438"]
["08043211026","Scales Mound CUSD 211","08043211026","08-043-2110-26_AFR22 Scales Mound CUSD 211"]
["05016054004","Schaumburg CCSD 54","05016054004","05-016-0540-04_AFR22 Schaumburg CCSD 54"]
["06016081002","Schiller Park SD 81","06016081002","06-016-0810-02_AFR22 Schiller Park SD 81"]
["19022803060","School Assn For Special Educ","19022803060","19-022-8030-60_AFR22 School Assn For Special Educ"]
["26085005026","Schuyler-Industry CUSD 5","26085005026","26-085-0050-26_AFR22 Schuyler-Industry CUSD 5"]
["01086002026","Scott-Morgan CUSD 2","01086002026","01-086-0020-26_AFR22 Scott-Morgan CUSD 2"]
["19022045002","SD 45 DuPage County","19022045002","19-022-0450-02_AFR22 SD 45 DuPage County"]
["31045046022","SD U-46","31045046022","31-045-0460-22_AFR22 SD U-46"]
["13058010004","Selmaville CCSD 10","13058010004","13-058-0100-04_AFR22 Selmaville CCSD 10"]
["35050170004","Seneca CCSD 170","35050170004","35-050-1700-04_AFR22 Seneca CCSD 170"]
["35050160017","Seneca Twp HSD 160","35050160017","35-050-1600-17_AFR22 Seneca Twp HSD 160"]
["35050002026","Serena CUSD 2","35050002026","35-050-0020-26_AFR22 Serena CUSD 2"]
["21028196026","Sesser-Valier CUSD 196","21028196026","21-028-1960-26_AFR22 Sesser-Valier CUSD 196"]
["30091084026","Shawnee CUSD 84","30091084026","30-091-0840-26_AFR22 Shawnee CUSD 84"]
["11087004026","Shelbyville CUSD 4","11087004026","11-087-0040-26_AFR22 Shelbyville CUSD 4"]
["49081200026","Sherrard CUSD 200","49081200026","49-081-2000-26_AFR22 Sherrard CUSD 200"]
["11023001026","Shiloh CUSD 1","11023001026","11-023-0010-26_AFR22 Shiloh CUSD 1"]
["50082085002","Shiloh Village SD 85","50082085002","50-082-0850-02_AFR22 Shiloh Village SD 85"]
["04101134004","Shirland CCSD 134","04101134004","04-101-1340-04_AFR22 Shirland CCSD 134"]
["50082181002","Signal Hill SD 181","50082181002","50-082-1810-02_AFR22 Signal Hill SD 181"]
["49081034002","Silvis SD 34","49081034002","49-081-0340-02_AFR22 Silvis SD 34"]
["05016068002","Skokie SD 68","05016068002","05-016-0680-02_AFR22 Skokie SD 68"]
["05016069002","Skokie SD 69","05016069002","05-016-0690-02_AFR22 Skokie SD 69"]
["05016073502","Skokie SD 73-5","05016073502","05-016-0735-02_AFR22 Skokie SD 73-5"]
["50082130004","Smithton CCSD 130","50082130004","50-082-1300-04_AFR22 Smithton CCSD 130"]
["16019432026","Somonauk CUSD 432","16019432026","16-019-4320-26_AFR22 Somonauk CUSD 432"]
["13058401026","South Central CUD 401","13058401026","13-058-4010-26_AFR22 South Central CUD 401"]
["12017801060","South Eastern Sp Ed Program","12017801060","12-017-8010-60_AFR22 South Eastern Sp Ed Program"]
["03011014024","South Fork SD 14","03011014024","03-011-0140-24_AFR22 South Fork SD 14"]
["07016150002","South Holland SD 150","07016150002","07-016-1500-02_AFR22 South Holland SD 150"]
["07016151002","South Holland SD 151","07016151002","07-016-1510-02_AFR22 South Holland SD 151"]
["40056801060","South Macoupin Association","40056801060","40-056-8010-60_AFR22 South Macoupin Association"]
["53090137002","South Pekin SD 137","53090137002","53-090-1370-02_AFR22 South Pekin SD 137"]
["24032074003","South Wilmington CCSD 74","24032074003","24-032-0740-03_AFR22 South Wilmington CCSD 74"]
["26034337026","Southeastern CUSD 337","26034337026","26-034-3370-26_AFR22 Southeastern CUSD 337"]
["07016142061","Southwest Cook Coop Spec Ed","07016142061","07-016-1420-61_AFR22 Southwest Cook Coop Spec Ed"]
["40056009026","Southwestern CUSD 9","40056009026","40-056-0090-26_AFR22 Southwestern CUSD 9"]
["50082746045","Southwestern Illinois Career & Technical Education System","50082746045","50-082-7460-45_AFR22 Southwestern Illinois Career & Technical Education System"]
["45079140026","Sparta CUSD 140","45079140026","45-079-1400-26_AFR22 Sparta CUSD 140"]
["44063801060","Spec Ed Dist of McHenry Co-Sedom","44063801060","44-063-8010-60_AFR22 Spec Ed Dist of McHenry Co-Sedom"]
["01001172061","Spec Educ Assoc of Adams County","01001172061","01-001-1720-61_AFR22 Spec Educ Assoc of Adams County"]
["48072000061","Spec Educ Assoc of Peoria County","48072000061","48-072-0000-61_AFR22 Spec Educ Assoc of Peoria County"]
["34049825060","Spec Educ Dist Lake County/Sedol","34049825060","34-049-8250-60_AFR22 Spec Educ Dist Lake County/Sedol"]
["07016802060","Speed SEJA #802","07016802060","07-016-8020-60_AFR22 Speed SEJA #802"]
["26029004026","Spoon River Valley CUSD 4","26029004026","26-029-0040-26_AFR22 Spoon River Valley CUSD 4"]
["13041178004","Spring Garden Community Consolidated School District 178","13041178004","13-041-1780-04_AFR22 Spring Garden Community Consolidated School District 178"]
["53090606004","Spring Lake CCSD 606","53090606004","53-090-6060-04_AFR22 Spring Lake CCSD 606"]
["28006099004","Spring Valley CCSD 99","28006099004","28-006-0990-04_AFR22 Spring Valley CCSD 99"]
["51084186025","Springfield SD 186","51084186025","51-084-1860-25_AFR22 Springfield SD 186"]
["32046256004","St Anne CCSD 256","32046256004","32-046-2560-04_AFR22 St Anne CCSD 256"]
["32046302016","St Anne CHSD 302","32046302016","32-046-3020-16_AFR22 St Anne CHSD 302"]
["31045303026","St Charles CUSD 303","31045303026","31-045-3030-26_AFR22 St Charles CUSD 303"]
["03026202026","St Elmo CUSD 202","03026202026","03-026-2020-26_AFR22 St Elmo CUSD 202"]
["32046258004","St George CCSD 258","32046258004","32-046-2580-04_AFR22 St George CCSD 258"]
["09010169004","St Joseph CCSD 169","09010169004","09-010-1690-04_AFR22 St Joseph CCSD 169"]
["09010305016","St Joseph Ogden CHSD 305","09010305016","09-010-3050-16_AFR22 St Joseph Ogden CHSD 305"]
["50082030003","St Libory Cons SD 30","50082030003","50-082-0300-03_AFR22 St Libory Cons SD 30"]
["13014141502","St Rose SD 14-15","13014141502","13-014-1415-02_AFR22 St Rose SD 14-15"]
["28088100026","Stark County CUSD 100","28088100026","28-088-1000-26_AFR22 Stark County CUSD 100"]
["35050720045","Starved Rock for Voc Tech Ed","35050720045","35-050-7200-45_AFR22 Starved Rock for Voc Tech Ed"]
["40056006026","Staunton CUSD 6","40056006026","40-056-0060-26_AFR22 Staunton CUSD 6"]
["45079138026","Steeleville CUSD 138","45079138026","45-079-1380-26_AFR22 Steeleville CUSD 138"]
["07016194002","Steger SD 194","07016194002","07-016-1940-02_AFR22 Steger SD 194"]
["47098005026","Sterling CUSD 5","47098005026","47-098-0050-26_AFR22 Sterling CUSD 5"]
["47052220002","Steward ESD 220","47052220002","47-052-2200-02_AFR22 Steward ESD 220"]
["11087005A26","Stewardson-Strasburg CUD 5A","11087005A26","11-087-005A-26_AFR22 Stewardson-Strasburg CUD 5A"]
["08043206026","Stockton CUSD 206","08043206026","08-043-2060-26_AFR22 Stockton CUSD 206"]
["35050044002","Streator ESD 44","35050044002","35-050-0440-02_AFR22 Streator ESD 44"]
["35050040017","Streator Twp HSD 40","35050040017","35-050-0400-17_AFR22 Streator Twp HSD 40"]
["11070300026","Sullivan CUSD 300","11070300026","11-070-3000-26_AFR22 Sullivan CUSD 300"]
["13041079002","Summersville SD 79","13041079002","13-041-0790-02_AFR22 Summersville SD 79"]
["56099161002","Summit Hill SD 161","56099161002","56-099-1610-02_AFR22 Summit Hill SD 161"]
["07016104002","Summit SD 104","07016104002","07-016-1040-02_AFR22 Summit SD 104"]
["07016171002","Sunnybrook SD 171","07016171002","07-016-1710-02_AFR22 Sunnybrook SD 171"]
["05016029002","Sunset Ridge SD 29","05016029002","05-016-0290-02_AFR22 Sunset Ridge SD 29"]
["16019427026","Sycamore CUSD 427","16019427026","16-019-4270-26_AFR22 Sycamore CUSD 427"]
["56099090002","Taft SD 90","56099090002","56-099-0900-02_AFR22 Taft SD 90"]
["30073005002","Tamaroa School Dist 5","30073005002","30-073-0050-02_AFR22 Tamaroa School Dist 5"]
["03011003026","Taylorville CUSD 3","03011003026","03-011-0030-26_AFR22 Taylorville CUSD 3"]
["53000000046","Tazewell Co Area EFE RDS","53000000046","53-000-0000-46_AFR22 Tazewell Co Area EFE RDS"]
["53090309061","Tazewell-Mason Cntys Sp Ed Assoc","53090309061","53-090-3090-61_AFR22 Tazewell-Mason Cntys Sp Ed Assoc"]
["03025050026","Teutopolis CUSD 50","03025050026","03-025-0500-26_AFR22 Teutopolis CUSD 50"]
["09010130004","Thomasboro CCSD 130","09010130004","09-010-1300-04_AFR22 Thomasboro CCSD 130"]
["21028174026","Thompsonville CUSD 174","21028174026","21-028-1740-26_AFR22 Thompsonville CUSD 174"]
["07016215017","Thornton Fractional Twp HSD 215","07016215017","07-016-2150-17_AFR22 Thornton Fractional Twp HSD 215"]
["07016154002","Thornton SD 154","07016154002","07-016-1540-02_AFR22 Thornton SD 154"]
["07016205017","Thornton Twp HSD 205","07016205017","07-016-2050-17_AFR22 Thornton Twp HSD 205"]
["56099711045","Three Rivers EFE System","56099711045","56-099-7110-45_AFR22 Three Rivers EFE System"]
["09010007026","Tolono CUSD 7","09010007026","09-010-0070-26_AFR22 Tolono CUSD 7"]
["35050079004","Tonica CCSD 79","35050079004","35-050-0790-04_AFR22 Tonica CCSD 79"]
["05016211017","Township HSD 211","05016211017","05-016-2110-17_AFR22 Township HSD 211"]
["05016214017","Township HSD 214","05016214017","05-016-2140-17_AFR22 Township HSD 214"]
["53090702026","Tremont CUSD 702","53090702026","53-090-7020-26_AFR22 Tremont CUSD 702"]
["51084001026","Tri City CUSD 1","51084001026","51-084-0010-26_AFR22 Tri City CUSD 1"]
["17053006J26","Tri Point CUSD 6-J","17053006J26","17-053-006J-26_AFR22 Tri Point CUSD 6-J"]
["17064003026","Tri Valley CUSD 3","17064003026","17-064-0030-26_AFR22 Tri Valley CUSD 3"]
["41057002026","Triad CUSD 2","41057002026","41-057-0020-26_AFR22 Triad CUSD 2"]
["30039176026","Trico CUSD 176","30039176026","30-039-1760-26_AFR22 Trico CUSD 176"]
["30039186061","Tri-County Sp Ed Jnt Agreement","30039186061","30-039-1860-61_AFR22 Tri-County Sp Ed Jnt Agreement"]
["17064007061","Tri-County Spec Educ Assoc","17064007061","17-064-0070-61_AFR22 Tri-County Spec Educ Assoc"]
["01069027026","Triopia CUSD 27","01069027026","01-069-0270-26_AFR22 Triopia CUSD 27"]
["56099030C04","Troy CCSD 30C","56099030C04","56-099-030C-04_AFR22 Troy CCSD 30C"]
["11021301026","Tuscola CUSD 301","11021301026","11-021-3010-26_AFR22 Tuscola CUSD 301"]
["12000000046","Twin Rivers Career & Tech Ed Sys","12000000046","12-000-0000-46_AFR22 Twin Rivers Career & Tech Ed Sys"]
["01009700045","Two Rivers Career Educ System","01009700045","01-009-7000-45_AFR22 Two Rivers Career Educ System"]
["34049113017","Twp HSD 113","34049113017","34-049-1130-17_AFR22 Twp HSD 113"]
["06016086002","Union Ridge SD 86","06016086002","06-016-0860-02_AFR22 Union Ridge SD 86"]
["56099081002","Union SD 81","56099081002","56-099-0810-02_AFR22 Union SD 81"]
["33094304026","United CUSD 304","33094304026","33-094-3040-26_AFR22 United CUSD 304"]
["49081030041","United Twp Area Career Ctr","49081030041","49-081-0300-41_AFR22 United Twp Area Career Ctr"]
["49081030017","United Twp HSD 30","49081030017","49-081-0300-17_AFR22 United Twp HSD 30"]
["30039140004","Unity Point CCSD 140","30039140004","30-039-1400-04_AFR22 Unity Point CCSD 140"]
["09010116022","Urbana SD 116","09010116022","09-010-1160-22_AFR22 Urbana SD 116"]
["26029002026","V I T CUSD 2","26029002026","26-029-0020-26_AFR22 V I T CUSD 2"]
["31000000046","Valley Educ for Employ System","31000000046","31-000-0000-46_AFR22 Valley Educ for Employ System"]
["56099365U26","Valley View CUSD 365U","56099365U26","56-099-365U-26_AFR22 Valley View CUSD 365U"]
["45067003026","Valmeyer CUSD 3","45067003026","45-067-0030-26_AFR22 Valmeyer CUSD 3"]
["03026203026","Vandalia CUSD 203","03026203026","03-026-2030-26_AFR22 Vandalia CUSD 203"]
["41057003026","Venice CUSD 3","41057003026","41-057-0030-26_AFR22 Venice CUSD 3"]
["54092801060","Vermilion Assoc for Spec Educ","54092801060","54-092-8010-60_AFR22 Vermilion Assoc for Spec Educ"]
["54092740045","Vermilion Voc Ed Deliver System","54092740045","54-092-7400-45_AFR22 Vermilion Voc Ed Deliver System"]
["21044133017","Vienna HSD 133","21044133017","21-044-1330-17_AFR22 Vienna HSD 133"]
["21044055002","Vienna SD 55","21044055002","21-044-0550-02_AFR22 Vienna SD 55"]
["11021302026","Villa Grove CUSD 302","11021302026","11-021-3020-26_AFR22 Villa Grove CUSD 302"]
["01009064026","Virginia CUSD 64","01009064026","01-009-0640-26_AFR22 Virginia CUSD 64"]
["07016147002","W Harvey-Dixmoor PSD 147","07016147002","07-016-1470-02_AFR22 W Harvey-Dixmoor PSD 147"]
["20097801060","Wabash & Ohio Valley Sp Ed Dist","20097801060","20-097-8010-60_AFR22 Wabash & Ohio Valley Sp Ed Dist"]
["20093348026","Wabash CUSD 348","20093348026","20-093-3480-26_AFR22 Wabash CUSD 348"]
["35050195004","Wallace CCSD 195","35050195004","35-050-1950-04_AFR22 Wallace CCSD 195"]
["35050185004","Waltham CCSD 185","35050185004","35-050-1850-04_AFR22 Waltham CCSD 185"]
["13041001026","Waltonville CUSD 1","13041001026","13-041-0010-26_AFR22 Waltonville CUSD 1"]
["08043205026","Warren CUSD 205","08043205026","08-043-2050-26_AFR22 Warren CUSD 205"]
["34049121017","Warren Twp HSD 121","34049121017","34-049-1210-17_AFR22 Warren Twp HSD 121"]
["39055011026","Warrensburg-Latham CUSD 11","39055011026","39-055-0110-26_AFR22 Warrensburg-Latham CUSD 11"]
["26034316026","Warsaw CUSD 316","26034316026","26-034-3160-26_AFR22 Warsaw CUSD 316"]
["53090308016","Washington CHSD 308","53090308016","53-090-3080-16_AFR22 Washington CHSD 308"]
["53090052002","Washington SD 52","53090052002","53-090-0520-02_AFR22 Washington SD 52"]
["45067005026","Waterloo CUSD 5","45067005026","45-067-0050-26_AFR22 Waterloo CUSD 5"]
["34049118026","Wauconda CUSD 118","34049118026","34-049-1180-26_AFR22 Wauconda CUSD 118"]
["34049060026","Waukegan CUSD 60","34049060026","34-049-0600-26_AFR22 Waukegan CUSD 60"]
["01069006026","Waverly CUSD 6","01069006026","01-069-0060-26_AFR22 Waverly CUSD 6"]
["20096100026","Wayne City CUSD 100","20096100026","20-096-1000-26_AFR22 Wayne City CUSD 100"]
["13014003026","Wesclin CUSD 3","13014003026","13-014-0030-26_AFR22 Wesclin CUSD 3"]
["08008314026","West Carroll CUSD 314","08008314026","08-008-3140-26_AFR22 West Carroll CUSD 314"]
["33036235026","West Central CUSD 235","33036235026","33-036-2350-26_AFR22 West Central CUSD 235"]
["26062000061","West Central IL Spec Educ Coop","26062000061","26-062-0000-61_AFR22 West Central IL Spec Educ Coop"]
["01001172046","West Central Regional System","01001172046","01-001-1720-46_AFR22 West Central Regional System"]
["19022033002","West Chicago ESD 33","19022033002","19-022-0330-02_AFR22 West Chicago ESD 33"]
["17054092004","West Lincoln-Broadwell ESD 92","17054092004","17-054-0920-04_AFR22 West Lincoln-Broadwell ESD 92"]
["05016031002","West Northfield SD 31","05016031002","05-016-0310-02_AFR22 West Northfield SD 31"]
["26062103026","West Prairie CUSD 103","26062103026","26-062-1030-26_AFR22 West Prairie CUSD 103"]
["13095010026","West Washington Co CUD 10","13095010026","13-095-0100-26_AFR22 West Washington Co CUD 10"]
["06016092502","Westchester SD 92-5","06016092502","06-016-0925-02_AFR22 Westchester SD 92-5"]
["26000000046","Western Area Career System 265","26000000046","26-000-0000-46_AFR22 Western Area Career System 265"]
["01075012026","Western CUSD 12","01075012026","01-075-0120-26_AFR22 Western CUSD 12"]
["06016101002","Western Springs SD 101","06016101002","06-016-1010-02_AFR22 Western Springs SD 101"]
["54092002026","Westville CUSD 2","54092002026","54-092-0020-26_AFR22 Westville CUSD 2"]
["28037230026","Wethersfield CUSD 230","28037230026","28-037-2300-26_AFR22 Wethersfield CUSD 230"]
["05016021004","Wheeling CCSD 21","05016021004","05-016-0210-04_AFR22 Wheeling CCSD 21"]
["47098005046","Whiteside Regional Voc System","47098005046","47-098-0050-46_AFR22 Whiteside Regional Voc System"]
["50082115002","Whiteside SD 115","50082115002","50-082-1150-02_AFR22 Whiteside SD 115"]
["56000000040","Wilco Area Career Center","56000000040","56-000-0000-40_AFR22 Wilco Area Career Center"]
["56099092002","Will County SD 92","56099092002","56-099-0920-02_AFR22 Will County SD 92"]
["33048210026","Williamsfield CUSD 210","33048210026","33-048-2100-26_AFR22 Williamsfield CUSD 210"]
["21100801046","Williamson Co CTE System","21100801046","21-100-8010-46_AFR22 Williamson Co CTE System"]
["21100801060","Williamson Co Spec Educ District","21100801060","21-100-8010-60_AFR22 Williamson Co Spec Educ District"]
["51084015026","Williamsville CUSD 15","51084015026","51-084-0150-26_AFR22 Williamsville CUSD 15"]
["13014046002","Willow Grove SD 46","13014046002","13-014-0460-02_AFR22 Willow Grove SD 46"]
["07016108002","Willow Springs SD 108","07016108002","07-016-1080-02_AFR22 Willow Springs SD 108"]
["05016039061","Wilmette Community Sp Ed Agreement","05016039061","05-016-0390-61_AFR22 Wilmette Community Sp Ed Agreement"]
["05016039002","Wilmette SD 39","05016039002","05-016-0390-02_AFR22 Wilmette SD 39"]
["56099209U26","Wilmington CUSD 209U","56099209U26","56-099-209U-26_AFR22 Wilmington CUSD 209U"]
["01086001026","Winchester CUSD 1","01086001026","01-086-0010-26_AFR22 Winchester CUSD 1"]
["11087001026","Windsor CUSD 1","11087001026","11-087-0010-26_AFR22 Windsor CUSD 1"]
["19022034002","Winfield SD 34","19022034002","19-022-0340-02_AFR22 Winfield SD 34"]
["04101140061","Winnebago County Spec Educ Coop","04101140061","04-101-1400-61_AFR22 Winnebago County Spec Educ Coop"]
["04101323026","Winnebago CUSD 323","04101323026","04-101-3230-26_AFR22 Winnebago CUSD 323"]
["05016036002","Winnetka SD 36","05016036002","05-016-0360-02_AFR22 Winnetka SD 36"]
["34049001002","Winthrop Harbor SD 1","34049001002","34-049-0010-02_AFR22 Winthrop Harbor SD 1"]
["50082113002","Wolf Branch SD 113","50082113002","50-082-1130-02_AFR22 Wolf Branch SD 113"]
["19022007002","Wood Dale SD 7","19022007002","19-022-0070-02_AFR22 Wood Dale SD 7"]
["41057015003","Wood River-Hartford ESD 15","41057015003","41-057-0150-03_AFR22 Wood River-Hartford ESD 15"]
["53102801060","Woodford Cty Special Ed Assoc","53102801060","53-102-8010-60_AFR22 Woodford Cty Special Ed Assoc"]
["34049050004","Woodland CCSD 50","34049050004","34-049-0500-04_AFR22 Woodland CCSD 50"]
["17053005026","Woodland CUSD 5","17053005026","17-053-0050-26_AFR22 Woodland CUSD 5"]
["13041209027","Woodlawn Unit School District 209","13041209027","13-041-2090-27_AFR22 Woodlawn Unit School District 209"]
["19022068002","Woodridge SD 68","19022068002","19-022-0680-02_AFR22 Woodridge SD 68"]
["44063200026","Woodstock CUSD 200","44063200026","44-063-2000-26_AFR22 Woodstock CUSD 200"]
["07016127002","Worth SD 127","07016127002","07-016-1270-02_AFR22 Worth SD 127"]
["24047115026","Yorkville CUSD 115","24047115026","24-047-1150-26_AFR22 Yorkville CUSD 115"]
["21028188026","Zeigler-Royalton CUSD 188","21028188026","21-028-1880-26_AFR22 Zeigler-Royalton CUSD 188"]
["34049006002","Zion ESD 6","34049006002","34-049-0060-02_AFR22 Zion ESD 6"]
["34049126017","Zion-Benton Twp HSD 126","34049126017","34-049-1260-17_AFR22 Zion-Benton Twp HSD 126"]